{"text_format":"1","workbook":"xlsx","n_sheets":59,"sheets":["Impressum","Explications","Aperçu de la charge","Répartition des intensités","Régénération-sommeil-poids","Rapport de santé","Phases de la saison","31","32","33","34","35","36","37","38","39","40","41","42","43","44","45","46","47","48","49","50","51","52","1","2","3","4","5","6","7","8","9","10","11","12","13","14","15","16","17","18","19","20","21","22","23","24","25","26","27","28","29","30"],"not_rendered":{"charts":63,"images":3,"macros":1,"external_links":0,"defined_names":67,"comments":53,"pivot_tables":0},"unopened":[],"bounds":{"document_bytes":16777216,"sheet_cells":100000,"rows_first":2000,"rows_last":500,"rows_between":2000,"halvings":0,"cell_chars":16384,"cell_head_chars":4096},"cells_cut":0,"cells_raw":0,"read":"whole","date_system":"1900"}

{"sheet":"Impressum","index":0,"n_rows":19,"n_cols":6,"rows_kept":19,"cut":false,"hidden":true,"merged":[[10,2,10,8],[9,2,9,8],[8,2,8,8],[13,4,13,8]]}
[null,null,"Impressum"]
[]
[]
[]
[]
[]
[]
[]
[null,null,"PLANUNGSTOOL"]
[null,null,"&"]
[null,null,"TRAININGSTAGEBUCH"]
[]
[]
[null,null,null,null,"Conception / réalisation"]
[]
[null,null,null,null,null,"Original von Louis Heyer angepasst durch Johannes Nowotny/ Swiss Volley"]
[null,null,null,null,null,"Bundesamt für Sport / Trainingswissenschaft"]
[null,null,null,null,null,"louis.heyer@baspo.admin.ch "]
[null,null,null,null,null,"032 327 64 99 / 079 507 58 25"]

{"sheet":"Explications","index":1,"n_rows":111,"n_cols":10,"rows_kept":111,"cut":false,"hidden":false,"merged":[[88,3,89,10],[91,3,92,10],[96,3,97,10],[102,3,103,10],[110,3,111,10],[1,1,1,10],[3,3,3,10],[55,3,55,10],[70,4,71,9],[72,4,74,9],[50,3,51,10],[56,3,57,10],[61,3,62,10],[64,3,64,9],[66,3,68,10],[5,3,5,10],[47,3,48,10],[22,3,23,10],[12,3,13,10],[20,3,20,10]]}
[]
[null,"Explications TTB 2018"]
[]
[null,"Poids",null,"Toujours avant le petit-déjeuner, au min. 1x/semaine"]
[]
[null,"Régénération",null,"Est-ce que j'ai l'impression d'avoir récupéré en me levant le matin?"]
[null,null,1,"… j'ai pas du tout récupéré"]
[null,null,2,"… J'ai un peu récupéré"]
[null,null,3,"… j'ai récupéré"]
[null,null,4,"… je me sens en forme"]
[null,null,5,"… je suis en bonne forme"]
[]
[null,"Qualité du sommeil",null,"Ici tu dois évaluer la qualité de ton sommeil. Sous \"lundi\", tu notes la qualité de ton sommeil de la nuit du dimanche au lundi."]
[]
[null,null,1,"… catastrophique, pas du tout dormi"]
[null,null,2,"… j'ai mal dormi, je me suis souvent réveillé"]
[null,null,3,"… j'ai dormir, mais pas profondément"]
[null,null,4,"… j'ai bien dormi"]
[null,null,5,"… j'ai très bien dormi"]
[]
[null,"Qualité du sommeil",null,"Nombre d'heures que tu as dormi."]
[]
[null,"Blessure/maladie",null,"Si tu ne peux pas effectuer l'entraînement normalement à cause d'une blessure ou parce que tu es malade, inscris les nombres suivants."]
[]
[]
[null,null,"pas de limitation"]
[null,null,0,"je peux m'entrainer normalement"]
[]
[null,null,"limitation à cause des douleurs"]
[null,null,1,"Doigt"]
[null,null,2,"Épaule"]
[null,null,3,"Dos"]
[null,null,4,"Genou"]
[null,null,5,"Cheville"]
[null,null,6,"Autre"]
[]
[null,null,"Absence à cause d'une blessure"]
[null,null,11,"Doigt"]
[null,null,12,"Épaule"]
[null,null,13,"Dos"]
[null,null,14,"Genou"]
[null,null,15,"Cheville"]
[null,null,16,"Autre"]
[]
[null,null,"Absence à cause d'une maladie"]
[null,null,21,"Maladie"]
[]
[null,"Description de l'entrainement",null,"Tu dois inscrire ici le contenu de l'entrainement (p.ex. Service/réception ou entrainement avec haltères)"]
[]
[]
[null,"Durée",null,"Tu dois inscrire ici la durée de l'entrainement/compétition en minutes. L'échauffement et le retour au calme font partie de l'entrainement "]
[]
[]
[null,"RPE",null,"RPE = Rate of Perceived Exertion"]
[]
[null,null,null,"Procédé de l'évaluation de l'entrainement avec l'échelle de Foster:"]
[null,null,null,"Évalue ton entrainement si possible 15-30 minutes après chaque entrainement."]
[]
[null,null,null,"Décris l'intensité et la charge de l'ensemble de l'entrainement ou de la compétition"]
[null,null,null,"en fonction de cette citation:"]
[]
[null,null,null,"Quand tu repenses à l'entrainement, à quel point était-il fatiguant?"]
[]
[]
[null,null,null,"Inscris le nombre correspondant sur ton protocolle."]
[]
[null,null,null,"Si tu fais plusieurs entrainements ou compétitions par jour, remplis une évaluation pour chaque session et inscris-la sous entrainement 1, entrainement 2, etc."]
[]
[]
[]
[null,null,null,null,"Échelle de Foster"]
[]
[null,null,null,null,"\"Quand tu repenses à l'entrainement, à quel point était-il fatiguant?\""]
[]
[]
[null,null,null,null,null,null,null,null,null,"RPE"]
[null,null,null,null,"Repos",null,null,null,null,0]
[null,null,null,null,"Très facile",null,null,null,null,1]
[null,null,null,null,"Facile",null,null,null,null,2]
[null,null,null,null,null,null,null,null,null,3]
[null,null,null,null,"Assez dur",null,null,null,null,4]
[null,null,null,null,"Dur",null,null,null,null,5]
[null,null,null,null,null,null,null,null,null,6]
[null,null,null,null,"Très dur",null,null,null,null,7]
[null,null,null,null,null,null,null,null,null,8]
[null,null,null,null,"Extrèmement dur",null,null,null,null,9]
[null,null,null,null,"Le plus dur jamais réalisé",null,null,null,null,10]
[]
[null,"Réflexion",null,"Tu dois ici faire une réflexion sur ton entrainement/compétition - Qu'est-ce que je veux retenir pour mon prochain entrainement/ma prochaine compétition?"]
[]
[]
[null,"Nombre de matchs",null,"Inscris le nombre de matchs joués ce jour-là. Utilise les nombre ci-dessous"]
[]
[null,null,1,"… 3 sets et plus"]
[null,null,0.5,"… moins de 3 sets"]
[]
[null,"Nombre de sets",null,"Inscris le nombre de sets joués ce jour-là. Utilise les nombre ci-dessous"]
[]
[null,null,1,"… depuis le début et durant tout le set"]
[null,null,0.5,"… rentré/sorti en cours, beaucoup joué"]
[null,null,0.1,"… rentré/sorti en cours, peu joué"]
[]
[null,"Satisfaction J",null,"Es-tu content de la qualité de ton entrainement? As-tu atteint tes objectifs?"]
[]
[null,null,1,"… pas content"]
[null,null,2,"… plutôt pas content"]
[null,null,3,"… moyen"]
[null,null,4,"… content"]
[null,null,5,"… très content!"]
[]
[null,"Mesure de régénération",null,"Quelles mesures de régénération as-tu appliqué après ton entrainement?"]

{"sheet":"Aperçu de la charge","index":2,"n_rows":93,"n_cols":55,"rows_kept":93,"cut":false,"hidden":false,"merged":[[11,33,11,34],[1,3,1,8],[1,13,1,19],[3,2,3,8],[3,14,3,21],[3,32,3,35],[1,27,1,28],[3,28,3,30],[25,29,25,30],[8,12,15,12],[8,10,15,10],[8,11,15,11],[23,29,23,30],[24,29,24,30],[19,29,19,30],[20,29,20,30],[22,29,22,30],[8,29,8,30],[8,13,15,13],[8,14,15,14],[8,18,15,18],[8,19,15,19],[8,20,15,20],[18,29,18,30],[8,1,15,1],[17,29,17,30],[15,29,15,30],[8,8,15,8],[8,2,15,5],[8,15,15,15],[8,16,15,16],[8,17,15,17],[8,7,15,7],[8,9,15,9],[10,29,10,30],[11,29,11,30],[12,29,12,30],[13,29,13,30],[14,29,14,30]]}
[null,null,null,null,"Overview"]
[null,null,"Prénom Nom:","Prénom Nom",null,null,null,null,null,null,null,null,"Année :","2018/2019",null,null,null,null,null,null,null,null,null,null,null,null,"Début de l'année d'entrainement : ","2018-07-30"]
[null,null,null,"Gewicht-Motiv-Schlaf"]
[null,"Athlète: ",{"$f":"D2","v":"Prénom Nom"},null,null,null,null,null,null,null,null,null,null,"Année :",{"$f":"N2","v":"2018/2019"},null,null,null,null,null,null,null,null,null,null,null,null,"Analyse souhaitée :","Depuis la semaine\nd'entrainement : ",null,null,1,"Jusqu'à la semaine\nd'entrainement:",null,null,null,52]
[]
[null,"Semaine","Semaine",null,null,null,null,"b1","b2","b3","b4","b5","b6","b7","b8","b9","b10","b11","b12","b13","b14"]
[null,{"$f":"CONCATENATE(\">\",\"=\",AF4)","v":">=1"},{"$f":"CONCATENATE(\"<\",\"=\",AK4)","v":"<=52"},null,null,null,null,"b1","b2","b3","b4","b5","b6","b7","b8","b9","b10","b11","b12","b13","b14"]
[]
[null,"Semaine d'entrain-ement","Semaine",null,null,null,null,{"$f":"'31'!$AI32","v":"Jours d'entrainement"},{"$f":"'31'!$AI33","v":"Entrainements"},{"$f":"'31'!$AI34","v":"Heures d'entrainement"},{"$f":"'31'!$AI35","v":"Charge de l'entrainement"},{"$f":"'31'!$AI36","v":"Monotonie"},{"$f":"'31'!$AI37","v":"Efforts à l'entrainement"},{"$f":"'31'!$AI40","v":"Matchs de volleyball"},{"$f":"'31'!$AI41","v":"Sets de volleyball"},{"$f":"'31'!AI42","v":"Matchs de beach volley"},{"$f":"'31'!AI43","v":"Sets de beach volley"},{"$f":"'31'!AI46","v":"Satisfaction de l'entrainement/match J"},{"$f":"'31'!AI49","v":"Limitation pour cause de douleurs"},{"$f":"'31'!AI50","v":"Absence pour cause de blessure"},{"$f":"'31'!AI51","v":"Absence pour cause de maladie"},null,null,null,null,null,null,null,"Total","MW/semaine"]
[]
[null,null,null,null,null,null,null,null,null,null,null,null,null,null,null,null,null,null,null,null,null,null,null,null,null,null,null,{"$f":"B73","v":"Jours d'entrainement"},{"$f":"H69","v":0},{"$f":"AC11/$H$70","v":{"$error":"#DIV/0!"}}]
[null,null,null,null,null,null,null,null,null,null,null,null,null,null,null,null,null,null,null,null,null,null,null,null,null,null,null,"Entrainements",{"$f":"I69","v":0},{"$f":"AC12/$I$70","v":{"$error":"#DIV/0!"}}]
[null,null,null,null,null,null,null,null,null,null,null,null,null,null,null,null,null,null,null,null,null,null,null,null,null,null,null,"Heures d'entrainement",{"$f":"J69","v":0},{"$f":"AC13/$J$70","v":{"$error":"#DIV/0!"}}]
[null,null,null,null,null,null,null,null,null,null,null,null,null,null,null,null,null,null,null,null,null,null,null,null,null,null,null,"Charge de l'entrainement",{"$f":"K69","v":0},{"$f":"AC14/$K$70","v":{"$error":"#DIV/0!"}}]
[null,null,null,null,null,null,null,null,null,null,null,null,null,null,null,null,null,null,null,null,null,null,null,null,null,null,null,"Monotonie",{"$f":"L69","v":0},{"$f":"AC15/$L$70","v":{"$error":"#DIV/0!"}}]
[null,null,null,null,null,null,null,null,null,null,null,null,null,null,null,null,null,null,null,null,null,null,null,null,null,null,null,"Efforts à l'entrainement",{"$f":"M69","v":0},{"$f":"AC16/$M$70","v":{"$error":"#DIV/0!"}}]
[null,1,{"$f":"AB2","v":"2018-07-30"},"-",{"$f":"C17+6","v":"2018-08-05"},{"$f":"INT(MOD(INT((C17-2)/7)+0.6,52+5/28))+1","v":31},null,{"$f":"TRANSPOSE(D73:BC86)","v":""},"","","",0,"","","","","","",0,0,0,{"$f":"H17-(SUM(S17:U17))","v":{"$error":"#VALUE!"}}]
[null,2,{"$f":"C17+7","v":"2018-08-06"},"-",{"$f":"C18+6","v":"2018-08-12"},{"$f":"INT(MOD(INT((C18-2)/7)+0.6,52+5/28))+1","v":32},null,"","","","",0,"","","","","","",0,0,0,{"$f":"H18-(SUM(S18:U18))","v":{"$error":"#VALUE!"}},null,null,null,null,null,{"$f":"B79","v":"Matchs de volleyball"},{"$f":"N69","v":0},{"$f":"AC18/$N$70","v":{"$error":"#DIV/0!"}}]
[null,3,{"$f":"C18+7","v":"2018-08-13"},"-","2018-08-19",33,null,"","","","",0,"","","","","","",0,0,0,{"$error":"#VALUE!"},null,null,null,null,null,{"$f":"B80","v":"Sets de volleyball"},{"$f":"O69","v":0},{"$f":"AC19/$O$70","v":{"$error":"#DIV/0!"}}]
[null,4,"2018-08-20","-","2018-08-26",34,null,"","","","",0,"","","","","","",0,0,0,{"$error":"#VALUE!"},null,null,null,null,null,"Matchs de beach volley",{"$f":"P69","v":0},{"$f":"AC20/P70","v":{"$error":"#DIV/0!"}}]
[null,5,"2018-08-27","-","2018-09-02",35,null,"","","","",0,"","","","","","",0,0,0,{"$error":"#VALUE!"},null,null,null,null,null,"Sets de beach volley",{"$f":"Q69","v":0},{"$f":"AC21/Q70","v":{"$error":"#DIV/0!"}}]
[null,6,"2018-09-03","-","2018-09-09",36,null,"","","","",0,"","","","","","",0,0,0,{"$error":"#VALUE!"}]
[null,7,"2018-09-10","-","2018-09-16",37,null,"","","","",0,"","","","","","",0,0,0,{"$error":"#VALUE!"},null,null,null,null,null,{"$f":"B83","v":"Satisfaction avec l'entrainement/la compétition"},{"$f":"R69","v":0},{"$f":"AC23/R70","v":{"$error":"#DIV/0!"}}]
[null,8,"2018-09-17","-","2018-09-23",38,null,"","","","",0,"","","","","","",0,0,0,{"$error":"#VALUE!"},null,null,null,null,null,{"$f":"B84","v":"Limitation pour cause de douleurs"},{"$f":"S69","v":0},{"$f":"AC24/$S$70","v":{"$error":"#DIV/0!"}}]
[null,9,"2018-09-24","-","2018-09-30",39,null,"","","","",0,"","","","","","",0,0,0,{"$error":"#VALUE!"},null,null,null,null,null,"Absence pour cause de blessure",{"$f":"T69","v":0},{"$f":"AC25/$T$70","v":{"$error":"#DIV/0!"}}]
[null,10,"2018-10-01","-","2018-10-07",40,null,"","","","",0,"","","","","","",0,0,0,{"$error":"#VALUE!"},null,null,null,null,null,"Absence pour cause de maladie",{"$f":"U69","v":0},{"$f":"AC26/$U$70","v":{"$error":"#DIV/0!"}}]
[null,11,"2018-10-08","-","2018-10-14",41,null,"","","","",0,"","","","","","",0,0,0,{"$error":"#VALUE!"}]
[null,12,"2018-10-15","-","2018-10-21",42,null,"","","","",0,"","","","","","",0,0,0,{"$error":"#VALUE!"}]
[null,13,"2018-10-22","-","2018-10-28",43,null,"","","","",0,"","","","","","",0,0,0,{"$error":"#VALUE!"}]
[null,14,"2018-10-29","-","2018-11-04",44,null,"","","","",0,"","","","","","",0,0,0,{"$error":"#VALUE!"}]
[null,15,"2018-11-05","-","2018-11-11",45,null,"","","","",0,"","","","","","",0,0,0,{"$error":"#VALUE!"}]
[null,16,"2018-11-12","-","2018-11-18",46,null,"","","","",0,"","","","","","",0,0,0,{"$error":"#VALUE!"}]
[null,17,"2018-11-19","-","2018-11-25",47,null,"","","","",0,"","","","","","",0,0,0,{"$error":"#VALUE!"}]
[null,18,"2018-11-26","-","2018-12-02",48,null,"","","","",0,"","","","","","",0,0,0,{"$error":"#VALUE!"}]
[null,19,"2018-12-03","-","2018-12-09",49,null,"","","","",0,"","","","","","",0,0,0,{"$error":"#VALUE!"}]
[null,20,"2018-12-10","-","2018-12-16",50,null,"","","","",0,"","","","","","",0,0,0,{"$error":"#VALUE!"}]
[null,21,"2018-12-17","-","2018-12-23",51,null,"","","","",0,"","","","","","",0,0,0,{"$error":"#VALUE!"}]
[null,22,"2018-12-24","-","2018-12-30",52,null,"","","","",0,"","","","","","",0,0,0,{"$error":"#VALUE!"}]
[null,23,"2018-12-31","-","2019-01-06",1,null,"","","","",0,"","","","","","",0,0,0,{"$error":"#VALUE!"}]
[null,24,"2019-01-07","-","2019-01-13",2,null,"","","","",0,"","","","","","",0,0,0,{"$error":"#VALUE!"}]
[null,25,"2019-01-14","-","2019-01-20",3,null,"","","","",0,"","","","","","",0,0,0,{"$error":"#VALUE!"}]
[null,26,"2019-01-21","-","2019-01-27",4,null,"","","","",0,"","","","","","",0,0,0,{"$error":"#VALUE!"}]
[null,27,"2019-01-28","-","2019-02-03",5,null,"","","","",0,"","","","","","",0,0,0,{"$error":"#VALUE!"}]
[null,28,"2019-02-04","-","2019-02-10",6,null,"","","","",0,"","","","","","",0,0,0,{"$error":"#VALUE!"}]
[null,29,"2019-02-11","-","2019-02-17",7,null,"","","","",0,"","","","","","",0,0,0,{"$error":"#VALUE!"}]
[null,30,"2019-02-18","-","2019-02-24",8,null,"","","","",0,"","","","","","",0,0,0,{"$error":"#VALUE!"}]
[null,31,"2019-02-25","-","2019-03-03",9,null,"","","","",0,"","","","","","",0,0,0,{"$error":"#VALUE!"}]
[null,32,"2019-03-04","-","2019-03-10",10,null,"","","","",0,"","","","","","",0,0,0,{"$error":"#VALUE!"}]
[null,33,"2019-03-11","-","2019-03-17",11,null,"","","","",0,"","","","","","",0,0,0,{"$error":"#VALUE!"}]
[null,34,"2019-03-18","-","2019-03-24",12,null,"","","","",0,"","","","","","",0,0,0,{"$error":"#VALUE!"}]
[null,35,"2019-03-25","-","2019-03-31",13,null,"","","","",0,"","","","","","",0,0,0,{"$error":"#VALUE!"}]
[null,36,"2019-04-01","-","2019-04-07",14,null,"","","","",0,"","","","","","",0,0,0,{"$error":"#VALUE!"}]
[null,37,"2019-04-08","-","2019-04-14",15,null,"","","","",0,"","","","","","",0,0,0,{"$error":"#VALUE!"}]
[null,38,"2019-04-15","-","2019-04-21",16,null,"","","","",0,"","","","","","",0,0,0,{"$error":"#VALUE!"}]
[null,39,"2019-04-22","-","2019-04-28",17,null,"","","","",0,"","","","","","",0,0,0,{"$error":"#VALUE!"}]
[null,40,"2019-04-29","-","2019-05-05",18,null,"","","","",0,"","","","","","",0,0,0,{"$error":"#VALUE!"}]
[null,41,"2019-05-06","-","2019-05-12",19,null,"","","","",0,"","","","","","",0,0,0,{"$error":"#VALUE!"}]
[null,42,"2019-05-13","-","2019-05-19",20,null,"","","","",0,"","","","","","",0,0,0,{"$error":"#VALUE!"}]
[null,43,"2019-05-20","-","2019-05-26",21,null,"","","","",0,"","","","","","",0,0,0,{"$error":"#VALUE!"}]
[null,44,"2019-05-27","-","2019-06-02",22,null,"","","","",0,"","","","","","",0,0,0,{"$error":"#VALUE!"}]
[null,45,"2019-06-03","-","2019-06-09",23,null,"","","","",0,"","","","","","",0,0,0,{"$error":"#VALUE!"}]
[null,46,"2019-06-10","-","2019-06-16",24,null,"","","","",0,"","","","","","",0,0,0,{"$error":"#VALUE!"}]
[null,47,"2019-06-17","-","2019-06-23",25,null,"","","","",0,"","","","","","",0,0,0,{"$error":"#VALUE!"}]
[null,48,"2019-06-24","-","2019-06-30",26,null,"","","","",0,"","","","","","",0,0,0,{"$error":"#VALUE!"}]
[null,49,"2019-07-01","-","2019-07-07",27,null,"","","","",0,"","","","","","",0,0,0,{"$error":"#VALUE!"}]
[null,50,"2019-07-08","-","2019-07-14",28,null,"","","","",0,"","","","","","",0,0,0,{"$error":"#VALUE!"}]
[null,51,"2019-07-15","-","2019-07-21",29,null,"","","","",0,"","","","","","",0,0,0,{"$error":"#VALUE!"}]
[null,52,"2019-07-22","-","2019-07-28",30,null,"","","","",0,"","","","","","",0,0,0,{"$error":"#VALUE!"}]
[null,null,null,null,null,null,null,{"$f":"SUM(H17:H68)","v":0},{"$f":"SUM(I17:I68)","v":0},0,0,0,0,0,0,0,0,0,0,0,0]
[null,null,null,null,null,null,null,{"$f":"COUNT(H17:H68)-COUNTIF(H17:H68,0)","v":0},0,0,0,0,0,0,0,0,0,0,{"$f":"COUNT(S17:S68)-COUNTIF(S17:S68,0)","v":0},{"$f":"COUNT(T17:T68)-COUNTIF(T17:T68,0)","v":0},{"$f":"COUNT(U17:U68)-COUNTIF(U17:U68,0)","v":0}]
[]
[null,"Überblick",null,{"$f":"TRANSPOSE(F17:G68)","v":31},32,33,34,35,36,37,38,39,40,41,42,43,44,45,46,47,48,49,50,51,52,1,2,3,4,5,6,7,8,9,10,11,12,13,14,15,16,17,18,19,20,21,22,23,24,25,26,27,28,29,30]
[null,{"$f":"'31'!AI32","v":"Jours d'entrainement"},32,{"$f":"INDIRECT(CONCATENATE(\"'\",D$72,\"'!$AK\",$C73))","v":""},"","","","","","","","","",{"$f":"INDIRECT(CONCATENATE(\"'\",N$72,\"'!$AK\",$C73))","v":""},"","","","","","","","","",{"$f":"INDIRECT(CONCATENATE(\"'\",X$72,\"'!$AK\",$C73))","v":""},"","","","","","","","","",{"$f":"INDIRECT(CONCATENATE(\"'\",AH$72,\"'!$AK\",$C73))","v":""},"","","","","","","","","",{"$f":"INDIRECT(CONCATENATE(\"'\",AR$72,\"'!$AK\",$C73))","v":""},"","","","","","","","","","",""]
[null,{"$f":"'31'!AI33","v":"Entrainements"},33,"","","","","","","","","","","","","","","","","","","","","","","","","","","","","","","","","","","","","","","","","","","","","","","","","","","",""]
[null,{"$f":"'31'!AI34","v":"Heures d'entrainement"},34,"","","","","","","","","","","","","","","","","","","","","","","","","","","","","","","","","","","","","","","","","","","","","","","","","","","",""]
[null,{"$f":"'31'!AI35","v":"Charge de l'entrainement"},35,"","","","","","","","","","","","","","","","","","","","","","","","","","","","","","","","","","","","","","","","","","","","","","","","","","","",""]
[null,{"$f":"'31'!AI36","v":"Monotonie"},36,0,0,0,0,0,0,0,0,0,0,0,0,0,0,0,0,0,0,0,0,0,0,0,0,0,0,0,0,0,0,0,0,0,0,0,0,0,0,0,0,0,0,0,0,0,0,0,0,0,0,0,0]
[null,{"$f":"'31'!AI37","v":"Efforts à l'entrainement"},37,"","","","","","","","","","","","","","","","","","","","","","","","","","","","","","","","","","","","","","","","","","","","","","","","","","","",""]
[null,{"$f":"'31'!AI40","v":"Matchs de volleyball"},40,"","","","","","","","","","","","","","","","","","","","","","","","","","","","","","","","","","","","","","","","","","","","","","","","","","","",""]
[null,{"$f":"'31'!AI41","v":"Sets de volleyball"},41,"","","","","","","","","","","","","","","","","","","","","","","","","","","","","","","","","","","","","","","","","","","","","","","","","","","",""]
[null,{"$f":"'31'!AI42","v":"Matchs de beach volley"},42,"","","","","","","","","","","","","","","","","","","","","","","","","","","","","","","","","","","","","","","","","","","","","","","","","","","",""]
[null,{"$f":"'31'!AI43","v":"Sets de beach volley"},43,"","","","","","","","","","","","","","","","","","","","","","","","","","","","","","","","","","","","","","","","","","","","","","","","","","","",""]
[null,"Satisfaction avec l'entrainement/la compétition",46,"","","","","","","","","","","","","","","","","","","","","","","","","","","","","","","","","","","","","","","","","","","","","","","","","","","",""]
[null,{"$f":"'31'!AI49","v":"Limitation pour cause de douleurs"},49,0,0,0,0,0,0,0,0,0,0,0,0,0,0,0,0,0,0,0,0,0,0,0,0,0,0,0,0,0,0,0,0,0,0,0,0,0,0,0,0,0,0,0,0,0,0,0,0,0,0,0,0]
[null,{"$f":"'31'!AI50","v":"Absence pour cause de blessure"},50,0,0,0,0,0,0,0,0,0,0,0,0,0,0,0,0,0,0,0,0,0,0,0,0,0,0,0,0,0,0,0,0,0,0,0,0,0,0,0,0,0,0,0,0,0,0,0,0,0,0,0,0]
[null,{"$f":"'31'!AI51","v":"Absence pour cause de maladie"},51,0,0,0,0,0,0,0,0,0,0,0,0,0,0,0,0,0,0,0,0,0,0,0,0,0,0,0,0,0,0,0,0,0,0,0,0,0,0,0,0,0,0,0,0,0,0,0,0,0,0,0,0]
[]
[]
[]
[]
[]
[]
[null,null,null,null,null,null,null,null,null,null,null,null,null,null,null,null,null,null,null,null,null,null,{"$f":"X93","v":""},{"$f":"IF(Y93=0,\"\",Y93)","v":""}]

{"sheet":"Répartition des intensités","index":3,"n_rows":171,"n_cols":55,"rows_kept":171,"cut":false,"hidden":false,"merged":[[48,1,48,4],[44,5,44,25],[44,29,44,49],[7,8,7,10],[7,11,8,11],[10,44,11,44],[10,34,11,37],[10,38,11,38],[10,40,11,43],[18,38,19,39],[24,38,24,39],[24,43,24,44],[21,38,21,39],[21,43,21,44],[22,38,22,39],[22,43,22,44],[7,20,7,22],[18,41,19,41],[18,43,19,44],[20,38,20,39],[20,43,20,44],[7,31,8,31],[7,23,8,23],[7,24,7,26],[7,27,8,27],[7,28,7,30],[97,28,99,28],[48,51,48,54],[47,20,47,22],[47,23,47,25],[47,29,47,31],[47,47,47,49],[47,44,47,46],[47,35,47,37],[47,41,47,43],[47,38,47,40],[47,32,47,34],[47,5,47,7],[47,11,47,13],[47,14,47,16],[47,17,47,19],[7,4,7,6],[7,7,8,7],[7,12,7,14],[7,15,8,15],[7,16,7,18],[7,19,8,19],[47,8,47,10],[0,0,0,47],[5,20,6,23],[5,24,6,27],[5,28,6,31],[5,16,6,19],[5,4,6,7],[5,12,6,15],[2,14,2,18],[2,2,2,8],[5,8,6,11],[5,33,6,45]]}
["Beanspruchungverteilung"]
[null,null,null,"Gewicht-Motiv-Schlaf"]
[null,"Athlet :",{"$f":"'Aperçu de la charge'!D2","v":"Prénom Nom"},null,null,null,null,null,null,null,null,null,null,"Jahr :",{"$f":"'Aperçu de la charge'!N2","v":"2018/2019"}]
[]
[]
[null,null,null,null,{"$f":"F48","v":"Club - VB"},null,null,null,{"$f":"I48","v":"TS/ Nati - VB"},null,null,null,{"$f":"L48","v":"Club - BVB"},null,null,null,{"$f":"O48","v":"TS/ Nati - BVB"},null,null,null,{"$f":"R48","v":"Force & fitness"},null,null,null,{"$f":"U48","v":"Compet. - VB"},null,null,null,{"$f":"X48","v":"Compet. - BVB"},null,null,null,null,"Gewünschte Analyse :"]
[]
[null,null,null,null,"Zone",null,null,"Total","Zone",null,null,"Total","Zone",null,null,"Total","Zone",null,null,"Total","Zone",null,null,"Total","Zone",null,null,"Total","Zone",null,null,"Total"]
[null,null,null,null,1,2,3,null,1,2,3,null,1,2,3,null,1,2,3,null,1,2,3,null,1,2,3,null,1,2,3]
[]
[null,null,null,"Trainingseinheiten",{"$f":"F102","v":0},{"$f":"G102","v":0},{"$f":"H102","v":0},{"$f":"SUM(E11:G11)","v":0},{"$f":"J102","v":0},{"$f":"K102","v":0},{"$f":"L102","v":0},{"$f":"SUM(I11:K11)","v":0},{"$f":"L102","v":0},{"$f":"M102","v":0},{"$f":"N102","v":0},{"$f":"SUM(M11:O11)","v":0},{"$f":"O102","v":0},{"$f":"P102","v":0},{"$f":"Q102","v":0},{"$f":"SUM(Q11:S11)","v":0},{"$f":"R102","v":0},{"$f":"S102","v":0},{"$f":"T102","v":0},{"$f":"SUM(U11:W11)","v":0},{"$f":"U102","v":0},{"$f":"V102","v":0},{"$f":"W102","v":0},{"$f":"SUM(Y11:AA11)","v":0},{"$f":"X102","v":0},{"$f":"Y102","v":0},{"$f":"Z102","v":0},{"$f":"SUM(AC11:AE11)","v":0},null,null,"Von Trainingswoche : ",null,null,null,1,null,"bis Trainingswoche : ",null,null,null,52]
[null,null,null,null,{"$f":"E11/$H11","v":{"$error":"#DIV/0!"}},{"$f":"F11/$H11","v":{"$error":"#DIV/0!"}},{"$f":"G11/$H11","v":{"$error":"#DIV/0!"}},null,{"$f":"I11/$L11","v":{"$error":"#DIV/0!"}},{"$f":"J11/$L11","v":{"$error":"#DIV/0!"}},{"$error":"#DIV/0!"},null,{"$f":"M11/$P11","v":{"$error":"#DIV/0!"}},{"$f":"N11/$P11","v":{"$error":"#DIV/0!"}},{"$f":"O11/$P11","v":{"$error":"#DIV/0!"}},null,{"$f":"Q11/$T11","v":{"$error":"#DIV/0!"}},{"$f":"R11/$T11","v":{"$error":"#DIV/0!"}},{"$f":"S11/$T11","v":{"$error":"#DIV/0!"}},null,{"$f":"U11/$X11","v":{"$error":"#DIV/0!"}},{"$f":"V11/$X11","v":{"$error":"#DIV/0!"}},{"$f":"W11/$X11","v":{"$error":"#DIV/0!"}},null,{"$f":"Y11/$AB11","v":{"$error":"#DIV/0!"}},{"$f":"Z11/$AB11","v":{"$error":"#DIV/0!"}},{"$f":"AA11/$AB11","v":{"$error":"#DIV/0!"}},null,{"$f":"AC11/$AF11","v":{"$error":"#DIV/0!"}},{"$f":"AD11/$AF11","v":{"$error":"#DIV/0!"}},{"$f":"AE11/$AF11","v":{"$error":"#DIV/0!"}}]
[null,null,null,"Trainingsstunden",{"$f":"AD102","v":0},{"$f":"AE102","v":0},{"$f":"AF102","v":0},{"$f":"SUM(E13:G13)","v":0},{"$f":"AH102","v":0},{"$f":"AI102","v":0},{"$f":"AJ102","v":0},{"$f":"SUM(I13:K13)","v":0},{"$f":"AJ102","v":0},{"$f":"AK102","v":0},{"$f":"AL102","v":0},{"$f":"SUM(M13:O13)","v":0},{"$f":"AM102","v":0},{"$f":"AN102","v":0},{"$f":"AO102","v":0},{"$f":"SUM(Q13:S13)","v":0},{"$f":"AP102","v":0},{"$f":"AQ102","v":0},{"$f":"AR102","v":0},{"$f":"SUM(U13:W13)","v":0},{"$f":"AS102","v":0},{"$f":"AT102","v":0},{"$f":"AU102","v":0},{"$f":"SUM(Y13:AA13)","v":0},{"$f":"AV102","v":0},{"$f":"AW102","v":0},{"$f":"AX102","v":0},{"$f":"SUM(AC13:AE13)","v":0}]
[null,null,null,null,{"$f":"E13/$H13","v":{"$error":"#DIV/0!"}},{"$f":"F13/$H13","v":{"$error":"#DIV/0!"}},{"$f":"G13/$H13","v":{"$error":"#DIV/0!"}},null,{"$f":"I13/$L13","v":{"$error":"#DIV/0!"}},{"$f":"J13/$L13","v":{"$error":"#DIV/0!"}},{"$error":"#DIV/0!"},null,{"$f":"M13/$P13","v":{"$error":"#DIV/0!"}},{"$f":"N13/$P13","v":{"$error":"#DIV/0!"}},{"$f":"O13/$P13","v":{"$error":"#DIV/0!"}},null,{"$f":"Q13/$T13","v":{"$error":"#DIV/0!"}},{"$f":"R13/$T13","v":{"$error":"#DIV/0!"}},{"$f":"S13/$T13","v":{"$error":"#DIV/0!"}},null,{"$f":"U13/$X13","v":{"$error":"#DIV/0!"}},{"$f":"V13/$X13","v":{"$error":"#DIV/0!"}},{"$f":"W13/$X13","v":{"$error":"#DIV/0!"}},null,{"$f":"Y13/$AB13","v":{"$error":"#DIV/0!"}},{"$f":"Z13/$AB13","v":{"$error":"#DIV/0!"}},{"$f":"AA13/$AB13","v":{"$error":"#DIV/0!"}},null,{"$f":"AC13/$AF13","v":{"$error":"#DIV/0!"}},{"$f":"AD13/$AF13","v":{"$error":"#DIV/0!"}},{"$f":"AE13/$AF13","v":{"$error":"#DIV/0!"}}]
[]
[]
[]
[]
[null,null,null,null,null,null,null,null,null,null,null,null,null,null,null,null,null,null,null,null,null,null,null,null,null,null,null,null,null,null,null,null,null,null,null,null,null,null,"RPE",null,null,"Zone",null,"RPE"]
[]
[null,null,null,null,null,null,null,null,null,null,null,null,null,null,null,null,null,null,null,null,null,null,null,null,null,null,null,null,null,null,null,null,null,null,null,null,null,null,"1-4",null,null,"I",null,"1-3"]
[null,null,null,null,null,null,null,null,null,null,null,null,null,null,null,null,null,null,null,null,null,null,null,null,null,null,null,null,null,null,null,null,null,null,null,null,null,null,"5-6",null,null,"II",null,"4-5"]
[null,null,null,null,null,null,null,null,null,null,null,null,null,null,null,null,null,null,null,null,null,null,null,null,null,null,null,null,null,null,null,null,null,null,null,null,null,null,"7-10",null,null,"III",null,"6-10"]
[]
[null,null,null,null,null,null,null,null,null,null,null,null,null,null,null,null,null,null,null,null,null,null,null,null,null,null,null,null,null,null,null,null,null,null,null,null,null,null,null,null,null,null,null,"x"]
[]
[]
[]
[]
[]
[]
[]
[]
[]
[]
[]
[]
[]
[]
[]
[]
[]
[]
[]
[null,null,"Intensitätverteilung",null,null,"Entrainements",null,null,null,null,null,null,null,null,null,null,null,null,null,null,null,null,null,null,null,null,null,null,null,"Heures d'entrainement"]
["Semaine","Semaine",null,null,null,"b1","b2","b3","a1","a2","a3","r1","r2","r3","c1","c2","c3","s1","s2","s3","f1","f2","f3","d1","d2","d3",null,null,null,"b1","b2","b3","a1","a2","a3","r1","r2","r3","c1","c2","c3","s1","s2","s3","f1","f2","f3","d1","d2","d3","Semaine","Semaine"]
[{"$f":"CONCATENATE(\">\",\"=\",AM11)","v":">=1"},{"$f":"CONCATENATE(\"<\",\"=\",AS11)","v":"<=52"},null,null,null,"b1","b2","b3","a1","a2","a3","r1","r2","r3","c1","c2","c3","s1","s2","s3","f1","f2","f3","d1","d2","d3",null,null,null,"b1","b2","b3","a1","a2","a3","r1","r2","r3","c1","c2","c3","s1","s2","s3","f1","f2","f3","d1","d2","d3",{"$f":"CONCATENATE(\">\",\"=\",AM11)","v":">=1"},{"$f":"CONCATENATE(\"<\",\"=\",AS11)","v":"<=52"}]
[null,null,null,null,null,{"$f":"'31'!M2","v":"Club - VB"},null,null,{"$f":"'31'!P2","v":"TS/ Nati - VB"},null,null,{"$f":"'31'!S2","v":"Club - BVB"},null,null,{"$f":"'31'!V2","v":"TS/ Nati - BVB"},null,null,"Force & fitness",null,null,{"$f":"'31'!AB2","v":"Compet. - VB"},null,null,{"$f":"'31'!AE2","v":"Compet. - BVB"},null,null,null,null,null,{"$f":"F48","v":"Club - VB"},null,null,{"$f":"I48","v":"TS/ Nati - VB"},null,null,{"$f":"L48","v":"Club - BVB"},null,null,{"$f":"O48","v":"TS/ Nati - BVB"},null,null,{"$f":"R48","v":"Force & fitness"},null,null,{"$f":"U48","v":"Compet. - VB"},null,null,{"$f":"X48","v":"Compet. - BVB"}]
["Semaine d'entr.","Semaine",null,null,null,"I","II","III","I","II","III","I","II","III","I","II","III","I","II","III","I","II","III","I","II","III",null,null,null,"I","II","III","I","II","III","I","II","III","I","II","III","I","II","III","I","II","III","I","II","III",{"$f":"A49","v":"Semaine d'entr."},{"$f":"B49","v":"Semaine"}]
[1,{"$f":"'Aperçu de la charge'!C17","v":"2018-07-30"},"-",{"$f":"B50+6","v":"2018-08-05"},{"$f":"'Aperçu de la charge'!F17","v":31},{"$f":"'31'!M$27","v":0},{"$f":"'31'!N$27","v":0},{"$f":"'31'!O$27","v":0},{"$f":"'31'!P$27","v":0},{"$f":"'31'!Q$27","v":0},{"$f":"'31'!R$27","v":0},{"$f":"'31'!S$27","v":0},{"$f":"'31'!T$27","v":0},{"$f":"'31'!U$27","v":0},{"$f":"'31'!V$27","v":0},{"$f":"'31'!W$27","v":0},{"$f":"'31'!X$27","v":0},{"$f":"'31'!Y$27","v":0},{"$f":"'31'!Z$27","v":0},{"$f":"'31'!AA$27","v":0},{"$f":"'31'!AB$27","v":0},{"$f":"'31'!AC$27","v":0},{"$f":"'31'!AD$27","v":0},{"$f":"'31'!AE$27","v":0},{"$f":"'31'!AF$27","v":0},{"$f":"'31'!AG$27","v":0},null,null,null,{"$f":"'31'!M$28","v":0},{"$f":"'31'!N$28","v":0},{"$f":"'31'!O$28","v":0},{"$f":"'31'!P$28","v":0},{"$f":"'31'!Q$28","v":0},{"$f":"'31'!R$28","v":0},{"$f":"'31'!S$28","v":0},{"$f":"'31'!T$28","v":0},{"$f":"'31'!U$28","v":0},{"$f":"'31'!V$28","v":0},{"$f":"'31'!W$28","v":0},{"$f":"'31'!X$28","v":0},{"$f":"'31'!Y$28","v":0},{"$f":"'31'!Z$28","v":0},{"$f":"'31'!AA$28","v":0},{"$f":"'31'!AB$28","v":0},{"$f":"'31'!AC$28","v":0},{"$f":"'31'!AD$28","v":0},{"$f":"'31'!AE$28","v":0},{"$f":"'31'!AF$28","v":0},{"$f":"'31'!AG$28","v":0},1,"2018-07-30",{"$f":"C50","v":"-"},{"$f":"D50","v":"2018-08-05"},{"$f":"E50","v":31}]
[2,{"$f":"B50+7","v":"2018-08-06"},"-",{"$f":"D50+7","v":"2018-08-12"},{"$f":"'Aperçu de la charge'!F18","v":32},{"$f":"'32'!M$27","v":0},{"$f":"'32'!N$27","v":0},{"$f":"'32'!O$27","v":0},{"$f":"'32'!P$27","v":0},{"$f":"'32'!Q$27","v":0},{"$f":"'32'!R$27","v":0},{"$f":"'32'!S$27","v":0},{"$f":"'32'!T$27","v":0},{"$f":"'32'!U$27","v":0},{"$f":"'32'!V$27","v":0},{"$f":"'32'!W$27","v":0},{"$f":"'32'!X$27","v":0},{"$f":"'32'!Y$27","v":0},{"$f":"'32'!Z$27","v":0},{"$f":"'32'!AA$27","v":0},{"$f":"'32'!AB$27","v":0},{"$f":"'32'!AC$27","v":0},{"$f":"'32'!AD$27","v":0},{"$f":"'32'!AE$27","v":0},{"$f":"'32'!AF$27","v":0},{"$f":"'32'!AG$27","v":0},null,null,null,{"$f":"'32'!M$28","v":0},{"$f":"'32'!N$28","v":0},{"$f":"'32'!O$28","v":0},{"$f":"'32'!P$28","v":0},{"$f":"'32'!Q$28","v":0},{"$f":"'32'!R$28","v":0},{"$f":"'32'!S$28","v":0},{"$f":"'32'!T$28","v":0},{"$f":"'32'!U$28","v":0},{"$f":"'32'!V$28","v":0},{"$f":"'32'!W$28","v":0},{"$f":"'32'!X$28","v":0},{"$f":"'32'!Y$28","v":0},{"$f":"'32'!Z$28","v":0},{"$f":"'32'!AA$28","v":0},{"$f":"'32'!AB$28","v":0},{"$f":"'32'!AC$28","v":0},{"$f":"'32'!AD$28","v":0},{"$f":"'32'!AE$28","v":0},{"$f":"'32'!AF$28","v":0},{"$f":"'32'!AG$28","v":0},2,"2018-08-06","-","2018-08-12",32]
[3,{"$f":"B51+7","v":"2018-08-13"},"-",{"$f":"D51+7","v":"2018-08-19"},{"$f":"'Aperçu de la charge'!F19","v":33},{"$f":"'33'!M$27","v":0},{"$f":"'33'!N$27","v":0},{"$f":"'33'!O$27","v":0},{"$f":"'33'!P$27","v":0},{"$f":"'33'!Q$27","v":0},{"$f":"'33'!R$27","v":0},{"$f":"'33'!S$27","v":0},{"$f":"'33'!T$27","v":0},{"$f":"'33'!U$27","v":0},{"$f":"'33'!V$27","v":0},{"$f":"'33'!W$27","v":0},{"$f":"'33'!X$27","v":0},{"$f":"'33'!Y$27","v":0},{"$f":"'33'!Z$27","v":0},{"$f":"'33'!AA$27","v":0},{"$f":"'33'!AB$27","v":0},{"$f":"'33'!AC$27","v":0},{"$f":"'33'!AD$27","v":0},{"$f":"'33'!AE$27","v":0},{"$f":"'33'!AF$27","v":0},{"$f":"'33'!AG$27","v":0},null,null,null,{"$f":"'33'!M$28","v":0},{"$f":"'33'!N$28","v":0},{"$f":"'33'!O$28","v":0},{"$f":"'33'!P$28","v":0},{"$f":"'33'!Q$28","v":0},{"$f":"'33'!R$28","v":0},{"$f":"'33'!S$28","v":0},{"$f":"'33'!T$28","v":0},{"$f":"'33'!U$28","v":0},{"$f":"'33'!V$28","v":0},{"$f":"'33'!W$28","v":0},{"$f":"'33'!X$28","v":0},{"$f":"'33'!Y$28","v":0},{"$f":"'33'!Z$28","v":0},{"$f":"'33'!AA$28","v":0},{"$f":"'33'!AB$28","v":0},{"$f":"'33'!AC$28","v":0},{"$f":"'33'!AD$28","v":0},{"$f":"'33'!AE$28","v":0},{"$f":"'33'!AF$28","v":0},{"$f":"'33'!AG$28","v":0},3,"2018-08-13","-","2018-08-19",33]
[4,{"$f":"B52+7","v":"2018-08-20"},"-",{"$f":"D52+7","v":"2018-08-26"},{"$f":"'Aperçu de la charge'!F20","v":34},{"$f":"'34'!M$27","v":0},{"$f":"'34'!N$27","v":0},{"$f":"'34'!O$27","v":0},{"$f":"'34'!P$27","v":0},{"$f":"'34'!Q$27","v":0},{"$f":"'34'!R$27","v":0},{"$f":"'34'!S$27","v":0},{"$f":"'34'!T$27","v":0},{"$f":"'34'!U$27","v":0},{"$f":"'34'!V$27","v":0},{"$f":"'34'!W$27","v":0},{"$f":"'34'!X$27","v":0},{"$f":"'34'!Y$27","v":0},{"$f":"'34'!Z$27","v":0},{"$f":"'34'!AA$27","v":0},{"$f":"'34'!AB$27","v":0},{"$f":"'34'!AC$27","v":0},{"$f":"'34'!AD$27","v":0},{"$f":"'34'!AE$27","v":0},{"$f":"'34'!AF$27","v":0},{"$f":"'34'!AG$27","v":0},null,null,null,{"$f":"'34'!M$28","v":0},{"$f":"'34'!N$28","v":0},{"$f":"'34'!O$28","v":0},{"$f":"'34'!P$28","v":0},{"$f":"'34'!Q$28","v":0},{"$f":"'34'!R$28","v":0},{"$f":"'34'!S$28","v":0},{"$f":"'34'!T$28","v":0},{"$f":"'34'!U$28","v":0},{"$f":"'34'!V$28","v":0},{"$f":"'34'!W$28","v":0},{"$f":"'34'!X$28","v":0},{"$f":"'34'!Y$28","v":0},{"$f":"'34'!Z$28","v":0},{"$f":"'34'!AA$28","v":0},{"$f":"'34'!AB$28","v":0},{"$f":"'34'!AC$28","v":0},{"$f":"'34'!AD$28","v":0},{"$f":"'34'!AE$28","v":0},{"$f":"'34'!AF$28","v":0},{"$f":"'34'!AG$28","v":0},4,"2018-08-20","-","2018-08-26",34]
[5,{"$f":"B53+7","v":"2018-08-27"},"-",{"$f":"D53+7","v":"2018-09-02"},{"$f":"'Aperçu de la charge'!F21","v":35},{"$f":"'35'!M$27","v":0},{"$f":"'35'!N$27","v":0},{"$f":"'35'!O$27","v":0},{"$f":"'35'!P$27","v":0},{"$f":"'35'!Q$27","v":0},{"$f":"'35'!R$27","v":0},{"$f":"'35'!S$27","v":0},{"$f":"'35'!T$27","v":0},{"$f":"'35'!U$27","v":0},{"$f":"'35'!V$27","v":0},{"$f":"'35'!W$27","v":0},{"$f":"'35'!X$27","v":0},{"$f":"'35'!Y$27","v":0},{"$f":"'35'!Z$27","v":0},{"$f":"'35'!AA$27","v":0},{"$f":"'35'!AB$27","v":0},{"$f":"'35'!AC$27","v":0},{"$f":"'35'!AD$27","v":0},{"$f":"'35'!AE$27","v":0},{"$f":"'35'!AF$27","v":0},{"$f":"'35'!AG$27","v":0},null,null,null,{"$f":"'35'!M$28","v":0},{"$f":"'35'!N$28","v":0},{"$f":"'35'!O$28","v":0},{"$f":"'35'!P$28","v":0},{"$f":"'35'!Q$28","v":0},{"$f":"'35'!R$28","v":0},{"$f":"'35'!S$28","v":0},{"$f":"'35'!T$28","v":0},{"$f":"'35'!U$28","v":0},{"$f":"'35'!V$28","v":0},{"$f":"'35'!W$28","v":0},{"$f":"'35'!X$28","v":0},{"$f":"'35'!Y$28","v":0},{"$f":"'35'!Z$28","v":0},{"$f":"'35'!AA$28","v":0},{"$f":"'35'!AB$28","v":0},{"$f":"'35'!AC$28","v":0},{"$f":"'35'!AD$28","v":0},{"$f":"'35'!AE$28","v":0},{"$f":"'35'!AF$28","v":0},{"$f":"'35'!AG$28","v":0},5,"2018-08-27","-","2018-09-02",35]
[6,{"$f":"B54+7","v":"2018-09-03"},"-",{"$f":"D54+7","v":"2018-09-09"},{"$f":"'Aperçu de la charge'!F22","v":36},{"$f":"'36'!M$27","v":0},{"$f":"'36'!N$27","v":0},{"$f":"'36'!O$27","v":0},{"$f":"'36'!P$27","v":0},{"$f":"'36'!Q$27","v":0},{"$f":"'36'!R$27","v":0},{"$f":"'36'!S$27","v":0},{"$f":"'36'!T$27","v":0},{"$f":"'36'!U$27","v":0},{"$f":"'36'!V$27","v":0},{"$f":"'36'!W$27","v":0},{"$f":"'36'!X$27","v":0},{"$f":"'36'!Y$27","v":0},{"$f":"'36'!Z$27","v":0},{"$f":"'36'!AA$27","v":0},{"$f":"'36'!AB$27","v":0},{"$f":"'36'!AC$27","v":0},{"$f":"'36'!AD$27","v":0},{"$f":"'36'!AE$27","v":0},{"$f":"'36'!AF$27","v":0},{"$f":"'36'!AG$27","v":0},null,null,null,{"$f":"'36'!M$28","v":0},{"$f":"'36'!N$28","v":0},{"$f":"'36'!O$28","v":0},{"$f":"'36'!P$28","v":0},{"$f":"'36'!Q$28","v":0},{"$f":"'36'!R$28","v":0},{"$f":"'36'!S$28","v":0},{"$f":"'36'!T$28","v":0},{"$f":"'36'!U$28","v":0},{"$f":"'36'!V$28","v":0},{"$f":"'36'!W$28","v":0},{"$f":"'36'!X$28","v":0},{"$f":"'36'!Y$28","v":0},{"$f":"'36'!Z$28","v":0},{"$f":"'36'!AA$28","v":0},{"$f":"'36'!AB$28","v":0},{"$f":"'36'!AC$28","v":0},{"$f":"'36'!AD$28","v":0},{"$f":"'36'!AE$28","v":0},{"$f":"'36'!AF$28","v":0},{"$f":"'36'!AG$28","v":0},6,"2018-09-03","-","2018-09-09",36]
[7,"2018-09-10","-","2018-09-16",{"$f":"'Aperçu de la charge'!F23","v":37},{"$f":"'37'!M$27","v":0},{"$f":"'37'!N$27","v":0},{"$f":"'37'!O$27","v":0},{"$f":"'37'!P$27","v":0},{"$f":"'37'!Q$27","v":0},{"$f":"'37'!R$27","v":0},{"$f":"'37'!S$27","v":0},{"$f":"'37'!T$27","v":0},{"$f":"'37'!U$27","v":0},{"$f":"'37'!V$27","v":0},{"$f":"'37'!W$27","v":0},{"$f":"'37'!X$27","v":0},{"$f":"'37'!Y$27","v":0},{"$f":"'37'!Z$27","v":0},{"$f":"'37'!AA$27","v":0},{"$f":"'37'!AB$27","v":0},{"$f":"'37'!AC$27","v":0},{"$f":"'37'!AD$27","v":0},{"$f":"'37'!AE$27","v":0},{"$f":"'37'!AF$27","v":0},{"$f":"'37'!AG$27","v":0},null,null,null,{"$f":"'37'!M$28","v":0},{"$f":"'37'!N$28","v":0},{"$f":"'37'!O$28","v":0},{"$f":"'37'!P$28","v":0},{"$f":"'37'!Q$28","v":0},{"$f":"'37'!R$28","v":0},{"$f":"'37'!S$28","v":0},{"$f":"'37'!T$28","v":0},{"$f":"'37'!U$28","v":0},{"$f":"'37'!V$28","v":0},{"$f":"'37'!W$28","v":0},{"$f":"'37'!X$28","v":0},{"$f":"'37'!Y$28","v":0},{"$f":"'37'!Z$28","v":0},{"$f":"'37'!AA$28","v":0},{"$f":"'37'!AB$28","v":0},{"$f":"'37'!AC$28","v":0},{"$f":"'37'!AD$28","v":0},{"$f":"'37'!AE$28","v":0},{"$f":"'37'!AF$28","v":0},{"$f":"'37'!AG$28","v":0},7,"2018-09-10","-","2018-09-16",37]
[8,"2018-09-17","-","2018-09-23",{"$f":"'Aperçu de la charge'!F24","v":38},{"$f":"'38'!M$27","v":0},{"$f":"'38'!N$27","v":0},{"$f":"'38'!O$27","v":0},{"$f":"'38'!P$27","v":0},{"$f":"'38'!Q$27","v":0},{"$f":"'38'!R$27","v":0},{"$f":"'38'!S$27","v":0},{"$f":"'38'!T$27","v":0},{"$f":"'38'!U$27","v":0},{"$f":"'38'!V$27","v":0},{"$f":"'38'!W$27","v":0},{"$f":"'38'!X$27","v":0},{"$f":"'38'!Y$27","v":0},{"$f":"'38'!Z$27","v":0},{"$f":"'38'!AA$27","v":0},{"$f":"'38'!AB$27","v":0},{"$f":"'38'!AC$27","v":0},{"$f":"'38'!AD$27","v":0},{"$f":"'38'!AE$27","v":0},{"$f":"'38'!AF$27","v":0},{"$f":"'38'!AG$27","v":0},null,null,null,{"$f":"'38'!M$28","v":0},{"$f":"'38'!N$28","v":0},{"$f":"'38'!O$28","v":0},{"$f":"'38'!P$28","v":0},{"$f":"'38'!Q$28","v":0},{"$f":"'38'!R$28","v":0},{"$f":"'38'!S$28","v":0},{"$f":"'38'!T$28","v":0},{"$f":"'38'!U$28","v":0},{"$f":"'38'!V$28","v":0},{"$f":"'38'!W$28","v":0},{"$f":"'38'!X$28","v":0},{"$f":"'38'!Y$28","v":0},{"$f":"'38'!Z$28","v":0},{"$f":"'38'!AA$28","v":0},{"$f":"'38'!AB$28","v":0},{"$f":"'38'!AC$28","v":0},{"$f":"'38'!AD$28","v":0},{"$f":"'38'!AE$28","v":0},{"$f":"'38'!AF$28","v":0},{"$f":"'38'!AG$28","v":0},8,"2018-09-17","-","2018-09-23",38]
[9,"2018-09-24","-","2018-09-30",{"$f":"'Aperçu de la charge'!F25","v":39},{"$f":"'39'!M$27","v":0},{"$f":"'39'!N$27","v":0},{"$f":"'39'!O$27","v":0},{"$f":"'39'!P$27","v":0},{"$f":"'39'!Q$27","v":0},{"$f":"'39'!R$27","v":0},{"$f":"'39'!S$27","v":0},{"$f":"'39'!T$27","v":0},{"$f":"'39'!U$27","v":0},{"$f":"'39'!V$27","v":0},{"$f":"'39'!W$27","v":0},{"$f":"'39'!X$27","v":0},{"$f":"'39'!Y$27","v":0},{"$f":"'39'!Z$27","v":0},{"$f":"'39'!AA$27","v":0},{"$f":"'39'!AB$27","v":0},{"$f":"'39'!AC$27","v":0},{"$f":"'39'!AD$27","v":0},{"$f":"'39'!AE$27","v":0},{"$f":"'39'!AF$27","v":0},{"$f":"'39'!AG$27","v":0},null,null,null,{"$f":"'39'!M$28","v":0},{"$f":"'39'!N$28","v":0},{"$f":"'39'!O$28","v":0},{"$f":"'39'!P$28","v":0},{"$f":"'39'!Q$28","v":0},{"$f":"'39'!R$28","v":0},{"$f":"'39'!S$28","v":0},{"$f":"'39'!T$28","v":0},{"$f":"'39'!U$28","v":0},{"$f":"'39'!V$28","v":0},{"$f":"'39'!W$28","v":0},{"$f":"'39'!X$28","v":0},{"$f":"'39'!Y$28","v":0},{"$f":"'39'!Z$28","v":0},{"$f":"'39'!AA$28","v":0},{"$f":"'39'!AB$28","v":0},{"$f":"'39'!AC$28","v":0},{"$f":"'39'!AD$28","v":0},{"$f":"'39'!AE$28","v":0},{"$f":"'39'!AF$28","v":0},{"$f":"'39'!AG$28","v":0},9,"2018-09-24","-","2018-09-30",39]
[10,"2018-10-01","-","2018-10-07",{"$f":"'Aperçu de la charge'!F26","v":40},{"$f":"'40'!M$27","v":0},{"$f":"'40'!N$27","v":0},{"$f":"'40'!O$27","v":0},{"$f":"'40'!P$27","v":0},{"$f":"'40'!Q$27","v":0},{"$f":"'40'!R$27","v":0},{"$f":"'40'!S$27","v":0},{"$f":"'40'!T$27","v":0},{"$f":"'40'!U$27","v":0},{"$f":"'40'!V$27","v":0},{"$f":"'40'!W$27","v":0},{"$f":"'40'!X$27","v":0},{"$f":"'40'!Y$27","v":0},{"$f":"'40'!Z$27","v":0},{"$f":"'40'!AA$27","v":0},{"$f":"'40'!AB$27","v":0},{"$f":"'40'!AC$27","v":0},{"$f":"'40'!AD$27","v":0},{"$f":"'40'!AE$27","v":0},{"$f":"'40'!AF$27","v":0},{"$f":"'40'!AG$27","v":0},null,null,null,{"$f":"'40'!M$28","v":0},{"$f":"'40'!N$28","v":0},{"$f":"'40'!O$28","v":0},{"$f":"'40'!P$28","v":0},{"$f":"'40'!Q$28","v":0},{"$f":"'40'!R$28","v":0},{"$f":"'40'!S$28","v":0},{"$f":"'40'!T$28","v":0},{"$f":"'40'!U$28","v":0},{"$f":"'40'!V$28","v":0},{"$f":"'40'!W$28","v":0},{"$f":"'40'!X$28","v":0},{"$f":"'40'!Y$28","v":0},{"$f":"'40'!Z$28","v":0},{"$f":"'40'!AA$28","v":0},{"$f":"'40'!AB$28","v":0},{"$f":"'40'!AC$28","v":0},{"$f":"'40'!AD$28","v":0},{"$f":"'40'!AE$28","v":0},{"$f":"'40'!AF$28","v":0},{"$f":"'40'!AG$28","v":0},10,"2018-10-01","-","2018-10-07",40]
[11,"2018-10-08","-","2018-10-14",{"$f":"'Aperçu de la charge'!F27","v":41},{"$f":"'41'!M$27","v":0},{"$f":"'41'!N$27","v":0},{"$f":"'41'!O$27","v":0},{"$f":"'41'!P$27","v":0},{"$f":"'41'!Q$27","v":0},{"$f":"'41'!R$27","v":0},{"$f":"'41'!S$27","v":0},{"$f":"'41'!T$27","v":0},{"$f":"'41'!U$27","v":0},{"$f":"'41'!V$27","v":0},{"$f":"'41'!W$27","v":0},{"$f":"'41'!X$27","v":0},{"$f":"'41'!Y$27","v":0},{"$f":"'41'!Z$27","v":0},{"$f":"'41'!AA$27","v":0},{"$f":"'41'!AB$27","v":0},{"$f":"'41'!AC$27","v":0},{"$f":"'41'!AD$27","v":0},{"$f":"'41'!AE$27","v":0},{"$f":"'41'!AF$27","v":0},{"$f":"'41'!AG$27","v":0},null,null,null,{"$f":"'41'!M$28","v":0},{"$f":"'41'!N$28","v":0},{"$f":"'41'!O$28","v":0},{"$f":"'41'!P$28","v":0},{"$f":"'41'!Q$28","v":0},{"$f":"'41'!R$28","v":0},{"$f":"'41'!S$28","v":0},{"$f":"'41'!T$28","v":0},{"$f":"'41'!U$28","v":0},{"$f":"'41'!V$28","v":0},{"$f":"'41'!W$28","v":0},{"$f":"'41'!X$28","v":0},{"$f":"'41'!Y$28","v":0},{"$f":"'41'!Z$28","v":0},{"$f":"'41'!AA$28","v":0},{"$f":"'41'!AB$28","v":0},{"$f":"'41'!AC$28","v":0},{"$f":"'41'!AD$28","v":0},{"$f":"'41'!AE$28","v":0},{"$f":"'41'!AF$28","v":0},{"$f":"'41'!AG$28","v":0},11,"2018-10-08","-","2018-10-14",41]
[12,"2018-10-15","-","2018-10-21",{"$f":"'Aperçu de la charge'!F28","v":42},{"$f":"'42'!M$27","v":0},{"$f":"'42'!N$27","v":0},{"$f":"'42'!O$27","v":0},{"$f":"'42'!P$27","v":0},{"$f":"'42'!Q$27","v":0},{"$f":"'42'!R$27","v":0},{"$f":"'42'!S$27","v":0},{"$f":"'42'!T$27","v":0},{"$f":"'42'!U$27","v":0},{"$f":"'42'!V$27","v":0},{"$f":"'42'!W$27","v":0},{"$f":"'42'!X$27","v":0},{"$f":"'42'!Y$27","v":0},{"$f":"'42'!Z$27","v":0},{"$f":"'42'!AA$27","v":0},{"$f":"'42'!AB$27","v":0},{"$f":"'42'!AC$27","v":0},{"$f":"'42'!AD$27","v":0},{"$f":"'42'!AE$27","v":0},{"$f":"'42'!AF$27","v":0},{"$f":"'42'!AG$27","v":0},null,null,null,{"$f":"'42'!M$28","v":0},{"$f":"'42'!N$28","v":0},{"$f":"'42'!O$28","v":0},{"$f":"'42'!P$28","v":0},{"$f":"'42'!Q$28","v":0},{"$f":"'42'!R$28","v":0},{"$f":"'42'!S$28","v":0},{"$f":"'42'!T$28","v":0},{"$f":"'42'!U$28","v":0},{"$f":"'42'!V$28","v":0},{"$f":"'42'!W$28","v":0},{"$f":"'42'!X$28","v":0},{"$f":"'42'!Y$28","v":0},{"$f":"'42'!Z$28","v":0},{"$f":"'42'!AA$28","v":0},{"$f":"'42'!AB$28","v":0},{"$f":"'42'!AC$28","v":0},{"$f":"'42'!AD$28","v":0},{"$f":"'42'!AE$28","v":0},{"$f":"'42'!AF$28","v":0},{"$f":"'42'!AG$28","v":0},12,"2018-10-15","-","2018-10-21",42]
[13,"2018-10-22","-","2018-10-28",{"$f":"'Aperçu de la charge'!F29","v":43},{"$f":"'43'!M$27","v":0},{"$f":"'43'!N$27","v":0},{"$f":"'43'!O$27","v":0},{"$f":"'43'!P$27","v":0},{"$f":"'43'!Q$27","v":0},{"$f":"'43'!R$27","v":0},{"$f":"'43'!S$27","v":0},{"$f":"'43'!T$27","v":0},{"$f":"'43'!U$27","v":0},{"$f":"'43'!V$27","v":0},{"$f":"'43'!W$27","v":0},{"$f":"'43'!X$27","v":0},{"$f":"'43'!Y$27","v":0},{"$f":"'43'!Z$27","v":0},{"$f":"'43'!AA$27","v":0},{"$f":"'43'!AB$27","v":0},{"$f":"'43'!AC$27","v":0},{"$f":"'43'!AD$27","v":0},{"$f":"'43'!AE$27","v":0},{"$f":"'43'!AF$27","v":0},{"$f":"'43'!AG$27","v":0},null,null,null,{"$f":"'43'!M$28","v":0},{"$f":"'43'!N$28","v":0},{"$f":"'43'!O$28","v":0},{"$f":"'43'!P$28","v":0},{"$f":"'43'!Q$28","v":0},{"$f":"'43'!R$28","v":0},{"$f":"'43'!S$28","v":0},{"$f":"'43'!T$28","v":0},{"$f":"'43'!U$28","v":0},{"$f":"'43'!V$28","v":0},{"$f":"'43'!W$28","v":0},{"$f":"'43'!X$28","v":0},{"$f":"'43'!Y$28","v":0},{"$f":"'43'!Z$28","v":0},{"$f":"'43'!AA$28","v":0},{"$f":"'43'!AB$28","v":0},{"$f":"'43'!AC$28","v":0},{"$f":"'43'!AD$28","v":0},{"$f":"'43'!AE$28","v":0},{"$f":"'43'!AF$28","v":0},{"$f":"'43'!AG$28","v":0},13,"2018-10-22","-","2018-10-28",43]
[14,"2018-10-29","-","2018-11-04",{"$f":"'Aperçu de la charge'!F30","v":44},{"$f":"'44'!M$27","v":0},{"$f":"'44'!N$27","v":0},{"$f":"'44'!O$27","v":0},{"$f":"'44'!P$27","v":0},{"$f":"'44'!Q$27","v":0},{"$f":"'44'!R$27","v":0},{"$f":"'44'!S$27","v":0},{"$f":"'44'!T$27","v":0},{"$f":"'44'!U$27","v":0},{"$f":"'44'!V$27","v":0},{"$f":"'44'!W$27","v":0},{"$f":"'44'!X$27","v":0},{"$f":"'44'!Y$27","v":0},{"$f":"'44'!Z$27","v":0},{"$f":"'44'!AA$27","v":0},{"$f":"'44'!AB$27","v":0},{"$f":"'44'!AC$27","v":0},{"$f":"'44'!AD$27","v":0},{"$f":"'44'!AE$27","v":0},{"$f":"'44'!AF$27","v":0},{"$f":"'44'!AG$27","v":0},null,null,null,{"$f":"'44'!M$28","v":0},{"$f":"'44'!N$28","v":0},{"$f":"'44'!O$28","v":0},{"$f":"'44'!P$28","v":0},{"$f":"'44'!Q$28","v":0},{"$f":"'44'!R$28","v":0},{"$f":"'44'!S$28","v":0},{"$f":"'44'!T$28","v":0},{"$f":"'44'!U$28","v":0},{"$f":"'44'!V$28","v":0},{"$f":"'44'!W$28","v":0},{"$f":"'44'!X$28","v":0},{"$f":"'44'!Y$28","v":0},{"$f":"'44'!Z$28","v":0},{"$f":"'44'!AA$28","v":0},{"$f":"'44'!AB$28","v":0},{"$f":"'44'!AC$28","v":0},{"$f":"'44'!AD$28","v":0},{"$f":"'44'!AE$28","v":0},{"$f":"'44'!AF$28","v":0},{"$f":"'44'!AG$28","v":0},14,"2018-10-29","-","2018-11-04",44]
[15,"2018-11-05","-","2018-11-11",{"$f":"'Aperçu de la charge'!F31","v":45},{"$f":"'45'!M$27","v":0},{"$f":"'45'!N$27","v":0},{"$f":"'45'!O$27","v":0},{"$f":"'45'!P$27","v":0},{"$f":"'45'!Q$27","v":0},{"$f":"'45'!R$27","v":0},{"$f":"'45'!S$27","v":0},{"$f":"'45'!T$27","v":0},{"$f":"'45'!U$27","v":0},{"$f":"'45'!V$27","v":0},{"$f":"'45'!W$27","v":0},{"$f":"'45'!X$27","v":0},{"$f":"'45'!Y$27","v":0},{"$f":"'45'!Z$27","v":0},{"$f":"'45'!AA$27","v":0},{"$f":"'45'!AB$27","v":0},{"$f":"'45'!AC$27","v":0},{"$f":"'45'!AD$27","v":0},{"$f":"'45'!AE$27","v":0},{"$f":"'45'!AF$27","v":0},{"$f":"'45'!AG$27","v":0},null,null,null,{"$f":"'45'!M$28","v":0},{"$f":"'45'!N$28","v":0},{"$f":"'45'!O$28","v":0},{"$f":"'45'!P$28","v":0},{"$f":"'45'!Q$28","v":0},{"$f":"'45'!R$28","v":0},{"$f":"'45'!S$28","v":0},{"$f":"'45'!T$28","v":0},{"$f":"'45'!U$28","v":0},{"$f":"'45'!V$28","v":0},{"$f":"'45'!W$28","v":0},{"$f":"'45'!X$28","v":0},{"$f":"'45'!Y$28","v":0},{"$f":"'45'!Z$28","v":0},{"$f":"'45'!AA$28","v":0},{"$f":"'45'!AB$28","v":0},{"$f":"'45'!AC$28","v":0},{"$f":"'45'!AD$28","v":0},{"$f":"'45'!AE$28","v":0},{"$f":"'45'!AF$28","v":0},{"$f":"'45'!AG$28","v":0},15,"2018-11-05","-","2018-11-11",45]
[16,"2018-11-12","-","2018-11-18",{"$f":"'Aperçu de la charge'!F32","v":46},{"$f":"'46'!M$27","v":0},{"$f":"'46'!N$27","v":0},{"$f":"'46'!O$27","v":0},{"$f":"'46'!P$27","v":0},{"$f":"'46'!Q$27","v":0},{"$f":"'46'!R$27","v":0},{"$f":"'46'!S$27","v":0},{"$f":"'46'!T$27","v":0},{"$f":"'46'!U$27","v":0},{"$f":"'46'!V$27","v":0},{"$f":"'46'!W$27","v":0},{"$f":"'46'!X$27","v":0},{"$f":"'46'!Y$27","v":0},{"$f":"'46'!Z$27","v":0},{"$f":"'46'!AA$27","v":0},{"$f":"'46'!AB$27","v":0},{"$f":"'46'!AC$27","v":0},{"$f":"'46'!AD$27","v":0},{"$f":"'46'!AE$27","v":0},{"$f":"'46'!AF$27","v":0},{"$f":"'46'!AG$27","v":0},null,null,null,{"$f":"'46'!M$28","v":0},{"$f":"'46'!N$28","v":0},{"$f":"'46'!O$28","v":0},{"$f":"'46'!P$28","v":0},{"$f":"'46'!Q$28","v":0},{"$f":"'46'!R$28","v":0},{"$f":"'46'!S$28","v":0},{"$f":"'46'!T$28","v":0},{"$f":"'46'!U$28","v":0},{"$f":"'46'!V$28","v":0},{"$f":"'46'!W$28","v":0},{"$f":"'46'!X$28","v":0},{"$f":"'46'!Y$28","v":0},{"$f":"'46'!Z$28","v":0},{"$f":"'46'!AA$28","v":0},{"$f":"'46'!AB$28","v":0},{"$f":"'46'!AC$28","v":0},{"$f":"'46'!AD$28","v":0},{"$f":"'46'!AE$28","v":0},{"$f":"'46'!AF$28","v":0},{"$f":"'46'!AG$28","v":0},16,"2018-11-12","-","2018-11-18",46]
[17,"2018-11-19","-","2018-11-25",{"$f":"'Aperçu de la charge'!F33","v":47},{"$f":"'47'!M$27","v":0},{"$f":"'47'!N$27","v":0},{"$f":"'47'!O$27","v":0},{"$f":"'47'!P$27","v":0},{"$f":"'47'!Q$27","v":0},{"$f":"'47'!R$27","v":0},{"$f":"'47'!S$27","v":0},{"$f":"'47'!T$27","v":0},{"$f":"'47'!U$27","v":0},{"$f":"'47'!V$27","v":0},{"$f":"'47'!W$27","v":0},{"$f":"'47'!X$27","v":0},{"$f":"'47'!Y$27","v":0},{"$f":"'47'!Z$27","v":0},{"$f":"'47'!AA$27","v":0},{"$f":"'47'!AB$27","v":0},{"$f":"'47'!AC$27","v":0},{"$f":"'47'!AD$27","v":0},{"$f":"'47'!AE$27","v":0},{"$f":"'47'!AF$27","v":0},{"$f":"'47'!AG$27","v":0},null,null,null,{"$f":"'47'!M$28","v":0},{"$f":"'47'!N$28","v":0},{"$f":"'47'!O$28","v":0},{"$f":"'47'!P$28","v":0},{"$f":"'47'!Q$28","v":0},{"$f":"'47'!R$28","v":0},{"$f":"'47'!S$28","v":0},{"$f":"'47'!T$28","v":0},{"$f":"'47'!U$28","v":0},{"$f":"'47'!V$28","v":0},{"$f":"'47'!W$28","v":0},{"$f":"'47'!X$28","v":0},{"$f":"'47'!Y$28","v":0},{"$f":"'47'!Z$28","v":0},{"$f":"'47'!AA$28","v":0},{"$f":"'47'!AB$28","v":0},{"$f":"'47'!AC$28","v":0},{"$f":"'47'!AD$28","v":0},{"$f":"'47'!AE$28","v":0},{"$f":"'47'!AF$28","v":0},{"$f":"'47'!AG$28","v":0},17,"2018-11-19","-","2018-11-25",47]
[18,"2018-11-26","-","2018-12-02",{"$f":"'Aperçu de la charge'!F34","v":48},{"$f":"'48'!M$27","v":0},{"$f":"'48'!N$27","v":0},{"$f":"'48'!O$27","v":0},{"$f":"'48'!P$27","v":0},{"$f":"'48'!Q$27","v":0},{"$f":"'48'!R$27","v":0},{"$f":"'48'!S$27","v":0},{"$f":"'48'!T$27","v":0},{"$f":"'48'!U$27","v":0},{"$f":"'48'!V$27","v":0},{"$f":"'48'!W$27","v":0},{"$f":"'48'!X$27","v":0},{"$f":"'48'!Y$27","v":0},{"$f":"'48'!Z$27","v":0},{"$f":"'48'!AA$27","v":0},{"$f":"'48'!AB$27","v":0},{"$f":"'48'!AC$27","v":0},{"$f":"'48'!AD$27","v":0},{"$f":"'48'!AE$27","v":0},{"$f":"'48'!AF$27","v":0},{"$f":"'48'!AG$27","v":0},null,null,null,{"$f":"'48'!M$28","v":0},{"$f":"'48'!N$28","v":0},{"$f":"'48'!O$28","v":0},{"$f":"'48'!P$28","v":0},{"$f":"'48'!Q$28","v":0},{"$f":"'48'!R$28","v":0},{"$f":"'48'!S$28","v":0},{"$f":"'48'!T$28","v":0},{"$f":"'48'!U$28","v":0},{"$f":"'48'!V$28","v":0},{"$f":"'48'!W$28","v":0},{"$f":"'48'!X$28","v":0},{"$f":"'48'!Y$28","v":0},{"$f":"'48'!Z$28","v":0},{"$f":"'48'!AA$28","v":0},{"$f":"'48'!AB$28","v":0},{"$f":"'48'!AC$28","v":0},{"$f":"'48'!AD$28","v":0},{"$f":"'48'!AE$28","v":0},{"$f":"'48'!AF$28","v":0},{"$f":"'48'!AG$28","v":0},18,"2018-11-26","-","2018-12-02",48]
[19,"2018-12-03","-","2018-12-09",{"$f":"'Aperçu de la charge'!F35","v":49},{"$f":"'49'!M$27","v":0},{"$f":"'49'!N$27","v":0},{"$f":"'49'!O$27","v":0},{"$f":"'49'!P$27","v":0},{"$f":"'49'!Q$27","v":0},{"$f":"'49'!R$27","v":0},{"$f":"'49'!S$27","v":0},{"$f":"'49'!T$27","v":0},{"$f":"'49'!U$27","v":0},{"$f":"'49'!V$27","v":0},{"$f":"'49'!W$27","v":0},{"$f":"'49'!X$27","v":0},{"$f":"'49'!Y$27","v":0},{"$f":"'49'!Z$27","v":0},{"$f":"'49'!AA$27","v":0},{"$f":"'49'!AB$27","v":0},{"$f":"'49'!AC$27","v":0},{"$f":"'49'!AD$27","v":0},{"$f":"'49'!AE$27","v":0},{"$f":"'49'!AF$27","v":0},{"$f":"'49'!AG$27","v":0},null,null,null,{"$f":"'49'!M$28","v":0},{"$f":"'49'!N$28","v":0},{"$f":"'49'!O$28","v":0},{"$f":"'49'!P$28","v":0},{"$f":"'49'!Q$28","v":0},{"$f":"'49'!R$28","v":0},{"$f":"'49'!S$28","v":0},{"$f":"'49'!T$28","v":0},{"$f":"'49'!U$28","v":0},{"$f":"'49'!V$28","v":0},{"$f":"'49'!W$28","v":0},{"$f":"'49'!X$28","v":0},{"$f":"'49'!Y$28","v":0},{"$f":"'49'!Z$28","v":0},{"$f":"'49'!AA$28","v":0},{"$f":"'49'!AB$28","v":0},{"$f":"'49'!AC$28","v":0},{"$f":"'49'!AD$28","v":0},{"$f":"'49'!AE$28","v":0},{"$f":"'49'!AF$28","v":0},{"$f":"'49'!AG$28","v":0},19,"2018-12-03","-","2018-12-09",49]
[20,"2018-12-10","-","2018-12-16",{"$f":"'Aperçu de la charge'!F36","v":50},{"$f":"'50'!M$27","v":0},{"$f":"'50'!N$27","v":0},{"$f":"'50'!O$27","v":0},{"$f":"'50'!P$27","v":0},{"$f":"'50'!Q$27","v":0},{"$f":"'50'!R$27","v":0},{"$f":"'50'!S$27","v":0},{"$f":"'50'!T$27","v":0},{"$f":"'50'!U$27","v":0},{"$f":"'50'!V$27","v":0},{"$f":"'50'!W$27","v":0},{"$f":"'50'!X$27","v":0},{"$f":"'50'!Y$27","v":0},{"$f":"'50'!Z$27","v":0},{"$f":"'50'!AA$27","v":0},{"$f":"'50'!AB$27","v":0},{"$f":"'50'!AC$27","v":0},{"$f":"'50'!AD$27","v":0},{"$f":"'50'!AE$27","v":0},{"$f":"'50'!AF$27","v":0},{"$f":"'50'!AG$27","v":0},null,null,null,{"$f":"'50'!M$28","v":0},{"$f":"'50'!N$28","v":0},{"$f":"'50'!O$28","v":0},{"$f":"'50'!P$28","v":0},{"$f":"'50'!Q$28","v":0},{"$f":"'50'!R$28","v":0},{"$f":"'50'!S$28","v":0},{"$f":"'50'!T$28","v":0},{"$f":"'50'!U$28","v":0},{"$f":"'50'!V$28","v":0},{"$f":"'50'!W$28","v":0},{"$f":"'50'!X$28","v":0},{"$f":"'50'!Y$28","v":0},{"$f":"'50'!Z$28","v":0},{"$f":"'50'!AA$28","v":0},{"$f":"'50'!AB$28","v":0},{"$f":"'50'!AC$28","v":0},{"$f":"'50'!AD$28","v":0},{"$f":"'50'!AE$28","v":0},{"$f":"'50'!AF$28","v":0},{"$f":"'50'!AG$28","v":0},20,"2018-12-10","-","2018-12-16",50]
[21,"2018-12-17","-","2018-12-23",{"$f":"'Aperçu de la charge'!F37","v":51},{"$f":"'51'!M$27","v":0},{"$f":"'51'!N$27","v":0},{"$f":"'51'!O$27","v":0},{"$f":"'51'!P$27","v":0},{"$f":"'51'!Q$27","v":0},{"$f":"'51'!R$27","v":0},{"$f":"'51'!S$27","v":0},{"$f":"'51'!T$27","v":0},{"$f":"'51'!U$27","v":0},{"$f":"'51'!V$27","v":0},{"$f":"'51'!W$27","v":0},{"$f":"'51'!X$27","v":0},{"$f":"'51'!Y$27","v":0},{"$f":"'51'!Z$27","v":0},{"$f":"'51'!AA$27","v":0},{"$f":"'51'!AB$27","v":0},{"$f":"'51'!AC$27","v":0},{"$f":"'51'!AD$27","v":0},{"$f":"'51'!AE$27","v":0},{"$f":"'51'!AF$27","v":0},{"$f":"'51'!AG$27","v":0},null,null,null,{"$f":"'51'!M$28","v":0},{"$f":"'51'!N$28","v":0},{"$f":"'51'!O$28","v":0},{"$f":"'51'!P$28","v":0},{"$f":"'51'!Q$28","v":0},{"$f":"'51'!R$28","v":0},{"$f":"'51'!S$28","v":0},{"$f":"'51'!T$28","v":0},{"$f":"'51'!U$28","v":0},{"$f":"'51'!V$28","v":0},{"$f":"'51'!W$28","v":0},{"$f":"'51'!X$28","v":0},{"$f":"'51'!Y$28","v":0},{"$f":"'51'!Z$28","v":0},{"$f":"'51'!AA$28","v":0},{"$f":"'51'!AB$28","v":0},{"$f":"'51'!AC$28","v":0},{"$f":"'51'!AD$28","v":0},{"$f":"'51'!AE$28","v":0},{"$f":"'51'!AF$28","v":0},{"$f":"'51'!AG$28","v":0},21,"2018-12-17","-","2018-12-23",51]
[22,"2018-12-24","-","2018-12-30",{"$f":"'Aperçu de la charge'!F38","v":52},{"$f":"'52'!M$27","v":0},{"$f":"'52'!N$27","v":0},{"$f":"'52'!O$27","v":0},{"$f":"'52'!P$27","v":0},{"$f":"'52'!Q$27","v":0},{"$f":"'52'!R$27","v":0},{"$f":"'52'!S$27","v":0},{"$f":"'52'!T$27","v":0},{"$f":"'52'!U$27","v":0},{"$f":"'52'!V$27","v":0},{"$f":"'52'!W$27","v":0},{"$f":"'52'!X$27","v":0},{"$f":"'52'!Y$27","v":0},{"$f":"'52'!Z$27","v":0},{"$f":"'52'!AA$27","v":0},{"$f":"'52'!AB$27","v":0},{"$f":"'52'!AC$27","v":0},{"$f":"'52'!AD$27","v":0},{"$f":"'52'!AE$27","v":0},{"$f":"'52'!AF$27","v":0},{"$f":"'52'!AG$27","v":0},null,null,null,{"$f":"'52'!M$28","v":0},{"$f":"'52'!N$28","v":0},{"$f":"'52'!O$28","v":0},{"$f":"'52'!P$28","v":0},{"$f":"'52'!Q$28","v":0},{"$f":"'52'!R$28","v":0},{"$f":"'52'!S$28","v":0},{"$f":"'52'!T$28","v":0},{"$f":"'52'!U$28","v":0},{"$f":"'52'!V$28","v":0},{"$f":"'52'!W$28","v":0},{"$f":"'52'!X$28","v":0},{"$f":"'52'!Y$28","v":0},{"$f":"'52'!Z$28","v":0},{"$f":"'52'!AA$28","v":0},{"$f":"'52'!AB$28","v":0},{"$f":"'52'!AC$28","v":0},{"$f":"'52'!AD$28","v":0},{"$f":"'52'!AE$28","v":0},{"$f":"'52'!AF$28","v":0},{"$f":"'52'!AG$28","v":0},22,"2018-12-24","-","2018-12-30",52]
[23,"2018-12-31","-","2019-01-06",{"$f":"'Aperçu de la charge'!F39","v":1},{"$f":"'1'!M$27","v":0},{"$f":"'1'!N$27","v":0},{"$f":"'1'!O$27","v":0},{"$f":"'1'!P$27","v":0},{"$f":"'1'!Q$27","v":0},{"$f":"'1'!R$27","v":0},{"$f":"'1'!S$27","v":0},{"$f":"'1'!T$27","v":0},{"$f":"'1'!U$27","v":0},{"$f":"'1'!V$27","v":0},{"$f":"'1'!W$27","v":0},{"$f":"'1'!X$27","v":0},{"$f":"'1'!Y$27","v":0},{"$f":"'1'!Z$27","v":0},{"$f":"'1'!AA$27","v":0},{"$f":"'1'!AB$27","v":0},{"$f":"'1'!AC$27","v":0},{"$f":"'1'!AD$27","v":0},{"$f":"'1'!AE$27","v":0},{"$f":"'1'!AF$27","v":0},{"$f":"'1'!AG$27","v":0},null,null,null,{"$f":"'1'!M$28","v":0},{"$f":"'1'!N$28","v":0},{"$f":"'1'!O$28","v":0},{"$f":"'1'!P$28","v":0},{"$f":"'1'!Q$28","v":0},{"$f":"'1'!R$28","v":0},{"$f":"'1'!S$28","v":0},{"$f":"'1'!T$28","v":0},{"$f":"'1'!U$28","v":0},{"$f":"'1'!V$28","v":0},{"$f":"'1'!W$28","v":0},{"$f":"'1'!X$28","v":0},{"$f":"'1'!Y$28","v":0},{"$f":"'1'!Z$28","v":0},{"$f":"'1'!AA$28","v":0},{"$f":"'1'!AB$28","v":0},{"$f":"'1'!AC$28","v":0},{"$f":"'1'!AD$28","v":0},{"$f":"'1'!AE$28","v":0},{"$f":"'1'!AF$28","v":0},{"$f":"'1'!AG$28","v":0},23,"2018-12-31","-","2019-01-06",1]
[24,"2019-01-07","-","2019-01-13",{"$f":"'Aperçu de la charge'!F40","v":2},{"$f":"'2'!M$27","v":0},{"$f":"'2'!N$27","v":0},{"$f":"'2'!O$27","v":0},{"$f":"'2'!P$27","v":0},{"$f":"'2'!Q$27","v":0},{"$f":"'2'!R$27","v":0},{"$f":"'2'!S$27","v":0},{"$f":"'2'!T$27","v":0},{"$f":"'2'!U$27","v":0},{"$f":"'2'!V$27","v":0},{"$f":"'2'!W$27","v":0},{"$f":"'2'!X$27","v":0},{"$f":"'2'!Y$27","v":0},{"$f":"'2'!Z$27","v":0},{"$f":"'2'!AA$27","v":0},{"$f":"'2'!AB$27","v":0},{"$f":"'2'!AC$27","v":0},{"$f":"'2'!AD$27","v":0},{"$f":"'2'!AE$27","v":0},{"$f":"'2'!AF$27","v":0},{"$f":"'2'!AG$27","v":0},null,null,null,{"$f":"'2'!M$28","v":0},{"$f":"'2'!N$28","v":0},{"$f":"'2'!O$28","v":0},{"$f":"'2'!P$28","v":0},{"$f":"'2'!Q$28","v":0},{"$f":"'2'!R$28","v":0},{"$f":"'2'!S$28","v":0},{"$f":"'2'!T$28","v":0},{"$f":"'2'!U$28","v":0},{"$f":"'2'!V$28","v":0},{"$f":"'2'!W$28","v":0},{"$f":"'2'!X$28","v":0},{"$f":"'2'!Y$28","v":0},{"$f":"'2'!Z$28","v":0},{"$f":"'2'!AA$28","v":0},{"$f":"'2'!AB$28","v":0},{"$f":"'2'!AC$28","v":0},{"$f":"'2'!AD$28","v":0},{"$f":"'2'!AE$28","v":0},{"$f":"'2'!AF$28","v":0},{"$f":"'2'!AG$28","v":0},24,"2019-01-07","-","2019-01-13",2]
[25,"2019-01-14","-","2019-01-20",{"$f":"'Aperçu de la charge'!F41","v":3},{"$f":"'3'!M$27","v":0},{"$f":"'3'!N$27","v":0},{"$f":"'3'!O$27","v":0},{"$f":"'3'!P$27","v":0},{"$f":"'3'!Q$27","v":0},{"$f":"'3'!R$27","v":0},{"$f":"'3'!S$27","v":0},{"$f":"'3'!T$27","v":0},{"$f":"'3'!U$27","v":0},{"$f":"'3'!V$27","v":0},{"$f":"'3'!W$27","v":0},{"$f":"'3'!X$27","v":0},{"$f":"'3'!Y$27","v":0},{"$f":"'3'!Z$27","v":0},{"$f":"'3'!AA$27","v":0},{"$f":"'3'!AB$27","v":0},{"$f":"'3'!AC$27","v":0},{"$f":"'3'!AD$27","v":0},{"$f":"'3'!AE$27","v":0},{"$f":"'3'!AF$27","v":0},{"$f":"'3'!AG$27","v":0},null,null,null,{"$f":"'3'!M$28","v":0},{"$f":"'3'!N$28","v":0},{"$f":"'3'!O$28","v":0},{"$f":"'3'!P$28","v":0},{"$f":"'3'!Q$28","v":0},{"$f":"'3'!R$28","v":0},{"$f":"'3'!S$28","v":0},{"$f":"'3'!T$28","v":0},{"$f":"'3'!U$28","v":0},{"$f":"'3'!V$28","v":0},{"$f":"'3'!W$28","v":0},{"$f":"'3'!X$28","v":0},{"$f":"'3'!Y$28","v":0},{"$f":"'3'!Z$28","v":0},{"$f":"'3'!AA$28","v":0},{"$f":"'3'!AB$28","v":0},{"$f":"'3'!AC$28","v":0},{"$f":"'3'!AD$28","v":0},{"$f":"'3'!AE$28","v":0},{"$f":"'3'!AF$28","v":0},{"$f":"'3'!AG$28","v":0},25,"2019-01-14","-","2019-01-20",3]
[26,"2019-01-21","-","2019-01-27",{"$f":"'Aperçu de la charge'!F42","v":4},{"$f":"'4'!M$27","v":0},{"$f":"'4'!N$27","v":0},{"$f":"'4'!O$27","v":0},{"$f":"'4'!P$27","v":0},{"$f":"'4'!Q$27","v":0},{"$f":"'4'!R$27","v":0},{"$f":"'4'!S$27","v":0},{"$f":"'4'!T$27","v":0},{"$f":"'4'!U$27","v":0},{"$f":"'4'!V$27","v":0},{"$f":"'4'!W$27","v":0},{"$f":"'4'!X$27","v":0},{"$f":"'4'!Y$27","v":0},{"$f":"'4'!Z$27","v":0},{"$f":"'4'!AA$27","v":0},{"$f":"'4'!AB$27","v":0},{"$f":"'4'!AC$27","v":0},{"$f":"'4'!AD$27","v":0},{"$f":"'4'!AE$27","v":0},{"$f":"'4'!AF$27","v":0},{"$f":"'4'!AG$27","v":0},null,null,null,{"$f":"'4'!M$28","v":0},{"$f":"'4'!N$28","v":0},{"$f":"'4'!O$28","v":0},{"$f":"'4'!P$28","v":0},{"$f":"'4'!Q$28","v":0},{"$f":"'4'!R$28","v":0},{"$f":"'4'!S$28","v":0},{"$f":"'4'!T$28","v":0},{"$f":"'4'!U$28","v":0},{"$f":"'4'!V$28","v":0},{"$f":"'4'!W$28","v":0},{"$f":"'4'!X$28","v":0},{"$f":"'4'!Y$28","v":0},{"$f":"'4'!Z$28","v":0},{"$f":"'4'!AA$28","v":0},{"$f":"'4'!AB$28","v":0},{"$f":"'4'!AC$28","v":0},{"$f":"'4'!AD$28","v":0},{"$f":"'4'!AE$28","v":0},{"$f":"'4'!AF$28","v":0},{"$f":"'4'!AG$28","v":0},26,"2019-01-21","-","2019-01-27",4]
[27,"2019-01-28","-","2019-02-03",{"$f":"'Aperçu de la charge'!F43","v":5},{"$f":"'5'!M$27","v":0},{"$f":"'5'!N$27","v":0},{"$f":"'5'!O$27","v":0},{"$f":"'5'!P$27","v":0},{"$f":"'5'!Q$27","v":0},{"$f":"'5'!R$27","v":0},{"$f":"'5'!S$27","v":0},{"$f":"'5'!T$27","v":0},{"$f":"'5'!U$27","v":0},{"$f":"'5'!V$27","v":0},{"$f":"'5'!W$27","v":0},{"$f":"'5'!X$27","v":0},{"$f":"'5'!Y$27","v":0},{"$f":"'5'!Z$27","v":0},{"$f":"'5'!AA$27","v":0},{"$f":"'5'!AB$27","v":0},{"$f":"'5'!AC$27","v":0},{"$f":"'5'!AD$27","v":0},{"$f":"'5'!AE$27","v":0},{"$f":"'5'!AF$27","v":0},{"$f":"'5'!AG$27","v":0},null,null,null,{"$f":"'5'!M$28","v":0},{"$f":"'5'!N$28","v":0},{"$f":"'5'!O$28","v":0},{"$f":"'5'!P$28","v":0},{"$f":"'5'!Q$28","v":0},{"$f":"'5'!R$28","v":0},{"$f":"'5'!S$28","v":0},{"$f":"'5'!T$28","v":0},{"$f":"'5'!U$28","v":0},{"$f":"'5'!V$28","v":0},{"$f":"'5'!W$28","v":0},{"$f":"'5'!X$28","v":0},{"$f":"'5'!Y$28","v":0},{"$f":"'5'!Z$28","v":0},{"$f":"'5'!AA$28","v":0},{"$f":"'5'!AB$28","v":0},{"$f":"'5'!AC$28","v":0},{"$f":"'5'!AD$28","v":0},{"$f":"'5'!AE$28","v":0},{"$f":"'5'!AF$28","v":0},{"$f":"'5'!AG$28","v":0},27,"2019-01-28","-","2019-02-03",5]
[28,"2019-02-04","-","2019-02-10",{"$f":"'Aperçu de la charge'!F44","v":6},{"$f":"'6'!M$27","v":0},{"$f":"'6'!N$27","v":0},{"$f":"'6'!O$27","v":0},{"$f":"'6'!P$27","v":0},{"$f":"'6'!Q$27","v":0},{"$f":"'6'!R$27","v":0},{"$f":"'6'!S$27","v":0},{"$f":"'6'!T$27","v":0},{"$f":"'6'!U$27","v":0},{"$f":"'6'!V$27","v":0},{"$f":"'6'!W$27","v":0},{"$f":"'6'!X$27","v":0},{"$f":"'6'!Y$27","v":0},{"$f":"'6'!Z$27","v":0},{"$f":"'6'!AA$27","v":0},{"$f":"'6'!AB$27","v":0},{"$f":"'6'!AC$27","v":0},{"$f":"'6'!AD$27","v":0},{"$f":"'6'!AE$27","v":0},{"$f":"'6'!AF$27","v":0},{"$f":"'6'!AG$27","v":0},null,null,null,{"$f":"'6'!M$28","v":0},{"$f":"'6'!N$28","v":0},{"$f":"'6'!O$28","v":0},{"$f":"'6'!P$28","v":0},{"$f":"'6'!Q$28","v":0},{"$f":"'6'!R$28","v":0},{"$f":"'6'!S$28","v":0},{"$f":"'6'!T$28","v":0},{"$f":"'6'!U$28","v":0},{"$f":"'6'!V$28","v":0},{"$f":"'6'!W$28","v":0},{"$f":"'6'!X$28","v":0},{"$f":"'6'!Y$28","v":0},{"$f":"'6'!Z$28","v":0},{"$f":"'6'!AA$28","v":0},{"$f":"'6'!AB$28","v":0},{"$f":"'6'!AC$28","v":0},{"$f":"'6'!AD$28","v":0},{"$f":"'6'!AE$28","v":0},{"$f":"'6'!AF$28","v":0},{"$f":"'6'!AG$28","v":0},28,"2019-02-04","-","2019-02-10",6]
[29,"2019-02-11","-","2019-02-17",{"$f":"'Aperçu de la charge'!F45","v":7},{"$f":"'7'!M$27","v":0},{"$f":"'7'!N$27","v":0},{"$f":"'7'!O$27","v":0},{"$f":"'7'!P$27","v":0},{"$f":"'7'!Q$27","v":0},{"$f":"'7'!R$27","v":0},{"$f":"'7'!S$27","v":0},{"$f":"'7'!T$27","v":0},{"$f":"'7'!U$27","v":0},{"$f":"'7'!V$27","v":0},{"$f":"'7'!W$27","v":0},{"$f":"'7'!X$27","v":0},{"$f":"'7'!Y$27","v":0},{"$f":"'7'!Z$27","v":0},{"$f":"'7'!AA$27","v":0},{"$f":"'7'!AB$27","v":0},{"$f":"'7'!AC$27","v":0},{"$f":"'7'!AD$27","v":0},{"$f":"'7'!AE$27","v":0},{"$f":"'7'!AF$27","v":0},{"$f":"'7'!AG$27","v":0},null,null,null,{"$f":"'7'!M$28","v":0},{"$f":"'7'!N$28","v":0},{"$f":"'7'!O$28","v":0},{"$f":"'7'!P$28","v":0},{"$f":"'7'!Q$28","v":0},{"$f":"'7'!R$28","v":0},{"$f":"'7'!S$28","v":0},{"$f":"'7'!T$28","v":0},{"$f":"'7'!U$28","v":0},{"$f":"'7'!V$28","v":0},{"$f":"'7'!W$28","v":0},{"$f":"'7'!X$28","v":0},{"$f":"'7'!Y$28","v":0},{"$f":"'7'!Z$28","v":0},{"$f":"'7'!AA$28","v":0},{"$f":"'7'!AB$28","v":0},{"$f":"'7'!AC$28","v":0},{"$f":"'7'!AD$28","v":0},{"$f":"'7'!AE$28","v":0},{"$f":"'7'!AF$28","v":0},{"$f":"'7'!AG$28","v":0},29,"2019-02-11","-","2019-02-17",7]
[30,"2019-02-18","-","2019-02-24",{"$f":"'Aperçu de la charge'!F46","v":8},{"$f":"'8'!M$27","v":0},{"$f":"'8'!N$27","v":0},{"$f":"'8'!O$27","v":0},{"$f":"'8'!P$27","v":0},{"$f":"'8'!Q$27","v":0},{"$f":"'8'!R$27","v":0},{"$f":"'8'!S$27","v":0},{"$f":"'8'!T$27","v":0},{"$f":"'8'!U$27","v":0},{"$f":"'8'!V$27","v":0},{"$f":"'8'!W$27","v":0},{"$f":"'8'!X$27","v":0},{"$f":"'8'!Y$27","v":0},{"$f":"'8'!Z$27","v":0},{"$f":"'8'!AA$27","v":0},{"$f":"'8'!AB$27","v":0},{"$f":"'8'!AC$27","v":0},{"$f":"'8'!AD$27","v":0},{"$f":"'8'!AE$27","v":0},{"$f":"'8'!AF$27","v":0},{"$f":"'8'!AG$27","v":0},null,null,null,{"$f":"'8'!M$28","v":0},{"$f":"'8'!N$28","v":0},{"$f":"'8'!O$28","v":0},{"$f":"'8'!P$28","v":0},{"$f":"'8'!Q$28","v":0},{"$f":"'8'!R$28","v":0},{"$f":"'8'!S$28","v":0},{"$f":"'8'!T$28","v":0},{"$f":"'8'!U$28","v":0},{"$f":"'8'!V$28","v":0},{"$f":"'8'!W$28","v":0},{"$f":"'8'!X$28","v":0},{"$f":"'8'!Y$28","v":0},{"$f":"'8'!Z$28","v":0},{"$f":"'8'!AA$28","v":0},{"$f":"'8'!AB$28","v":0},{"$f":"'8'!AC$28","v":0},{"$f":"'8'!AD$28","v":0},{"$f":"'8'!AE$28","v":0},{"$f":"'8'!AF$28","v":0},{"$f":"'8'!AG$28","v":0},30,"2019-02-18","-","2019-02-24",8]
[31,"2019-02-25","-","2019-03-03",{"$f":"'Aperçu de la charge'!F47","v":9},{"$f":"'9'!M$27","v":0},{"$f":"'9'!N$27","v":0},{"$f":"'9'!O$27","v":0},{"$f":"'9'!P$27","v":0},{"$f":"'9'!Q$27","v":0},{"$f":"'9'!R$27","v":0},{"$f":"'9'!S$27","v":0},{"$f":"'9'!T$27","v":0},{"$f":"'9'!U$27","v":0},{"$f":"'9'!V$27","v":0},{"$f":"'9'!W$27","v":0},{"$f":"'9'!X$27","v":0},{"$f":"'9'!Y$27","v":0},{"$f":"'9'!Z$27","v":0},{"$f":"'9'!AA$27","v":0},{"$f":"'9'!AB$27","v":0},{"$f":"'9'!AC$27","v":0},{"$f":"'9'!AD$27","v":0},{"$f":"'9'!AE$27","v":0},{"$f":"'9'!AF$27","v":0},{"$f":"'9'!AG$27","v":0},null,null,null,{"$f":"'9'!M$28","v":0},{"$f":"'9'!N$28","v":0},{"$f":"'9'!O$28","v":0},{"$f":"'9'!P$28","v":0},{"$f":"'9'!Q$28","v":0},{"$f":"'9'!R$28","v":0},{"$f":"'9'!S$28","v":0},{"$f":"'9'!T$28","v":0},{"$f":"'9'!U$28","v":0},{"$f":"'9'!V$28","v":0},{"$f":"'9'!W$28","v":0},{"$f":"'9'!X$28","v":0},{"$f":"'9'!Y$28","v":0},{"$f":"'9'!Z$28","v":0},{"$f":"'9'!AA$28","v":0},{"$f":"'9'!AB$28","v":0},{"$f":"'9'!AC$28","v":0},{"$f":"'9'!AD$28","v":0},{"$f":"'9'!AE$28","v":0},{"$f":"'9'!AF$28","v":0},{"$f":"'9'!AG$28","v":0},31,"2019-02-25","-","2019-03-03",9]
[32,"2019-03-04","-","2019-03-10",{"$f":"'Aperçu de la charge'!F48","v":10},{"$f":"'10'!M$27","v":0},{"$f":"'10'!N$27","v":0},{"$f":"'10'!O$27","v":0},{"$f":"'10'!P$27","v":0},{"$f":"'10'!Q$27","v":0},{"$f":"'10'!R$27","v":0},{"$f":"'10'!S$27","v":0},{"$f":"'10'!T$27","v":0},{"$f":"'10'!U$27","v":0},{"$f":"'10'!V$27","v":0},{"$f":"'10'!W$27","v":0},{"$f":"'10'!X$27","v":0},{"$f":"'10'!Y$27","v":0},{"$f":"'10'!Z$27","v":0},{"$f":"'10'!AA$27","v":0},{"$f":"'10'!AB$27","v":0},{"$f":"'10'!AC$27","v":0},{"$f":"'10'!AD$27","v":0},{"$f":"'10'!AE$27","v":0},{"$f":"'10'!AF$27","v":0},{"$f":"'10'!AG$27","v":0},null,null,null,{"$f":"'10'!M$28","v":0},{"$f":"'10'!N$28","v":0},{"$f":"'10'!O$28","v":0},{"$f":"'10'!P$28","v":0},{"$f":"'10'!Q$28","v":0},{"$f":"'10'!R$28","v":0},{"$f":"'10'!S$28","v":0},{"$f":"'10'!T$28","v":0},{"$f":"'10'!U$28","v":0},{"$f":"'10'!V$28","v":0},{"$f":"'10'!W$28","v":0},{"$f":"'10'!X$28","v":0},{"$f":"'10'!Y$28","v":0},{"$f":"'10'!Z$28","v":0},{"$f":"'10'!AA$28","v":0},{"$f":"'10'!AB$28","v":0},{"$f":"'10'!AC$28","v":0},{"$f":"'10'!AD$28","v":0},{"$f":"'10'!AE$28","v":0},{"$f":"'10'!AF$28","v":0},{"$f":"'10'!AG$28","v":0},32,{"$f":"B81","v":"2019-03-04"},{"$f":"C81","v":"-"},{"$f":"D81","v":"2019-03-10"},{"$f":"E81","v":10}]
[33,"2019-03-11","-","2019-03-17",{"$f":"'Aperçu de la charge'!F49","v":11},{"$f":"'11'!M$27","v":0},{"$f":"'11'!N$27","v":0},{"$f":"'11'!O$27","v":0},{"$f":"'11'!P$27","v":0},{"$f":"'11'!Q$27","v":0},{"$f":"'11'!R$27","v":0},{"$f":"'11'!S$27","v":0},{"$f":"'11'!T$27","v":0},{"$f":"'11'!U$27","v":0},{"$f":"'11'!V$27","v":0},{"$f":"'11'!W$27","v":0},{"$f":"'11'!X$27","v":0},{"$f":"'11'!Y$27","v":0},{"$f":"'11'!Z$27","v":0},{"$f":"'11'!AA$27","v":0},{"$f":"'11'!AB$27","v":0},{"$f":"'11'!AC$27","v":0},{"$f":"'11'!AD$27","v":0},{"$f":"'11'!AE$27","v":0},{"$f":"'11'!AF$27","v":0},{"$f":"'11'!AG$27","v":0},null,null,null,{"$f":"'11'!M$28","v":0},{"$f":"'11'!N$28","v":0},{"$f":"'11'!O$28","v":0},{"$f":"'11'!P$28","v":0},{"$f":"'11'!Q$28","v":0},{"$f":"'11'!R$28","v":0},{"$f":"'11'!S$28","v":0},{"$f":"'11'!T$28","v":0},{"$f":"'11'!U$28","v":0},{"$f":"'11'!V$28","v":0},{"$f":"'11'!W$28","v":0},{"$f":"'11'!X$28","v":0},{"$f":"'11'!Y$28","v":0},{"$f":"'11'!Z$28","v":0},{"$f":"'11'!AA$28","v":0},{"$f":"'11'!AB$28","v":0},{"$f":"'11'!AC$28","v":0},{"$f":"'11'!AD$28","v":0},{"$f":"'11'!AE$28","v":0},{"$f":"'11'!AF$28","v":0},{"$f":"'11'!AG$28","v":0},33,"2019-03-11","-","2019-03-17",11]
[34,"2019-03-18","-","2019-03-24",{"$f":"'Aperçu de la charge'!F50","v":12},{"$f":"'12'!M$27","v":0},{"$f":"'12'!N$27","v":0},{"$f":"'12'!O$27","v":0},{"$f":"'12'!P$27","v":0},{"$f":"'12'!Q$27","v":0},{"$f":"'12'!R$27","v":0},{"$f":"'12'!S$27","v":0},{"$f":"'12'!T$27","v":0},{"$f":"'12'!U$27","v":0},{"$f":"'12'!V$27","v":0},{"$f":"'12'!W$27","v":0},{"$f":"'12'!X$27","v":0},{"$f":"'12'!Y$27","v":0},{"$f":"'12'!Z$27","v":0},{"$f":"'12'!AA$27","v":0},{"$f":"'12'!AB$27","v":0},{"$f":"'12'!AC$27","v":0},{"$f":"'12'!AD$27","v":0},{"$f":"'12'!AE$27","v":0},{"$f":"'12'!AF$27","v":0},{"$f":"'12'!AG$27","v":0},null,null,null,{"$f":"'12'!M$28","v":0},{"$f":"'12'!N$28","v":0},{"$f":"'12'!O$28","v":0},{"$f":"'12'!P$28","v":0},{"$f":"'12'!Q$28","v":0},{"$f":"'12'!R$28","v":0},{"$f":"'12'!S$28","v":0},{"$f":"'12'!T$28","v":0},{"$f":"'12'!U$28","v":0},{"$f":"'12'!V$28","v":0},{"$f":"'12'!W$28","v":0},{"$f":"'12'!X$28","v":0},{"$f":"'12'!Y$28","v":0},{"$f":"'12'!Z$28","v":0},{"$f":"'12'!AA$28","v":0},{"$f":"'12'!AB$28","v":0},{"$f":"'12'!AC$28","v":0},{"$f":"'12'!AD$28","v":0},{"$f":"'12'!AE$28","v":0},{"$f":"'12'!AF$28","v":0},{"$f":"'12'!AG$28","v":0},34,"2019-03-18","-","2019-03-24",12]
[35,"2019-03-25","-","2019-03-31",{"$f":"'Aperçu de la charge'!F51","v":13},{"$f":"'13'!M$27","v":0},{"$f":"'13'!N$27","v":0},{"$f":"'13'!O$27","v":0},{"$f":"'13'!P$27","v":0},{"$f":"'13'!Q$27","v":0},{"$f":"'13'!R$27","v":0},{"$f":"'13'!S$27","v":0},{"$f":"'13'!T$27","v":0},{"$f":"'13'!U$27","v":0},{"$f":"'13'!V$27","v":0},{"$f":"'13'!W$27","v":0},{"$f":"'13'!X$27","v":0},{"$f":"'13'!Y$27","v":0},{"$f":"'13'!Z$27","v":0},{"$f":"'13'!AA$27","v":0},{"$f":"'13'!AB$27","v":0},{"$f":"'13'!AC$27","v":0},{"$f":"'13'!AD$27","v":0},{"$f":"'13'!AE$27","v":0},{"$f":"'13'!AF$27","v":0},{"$f":"'13'!AG$27","v":0},null,null,null,{"$f":"'13'!M$28","v":0},{"$f":"'13'!N$28","v":0},{"$f":"'13'!O$28","v":0},{"$f":"'13'!P$28","v":0},{"$f":"'13'!Q$28","v":0},{"$f":"'13'!R$28","v":0},{"$f":"'13'!S$28","v":0},{"$f":"'13'!T$28","v":0},{"$f":"'13'!U$28","v":0},{"$f":"'13'!V$28","v":0},{"$f":"'13'!W$28","v":0},{"$f":"'13'!X$28","v":0},{"$f":"'13'!Y$28","v":0},{"$f":"'13'!Z$28","v":0},{"$f":"'13'!AA$28","v":0},{"$f":"'13'!AB$28","v":0},{"$f":"'13'!AC$28","v":0},{"$f":"'13'!AD$28","v":0},{"$f":"'13'!AE$28","v":0},{"$f":"'13'!AF$28","v":0},{"$f":"'13'!AG$28","v":0},35,"2019-03-25","-","2019-03-31",13]
[36,"2019-04-01","-","2019-04-07",{"$f":"'Aperçu de la charge'!F52","v":14},{"$f":"'14'!M$27","v":0},{"$f":"'14'!N$27","v":0},{"$f":"'14'!O$27","v":0},{"$f":"'14'!P$27","v":0},{"$f":"'14'!Q$27","v":0},{"$f":"'14'!R$27","v":0},{"$f":"'14'!S$27","v":0},{"$f":"'14'!T$27","v":0},{"$f":"'14'!U$27","v":0},{"$f":"'14'!V$27","v":0},{"$f":"'14'!W$27","v":0},{"$f":"'14'!X$27","v":0},{"$f":"'14'!Y$27","v":0},{"$f":"'14'!Z$27","v":0},{"$f":"'14'!AA$27","v":0},{"$f":"'14'!AB$27","v":0},{"$f":"'14'!AC$27","v":0},{"$f":"'14'!AD$27","v":0},{"$f":"'14'!AE$27","v":0},{"$f":"'14'!AF$27","v":0},{"$f":"'14'!AG$27","v":0},null,null,null,{"$f":"'14'!M$28","v":0},{"$f":"'14'!N$28","v":0},{"$f":"'14'!O$28","v":0},{"$f":"'14'!P$28","v":0},{"$f":"'14'!Q$28","v":0},{"$f":"'14'!R$28","v":0},{"$f":"'14'!S$28","v":0},{"$f":"'14'!T$28","v":0},{"$f":"'14'!U$28","v":0},{"$f":"'14'!V$28","v":0},{"$f":"'14'!W$28","v":0},{"$f":"'14'!X$28","v":0},{"$f":"'14'!Y$28","v":0},{"$f":"'14'!Z$28","v":0},{"$f":"'14'!AA$28","v":0},{"$f":"'14'!AB$28","v":0},{"$f":"'14'!AC$28","v":0},{"$f":"'14'!AD$28","v":0},{"$f":"'14'!AE$28","v":0},{"$f":"'14'!AF$28","v":0},{"$f":"'14'!AG$28","v":0},36,"2019-04-01","-","2019-04-07",14]
[37,"2019-04-08","-","2019-04-14",{"$f":"'Aperçu de la charge'!F53","v":15},{"$f":"'15'!M$27","v":0},{"$f":"'15'!N$27","v":0},{"$f":"'15'!O$27","v":0},{"$f":"'15'!P$27","v":0},{"$f":"'15'!Q$27","v":0},{"$f":"'15'!R$27","v":0},{"$f":"'15'!S$27","v":0},{"$f":"'15'!T$27","v":0},{"$f":"'15'!U$27","v":0},{"$f":"'15'!V$27","v":0},{"$f":"'15'!W$27","v":0},{"$f":"'15'!X$27","v":0},{"$f":"'15'!Y$27","v":0},{"$f":"'15'!Z$27","v":0},{"$f":"'15'!AA$27","v":0},{"$f":"'15'!AB$27","v":0},{"$f":"'15'!AC$27","v":0},{"$f":"'15'!AD$27","v":0},{"$f":"'15'!AE$27","v":0},{"$f":"'15'!AF$27","v":0},{"$f":"'15'!AG$27","v":0},null,null,null,{"$f":"'15'!M$28","v":0},{"$f":"'15'!N$28","v":0},{"$f":"'15'!O$28","v":0},{"$f":"'15'!P$28","v":0},{"$f":"'15'!Q$28","v":0},{"$f":"'15'!R$28","v":0},{"$f":"'15'!S$28","v":0},{"$f":"'15'!T$28","v":0},{"$f":"'15'!U$28","v":0},{"$f":"'15'!V$28","v":0},{"$f":"'15'!W$28","v":0},{"$f":"'15'!X$28","v":0},{"$f":"'15'!Y$28","v":0},{"$f":"'15'!Z$28","v":0},{"$f":"'15'!AA$28","v":0},{"$f":"'15'!AB$28","v":0},{"$f":"'15'!AC$28","v":0},{"$f":"'15'!AD$28","v":0},{"$f":"'15'!AE$28","v":0},{"$f":"'15'!AF$28","v":0},{"$f":"'15'!AG$28","v":0},37,"2019-04-08","-","2019-04-14",15]
[38,"2019-04-15","-","2019-04-21",{"$f":"'Aperçu de la charge'!F54","v":16},{"$f":"'16'!M$27","v":0},{"$f":"'16'!N$27","v":0},{"$f":"'16'!O$27","v":0},{"$f":"'16'!P$27","v":0},{"$f":"'16'!Q$27","v":0},{"$f":"'16'!R$27","v":0},{"$f":"'16'!S$27","v":0},{"$f":"'16'!T$27","v":0},{"$f":"'16'!U$27","v":0},{"$f":"'16'!V$27","v":0},{"$f":"'16'!W$27","v":0},{"$f":"'16'!X$27","v":0},{"$f":"'16'!Y$27","v":0},{"$f":"'16'!Z$27","v":0},{"$f":"'16'!AA$27","v":0},{"$f":"'16'!AB$27","v":0},{"$f":"'16'!AC$27","v":0},{"$f":"'16'!AD$27","v":0},{"$f":"'16'!AE$27","v":0},{"$f":"'16'!AF$27","v":0},{"$f":"'16'!AG$27","v":0},null,null,null,{"$f":"'16'!M$28","v":0},{"$f":"'16'!N$28","v":0},{"$f":"'16'!O$28","v":0},{"$f":"'16'!P$28","v":0},{"$f":"'16'!Q$28","v":0},{"$f":"'16'!R$28","v":0},{"$f":"'16'!S$28","v":0},{"$f":"'16'!T$28","v":0},{"$f":"'16'!U$28","v":0},{"$f":"'16'!V$28","v":0},{"$f":"'16'!W$28","v":0},{"$f":"'16'!X$28","v":0},{"$f":"'16'!Y$28","v":0},{"$f":"'16'!Z$28","v":0},{"$f":"'16'!AA$28","v":0},{"$f":"'16'!AB$28","v":0},{"$f":"'16'!AC$28","v":0},{"$f":"'16'!AD$28","v":0},{"$f":"'16'!AE$28","v":0},{"$f":"'16'!AF$28","v":0},{"$f":"'16'!AG$28","v":0},38,"2019-04-15","-","2019-04-21",16]
[39,"2019-04-22","-","2019-04-28",{"$f":"'Aperçu de la charge'!F55","v":17},{"$f":"'17'!M$27","v":0},{"$f":"'17'!N$27","v":0},{"$f":"'17'!O$27","v":0},{"$f":"'17'!P$27","v":0},{"$f":"'17'!Q$27","v":0},{"$f":"'17'!R$27","v":0},{"$f":"'17'!S$27","v":0},{"$f":"'17'!T$27","v":0},{"$f":"'17'!U$27","v":0},{"$f":"'17'!V$27","v":0},{"$f":"'17'!W$27","v":0},{"$f":"'17'!X$27","v":0},{"$f":"'17'!Y$27","v":0},{"$f":"'17'!Z$27","v":0},{"$f":"'17'!AA$27","v":0},{"$f":"'17'!AB$27","v":0},{"$f":"'17'!AC$27","v":0},{"$f":"'17'!AD$27","v":0},{"$f":"'17'!AE$27","v":0},{"$f":"'17'!AF$27","v":0},{"$f":"'17'!AG$27","v":0},null,null,null,{"$f":"'17'!M$28","v":0},{"$f":"'17'!N$28","v":0},{"$f":"'17'!O$28","v":0},{"$f":"'17'!P$28","v":0},{"$f":"'17'!Q$28","v":0},{"$f":"'17'!R$28","v":0},{"$f":"'17'!S$28","v":0},{"$f":"'17'!T$28","v":0},{"$f":"'17'!U$28","v":0},{"$f":"'17'!V$28","v":0},{"$f":"'17'!W$28","v":0},{"$f":"'17'!X$28","v":0},{"$f":"'17'!Y$28","v":0},{"$f":"'17'!Z$28","v":0},{"$f":"'17'!AA$28","v":0},{"$f":"'17'!AB$28","v":0},{"$f":"'17'!AC$28","v":0},{"$f":"'17'!AD$28","v":0},{"$f":"'17'!AE$28","v":0},{"$f":"'17'!AF$28","v":0},{"$f":"'17'!AG$28","v":0},39,"2019-04-22","-","2019-04-28",17]
[40,"2019-04-29","-","2019-05-05",{"$f":"'Aperçu de la charge'!F56","v":18},{"$f":"'18'!M$27","v":0},{"$f":"'18'!N$27","v":0},{"$f":"'18'!O$27","v":0},{"$f":"'18'!P$27","v":0},{"$f":"'18'!Q$27","v":0},{"$f":"'18'!R$27","v":0},{"$f":"'18'!S$27","v":0},{"$f":"'18'!T$27","v":0},{"$f":"'18'!U$27","v":0},{"$f":"'18'!V$27","v":0},{"$f":"'18'!W$27","v":0},{"$f":"'18'!X$27","v":0},{"$f":"'18'!Y$27","v":0},{"$f":"'18'!Z$27","v":0},{"$f":"'18'!AA$27","v":0},{"$f":"'18'!AB$27","v":0},{"$f":"'18'!AC$27","v":0},{"$f":"'18'!AD$27","v":0},{"$f":"'18'!AE$27","v":0},{"$f":"'18'!AF$27","v":0},{"$f":"'18'!AG$27","v":0},null,null,null,{"$f":"'18'!M$28","v":0},{"$f":"'18'!N$28","v":0},{"$f":"'18'!O$28","v":0},{"$f":"'18'!P$28","v":0},{"$f":"'18'!Q$28","v":0},{"$f":"'18'!R$28","v":0},{"$f":"'18'!S$28","v":0},{"$f":"'18'!T$28","v":0},{"$f":"'18'!U$28","v":0},{"$f":"'18'!V$28","v":0},{"$f":"'18'!W$28","v":0},{"$f":"'18'!X$28","v":0},{"$f":"'18'!Y$28","v":0},{"$f":"'18'!Z$28","v":0},{"$f":"'18'!AA$28","v":0},{"$f":"'18'!AB$28","v":0},{"$f":"'18'!AC$28","v":0},{"$f":"'18'!AD$28","v":0},{"$f":"'18'!AE$28","v":0},{"$f":"'18'!AF$28","v":0},{"$f":"'18'!AG$28","v":0},40,"2019-04-29","-","2019-05-05",18]
[41,"2019-05-06","-","2019-05-12",{"$f":"'Aperçu de la charge'!F57","v":19},{"$f":"'19'!M$27","v":0},{"$f":"'19'!N$27","v":0},{"$f":"'19'!O$27","v":0},{"$f":"'19'!P$27","v":0},{"$f":"'19'!Q$27","v":0},{"$f":"'19'!R$27","v":0},{"$f":"'19'!S$27","v":0},{"$f":"'19'!T$27","v":0},{"$f":"'19'!U$27","v":0},{"$f":"'19'!V$27","v":0},{"$f":"'19'!W$27","v":0},{"$f":"'19'!X$27","v":0},{"$f":"'19'!Y$27","v":0},{"$f":"'19'!Z$27","v":0},{"$f":"'19'!AA$27","v":0},{"$f":"'19'!AB$27","v":0},{"$f":"'19'!AC$27","v":0},{"$f":"'19'!AD$27","v":0},{"$f":"'19'!AE$27","v":0},{"$f":"'19'!AF$27","v":0},{"$f":"'19'!AG$27","v":0},null,null,null,{"$f":"'19'!M$28","v":0},{"$f":"'19'!N$28","v":0},{"$f":"'19'!O$28","v":0},{"$f":"'19'!P$28","v":0},{"$f":"'19'!Q$28","v":0},{"$f":"'19'!R$28","v":0},{"$f":"'19'!S$28","v":0},{"$f":"'19'!T$28","v":0},{"$f":"'19'!U$28","v":0},{"$f":"'19'!V$28","v":0},{"$f":"'19'!W$28","v":0},{"$f":"'19'!X$28","v":0},{"$f":"'19'!Y$28","v":0},{"$f":"'19'!Z$28","v":0},{"$f":"'19'!AA$28","v":0},{"$f":"'19'!AB$28","v":0},{"$f":"'19'!AC$28","v":0},{"$f":"'19'!AD$28","v":0},{"$f":"'19'!AE$28","v":0},{"$f":"'19'!AF$28","v":0},{"$f":"'19'!AG$28","v":0},41,"2019-05-06","-","2019-05-12",19]
[42,"2019-05-13","-","2019-05-19",{"$f":"'Aperçu de la charge'!F58","v":20},{"$f":"'20'!M$27","v":0},{"$f":"'20'!N$27","v":0},{"$f":"'20'!O$27","v":0},{"$f":"'20'!P$27","v":0},{"$f":"'20'!Q$27","v":0},{"$f":"'20'!R$27","v":0},{"$f":"'20'!S$27","v":0},{"$f":"'20'!T$27","v":0},{"$f":"'20'!U$27","v":0},{"$f":"'20'!V$27","v":0},{"$f":"'20'!W$27","v":0},{"$f":"'20'!X$27","v":0},{"$f":"'20'!Y$27","v":0},{"$f":"'20'!Z$27","v":0},{"$f":"'20'!AA$27","v":0},{"$f":"'20'!AB$27","v":0},{"$f":"'20'!AC$27","v":0},{"$f":"'20'!AD$27","v":0},{"$f":"'20'!AE$27","v":0},{"$f":"'20'!AF$27","v":0},{"$f":"'20'!AG$27","v":0},null,null,null,{"$f":"'20'!M$28","v":0},{"$f":"'20'!N$28","v":0},{"$f":"'20'!O$28","v":0},{"$f":"'20'!P$28","v":0},{"$f":"'20'!Q$28","v":0},{"$f":"'20'!R$28","v":0},{"$f":"'20'!S$28","v":0},{"$f":"'20'!T$28","v":0},{"$f":"'20'!U$28","v":0},{"$f":"'20'!V$28","v":0},{"$f":"'20'!W$28","v":0},{"$f":"'20'!X$28","v":0},{"$f":"'20'!Y$28","v":0},{"$f":"'20'!Z$28","v":0},{"$f":"'20'!AA$28","v":0},{"$f":"'20'!AB$28","v":0},{"$f":"'20'!AC$28","v":0},{"$f":"'20'!AD$28","v":0},{"$f":"'20'!AE$28","v":0},{"$f":"'20'!AF$28","v":0},{"$f":"'20'!AG$28","v":0},42,"2019-05-13","-","2019-05-19",20]
[43,"2019-05-20","-","2019-05-26",{"$f":"'Aperçu de la charge'!F59","v":21},{"$f":"'21'!M$27","v":0},{"$f":"'21'!N$27","v":0},{"$f":"'21'!O$27","v":0},{"$f":"'21'!P$27","v":0},{"$f":"'21'!Q$27","v":0},{"$f":"'21'!R$27","v":0},{"$f":"'21'!S$27","v":0},{"$f":"'21'!T$27","v":0},{"$f":"'21'!U$27","v":0},{"$f":"'21'!V$27","v":0},{"$f":"'21'!W$27","v":0},{"$f":"'21'!X$27","v":0},{"$f":"'21'!Y$27","v":0},{"$f":"'21'!Z$27","v":0},{"$f":"'21'!AA$27","v":0},{"$f":"'21'!AB$27","v":0},{"$f":"'21'!AC$27","v":0},{"$f":"'21'!AD$27","v":0},{"$f":"'21'!AE$27","v":0},{"$f":"'21'!AF$27","v":0},{"$f":"'21'!AG$27","v":0},null,null,null,{"$f":"'21'!M$28","v":0},{"$f":"'21'!N$28","v":0},{"$f":"'21'!O$28","v":0},{"$f":"'21'!P$28","v":0},{"$f":"'21'!Q$28","v":0},{"$f":"'21'!R$28","v":0},{"$f":"'21'!S$28","v":0},{"$f":"'21'!T$28","v":0},{"$f":"'21'!U$28","v":0},{"$f":"'21'!V$28","v":0},{"$f":"'21'!W$28","v":0},{"$f":"'21'!X$28","v":0},{"$f":"'21'!Y$28","v":0},{"$f":"'21'!Z$28","v":0},{"$f":"'21'!AA$28","v":0},{"$f":"'21'!AB$28","v":0},{"$f":"'21'!AC$28","v":0},{"$f":"'21'!AD$28","v":0},{"$f":"'21'!AE$28","v":0},{"$f":"'21'!AF$28","v":0},{"$f":"'21'!AG$28","v":0},43,"2019-05-20","-","2019-05-26",21]
[44,"2019-05-27","-","2019-06-02",{"$f":"'Aperçu de la charge'!F60","v":22},{"$f":"'22'!M$27","v":0},{"$f":"'22'!N$27","v":0},{"$f":"'22'!O$27","v":0},{"$f":"'22'!P$27","v":0},{"$f":"'22'!Q$27","v":0},{"$f":"'22'!R$27","v":0},{"$f":"'22'!S$27","v":0},{"$f":"'22'!T$27","v":0},{"$f":"'22'!U$27","v":0},{"$f":"'22'!V$27","v":0},{"$f":"'22'!W$27","v":0},{"$f":"'22'!X$27","v":0},{"$f":"'22'!Y$27","v":0},{"$f":"'22'!Z$27","v":0},{"$f":"'22'!AA$27","v":0},{"$f":"'22'!AB$27","v":0},{"$f":"'22'!AC$27","v":0},{"$f":"'22'!AD$27","v":0},{"$f":"'22'!AE$27","v":0},{"$f":"'22'!AF$27","v":0},{"$f":"'22'!AG$27","v":0},null,null,null,{"$f":"'22'!M$28","v":0},{"$f":"'22'!N$28","v":0},{"$f":"'22'!O$28","v":0},{"$f":"'22'!P$28","v":0},{"$f":"'22'!Q$28","v":0},{"$f":"'22'!R$28","v":0},{"$f":"'22'!S$28","v":0},{"$f":"'22'!T$28","v":0},{"$f":"'22'!U$28","v":0},{"$f":"'22'!V$28","v":0},{"$f":"'22'!W$28","v":0},{"$f":"'22'!X$28","v":0},{"$f":"'22'!Y$28","v":0},{"$f":"'22'!Z$28","v":0},{"$f":"'22'!AA$28","v":0},{"$f":"'22'!AB$28","v":0},{"$f":"'22'!AC$28","v":0},{"$f":"'22'!AD$28","v":0},{"$f":"'22'!AE$28","v":0},{"$f":"'22'!AF$28","v":0},{"$f":"'22'!AG$28","v":0},44,"2019-05-27","-","2019-06-02",22]
[45,"2019-06-03","-","2019-06-09",{"$f":"'Aperçu de la charge'!F61","v":23},{"$f":"'23'!M$27","v":0},{"$f":"'23'!N$27","v":0},{"$f":"'23'!O$27","v":0},{"$f":"'23'!P$27","v":0},{"$f":"'23'!Q$27","v":0},{"$f":"'23'!R$27","v":0},{"$f":"'23'!S$27","v":0},{"$f":"'23'!T$27","v":0},{"$f":"'23'!U$27","v":0},{"$f":"'23'!V$27","v":0},{"$f":"'23'!W$27","v":0},{"$f":"'23'!X$27","v":0},{"$f":"'23'!Y$27","v":0},{"$f":"'23'!Z$27","v":0},{"$f":"'23'!AA$27","v":0},{"$f":"'23'!AB$27","v":0},{"$f":"'23'!AC$27","v":0},{"$f":"'23'!AD$27","v":0},{"$f":"'23'!AE$27","v":0},{"$f":"'23'!AF$27","v":0},{"$f":"'23'!AG$27","v":0},null,null,null,{"$f":"'23'!M$28","v":0},{"$f":"'23'!N$28","v":0},{"$f":"'23'!O$28","v":0},{"$f":"'23'!P$28","v":0},{"$f":"'23'!Q$28","v":0},{"$f":"'23'!R$28","v":0},{"$f":"'23'!S$28","v":0},{"$f":"'23'!T$28","v":0},{"$f":"'23'!U$28","v":0},{"$f":"'23'!V$28","v":0},{"$f":"'23'!W$28","v":0},{"$f":"'23'!X$28","v":0},{"$f":"'23'!Y$28","v":0},{"$f":"'23'!Z$28","v":0},{"$f":"'23'!AA$28","v":0},{"$f":"'23'!AB$28","v":0},{"$f":"'23'!AC$28","v":0},{"$f":"'23'!AD$28","v":0},{"$f":"'23'!AE$28","v":0},{"$f":"'23'!AF$28","v":0},{"$f":"'23'!AG$28","v":0},45,"2019-06-03","-","2019-06-09",23]
[46,"2019-06-10","-","2019-06-16",{"$f":"'Aperçu de la charge'!F62","v":24},{"$f":"'24'!M$27","v":0},{"$f":"'24'!N$27","v":0},{"$f":"'24'!O$27","v":0},{"$f":"'24'!P$27","v":0},{"$f":"'24'!Q$27","v":0},{"$f":"'24'!R$27","v":0},{"$f":"'24'!S$27","v":0},{"$f":"'24'!T$27","v":0},{"$f":"'24'!U$27","v":0},{"$f":"'24'!V$27","v":0},{"$f":"'24'!W$27","v":0},{"$f":"'24'!X$27","v":0},{"$f":"'24'!Y$27","v":0},{"$f":"'24'!Z$27","v":0},{"$f":"'24'!AA$27","v":0},{"$f":"'24'!AB$27","v":0},{"$f":"'24'!AC$27","v":0},{"$f":"'24'!AD$27","v":0},{"$f":"'24'!AE$27","v":0},{"$f":"'24'!AF$27","v":0},{"$f":"'24'!AG$27","v":0},null,null,null,{"$f":"'24'!M$28","v":0},{"$f":"'24'!N$28","v":0},{"$f":"'24'!O$28","v":0},{"$f":"'24'!P$28","v":0},{"$f":"'24'!Q$28","v":0},{"$f":"'24'!R$28","v":0},{"$f":"'24'!S$28","v":0},{"$f":"'24'!T$28","v":0},{"$f":"'24'!U$28","v":0},{"$f":"'24'!V$28","v":0},{"$f":"'24'!W$28","v":0},{"$f":"'24'!X$28","v":0},{"$f":"'24'!Y$28","v":0},{"$f":"'24'!Z$28","v":0},{"$f":"'24'!AA$28","v":0},{"$f":"'24'!AB$28","v":0},{"$f":"'24'!AC$28","v":0},{"$f":"'24'!AD$28","v":0},{"$f":"'24'!AE$28","v":0},{"$f":"'24'!AF$28","v":0},{"$f":"'24'!AG$28","v":0},46,"2019-06-10","-","2019-06-16",24]
[47,"2019-06-17","-","2019-06-23",{"$f":"'Aperçu de la charge'!F63","v":25},{"$f":"'25'!M$27","v":0},{"$f":"'25'!N$27","v":0},{"$f":"'25'!O$27","v":0},{"$f":"'25'!P$27","v":0},{"$f":"'25'!Q$27","v":0},{"$f":"'25'!R$27","v":0},{"$f":"'25'!S$27","v":0},{"$f":"'25'!T$27","v":0},{"$f":"'25'!U$27","v":0},{"$f":"'25'!V$27","v":0},{"$f":"'25'!W$27","v":0},{"$f":"'25'!X$27","v":0},{"$f":"'25'!Y$27","v":0},{"$f":"'25'!Z$27","v":0},{"$f":"'25'!AA$27","v":0},{"$f":"'25'!AB$27","v":0},{"$f":"'25'!AC$27","v":0},{"$f":"'25'!AD$27","v":0},{"$f":"'25'!AE$27","v":0},{"$f":"'25'!AF$27","v":0},{"$f":"'25'!AG$27","v":0},null,null,null,{"$f":"'25'!M$28","v":0},{"$f":"'25'!N$28","v":0},{"$f":"'25'!O$28","v":0},{"$f":"'25'!P$28","v":0},{"$f":"'25'!Q$28","v":0},{"$f":"'25'!R$28","v":0},{"$f":"'25'!S$28","v":0},{"$f":"'25'!T$28","v":0},{"$f":"'25'!U$28","v":0},{"$f":"'25'!V$28","v":0},{"$f":"'25'!W$28","v":0},{"$f":"'25'!X$28","v":0},{"$f":"'25'!Y$28","v":0},{"$f":"'25'!Z$28","v":0},{"$f":"'25'!AA$28","v":0},{"$f":"'25'!AB$28","v":0},{"$f":"'25'!AC$28","v":0},{"$f":"'25'!AD$28","v":0},{"$f":"'25'!AE$28","v":0},{"$f":"'25'!AF$28","v":0},{"$f":"'25'!AG$28","v":0},47,"2019-06-17","-","2019-06-23",25]
[48,"2019-06-24","-","2019-06-30",{"$f":"'Aperçu de la charge'!F64","v":26},{"$f":"'26'!M$27","v":0},{"$f":"'26'!N$27","v":0},{"$f":"'26'!O$27","v":0},{"$f":"'26'!P$27","v":0},{"$f":"'26'!Q$27","v":0},{"$f":"'26'!R$27","v":0},{"$f":"'26'!S$27","v":0},{"$f":"'26'!T$27","v":0},{"$f":"'26'!U$27","v":0},{"$f":"'26'!V$27","v":0},{"$f":"'26'!W$27","v":0},{"$f":"'26'!X$27","v":0},{"$f":"'26'!Y$27","v":0},{"$f":"'26'!Z$27","v":0},{"$f":"'26'!AA$27","v":0},{"$f":"'26'!AB$27","v":0},{"$f":"'26'!AC$27","v":0},{"$f":"'26'!AD$27","v":0},{"$f":"'26'!AE$27","v":0},{"$f":"'26'!AF$27","v":0},{"$f":"'26'!AG$27","v":0},null,null,null,{"$f":"'26'!M$28","v":0},{"$f":"'26'!N$28","v":0},{"$f":"'26'!O$28","v":0},{"$f":"'26'!P$28","v":0},{"$f":"'26'!Q$28","v":0},{"$f":"'26'!R$28","v":0},{"$f":"'26'!S$28","v":0},{"$f":"'26'!T$28","v":0},{"$f":"'26'!U$28","v":0},{"$f":"'26'!V$28","v":0},{"$f":"'26'!W$28","v":0},{"$f":"'26'!X$28","v":0},{"$f":"'26'!Y$28","v":0},{"$f":"'26'!Z$28","v":0},{"$f":"'26'!AA$28","v":0},{"$f":"'26'!AB$28","v":0},{"$f":"'26'!AC$28","v":0},{"$f":"'26'!AD$28","v":0},{"$f":"'26'!AE$28","v":0},{"$f":"'26'!AF$28","v":0},{"$f":"'26'!AG$28","v":0},48,"2019-06-24","-","2019-06-30",26]
[49,"2019-07-01","-","2019-07-07",{"$f":"'Aperçu de la charge'!F65","v":27},{"$f":"'27'!M$27","v":0},{"$f":"'27'!N$27","v":0},{"$f":"'27'!O$27","v":0},{"$f":"'27'!P$27","v":0},{"$f":"'27'!Q$27","v":0},{"$f":"'27'!R$27","v":0},{"$f":"'27'!S$27","v":0},{"$f":"'27'!T$27","v":0},{"$f":"'27'!U$27","v":0},{"$f":"'27'!V$27","v":0},{"$f":"'27'!W$27","v":0},{"$f":"'27'!X$27","v":0},{"$f":"'27'!Y$27","v":0},{"$f":"'27'!Z$27","v":0},{"$f":"'27'!AA$27","v":0},{"$f":"'27'!AB$27","v":0},{"$f":"'27'!AC$27","v":0},{"$f":"'27'!AD$27","v":0},{"$f":"'27'!AE$27","v":0},{"$f":"'27'!AF$27","v":0},{"$f":"'27'!AG$27","v":0},null,null,null,{"$f":"'27'!M$28","v":0},{"$f":"'27'!N$28","v":0},{"$f":"'27'!O$28","v":0},{"$f":"'27'!P$28","v":0},{"$f":"'27'!Q$28","v":0},{"$f":"'27'!R$28","v":0},{"$f":"'27'!S$28","v":0},{"$f":"'27'!T$28","v":0},{"$f":"'27'!U$28","v":0},{"$f":"'27'!V$28","v":0},{"$f":"'27'!W$28","v":0},{"$f":"'27'!X$28","v":0},{"$f":"'27'!Y$28","v":0},{"$f":"'27'!Z$28","v":0},{"$f":"'27'!AA$28","v":0},{"$f":"'27'!AB$28","v":0},{"$f":"'27'!AC$28","v":0},{"$f":"'27'!AD$28","v":0},{"$f":"'27'!AE$28","v":0},{"$f":"'27'!AF$28","v":0},{"$f":"'27'!AG$28","v":0},49,"2019-07-01","-","2019-07-07",27]
[50,"2019-07-08","-","2019-07-14",{"$f":"'Aperçu de la charge'!F66","v":28},{"$f":"'28'!M$27","v":0},{"$f":"'28'!N$27","v":0},{"$f":"'28'!O$27","v":0},{"$f":"'28'!P$27","v":0},{"$f":"'28'!Q$27","v":0},{"$f":"'28'!R$27","v":0},{"$f":"'28'!S$27","v":0},{"$f":"'28'!T$27","v":0},{"$f":"'28'!U$27","v":0},{"$f":"'28'!V$27","v":0},{"$f":"'28'!W$27","v":0},{"$f":"'28'!X$27","v":0},{"$f":"'28'!Y$27","v":0},{"$f":"'28'!Z$27","v":0},{"$f":"'28'!AA$27","v":0},{"$f":"'28'!AB$27","v":0},{"$f":"'28'!AC$27","v":0},{"$f":"'28'!AD$27","v":0},{"$f":"'28'!AE$27","v":0},{"$f":"'28'!AF$27","v":0},{"$f":"'28'!AG$27","v":0},null,null,null,{"$f":"'28'!M$28","v":0},{"$f":"'28'!N$28","v":0},{"$f":"'28'!O$28","v":0},{"$f":"'28'!P$28","v":0},{"$f":"'28'!Q$28","v":0},{"$f":"'28'!R$28","v":0},{"$f":"'28'!S$28","v":0},{"$f":"'28'!T$28","v":0},{"$f":"'28'!U$28","v":0},{"$f":"'28'!V$28","v":0},{"$f":"'28'!W$28","v":0},{"$f":"'28'!X$28","v":0},{"$f":"'28'!Y$28","v":0},{"$f":"'28'!Z$28","v":0},{"$f":"'28'!AA$28","v":0},{"$f":"'28'!AB$28","v":0},{"$f":"'28'!AC$28","v":0},{"$f":"'28'!AD$28","v":0},{"$f":"'28'!AE$28","v":0},{"$f":"'28'!AF$28","v":0},{"$f":"'28'!AG$28","v":0},50,"2019-07-08","-","2019-07-14",28]
[51,"2019-07-15","-","2019-07-21",{"$f":"'Aperçu de la charge'!F67","v":29},{"$f":"'29'!M$27","v":0},{"$f":"'29'!N$27","v":0},{"$f":"'29'!O$27","v":0},{"$f":"'29'!P$27","v":0},{"$f":"'29'!Q$27","v":0},{"$f":"'29'!R$27","v":0},{"$f":"'29'!S$27","v":0},{"$f":"'29'!T$27","v":0},{"$f":"'29'!U$27","v":0},{"$f":"'29'!V$27","v":0},{"$f":"'29'!W$27","v":0},{"$f":"'29'!X$27","v":0},{"$f":"'29'!Y$27","v":0},{"$f":"'29'!Z$27","v":0},{"$f":"'29'!AA$27","v":0},{"$f":"'29'!AB$27","v":0},{"$f":"'29'!AC$27","v":0},{"$f":"'29'!AD$27","v":0},{"$f":"'29'!AE$27","v":0},{"$f":"'29'!AF$27","v":0},{"$f":"'29'!AG$27","v":0},null,null,null,{"$f":"'29'!M$28","v":0},{"$f":"'29'!N$28","v":0},{"$f":"'29'!O$28","v":0},{"$f":"'29'!P$28","v":0},{"$f":"'29'!Q$28","v":0},{"$f":"'29'!R$28","v":0},{"$f":"'29'!S$28","v":0},{"$f":"'29'!T$28","v":0},{"$f":"'29'!U$28","v":0},{"$f":"'29'!V$28","v":0},{"$f":"'29'!W$28","v":0},{"$f":"'29'!X$28","v":0},{"$f":"'29'!Y$28","v":0},{"$f":"'29'!Z$28","v":0},{"$f":"'29'!AA$28","v":0},{"$f":"'29'!AB$28","v":0},{"$f":"'29'!AC$28","v":0},{"$f":"'29'!AD$28","v":0},{"$f":"'29'!AE$28","v":0},{"$f":"'29'!AF$28","v":0},{"$f":"'29'!AG$28","v":0},51,"2019-07-15","-","2019-07-21",29]
[52,"2019-07-22","-","2019-07-28",{"$f":"'Aperçu de la charge'!F68","v":30},{"$f":"'30'!M$27","v":0},{"$f":"'30'!N$27","v":0},{"$f":"'30'!O$27","v":0},{"$f":"'30'!P$27","v":0},{"$f":"'30'!Q$27","v":0},{"$f":"'30'!R$27","v":0},{"$f":"'30'!S$27","v":0},{"$f":"'30'!T$27","v":0},{"$f":"'30'!U$27","v":0},{"$f":"'30'!V$27","v":0},{"$f":"'30'!W$27","v":0},{"$f":"'30'!X$27","v":0},{"$f":"'30'!Y$27","v":0},{"$f":"'30'!Z$27","v":0},{"$f":"'30'!AA$27","v":0},{"$f":"'30'!AB$27","v":0},{"$f":"'30'!AC$27","v":0},{"$f":"'30'!AD$27","v":0},{"$f":"'30'!AE$27","v":0},{"$f":"'30'!AF$27","v":0},{"$f":"'30'!AG$27","v":0},null,null,null,{"$f":"'30'!M$28","v":0},{"$f":"'30'!N$28","v":0},{"$f":"'30'!O$28","v":0},{"$f":"'30'!P$28","v":0},{"$f":"'30'!Q$28","v":0},{"$f":"'30'!R$28","v":0},{"$f":"'30'!S$28","v":0},{"$f":"'30'!T$28","v":0},{"$f":"'30'!U$28","v":0},{"$f":"'30'!V$28","v":0},{"$f":"'30'!W$28","v":0},{"$f":"'30'!X$28","v":0},{"$f":"'30'!Y$28","v":0},{"$f":"'30'!Z$28","v":0},{"$f":"'30'!AA$28","v":0},{"$f":"'30'!AB$28","v":0},{"$f":"'30'!AC$28","v":0},{"$f":"'30'!AD$28","v":0},{"$f":"'30'!AE$28","v":0},{"$f":"'30'!AF$28","v":0},{"$f":"'30'!AG$28","v":0},52,"2019-07-22","-","2019-07-28",30]
[null,null,null,null,"Total entrainements",{"$f":"DSUM($A$46:H101,F47,$A$46:$B$47)","v":0},{"$f":"DSUM($A$46:L101,G47,$A$46:$B$47)","v":0},{"$f":"DSUM($A$46:M101,H47,$A$46:$B$47)","v":0},{"$f":"DSUM($A$46:K101,I47,$A$46:$B$47)","v":0},{"$f":"DSUM($A$46:O101,J47,$A$46:$B$47)","v":0},{"$f":"DSUM($A$46:P101,K47,$A$46:$B$47)","v":0},{"$f":"DSUM($A$46:N101,L47,$A$46:$B$47)","v":0},{"$f":"DSUM($A$46:O101,M47,$A$46:$B$47)","v":0},{"$f":"DSUM($A$46:P101,N47,$A$46:$B$47)","v":0},{"$f":"DSUM($A$46:Q101,O47,$A$46:$B$47)","v":0},{"$f":"DSUM($A$46:R101,P47,$A$46:$B$47)","v":0},{"$f":"DSUM($A$46:S101,Q47,$A$46:$B$47)","v":0},{"$f":"DSUM($A$46:T101,R47,$A$46:$B$47)","v":0},{"$f":"DSUM($A$46:U101,S47,$A$46:$B$47)","v":0},{"$f":"DSUM($A$46:V101,T47,$A$46:$B$47)","v":0},{"$f":"DSUM($A$46:W101,U47,$A$46:$B$47)","v":0},{"$f":"DSUM($A$46:X101,V47,$A$46:$B$47)","v":0},{"$f":"DSUM($A$46:Y101,W47,$A$46:$B$47)","v":0},{"$f":"DSUM($A$46:Z101,X47,$A$46:$B$47)","v":0},{"$f":"DSUM($A$46:AA101,Y47,$A$46:$B$47)","v":0},{"$f":"DSUM($A$46:AC101,Z47,$A$46:$B$47)","v":0},null,null,"Total heures d'entr.",{"$f":"DSUM($AD$46:AZ101,AD47,$AY$46:$AZ$47)/60","v":0},{"$f":"DSUM($AD$46:BA101,AE47,$AY$46:$AZ$47)/60","v":0},{"$f":"DSUM($AD$46:BB101,AF47,$AY$46:$AZ$47)/60","v":0},{"$f":"DSUM($AD$46:BC101,AG47,$AY$46:$AZ$47)/60","v":0},{"$f":"DSUM($AD$46:BD101,AH47,$AY$46:$AZ$47)/60","v":0},{"$f":"DSUM($AD$46:BE101,AI47,$AY$46:$AZ$47)/60","v":0},{"$f":"DSUM($AD$46:BC101,AJ47,$AY$46:$AZ$47)/60","v":0},{"$f":"DSUM($AD$46:BC101,AK47,$AY$46:$AZ$47)/60","v":0},{"$f":"DSUM($AD$46:BC101,AL47,$AY$46:$AZ$47)/60","v":0},{"$f":"DSUM($AD$46:BC101,AM47,$AY$46:$AZ$47)/60","v":0},{"$f":"DSUM($AD$46:BC101,AN47,$AY$46:$AZ$47)/60","v":0},{"$f":"DSUM($AD$46:BC101,AO47,$AY$46:$AZ$47)/60","v":0},{"$f":"DSUM($AD$46:BC101,AP47,$AY$46:$AZ$47)/60","v":0},{"$f":"DSUM($AD$46:BC101,AQ47,$AY$46:$AZ$47)/60","v":0},{"$f":"DSUM($AD$46:BC101,AR47,$AY$46:$AZ$47)/60","v":0},{"$f":"DSUM($AD$46:BC101,AS47,$AY$46:$AZ$47)/60","v":0},{"$f":"DSUM($AD$46:BC101,AT47,$AY$46:$AZ$47)/60","v":0},{"$f":"DSUM($AD$46:BC101,AU47,$AY$46:$AZ$47)/60","v":0},{"$f":"DSUM($AD$46:BC101,AV47,$AY$46:$AZ$47)/60","v":0},{"$f":"DSUM($AD$46:BC101,AW47,$AY$46:$AZ$47)/60","v":0},{"$f":"DSUM($AD$46:BC101,AX47,$AY$46:$AZ$47)/60","v":0}]
[null,null,null,null,"% des sports",{"$f":"SUM(F102:H102)/(SUM($F$102:$Z$102))","v":{"$error":"#DIV/0!"}},null,null,{"$f":"SUM(I102:K102)/(SUM($F$102:$Z$102))","v":{"$error":"#DIV/0!"}},null,null,{"$f":"SUM(L102:N102)/(SUM($F$102:$Z$102))","v":{"$error":"#DIV/0!"}},null,null,{"$f":"SUM(O102:Q102)/(SUM($F$102:$Z$102))","v":{"$error":"#DIV/0!"}},null,null,{"$f":"SUM(R102:T102)/(SUM($F$102:$Z$102))","v":{"$error":"#DIV/0!"}},null,null,{"$f":"SUM(U102:W102)/(SUM($F$102:$Z$102))","v":{"$error":"#DIV/0!"}},null,null,{"$f":"SUM(X102:Z102)/(SUM($F$102:$Z$102))","v":{"$error":"#DIV/0!"}},null,null,null,null,"% des sports",{"$f":"SUM(AD102:AF102)/(SUM($F$102:$Z$102))","v":{"$error":"#DIV/0!"}},null,null,{"$f":"SUM(AG102:AI102)/(SUM($F$102:$Z$102))","v":{"$error":"#DIV/0!"}},null,null,{"$f":"SUM(AJ102:AL102)/(SUM($F$102:$Z$102))","v":{"$error":"#DIV/0!"}},null,null,{"$f":"SUM(AM102:AO102)/(SUM($F$102:$Z$102))","v":{"$error":"#DIV/0!"}},null,null,{"$f":"SUM(AP102:AR102)/(SUM($F$102:$Z$102))","v":{"$error":"#DIV/0!"}},null,null,{"$f":"SUM(AS102:AU102)/(SUM($F$102:$Z$102))","v":{"$error":"#DIV/0!"}},null,null,{"$f":"SUM(AV102:AX102)/(SUM($F$102:$Z$102))","v":{"$error":"#DIV/0!"}}]
[null,null,null,null,"Répartition des intensités (total)",{"$f":"SUM(F102,I102,L102,O102,R102,U102,X102)/SUM($F$102:$Z$102)","v":{"$error":"#DIV/0!"}},{"$f":"SUM(G102,J102,M102,P102,S102,V102,Y102)/SUM($F$102:$Z$102)","v":{"$error":"#DIV/0!"}},{"$f":"SUM(H102,K102,N102,Q102,T102,W102,Z102)/SUM($F$102:$Z$102)","v":{"$error":"#DIV/0!"}},null,null,null,null,null,null,null,null,null,null,null,null,null,null,null,null,null,null,null,null,"Répartition des intensités (total)",{"$f":"SUM(AD102,AG102,AJ102,AM102,AP102,AS102,AV102)/SUM($F$102:$Z$102)","v":{"$error":"#DIV/0!"}},{"$f":"SUM(AE102,AH102,AK102,AN102,AQ102,AT102,AW102)/SUM($F$102:$Z$102)","v":{"$error":"#DIV/0!"}},{"$f":"SUM(AF102,AI102,AL102,AO102,AR102,AU102,AX102)/SUM($F$102:$Z$102)","v":{"$error":"#DIV/0!"}}]
[null,null,null,null,"Répartition des intensités (par sport)",{"$f":"F102/SUM($F$102:$H$102)","v":{"$error":"#DIV/0!"}},{"$f":"G102/SUM($F$102:$H$102)","v":{"$error":"#DIV/0!"}},{"$f":"H102/SUM($F$102:$H$102)","v":{"$error":"#DIV/0!"}},{"$f":"I102/SUM($L$102:$N$102)","v":{"$error":"#DIV/0!"}},{"$error":"#DIV/0!"},{"$error":"#DIV/0!"},{"$error":"#DIV/0!"},{"$error":"#DIV/0!"},{"$error":"#DIV/0!"},{"$f":"O102/SUM($O$102:$Q$102)","v":{"$error":"#DIV/0!"}},{"$f":"P102/SUM($O$102:$Q$102)","v":{"$error":"#DIV/0!"}},{"$f":"Q102/SUM($O$102:$Q$102)","v":{"$error":"#DIV/0!"}},{"$f":"R102/SUM($R$102:$T$102)","v":{"$error":"#DIV/0!"}},{"$f":"S102/SUM($R$102:$T$102)","v":{"$error":"#DIV/0!"}},{"$f":"T102/SUM($R$102:$T$102)","v":{"$error":"#DIV/0!"}},{"$f":"U102/SUM($U$102:$W$102)","v":{"$error":"#DIV/0!"}},{"$f":"V102/SUM($U$102:$W$102)","v":{"$error":"#DIV/0!"}},{"$f":"W102/SUM($U$102:$W$102)","v":{"$error":"#DIV/0!"}},{"$f":"X102/SUM($X$102:$Z$102)","v":{"$error":"#DIV/0!"}},{"$f":"Y102/SUM($X$102:$Z$102)","v":{"$error":"#DIV/0!"}},{"$f":"Z102/SUM($X$102:$Z$102)","v":{"$error":"#DIV/0!"}},null,null,"Répartition des intensités (par sport)",{"$f":"AD102/SUM($AD$102:$AF$102)","v":{"$error":"#DIV/0!"}},{"$f":"AE102/SUM($AD$102:$AF$102)","v":{"$error":"#DIV/0!"}},{"$f":"AF102/SUM($AD$102:$AF$102)","v":{"$error":"#DIV/0!"}},null,null,null,{"$f":"AJ102/SUM($AJ$102:$AL$102)","v":{"$error":"#DIV/0!"}},{"$f":"AK102/SUM($AJ$102:$AL$102)","v":{"$error":"#DIV/0!"}},{"$f":"AL102/SUM($AJ$102:$AL$102)","v":{"$error":"#DIV/0!"}},{"$f":"AM102/SUM($AM$102:$AO$102)","v":{"$error":"#DIV/0!"}},{"$f":"AN102/SUM($AM$102:$AO$102)","v":{"$error":"#DIV/0!"}},{"$f":"AO102/SUM($AM$102:$AO$102)","v":{"$error":"#DIV/0!"}},{"$f":"AP102/SUM($AP$102:$AR$102)","v":{"$error":"#DIV/0!"}},{"$f":"AQ102/SUM($AP$102:$AR$102)","v":{"$error":"#DIV/0!"}},{"$f":"AR102/SUM($AP$102:$AR$102)","v":{"$error":"#DIV/0!"}},{"$f":"AS102/SUM($AS$102:$AU$102)","v":{"$error":"#DIV/0!"}},{"$f":"AT102/SUM($AS$102:$AU$102)","v":{"$error":"#DIV/0!"}},{"$f":"AU102/SUM($AS$102:$AU$102)","v":{"$error":"#DIV/0!"}},{"$f":"AV102/SUM($AV$102:$AX$102)","v":{"$error":"#DIV/0!"}},{"$f":"AW102/SUM($AV$102:$AX$102)","v":{"$error":"#DIV/0!"}},{"$f":"AX102/SUM($AV$102:$AX$102)","v":{"$error":"#DIV/0!"}}]
[]
[]
[]
[]
[]
[]
[]
[]
[]
[]
[]
[]
[]
[]
[]
[]
[]
[]
[]
[]
[]
[]
[]
[]
[]
[]
[]
[]
[]
[]
[]
[]
[]
[]
[]
[]
[]
[]
[]
[]
[]
[]
[]
[]
[]
[]
[]
[]
[]
[]
[]
[]
[]
[]
[]
[]
[]
[]
[]
[]
[]
[]
[]
[]
[]
[null,null,null,null,"Total",{"$f":"F48","v":"Club - VB"},{"$f":"L48","v":"Club - BVB"},{"$f":"O48","v":"TS/ Nati - BVB"},{"$f":"R48","v":"Force & fitness"},{"$f":"U48","v":"Compet. - VB"},{"$f":"X48","v":"Compet. - BVB"}]

{"sheet":"Régénération-sommeil-poids","index":4,"n_rows":58,"n_cols":45,"rows_kept":58,"cut":false,"hidden":false,"merged":[[4,0,5,0],[4,1,5,3],[2,2,2,5],[2,7,2,8],[0,0,0,21]]}
["Régénération-sommeil-poids"]
[null,null,null,"Gewicht-Motiv-Schlaf"]
[null,"Athlète :",{"$f":"'Aperçu de la charge'!D2","v":"Prénom Nom"},null,null,null,"Année :",{"$f":"'Aperçu de la charge'!N2","v":"2018/2019"}]
[]
["Semaine","Date",null,null,"Poids","régénération\nressentie","Schlafqualität","Schlafdauer","Schlaf-abweichung"]
[null,null,null,null,"Kg","1-5","1-5","Std","Std"]
[{"$f":"'Aperçu de la charge'!F17","v":31},{"$f":"'Aperçu de la charge'!C17","v":"2018-07-30"},{"$f":"'Aperçu de la charge'!D17","v":"-"},{"$f":"'Aperçu de la charge'!E17","v":"2018-08-05"},{"$f":"IF('31'!D$26=\"\",\"\",'31'!D$26)","v":0},{"$f":"IF('31'!E$26=\"\",\"\",'31'!E$26)","v":0},{"$f":"IF('31'!F$26=\"\",\"\",'31'!F$26)","v":0},{"$f":"IF('31'!G$26=\"\",\"\",'31'!G$26)","v":0},{"$f":"IF('31'!G$27=\"\",\"\",'31'!G$27)","v":0},null,null,null,null,null,null,null,null,null,null,null,null,null,null,null,null,null,null,null,null,null,null,null,null,null,null,null,null,null,null,null,{"$f":"IF(E7=\"\",#N/A,E7)","v":0},{"$f":"IF(F7=\"\",#N/A,F7)","v":0},{"$f":"IF(G7=\"\",#N/A,G7)","v":0},{"$f":"IF(H7=\"\",#N/A,H7)","v":0},{"$f":"IF(I7=\"\",#N/A,I7)","v":0}]
[{"$f":"'Aperçu de la charge'!F18","v":32},{"$f":"'Aperçu de la charge'!C18","v":"2018-08-06"},{"$f":"'Aperçu de la charge'!D18","v":"-"},{"$f":"'Aperçu de la charge'!E18","v":"2018-08-12"},{"$f":"IF('32'!D$26=\"\",\"\",'32'!D$26)","v":0},{"$f":"IF('32'!E$26=\"\",\"\",'32'!E$26)","v":0},{"$f":"IF('32'!F$26=\"\",\"\",'32'!F$26)","v":0},{"$f":"IF('32'!G$26=\"\",\"\",'32'!G$26)","v":0},{"$f":"IF('32'!G$27=\"\",\"\",'32'!G$27)","v":0},null,null,null,null,null,null,null,null,null,null,null,null,null,null,null,null,null,null,null,null,null,null,null,null,null,null,null,null,null,null,null,{"$f":"IF(E8=\"\",#N/A,E8)","v":0},{"$f":"IF(F8=\"\",#N/A,F8)","v":0},{"$f":"IF(G8=\"\",#N/A,G8)","v":0},{"$f":"IF(H8=\"\",#N/A,H8)","v":0},{"$f":"IF(I8=\"\",#N/A,I8)","v":0}]
[{"$f":"'Aperçu de la charge'!F19","v":33},{"$f":"'Aperçu de la charge'!C19","v":"2018-08-13"},{"$f":"'Aperçu de la charge'!D19","v":"-"},{"$f":"'Aperçu de la charge'!E19","v":"2018-08-19"},{"$f":"IF('33'!D$26=\"\",\"\",'33'!D$26)","v":0},{"$f":"IF('33'!E$26=\"\",\"\",'33'!E$26)","v":0},{"$f":"IF('33'!F$26=\"\",\"\",'33'!F$26)","v":0},{"$f":"IF('33'!G$26=\"\",\"\",'33'!G$26)","v":0},{"$f":"IF('33'!G$27=\"\",\"\",'33'!G$27)","v":0},null,null,null,null,null,null,null,null,null,null,null,null,null,null,null,null,null,null,null,null,null,null,null,null,null,null,null,null,null,null,null,0,0,0,0,0]
[{"$f":"'Aperçu de la charge'!F20","v":34},{"$f":"'Aperçu de la charge'!C20","v":"2018-08-20"},{"$f":"'Aperçu de la charge'!D20","v":"-"},{"$f":"'Aperçu de la charge'!E20","v":"2018-08-26"},{"$f":"IF('34'!D$26=\"\",\"\",'34'!D$26)","v":0},{"$f":"IF('34'!E$26=\"\",\"\",'34'!E$26)","v":0},{"$f":"IF('34'!F$26=\"\",\"\",'34'!F$26)","v":0},{"$f":"IF('34'!G$26=\"\",\"\",'34'!G$26)","v":0},{"$f":"IF('34'!G$27=\"\",\"\",'34'!G$27)","v":0},null,null,null,null,null,null,null,null,null,null,null,null,null,null,null,null,null,null,null,null,null,null,null,null,null,null,null,null,null,null,null,0,0,0,0,0]
[{"$f":"'Aperçu de la charge'!F21","v":35},{"$f":"'Aperçu de la charge'!C21","v":"2018-08-27"},{"$f":"'Aperçu de la charge'!D21","v":"-"},{"$f":"'Aperçu de la charge'!E21","v":"2018-09-02"},{"$f":"IF('35'!D$26=\"\",\"\",'35'!D$26)","v":0},{"$f":"IF('35'!E$26=\"\",\"\",'35'!E$26)","v":0},{"$f":"IF('35'!F$26=\"\",\"\",'35'!F$26)","v":0},{"$f":"IF('35'!G$26=\"\",\"\",'35'!G$26)","v":0},{"$f":"IF('35'!G$27=\"\",\"\",'35'!G$27)","v":0},null,null,null,null,null,null,null,null,null,null,null,null,null,null,null,null,null,null,null,null,null,null,null,null,null,null,null,null,null,null,null,0,0,0,0,0]
[{"$f":"'Aperçu de la charge'!F22","v":36},{"$f":"'Aperçu de la charge'!C22","v":"2018-09-03"},{"$f":"'Aperçu de la charge'!D22","v":"-"},{"$f":"'Aperçu de la charge'!E22","v":"2018-09-09"},{"$f":"IF('36'!D$26=\"\",\"\",'36'!D$26)","v":0},{"$f":"IF('36'!E$26=\"\",\"\",'36'!E$26)","v":0},{"$f":"IF('36'!F$26=\"\",\"\",'36'!F$26)","v":0},{"$f":"IF('36'!G$26=\"\",\"\",'36'!G$26)","v":0},{"$f":"IF('36'!G$27=\"\",\"\",'36'!G$27)","v":0},null,null,null,null,null,null,null,null,null,null,null,null,null,null,null,null,null,null,null,null,null,null,null,null,null,null,null,null,null,null,null,0,0,0,0,0]
[{"$f":"'Aperçu de la charge'!F23","v":37},{"$f":"'Aperçu de la charge'!C23","v":"2018-09-10"},{"$f":"'Aperçu de la charge'!D23","v":"-"},{"$f":"'Aperçu de la charge'!E23","v":"2018-09-16"},{"$f":"IF('37'!D$26=\"\",\"\",'37'!D$26)","v":0},{"$f":"IF('37'!E$26=\"\",\"\",'37'!E$26)","v":0},{"$f":"IF('37'!F$26=\"\",\"\",'37'!F$26)","v":0},{"$f":"IF('37'!G$26=\"\",\"\",'37'!G$26)","v":0},{"$f":"IF('37'!G$27=\"\",\"\",'37'!G$27)","v":0},null,null,null,null,null,null,null,null,null,null,null,null,null,null,null,null,null,null,null,null,null,null,null,null,null,null,null,null,null,null,null,0,0,0,0,0]
[{"$f":"'Aperçu de la charge'!F24","v":38},{"$f":"'Aperçu de la charge'!C24","v":"2018-09-17"},{"$f":"'Aperçu de la charge'!D24","v":"-"},{"$f":"'Aperçu de la charge'!E24","v":"2018-09-23"},{"$f":"IF('38'!D$26=\"\",\"\",'38'!D$26)","v":0},{"$f":"IF('38'!E$26=\"\",\"\",'38'!E$26)","v":0},{"$f":"IF('38'!F$26=\"\",\"\",'38'!F$26)","v":0},{"$f":"IF('38'!G$26=\"\",\"\",'38'!G$26)","v":0},{"$f":"IF('38'!G$27=\"\",\"\",'38'!G$27)","v":0},null,null,null,null,null,null,null,null,null,null,null,null,null,null,null,null,null,null,null,null,null,null,null,null,null,null,null,null,null,null,null,0,0,0,0,0]
[{"$f":"'Aperçu de la charge'!F25","v":39},{"$f":"'Aperçu de la charge'!C25","v":"2018-09-24"},{"$f":"'Aperçu de la charge'!D25","v":"-"},{"$f":"'Aperçu de la charge'!E25","v":"2018-09-30"},{"$f":"IF('39'!D$26=\"\",\"\",'39'!D$26)","v":0},{"$f":"IF('39'!E$26=\"\",\"\",'39'!E$26)","v":0},{"$f":"IF('39'!F$26=\"\",\"\",'39'!F$26)","v":0},{"$f":"IF('39'!G$26=\"\",\"\",'39'!G$26)","v":0},{"$f":"IF('39'!G$27=\"\",\"\",'39'!G$27)","v":0},null,null,null,null,null,null,null,null,null,null,null,null,null,null,null,null,null,null,null,null,null,null,null,null,null,null,null,null,null,null,null,0,0,0,0,0]
[{"$f":"'Aperçu de la charge'!F26","v":40},{"$f":"'Aperçu de la charge'!C26","v":"2018-10-01"},{"$f":"'Aperçu de la charge'!D26","v":"-"},{"$f":"'Aperçu de la charge'!E26","v":"2018-10-07"},{"$f":"IF('40'!D$26=\"\",\"\",'40'!D$26)","v":0},{"$f":"IF('40'!E$26=\"\",\"\",'40'!E$26)","v":0},{"$f":"IF('40'!F$26=\"\",\"\",'40'!F$26)","v":0},{"$f":"IF('40'!G$26=\"\",\"\",'40'!G$26)","v":0},{"$f":"IF('40'!G$27=\"\",\"\",'40'!G$27)","v":0},null,null,null,null,null,null,null,null,null,null,null,null,null,null,null,null,null,null,null,null,null,null,null,null,null,null,null,null,null,null,null,0,0,0,0,0]
[{"$f":"'Aperçu de la charge'!F27","v":41},{"$f":"'Aperçu de la charge'!C27","v":"2018-10-08"},{"$f":"'Aperçu de la charge'!D27","v":"-"},{"$f":"'Aperçu de la charge'!E27","v":"2018-10-14"},{"$f":"IF('41'!D$26=\"\",\"\",'41'!D$26)","v":0},{"$f":"IF('41'!E$26=\"\",\"\",'41'!E$26)","v":0},{"$f":"IF('41'!F$26=\"\",\"\",'41'!F$26)","v":0},{"$f":"IF('41'!G$26=\"\",\"\",'41'!G$26)","v":0},{"$f":"IF('41'!G$27=\"\",\"\",'41'!G$27)","v":0},null,null,null,null,null,null,null,null,null,null,null,null,null,null,null,null,null,null,null,null,null,null,null,null,null,null,null,null,null,null,null,0,0,0,0,0]
[{"$f":"'Aperçu de la charge'!F28","v":42},{"$f":"'Aperçu de la charge'!C28","v":"2018-10-15"},{"$f":"'Aperçu de la charge'!D28","v":"-"},{"$f":"'Aperçu de la charge'!E28","v":"2018-10-21"},{"$f":"IF('42'!D$26=\"\",\"\",'42'!D$26)","v":0},{"$f":"IF('42'!E$26=\"\",\"\",'42'!E$26)","v":0},{"$f":"IF('42'!F$26=\"\",\"\",'42'!F$26)","v":0},{"$f":"IF('42'!G$26=\"\",\"\",'42'!G$26)","v":0},{"$f":"IF('42'!G$27=\"\",\"\",'42'!G$27)","v":0},null,null,null,null,null,null,null,null,null,null,null,null,null,null,null,null,null,null,null,null,null,null,null,null,null,null,null,null,null,null,null,0,0,0,0,0]
[{"$f":"'Aperçu de la charge'!F29","v":43},{"$f":"'Aperçu de la charge'!C29","v":"2018-10-22"},{"$f":"'Aperçu de la charge'!D29","v":"-"},{"$f":"'Aperçu de la charge'!E29","v":"2018-10-28"},{"$f":"IF('43'!D$26=\"\",\"\",'43'!D$26)","v":0},{"$f":"IF('43'!E$26=\"\",\"\",'43'!E$26)","v":0},{"$f":"IF('43'!F$26=\"\",\"\",'43'!F$26)","v":0},{"$f":"IF('43'!G$26=\"\",\"\",'43'!G$26)","v":0},{"$f":"IF('43'!G$27=\"\",\"\",'43'!G$27)","v":0},null,null,null,null,null,null,null,null,null,null,null,null,null,null,null,null,null,null,null,null,null,null,null,null,null,null,null,null,null,null,null,0,0,0,0,0]
[{"$f":"'Aperçu de la charge'!F30","v":44},{"$f":"'Aperçu de la charge'!C30","v":"2018-10-29"},{"$f":"'Aperçu de la charge'!D30","v":"-"},{"$f":"'Aperçu de la charge'!E30","v":"2018-11-04"},{"$f":"IF('44'!D$26=\"\",\"\",'44'!D$26)","v":0},{"$f":"IF('44'!E$26=\"\",\"\",'44'!E$26)","v":0},{"$f":"IF('44'!F$26=\"\",\"\",'44'!F$26)","v":0},{"$f":"IF('44'!G$26=\"\",\"\",'44'!G$26)","v":0},{"$f":"IF('44'!G$27=\"\",\"\",'44'!G$27)","v":0},null,null,null,null,null,null,null,null,null,null,null,null,null,null,null,null,null,null,null,null,null,null,null,null,null,null,null,null,null,null,null,0,0,0,0,0]
[{"$f":"'Aperçu de la charge'!F31","v":45},{"$f":"'Aperçu de la charge'!C31","v":"2018-11-05"},{"$f":"'Aperçu de la charge'!D31","v":"-"},{"$f":"'Aperçu de la charge'!E31","v":"2018-11-11"},{"$f":"IF('45'!D$26=\"\",\"\",'45'!D$26)","v":0},{"$f":"IF('45'!E$26=\"\",\"\",'45'!E$26)","v":0},{"$f":"IF('45'!F$26=\"\",\"\",'45'!F$26)","v":0},{"$f":"IF('45'!G$26=\"\",\"\",'45'!G$26)","v":0},{"$f":"IF('45'!G$27=\"\",\"\",'45'!G$27)","v":0},null,null,null,null,null,null,null,null,null,null,null,null,null,null,null,null,null,null,null,null,null,null,null,null,null,null,null,null,null,null,null,0,0,0,0,0]
[{"$f":"'Aperçu de la charge'!F32","v":46},{"$f":"'Aperçu de la charge'!C32","v":"2018-11-12"},{"$f":"'Aperçu de la charge'!D32","v":"-"},{"$f":"'Aperçu de la charge'!E32","v":"2018-11-18"},{"$f":"IF('46'!D$26=\"\",\"\",'46'!D$26)","v":0},{"$f":"IF('46'!E$26=\"\",\"\",'46'!E$26)","v":0},{"$f":"IF('46'!F$26=\"\",\"\",'46'!F$26)","v":0},{"$f":"IF('46'!G$26=\"\",\"\",'46'!G$26)","v":0},{"$f":"IF('46'!G$27=\"\",\"\",'46'!G$27)","v":0},null,null,null,null,null,null,null,null,null,null,null,null,null,null,null,null,null,null,null,null,null,null,null,null,null,null,null,null,null,null,null,0,0,0,0,0]
[{"$f":"'Aperçu de la charge'!F33","v":47},{"$f":"'Aperçu de la charge'!C33","v":"2018-11-19"},{"$f":"'Aperçu de la charge'!D33","v":"-"},{"$f":"'Aperçu de la charge'!E33","v":"2018-11-25"},{"$f":"IF('47'!D$26=\"\",\"\",'47'!D$26)","v":0},{"$f":"IF('47'!E$26=\"\",\"\",'47'!E$26)","v":0},{"$f":"IF('47'!F$26=\"\",\"\",'47'!F$26)","v":0},{"$f":"IF('47'!G$26=\"\",\"\",'47'!G$26)","v":0},{"$f":"IF('47'!G$27=\"\",\"\",'47'!G$27)","v":0},null,null,null,null,null,null,null,null,null,null,null,null,null,null,null,null,null,null,null,null,null,null,null,null,null,null,null,null,null,null,null,0,{"$f":"IF(F23=\"\",#N/A,F23)","v":0},{"$f":"IF(G23=\"\",#N/A,G23)","v":0},{"$f":"IF(H23=\"\",#N/A,H23)","v":0},0]
[{"$f":"'Aperçu de la charge'!F34","v":48},{"$f":"'Aperçu de la charge'!C34","v":"2018-11-26"},{"$f":"'Aperçu de la charge'!D34","v":"-"},{"$f":"'Aperçu de la charge'!E34","v":"2018-12-02"},{"$f":"IF('48'!D$26=\"\",\"\",'48'!D$26)","v":0},{"$f":"IF('48'!E$26=\"\",\"\",'48'!E$26)","v":0},{"$f":"IF('48'!F$26=\"\",\"\",'48'!F$26)","v":0},{"$f":"IF('48'!G$26=\"\",\"\",'48'!G$26)","v":0},{"$f":"IF('48'!G$27=\"\",\"\",'48'!G$27)","v":0},null,null,null,null,null,null,null,null,null,null,null,null,null,null,null,null,null,null,null,null,null,null,null,null,null,null,null,null,null,null,null,0,0,0,0,0]
[{"$f":"'Aperçu de la charge'!F35","v":49},{"$f":"'Aperçu de la charge'!C35","v":"2018-12-03"},{"$f":"'Aperçu de la charge'!D35","v":"-"},{"$f":"'Aperçu de la charge'!E35","v":"2018-12-09"},{"$f":"IF('49'!D$26=\"\",\"\",'49'!D$26)","v":0},{"$f":"IF('49'!E$26=\"\",\"\",'49'!E$26)","v":0},{"$f":"IF('49'!F$26=\"\",\"\",'49'!F$26)","v":0},{"$f":"IF('49'!G$26=\"\",\"\",'49'!G$26)","v":0},{"$f":"IF('49'!G$27=\"\",\"\",'49'!G$27)","v":0},null,null,null,null,null,null,null,null,null,null,null,null,null,null,null,null,null,null,null,null,null,null,null,null,null,null,null,null,null,null,null,0,0,0,0,0]
[{"$f":"'Aperçu de la charge'!F36","v":50},{"$f":"'Aperçu de la charge'!C36","v":"2018-12-10"},{"$f":"'Aperçu de la charge'!D36","v":"-"},{"$f":"'Aperçu de la charge'!E36","v":"2018-12-16"},{"$f":"IF('50'!D$26=\"\",\"\",'50'!D$26)","v":0},{"$f":"IF('50'!E$26=\"\",\"\",'50'!E$26)","v":0},{"$f":"IF('50'!F$26=\"\",\"\",'50'!F$26)","v":0},{"$f":"IF('50'!G$26=\"\",\"\",'50'!G$26)","v":0},{"$f":"IF('50'!G$27=\"\",\"\",'50'!G$27)","v":0},null,null,null,null,null,null,null,null,null,null,null,null,null,null,null,null,null,null,null,null,null,null,null,null,null,null,null,null,null,null,null,0,0,0,0,0]
[{"$f":"'Aperçu de la charge'!F37","v":51},{"$f":"'Aperçu de la charge'!C37","v":"2018-12-17"},{"$f":"'Aperçu de la charge'!D37","v":"-"},{"$f":"'Aperçu de la charge'!E37","v":"2018-12-23"},{"$f":"IF('51'!D$26=\"\",\"\",'51'!D$26)","v":0},{"$f":"IF('51'!E$26=\"\",\"\",'51'!E$26)","v":0},{"$f":"IF('51'!F$26=\"\",\"\",'51'!F$26)","v":0},{"$f":"IF('51'!G$26=\"\",\"\",'51'!G$26)","v":0},{"$f":"IF('51'!G$27=\"\",\"\",'51'!G$27)","v":0},null,null,null,null,null,null,null,null,null,null,null,null,null,null,null,null,null,null,null,null,null,null,null,null,null,null,null,null,null,null,null,0,0,0,0,0]
[{"$f":"'Aperçu de la charge'!F38","v":52},{"$f":"'Aperçu de la charge'!C38","v":"2018-12-24"},{"$f":"'Aperçu de la charge'!D38","v":"-"},{"$f":"'Aperçu de la charge'!E38","v":"2018-12-30"},{"$f":"IF('52'!D$26=\"\",\"\",'52'!D$26)","v":0},{"$f":"IF('52'!E$26=\"\",\"\",'52'!E$26)","v":0},{"$f":"IF('52'!F$26=\"\",\"\",'52'!F$26)","v":0},{"$f":"IF('52'!G$26=\"\",\"\",'52'!G$26)","v":0},{"$f":"IF('52'!G$27=\"\",\"\",'52'!G$27)","v":0},null,null,null,null,null,null,null,null,null,null,null,null,null,null,null,null,null,null,null,null,null,null,null,null,null,null,null,null,null,null,null,0,0,0,0,0]
[{"$f":"'Aperçu de la charge'!F39","v":1},{"$f":"'Aperçu de la charge'!C39","v":"2018-12-31"},{"$f":"'Aperçu de la charge'!D39","v":"-"},{"$f":"'Aperçu de la charge'!E39","v":"2019-01-06"},{"$f":"IF('1'!D$26=\"\",\"\",'1'!D$26)","v":0},{"$f":"IF('1'!E$26=\"\",\"\",'1'!E$26)","v":0},{"$f":"IF('1'!F$26=\"\",\"\",'1'!F$26)","v":0},{"$f":"IF('1'!G$26=\"\",\"\",'1'!G$26)","v":0},{"$f":"IF('1'!G$27=\"\",\"\",'1'!G$27)","v":0},null,null,null,null,null,null,null,null,null,null,null,null,null,null,null,null,null,null,null,null,null,null,null,null,null,null,null,null,null,null,null,0,0,0,0,0]
[{"$f":"'Aperçu de la charge'!F40","v":2},{"$f":"'Aperçu de la charge'!C40","v":"2019-01-07"},{"$f":"'Aperçu de la charge'!D40","v":"-"},{"$f":"'Aperçu de la charge'!E40","v":"2019-01-13"},{"$f":"IF('2'!D$26=\"\",\"\",'2'!D$26)","v":0},{"$f":"IF('2'!E$26=\"\",\"\",'2'!E$26)","v":0},{"$f":"IF('2'!F$26=\"\",\"\",'2'!F$26)","v":0},{"$f":"IF('2'!G$26=\"\",\"\",'2'!G$26)","v":0},{"$f":"IF('2'!G$27=\"\",\"\",'2'!G$27)","v":0},null,null,null,null,null,null,null,null,null,null,null,null,null,null,null,null,null,null,null,null,null,null,null,null,null,null,null,null,null,null,null,0,0,0,0,0]
[{"$f":"'Aperçu de la charge'!F41","v":3},{"$f":"'Aperçu de la charge'!C41","v":"2019-01-14"},{"$f":"'Aperçu de la charge'!D41","v":"-"},{"$f":"'Aperçu de la charge'!E41","v":"2019-01-20"},{"$f":"IF('3'!D$26=\"\",\"\",'3'!D$26)","v":0},{"$f":"IF('3'!E$26=\"\",\"\",'3'!E$26)","v":0},{"$f":"IF('3'!F$26=\"\",\"\",'3'!F$26)","v":0},{"$f":"IF('3'!G$26=\"\",\"\",'3'!G$26)","v":0},{"$f":"IF('3'!G$27=\"\",\"\",'3'!G$27)","v":0},null,null,null,null,null,null,null,null,null,null,null,null,null,null,null,null,null,null,null,null,null,null,null,null,null,null,null,null,null,null,null,0,0,0,0,0]
[{"$f":"'Aperçu de la charge'!F42","v":4},{"$f":"'Aperçu de la charge'!C42","v":"2019-01-21"},{"$f":"'Aperçu de la charge'!D42","v":"-"},{"$f":"'Aperçu de la charge'!E42","v":"2019-01-27"},{"$f":"IF('4'!D$26=\"\",\"\",'4'!D$26)","v":0},{"$f":"IF('4'!E$26=\"\",\"\",'4'!E$26)","v":0},{"$f":"IF('4'!F$26=\"\",\"\",'4'!F$26)","v":0},{"$f":"IF('4'!G$26=\"\",\"\",'4'!G$26)","v":0},{"$f":"IF('4'!G$27=\"\",\"\",'4'!G$27)","v":0},null,null,null,null,null,null,null,null,null,null,null,null,null,null,null,null,null,null,null,null,null,null,null,null,null,null,null,null,null,null,null,0,0,0,0,0]
[{"$f":"'Aperçu de la charge'!F43","v":5},{"$f":"'Aperçu de la charge'!C43","v":"2019-01-28"},{"$f":"'Aperçu de la charge'!D43","v":"-"},{"$f":"'Aperçu de la charge'!E43","v":"2019-02-03"},{"$f":"IF('5'!D$26=\"\",\"\",'5'!D$26)","v":0},{"$f":"IF('5'!E$26=\"\",\"\",'5'!E$26)","v":0},{"$f":"IF('5'!F$26=\"\",\"\",'5'!F$26)","v":0},{"$f":"IF('5'!G$26=\"\",\"\",'5'!G$26)","v":0},{"$f":"IF('5'!G$27=\"\",\"\",'5'!G$27)","v":0},null,null,null,null,null,null,null,null,null,null,null,null,null,null,null,null,null,null,null,null,null,null,null,null,null,null,null,null,null,null,null,0,0,0,0,0]
[{"$f":"'Aperçu de la charge'!F44","v":6},{"$f":"'Aperçu de la charge'!C44","v":"2019-02-04"},{"$f":"'Aperçu de la charge'!D44","v":"-"},{"$f":"'Aperçu de la charge'!E44","v":"2019-02-10"},{"$f":"IF('6'!D$26=\"\",\"\",'6'!D$26)","v":0},{"$f":"IF('6'!E$26=\"\",\"\",'6'!E$26)","v":0},{"$f":"IF('6'!F$26=\"\",\"\",'6'!F$26)","v":0},{"$f":"IF('6'!G$26=\"\",\"\",'6'!G$26)","v":0},{"$f":"IF('6'!G$27=\"\",\"\",'6'!G$27)","v":0},null,null,null,null,null,null,null,null,null,null,null,null,null,null,null,null,null,null,null,null,null,null,null,null,null,null,null,null,null,null,null,0,0,0,0,0]
[{"$f":"'Aperçu de la charge'!F45","v":7},{"$f":"'Aperçu de la charge'!C45","v":"2019-02-11"},{"$f":"'Aperçu de la charge'!D45","v":"-"},{"$f":"'Aperçu de la charge'!E45","v":"2019-02-17"},{"$f":"IF('7'!D$26=\"\",\"\",'7'!D$26)","v":0},{"$f":"IF('7'!E$26=\"\",\"\",'7'!E$26)","v":0},{"$f":"IF('7'!F$26=\"\",\"\",'7'!F$26)","v":0},{"$f":"IF('7'!G$26=\"\",\"\",'7'!G$26)","v":0},{"$f":"IF('7'!G$27=\"\",\"\",'7'!G$27)","v":0},null,null,null,null,null,null,null,null,null,null,null,null,null,null,null,null,null,null,null,null,null,null,null,null,null,null,null,null,null,null,null,0,0,0,0,0]
[{"$f":"'Aperçu de la charge'!F46","v":8},{"$f":"'Aperçu de la charge'!C46","v":"2019-02-18"},{"$f":"'Aperçu de la charge'!D46","v":"-"},{"$f":"'Aperçu de la charge'!E46","v":"2019-02-24"},{"$f":"IF('8'!D$26=\"\",\"\",'8'!D$26)","v":0},{"$f":"IF('8'!E$26=\"\",\"\",'8'!E$26)","v":0},{"$f":"IF('8'!F$26=\"\",\"\",'8'!F$26)","v":0},{"$f":"IF('8'!G$26=\"\",\"\",'8'!G$26)","v":0},{"$f":"IF('8'!G$27=\"\",\"\",'8'!G$27)","v":0},null,null,null,null,null,null,null,null,null,null,null,null,null,null,null,null,null,null,null,null,null,null,null,null,null,null,null,null,null,null,null,0,0,0,0,0]
[{"$f":"'Aperçu de la charge'!F47","v":9},{"$f":"'Aperçu de la charge'!C47","v":"2019-02-25"},{"$f":"'Aperçu de la charge'!D47","v":"-"},{"$f":"'Aperçu de la charge'!E47","v":"2019-03-03"},{"$f":"IF('9'!D$26=\"\",\"\",'9'!D$26)","v":0},{"$f":"IF('9'!E$26=\"\",\"\",'9'!E$26)","v":0},{"$f":"IF('9'!F$26=\"\",\"\",'9'!F$26)","v":0},{"$f":"IF('9'!G$26=\"\",\"\",'9'!G$26)","v":0},{"$f":"IF('9'!G$27=\"\",\"\",'9'!G$27)","v":0},null,null,null,null,null,null,null,null,null,null,null,null,null,null,null,null,null,null,null,null,null,null,null,null,null,null,null,null,null,null,null,0,0,0,0,0]
[{"$f":"'Aperçu de la charge'!F48","v":10},{"$f":"'Aperçu de la charge'!C48","v":"2019-03-04"},{"$f":"'Aperçu de la charge'!D48","v":"-"},{"$f":"'Aperçu de la charge'!E48","v":"2019-03-10"},{"$f":"IF('10'!D$26=\"\",\"\",'10'!D$26)","v":0},{"$f":"IF('10'!E$26=\"\",\"\",'10'!E$26)","v":0},{"$f":"IF('10'!F$26=\"\",\"\",'10'!F$26)","v":0},{"$f":"IF('10'!G$26=\"\",\"\",'10'!G$26)","v":0},{"$f":"IF('10'!G$27=\"\",\"\",'10'!G$27)","v":0},null,null,null,null,null,null,null,null,null,null,null,null,null,null,null,null,null,null,null,null,null,null,null,null,null,null,null,null,null,null,null,0,0,0,0,0]
[{"$f":"'Aperçu de la charge'!F49","v":11},{"$f":"'Aperçu de la charge'!C49","v":"2019-03-11"},{"$f":"'Aperçu de la charge'!D49","v":"-"},{"$f":"'Aperçu de la charge'!E49","v":"2019-03-17"},{"$f":"IF('11'!D$26=\"\",\"\",'11'!D$26)","v":0},{"$f":"IF('11'!E$26=\"\",\"\",'11'!E$26)","v":0},{"$f":"IF('11'!F$26=\"\",\"\",'11'!F$26)","v":0},{"$f":"IF('11'!G$26=\"\",\"\",'11'!G$26)","v":0},{"$f":"IF('11'!G$27=\"\",\"\",'11'!G$27)","v":0},null,null,null,null,null,null,null,null,null,null,null,null,null,null,null,null,null,null,null,null,null,null,null,null,null,null,null,null,null,null,null,{"$f":"IF(E39=\"\",#N/A,E39)","v":0},{"$f":"IF(F39=\"\",#N/A,F39)","v":0},{"$f":"IF(G39=\"\",#N/A,G39)","v":0},0,0]
[{"$f":"'Aperçu de la charge'!F50","v":12},{"$f":"'Aperçu de la charge'!C50","v":"2019-03-18"},{"$f":"'Aperçu de la charge'!D50","v":"-"},{"$f":"'Aperçu de la charge'!E50","v":"2019-03-24"},{"$f":"IF('12'!D$26=\"\",\"\",'12'!D$26)","v":0},{"$f":"IF('12'!E$26=\"\",\"\",'12'!E$26)","v":0},{"$f":"IF('12'!F$26=\"\",\"\",'12'!F$26)","v":0},{"$f":"IF('12'!G$26=\"\",\"\",'12'!G$26)","v":0},{"$f":"IF('12'!G$27=\"\",\"\",'12'!G$27)","v":0},null,null,null,null,null,null,null,null,null,null,null,null,null,null,null,null,null,null,null,null,null,null,null,null,null,null,null,null,null,null,null,0,0,0,0,0]
[{"$f":"'Aperçu de la charge'!F51","v":13},{"$f":"'Aperçu de la charge'!C51","v":"2019-03-25"},{"$f":"'Aperçu de la charge'!D51","v":"-"},{"$f":"'Aperçu de la charge'!E51","v":"2019-03-31"},{"$f":"IF('13'!D$26=\"\",\"\",'13'!D$26)","v":0},{"$f":"IF('13'!E$26=\"\",\"\",'13'!E$26)","v":0},{"$f":"IF('13'!F$26=\"\",\"\",'13'!F$26)","v":0},{"$f":"IF('13'!G$26=\"\",\"\",'13'!G$26)","v":0},{"$f":"IF('13'!G$27=\"\",\"\",'13'!G$27)","v":0},null,null,null,null,null,null,null,null,null,null,null,null,null,null,null,null,null,null,null,null,null,null,null,null,null,null,null,null,null,null,null,0,0,0,0,0]
[{"$f":"'Aperçu de la charge'!F52","v":14},{"$f":"'Aperçu de la charge'!C52","v":"2019-04-01"},{"$f":"'Aperçu de la charge'!D52","v":"-"},{"$f":"'Aperçu de la charge'!E52","v":"2019-04-07"},{"$f":"IF('14'!D$26=\"\",\"\",'14'!D$26)","v":0},{"$f":"IF('14'!E$26=\"\",\"\",'14'!E$26)","v":0},{"$f":"IF('14'!F$26=\"\",\"\",'14'!F$26)","v":0},{"$f":"IF('14'!G$26=\"\",\"\",'14'!G$26)","v":0},{"$f":"IF('14'!G$27=\"\",\"\",'14'!G$27)","v":0},null,null,null,null,null,null,null,null,null,null,null,null,null,null,null,null,null,null,null,null,null,null,null,null,null,null,null,null,null,null,null,0,0,0,0,0]
[{"$f":"'Aperçu de la charge'!F53","v":15},{"$f":"'Aperçu de la charge'!C53","v":"2019-04-08"},{"$f":"'Aperçu de la charge'!D53","v":"-"},{"$f":"'Aperçu de la charge'!E53","v":"2019-04-14"},{"$f":"IF('15'!D$26=\"\",\"\",'15'!D$26)","v":0},{"$f":"IF('15'!E$26=\"\",\"\",'15'!E$26)","v":0},{"$f":"IF('15'!F$26=\"\",\"\",'15'!F$26)","v":0},{"$f":"IF('15'!G$26=\"\",\"\",'15'!G$26)","v":0},{"$f":"IF('15'!G$27=\"\",\"\",'15'!G$27)","v":0},null,null,null,null,null,null,null,null,null,null,null,null,null,null,null,null,null,null,null,null,null,null,null,null,null,null,null,null,null,null,null,0,0,0,0,0]
[{"$f":"'Aperçu de la charge'!F54","v":16},{"$f":"'Aperçu de la charge'!C54","v":"2019-04-15"},{"$f":"'Aperçu de la charge'!D54","v":"-"},{"$f":"'Aperçu de la charge'!E54","v":"2019-04-21"},{"$f":"IF('16'!D$26=\"\",\"\",'16'!D$26)","v":0},{"$f":"IF('16'!E$26=\"\",\"\",'16'!E$26)","v":0},{"$f":"IF('16'!F$26=\"\",\"\",'16'!F$26)","v":0},{"$f":"IF('16'!G$26=\"\",\"\",'16'!G$26)","v":0},{"$f":"IF('16'!G$27=\"\",\"\",'16'!G$27)","v":0},null,null,null,null,null,null,null,null,null,null,null,null,null,null,null,null,null,null,null,null,null,null,null,null,null,null,null,null,null,null,null,0,0,0,0,0]
[{"$f":"'Aperçu de la charge'!F55","v":17},{"$f":"'Aperçu de la charge'!C55","v":"2019-04-22"},{"$f":"'Aperçu de la charge'!D55","v":"-"},{"$f":"'Aperçu de la charge'!E55","v":"2019-04-28"},{"$f":"IF('17'!D$26=\"\",\"\",'17'!D$26)","v":0},{"$f":"IF('17'!E$26=\"\",\"\",'17'!E$26)","v":0},{"$f":"IF('17'!F$26=\"\",\"\",'17'!F$26)","v":0},{"$f":"IF('17'!G$26=\"\",\"\",'17'!G$26)","v":0},{"$f":"IF('17'!G$27=\"\",\"\",'17'!G$27)","v":0},null,null,null,null,null,null,null,null,null,null,null,null,null,null,null,null,null,null,null,null,null,null,null,null,null,null,null,null,null,null,null,0,0,0,0,0]
[{"$f":"'Aperçu de la charge'!F56","v":18},{"$f":"'Aperçu de la charge'!C56","v":"2019-04-29"},{"$f":"'Aperçu de la charge'!D56","v":"-"},{"$f":"'Aperçu de la charge'!E56","v":"2019-05-05"},{"$f":"IF('18'!D$26=\"\",\"\",'18'!D$26)","v":0},{"$f":"IF('18'!E$26=\"\",\"\",'18'!E$26)","v":0},{"$f":"IF('18'!F$26=\"\",\"\",'18'!F$26)","v":0},{"$f":"IF('18'!G$26=\"\",\"\",'18'!G$26)","v":0},{"$f":"IF('18'!G$27=\"\",\"\",'18'!G$27)","v":0},null,null,null,null,null,null,null,null,null,null,null,null,null,null,null,null,null,null,null,null,null,null,null,null,null,null,null,null,null,null,null,0,0,0,0,0]
[{"$f":"'Aperçu de la charge'!F57","v":19},{"$f":"'Aperçu de la charge'!C57","v":"2019-05-06"},{"$f":"'Aperçu de la charge'!D57","v":"-"},{"$f":"'Aperçu de la charge'!E57","v":"2019-05-12"},{"$f":"IF('19'!D$26=\"\",\"\",'19'!D$26)","v":0},{"$f":"IF('19'!E$26=\"\",\"\",'19'!E$26)","v":0},{"$f":"IF('19'!F$26=\"\",\"\",'19'!F$26)","v":0},{"$f":"IF('19'!G$26=\"\",\"\",'19'!G$26)","v":0},{"$f":"IF('19'!G$27=\"\",\"\",'19'!G$27)","v":0},null,null,null,null,null,null,null,null,null,null,null,null,null,null,null,null,null,null,null,null,null,null,null,null,null,null,null,null,null,null,null,0,0,0,0,0]
[{"$f":"'Aperçu de la charge'!F58","v":20},{"$f":"'Aperçu de la charge'!C58","v":"2019-05-13"},{"$f":"'Aperçu de la charge'!D58","v":"-"},{"$f":"'Aperçu de la charge'!E58","v":"2019-05-19"},{"$f":"IF('20'!D$26=\"\",\"\",'20'!D$26)","v":0},{"$f":"IF('20'!E$26=\"\",\"\",'20'!E$26)","v":0},{"$f":"IF('20'!F$26=\"\",\"\",'20'!F$26)","v":0},{"$f":"IF('20'!G$26=\"\",\"\",'20'!G$26)","v":0},{"$f":"IF('20'!G$27=\"\",\"\",'20'!G$27)","v":0},null,null,null,null,null,null,null,null,null,null,null,null,null,null,null,null,null,null,null,null,null,null,null,null,null,null,null,null,null,null,null,0,0,0,0,0]
[{"$f":"'Aperçu de la charge'!F59","v":21},{"$f":"'Aperçu de la charge'!C59","v":"2019-05-20"},{"$f":"'Aperçu de la charge'!D59","v":"-"},{"$f":"'Aperçu de la charge'!E59","v":"2019-05-26"},{"$f":"IF('21'!D$26=\"\",\"\",'21'!D$26)","v":0},{"$f":"IF('21'!E$26=\"\",\"\",'21'!E$26)","v":0},{"$f":"IF('21'!F$26=\"\",\"\",'21'!F$26)","v":0},{"$f":"IF('21'!G$26=\"\",\"\",'21'!G$26)","v":0},{"$f":"IF('21'!G$27=\"\",\"\",'21'!G$27)","v":0},null,null,null,null,null,null,null,null,null,null,null,null,null,null,null,null,null,null,null,null,null,null,null,null,null,null,null,null,null,null,null,0,0,0,0,0]
[{"$f":"'Aperçu de la charge'!F60","v":22},{"$f":"'Aperçu de la charge'!C60","v":"2019-05-27"},{"$f":"'Aperçu de la charge'!D60","v":"-"},{"$f":"'Aperçu de la charge'!E60","v":"2019-06-02"},{"$f":"IF('22'!D$26=\"\",\"\",'22'!D$26)","v":0},{"$f":"IF('22'!E$26=\"\",\"\",'22'!E$26)","v":0},{"$f":"IF('22'!F$26=\"\",\"\",'22'!F$26)","v":0},{"$f":"IF('22'!G$26=\"\",\"\",'22'!G$26)","v":0},{"$f":"IF('22'!G$27=\"\",\"\",'22'!G$27)","v":0},null,null,null,null,null,null,null,null,null,null,null,null,null,null,null,null,null,null,null,null,null,null,null,null,null,null,null,null,null,null,null,0,0,0,0,0]
[{"$f":"'Aperçu de la charge'!F61","v":23},{"$f":"'Aperçu de la charge'!C61","v":"2019-06-03"},{"$f":"'Aperçu de la charge'!D61","v":"-"},{"$f":"'Aperçu de la charge'!E61","v":"2019-06-09"},{"$f":"IF('23'!D$26=\"\",\"\",'23'!D$26)","v":0},{"$f":"IF('23'!E$26=\"\",\"\",'23'!E$26)","v":0},{"$f":"IF('23'!F$26=\"\",\"\",'23'!F$26)","v":0},{"$f":"IF('23'!G$26=\"\",\"\",'23'!G$26)","v":0},{"$f":"IF('23'!G$27=\"\",\"\",'23'!G$27)","v":0},null,null,null,null,null,null,null,null,null,null,null,null,null,null,null,null,null,null,null,null,null,null,null,null,null,null,null,null,null,null,null,0,0,0,0,0]
[{"$f":"'Aperçu de la charge'!F62","v":24},{"$f":"'Aperçu de la charge'!C62","v":"2019-06-10"},{"$f":"'Aperçu de la charge'!D62","v":"-"},{"$f":"'Aperçu de la charge'!E62","v":"2019-06-16"},{"$f":"IF('24'!D$26=\"\",\"\",'24'!D$26)","v":0},{"$f":"IF('24'!E$26=\"\",\"\",'24'!E$26)","v":0},{"$f":"IF('24'!F$26=\"\",\"\",'24'!F$26)","v":0},{"$f":"IF('24'!G$26=\"\",\"\",'24'!G$26)","v":0},{"$f":"IF('24'!G$27=\"\",\"\",'24'!G$27)","v":0},null,null,null,null,null,null,null,null,null,null,null,null,null,null,null,null,null,null,null,null,null,null,null,null,null,null,null,null,null,null,null,0,0,0,0,0]
[{"$f":"'Aperçu de la charge'!F63","v":25},{"$f":"'Aperçu de la charge'!C63","v":"2019-06-17"},{"$f":"'Aperçu de la charge'!D63","v":"-"},{"$f":"'Aperçu de la charge'!E63","v":"2019-06-23"},{"$f":"IF('25'!D$26=\"\",\"\",'25'!D$26)","v":0},{"$f":"IF('25'!E$26=\"\",\"\",'25'!E$26)","v":0},{"$f":"IF('25'!F$26=\"\",\"\",'25'!F$26)","v":0},{"$f":"IF('25'!G$26=\"\",\"\",'25'!G$26)","v":0},{"$f":"IF('25'!G$27=\"\",\"\",'25'!G$27)","v":0},null,null,null,null,null,null,null,null,null,null,null,null,null,null,null,null,null,null,null,null,null,null,null,null,null,null,null,null,null,null,null,0,0,0,0,0]
[{"$f":"'Aperçu de la charge'!F64","v":26},{"$f":"'Aperçu de la charge'!C64","v":"2019-06-24"},{"$f":"'Aperçu de la charge'!D64","v":"-"},{"$f":"'Aperçu de la charge'!E64","v":"2019-06-30"},{"$f":"IF('26'!D$26=\"\",\"\",'26'!D$26)","v":0},{"$f":"IF('26'!E$26=\"\",\"\",'26'!E$26)","v":0},{"$f":"IF('26'!F$26=\"\",\"\",'26'!F$26)","v":0},{"$f":"IF('26'!G$26=\"\",\"\",'26'!G$26)","v":0},{"$f":"IF('26'!G$27=\"\",\"\",'26'!G$27)","v":0},null,null,null,null,null,null,null,null,null,null,null,null,null,null,null,null,null,null,null,null,null,null,null,null,null,null,null,null,null,null,null,0,0,0,0,0]
[{"$f":"'Aperçu de la charge'!F65","v":27},{"$f":"'Aperçu de la charge'!C65","v":"2019-07-01"},{"$f":"'Aperçu de la charge'!D65","v":"-"},{"$f":"'Aperçu de la charge'!E65","v":"2019-07-07"},{"$f":"IF('27'!D$26=\"\",\"\",'27'!D$26)","v":0},{"$f":"IF('27'!E$26=\"\",\"\",'27'!E$26)","v":0},{"$f":"IF('27'!F$26=\"\",\"\",'27'!F$26)","v":0},{"$f":"IF('27'!G$26=\"\",\"\",'27'!G$26)","v":0},{"$f":"IF('27'!G$27=\"\",\"\",'27'!G$27)","v":0},null,null,null,null,null,null,null,null,null,null,null,null,null,null,null,null,null,null,null,null,null,null,null,null,null,null,null,null,null,null,null,0,0,0,0,0]
[{"$f":"'Aperçu de la charge'!F66","v":28},{"$f":"'Aperçu de la charge'!C66","v":"2019-07-08"},{"$f":"'Aperçu de la charge'!D66","v":"-"},{"$f":"'Aperçu de la charge'!E66","v":"2019-07-14"},{"$f":"IF('28'!D$26=\"\",\"\",'28'!D$26)","v":0},{"$f":"IF('28'!E$26=\"\",\"\",'28'!E$26)","v":0},{"$f":"IF('28'!F$26=\"\",\"\",'28'!F$26)","v":0},{"$f":"IF('28'!G$26=\"\",\"\",'28'!G$26)","v":0},{"$f":"IF('28'!G$27=\"\",\"\",'28'!G$27)","v":0},null,null,null,null,null,null,null,null,null,null,null,null,null,null,null,null,null,null,null,null,null,null,null,null,null,null,null,null,null,null,null,0,0,0,0,0]
[{"$f":"'Aperçu de la charge'!F67","v":29},{"$f":"'Aperçu de la charge'!C67","v":"2019-07-15"},{"$f":"'Aperçu de la charge'!D67","v":"-"},{"$f":"'Aperçu de la charge'!E67","v":"2019-07-21"},{"$f":"IF('29'!D$26=\"\",\"\",'29'!D$26)","v":0},{"$f":"IF('29'!E$26=\"\",\"\",'29'!E$26)","v":0},{"$f":"IF('29'!F$26=\"\",\"\",'29'!F$26)","v":0},{"$f":"IF('29'!G$26=\"\",\"\",'29'!G$26)","v":0},{"$f":"IF('29'!G$27=\"\",\"\",'29'!G$27)","v":0},null,null,null,null,null,null,null,null,null,null,null,null,null,null,null,null,null,null,null,null,null,null,null,null,null,null,null,null,null,null,null,0,0,0,0,0]
[{"$f":"'Aperçu de la charge'!F68","v":30},{"$f":"'Aperçu de la charge'!C68","v":"2019-07-22"},{"$f":"'Aperçu de la charge'!D68","v":"-"},{"$f":"'Aperçu de la charge'!E68","v":"2019-07-28"},{"$f":"IF('30'!D$26=\"\",\"\",'30'!D$26)","v":0},{"$f":"IF('30'!E$26=\"\",\"\",'30'!E$26)","v":0},{"$f":"IF('30'!F$26=\"\",\"\",'30'!F$26)","v":0},{"$f":"IF('30'!G$26=\"\",\"\",'30'!G$26)","v":0},{"$f":"IF('30'!G$27=\"\",\"\",'30'!G$27)","v":0},null,null,null,null,null,null,null,null,null,null,null,null,null,null,null,null,null,null,null,null,null,null,null,null,null,null,null,null,null,null,null,0,0,0,0,0]

{"sheet":"Rapport de santé","index":5,"n_rows":75,"n_cols":55,"rows_kept":75,"cut":false,"hidden":false,"merged":[[0,0,0,11],[2,2,2,3],[8,1,8,2],[8,4,8,5],[5,4,5,5],[8,7,8,8],[5,1,5,2]]}
["Rapport de santé"]
[null,null,null,"Gewicht-Motiv-Schlaf"]
[null,"Athlète :",{"$f":"'Aperçu de la charge'!D2","v":"Prénom Nom"},null,"Année :",{"$f":"'Aperçu de la charge'!N2","v":"2018/2019"}]
[]
[]
[null,"Jours d'entrainement",null,null,"Jours d'entrainements sans limitation"]
[null,{"$f":"BC62","v":0},"Nombre",null,{"$f":"BC62","v":0},"Nombre",null,null,null,null,null,"Anzahl Tage"]
[]
[null,"Jours d'entrainement limités",null,null,"Jours sans entrainement - blessure",null,null,"Jours sans entrainements - maladie",null,null,{"$f":"E6","v":"Jours d'entrainements sans limitation"},{"$f":"E7","v":0}]
[null,{"$f":"SUM(B11:B16)","v":0},"Nombre",null,{"$f":"SUM(E11:E16)","v":0},"Nombre",null,{"$f":"BC75","v":0},"Nombre",null,{"$f":"B9","v":"Jours d'entrainement limités"},{"$f":"SUM(B11:B16)","v":0}]
[null,{"$f":"BC63","v":0},"Doigt",{"$f":"B11/$E$7","v":{"$error":"#DIV/0!"}},{"$f":"BC69","v":0},"Doigt",{"$f":"E11/$E$7","v":{"$error":"#DIV/0!"}},null,null,null,{"$f":"E9","v":"Jours sans entrainement - blessure"},{"$f":"SUM(E11:E16)","v":0}]
[null,0,"Épaule",{"$error":"#DIV/0!"},0,"Épaule",{"$error":"#DIV/0!"},null,null,null,{"$f":"H9","v":"Jours sans entrainements - maladie"},{"$f":"H10","v":0}]
[null,0,"Dos",{"$error":"#DIV/0!"},0,"Dos",{"$error":"#DIV/0!"},null,null,null,{"$f":"#REF!","v":{"$error":"#REF!"}},{"$f":"SUM(#REF!)","v":{"$error":"#REF!"}}]
[null,0,"Genou",{"$error":"#DIV/0!"},0,"Genou",{"$error":"#DIV/0!"},null,null,null,{"$f":"#REF!","v":{"$error":"#REF!"}},{"$f":"#REF!","v":{"$error":"#REF!"}}]
[null,0,"Cheville",{"$error":"#DIV/0!"},0,"Cheville",{"$error":"#DIV/0!"}]
[null,0,"Autre",{"$error":"#DIV/0!"},0,"Autre",{"$error":"#DIV/0!"}]
[]
["Anamnèse"]
[]
[null,"Début (Début de l'absence)","Fin (reprise des entrainements, 100% en forme)","Provoqué par ….","Quelle partie du corps était concernée?","As-tu été traité?","Was war die Diagnose?","Wieviele Trainings versäumt?","Wieviele Trainings eingeschränkt trainiert?"]
[1]
[2]
[3]
[4]
[5]
[6]
[7]
[8]
[9]
[10]
[]
["Absence/ Limitation pour cause de maladie"]
[]
[null,"Début (Début de l'absence)","Fin (reprise des entrainements, 100% en forme)","As-tu été traité?","Quel était le diagnostic?","étais-tu particulièrement stressé durant cette période?","combien d'entrainements as-tu manqué?","Lors de combien d'entrainements étais-tu limité?"]
[1]
[2]
[3]
[4]
[5]
[]
["Absence/ Limitation pour cause d'accident"]
[]
[null,"Début (Début de l'absence)","Durant quelle période ça a eu lieu?","À quel moment a eu lieu l'accident?","Comment est arrivé l'accident?","Où a eu lieu l'accident?","Quelle partie du corps a été principalement touchée?","Avais-tu déjà une blessure à cet endroit?","Où as-tu été traité?","Quel était le diagnostic?","combien d'entrainements as-tu manqué?","Lors de combien d'entrainements étais-tu limité?"]
[1]
[2]
[3]
[4]
[5]
[]
["Absence/ Limitation pour cause de douleurs"]
[]
[null,"Début (Début de l'absence)","Quand ont commencé les douleurs?","À quel moment sont survenus les douleurs?","Quelle partie du corps a été principalement touchée?","Avais-tu déjà une blessure à cet endroit?","Où as-tu été traité?","Quel était le diagnostic?","combien d'entrainements as-tu manqué?","Lors de combien d'entrainements étais-tu limité?"]
[1]
[2]
[3]
[4]
[5]
[]
[]
[]
[null,null,1,2,3,4,5,6,7,8,9,10,11,12,13,14,15,16,17,18,19,20,21,22,23,24,25,26,27,28,29,30,31,32,33,34,35,36,37,38,39,40,41,42,43,44,45,46,47,48,49,50,51,52,"Summe"]
[null,34,{"$f":"INDIRECT(CONCATENATE(\"'\",C$61,\"'!AM\",$B62))","v":""},{"$f":"INDIRECT(CONCATENATE(\"'\",D$61,\"'!AM\",$B62))","v":""},"","","","","","","","","","","","","","","",{"$f":"INDIRECT(CONCATENATE(\"'\",T$61,\"'!AM\",$B62))","v":""},"","","","","","","","","","","","","","","",{"$f":"INDIRECT(CONCATENATE(\"'\",AJ$61,\"'!AM\",$B62))","v":""},"","","","","","","","","","","","","","","",{"$f":"INDIRECT(CONCATENATE(\"'\",AZ$61,\"'!AM\",$B62))","v":""},"","",{"$f":"SUM(C62:BB62)","v":0}]
[null,37,{"$f":"INDIRECT(CONCATENATE(\"'\",C$61,\"'!AM\",$B63))","v":0},0,0,0,0,0,0,0,0,0,0,0,0,0,0,0,0,0,0,0,0,0,0,0,0,0,0,0,0,0,0,0,0,0,0,0,0,0,0,0,0,0,0,0,0,0,0,0,0,0,0,0,0]
[null,38,0,0,0,0,0,0,0,0,0,0,0,0,0,0,0,0,0,0,0,0,0,0,0,0,0,0,0,0,0,0,0,0,0,0,0,0,0,0,0,0,0,0,0,0,0,0,0,0,0,0,0,0,0]
[null,39,0,0,0,0,0,0,0,0,0,0,0,0,0,0,0,0,0,0,0,0,0,0,0,0,0,0,0,0,0,0,0,0,0,0,0,0,0,0,0,0,0,0,0,0,0,0,0,0,0,0,0,0,0]
[null,40,0,0,0,0,0,0,0,0,0,0,0,0,0,0,0,0,0,0,0,0,0,0,0,0,0,0,0,0,0,0,0,0,0,0,0,0,0,0,0,0,0,0,0,0,0,0,0,0,0,0,0,0,0]
[null,41,0,0,0,0,0,0,0,0,0,0,0,0,0,0,0,0,0,0,0,0,0,0,0,0,0,0,0,0,0,0,0,0,0,0,0,0,0,0,0,0,0,0,0,0,0,0,0,0,0,0,0,0,0]
[null,42,0,0,0,0,0,0,0,0,0,0,0,0,0,0,0,0,0,0,0,0,0,0,0,0,0,0,0,0,0,0,0,0,0,0,0,0,0,0,0,0,0,0,0,0,0,0,0,0,0,0,0,0,0]
[null,45,0,0,0,0,0,0,0,0,0,0,0,0,0,0,0,0,0,0,0,0,0,0,0,0,0,0,0,0,0,0,0,0,0,0,0,0,0,0,0,0,0,0,0,0,0,0,0,0,0,0,0,0,0]
[null,46,0,0,0,0,0,0,0,0,0,0,0,0,0,0,0,0,0,0,0,0,0,0,0,0,0,0,0,0,0,0,0,0,0,0,0,0,0,0,0,0,0,0,0,0,0,0,0,0,0,0,0,0,0]
[null,47,0,0,0,0,0,0,0,0,0,0,0,0,0,0,0,0,0,0,0,0,0,0,0,0,0,0,0,0,0,0,0,0,0,0,0,0,0,0,0,0,0,0,0,0,0,0,0,0,0,0,0,0,0]
[null,48,0,0,0,0,0,0,0,0,0,0,0,0,0,0,0,0,0,0,0,0,0,0,0,0,0,0,0,0,0,0,0,0,0,0,0,0,0,0,0,0,0,0,0,0,0,0,0,0,0,0,0,0,0]
[null,49,0,0,0,0,0,0,0,0,0,0,0,0,0,0,0,0,0,0,0,0,0,0,0,0,0,0,0,0,0,0,0,0,0,0,0,0,0,0,0,0,0,0,0,0,0,0,0,0,0,0,0,0,0]
[null,50,0,0,0,0,0,0,0,0,0,0,0,0,0,0,0,0,0,0,0,0,0,0,0,0,0,0,0,0,0,0,0,0,0,0,0,0,0,0,0,0,0,0,0,0,0,0,0,0,0,0,0,0,0]
[null,53,0,0,0,0,0,0,0,0,0,0,0,0,0,0,0,0,0,0,0,0,0,0,0,0,0,0,0,0,0,0,0,0,0,0,0,0,0,0,0,0,0,0,0,0,0,0,0,0,0,0,0,0,0]

{"sheet":"Phases de la saison","index":6,"n_rows":11,"n_cols":7,"rows_kept":11,"cut":false,"hidden":false,"merged":[]}
["Sorte d'absence","Partie du corps","Traitement","Phase de la saison","Phase d'activité","Déroulement de l'accident","Lieu de l'accident"]
["accident?","Doigt","Urgences","Entrainements individuels","Entrainement - échauffement","Collision avec un joueur","Volleyball - au filet"]
["maladie?","Épaule","Médecin","Un match","Entrainement - début","Pénétration sous le filet","Volleyball - sur le terrain"]
["Douleurs sans accident?","Dos","Physio directement (sans médecin)","Tournoi - début","Entrainement - milieu","Sans influence externe","Beachvolleyball - au filet"]
[null,"Genou","Traité soi-même","Tournoi - milieu","Entrainement - fin","À cause du ballon","Beachvolleyball - sur le terrain"]
[null,"Cheville","Pas de traitement","Tournoi - fin","Match - échauffement","À cause du sol (mouillé, etc.)","Pas sur le terrain"]
[null,"Autre?",null,"Camp - début","Match - début","À cause d'un objet"]
[null,null,null,"Camp - milieu","Match - milieu","À cause des poids au fitness"]
[null,null,null,"Camp - fin","Match - fin","Autre"]
[null,null,null,"Privé","Trajet à/de l'entrainement"]
[null,null,null,"Autre","Autre"]

{"sheet":"31","index":7,"n_rows":53,"n_cols":45,"rows_kept":53,"cut":false,"hidden":false,"merged":[[0,5,0,6],[30,34,30,36],[38,34,38,36],[47,34,47,36],[28,9,29,9],[46,9,47,9],[21,5,23,5],[18,3,20,3],[18,6,20,6],[18,9,18,10],[28,10,29,10],[15,7,17,7],[12,9,12,10],[13,9,13,10],[15,9,15,10],[16,9,16,10],[15,36,17,36],[17,9,17,10],[9,5,11,5],[12,5,14,5],[3,7,5,7],[6,7,8,7],[3,5,5,5],[6,5,8,5],[3,1,5,1],[3,3,5,3],[3,4,5,4],[6,4,8,4],[4,9,4,10],[5,9,5,10],[7,9,7,10],[6,3,8,3],[6,6,8,6],[3,6,5,6],[3,9,3,10],[6,1,8,1],[1,1,2,1],[1,36,2,36],[1,34,2,34],[1,21,1,23],[1,9,2,10],[1,18,1,20],[1,30,1,32],[1,27,1,29],[1,24,1,26],[1,12,1,14],[1,15,1,17],[6,9,6,10],[12,7,14,7],[1,44,2,44],[1,38,2,38],[18,36,20,36],[21,36,23,36],[1,39,2,39],[1,43,2,43],[6,36,8,36],[3,36,5,36],[9,36,11,36],[12,36,14,36],[1,40,2,40],[1,41,2,41],[9,9,9,10],[10,9,10,10],[9,7,11,7],[8,9,8,10],[11,9,11,10],[21,9,21,10],[23,9,23,10],[21,7,23,7],[30,38,31,43],[36,9,37,9],[12,4,14,4],[18,1,20,1],[27,3,27,6],[28,3,28,6],[29,3,29,6],[30,3,30,6],[31,3,31,6],[32,3,32,6],[33,3,33,6],[19,9,19,10],[20,9,20,10],[18,7,20,7],[18,4,20,4],[18,5,20,5],[21,4,23,4],[22,9,22,10],[36,3,36,6],[37,3,37,6],[29,21,29,26],[21,1,23,1],[21,3,23,3],[21,6,23,6],[14,9,14,10],[15,1,17,1],[15,3,17,3],[9,1,11,1],[9,3,11,3],[9,6,11,6],[44,34,44,36],[34,3,34,6],[35,3,35,6],[38,3,38,6],[9,4,11,4],[15,6,17,6],[15,4,17,4],[15,5,17,5],[12,1,14,1],[12,3,14,3],[12,6,14,6]]}
[null,null,"Sem",{"$f":"INT(MOD(INT((F1-2)/7)+0.6,52+5/28))+1","v":31},{"$f":"D1+1000","v":1031},{"$f":"'Aperçu de la charge'!C17","v":"2018-07-30"},null,"-",null,{"$f":"F1+6","v":"2018-08-05"},null,null,null,null,null,null,null,null,null,null,null,null,null,null,null,null,null,null,null,null,null,null,{"$f":"'Aperçu de la charge'!D2","v":"Prénom Nom"},null,{"$f":"'Aperçu de la charge'!N2","v":"2018/2019"}]
[null,"Jour",null,"Poids","REG","qualité sommeil","durée sommeil","Santé",null,"Description de l'entrainement",null,null,"Club - VB",null,null,"TS/ Nati - VB",null,null,"Club - BVB",null,null,"TS/ Nati - BVB",null,null,"Force - fitness",null,null,"Compet. - VB",null,null,"Compet. - BVB",null,null,null,"Réflexion",null,"Charge/\njour",null,"matchs VB","Sets VB","Matchs BVB","Sets BVB","J","Autre\n (Rég, mentale)","Mental- oder Sonstiges Training"]
[null,null,null,"[kg]","[1 - 5]","[1-5]","[Std]","Nr.",null,null,null,null,"Durée","RPE","Charge","Durée","RPE","Charge","Durée","RPE","Charge","Durée","RPE","Charge","Durée","RPE","Charge","Durée","RPE","Charge","Durée","RPE","Charge",null,null,null,null,null,null,null,null,null,"[1-5]"]
[null,"Lu",null,0,0,0,0,0,null,null,null,null,null,null,{"$f":"M4*N4","v":0},null,null,{"$f":"P4*Q4","v":0},null,null,{"$f":"S4*T4","v":0},null,null,{"$f":"V4*W4","v":0},null,null,{"$f":"Y4*Z4","v":0},null,null,{"$f":"AB4*AC4","v":0},null,null,{"$f":"AE4*AF4","v":0},{"$f":"IF(SUM(M4:AG6)>0,1,0)","v":"00:00:00"},null,null,{"$f":"SUM(O4:O6,R4:R6,U4:U6,X4:X6,AA4:AA6,AD4:AD6,AG4:AG6)","v":0}]
[null,null,null,null,null,null,null,null,null,null,null,null,null,null,{"$f":"M5*N5","v":0},null,null,{"$f":"P5*Q5","v":0},null,null,{"$f":"S5*T5","v":0},null,null,{"$f":"V5*W5","v":0},null,null,{"$f":"Y5*Z5","v":0},null,null,{"$f":"AB5*AC5","v":0},null,null,{"$f":"AE5*AF5","v":0}]
[null,null,null,null,null,null,null,null,null,null,null,null,null,null,0,null,null,0,null,null,0,null,null,0,null,null,0,null,null,0,null,null,0]
[null,"Ma",null,0,0,0,0,0,null,null,null,null,null,null,0,null,null,{"$f":"P7*Q7","v":0},null,null,0,null,null,0,null,null,0,null,null,0,null,null,0,{"$f":"IF(SUM(M7:AG9)>0,1,0)","v":"00:00:00"},null,null,{"$f":"SUM(O7:O9,R7:R9,U7:U9,X7:X9,AA7:AA9,AD7:AD9,AG7:AG9)","v":0}]
[null,null,null,null,null,null,null,null,null,null,null,null,null,null,0,null,null,0,null,null,0,null,null,0,null,null,0,null,null,0,null,null,0]
[null,null,null,null,null,null,null,null,null,null,null,null,null,null,0,null,null,0,null,null,0,null,null,0,null,null,0,null,null,0,null,null,0]
[null,"Me",null,0,0,0,0,0,null,null,null,null,null,null,0,null,null,{"$f":"P10*Q10","v":0},null,null,0,null,null,0,null,null,0,null,null,0,null,null,0,{"$f":"IF(SUM(M10:AG12)>0,1,0)","v":"00:00:00"},null,null,{"$f":"SUM(O10:O12,R10:R12,U10:U12,X10:X12,AA10:AA12,AD10:AD12,AG10:AG12)","v":0}]
[null,null,null,null,null,null,null,null,null,null,null,null,null,null,0,null,null,0,null,null,0,null,null,0,null,null,0,null,null,0,null,null,0]
[null,null,null,null,null,null,null,null,null,null,null,null,null,null,0,null,null,0,null,null,0,null,null,0,null,null,0,null,null,0,null,null,0]
[null,"Je",null,0,0,0,0,0,null,null,null,null,null,null,0,null,null,{"$f":"P13*Q13","v":0},null,null,0,null,null,0,null,null,0,null,null,0,null,null,0,{"$f":"IF(SUM(M13:AG15)>0,1,0)","v":"00:00:00"},null,null,{"$f":"SUM(O13:O15,R13:R15,U13:U15,X13:X15,AA13:AA15,AD13:AD15,AG13:AG15)","v":0}]
[null,null,null,null,null,null,null,null,null,null,null,null,null,null,0,null,null,0,null,null,0,null,null,0,null,null,0,null,null,0,null,null,0]
[null,null,null,null,null,null,null,null,null,null,null,null,null,null,0,null,null,0,null,null,0,null,null,0,null,null,0,null,null,0,null,null,0]
[null,"Ve",null,0,0,0,0,0,null,null,null,null,null,null,0,null,null,{"$f":"P16*Q16","v":0},null,null,0,null,null,0,null,null,0,null,null,0,null,null,0,{"$f":"IF(SUM(M16:AG18)>0,1,0)","v":"00:00:00"},null,null,{"$f":"SUM(O16:O18,R16:R18,U16:U18,X16:X18,AA16:AA18,AD16:AD18,AG16:AG18)","v":0}]
[null,null,null,null,null,null,null,null,null,null,null,null,null,null,0,null,null,0,null,null,0,null,null,0,null,null,0,null,null,0,null,null,0]
[null,null,null,null,null,null,null,null,null,null,null,null,null,null,0,null,null,0,null,null,0,null,null,0,null,null,0,null,null,0,null,null,0]
[null,"Sa",null,0,0,0,0,0,null,null,null,null,null,null,{"$f":"M19*N19","v":0},null,null,{"$f":"P19*Q19","v":0},null,null,{"$f":"S19*T19","v":0},null,null,{"$f":"V19*W19","v":0},null,null,{"$f":"Y19*Z19","v":0},null,null,{"$f":"AB19*AC19","v":0},null,null,{"$f":"AE19*AF19","v":0},{"$f":"IF(SUM(M19:AG21)>0,1,0)","v":"00:00:00"},null,null,{"$f":"SUM(O19:O21,R19:R21,U19:U21,X19:X21,AA19:AA21,AD19:AD21,AG19:AG21)","v":0}]
[null,null,null,null,null,null,null,null,null,null,null,null,null,null,{"$f":"M20*N20","v":0},null,null,0,null,null,{"$f":"S20*T20","v":0},null,null,{"$f":"V20*W20","v":0},null,null,{"$f":"Y20*Z20","v":0},null,null,{"$f":"AB20*AC20","v":0},null,null,{"$f":"AE20*AF20","v":0}]
[null,null,null,null,null,null,null,null,null,null,null,null,null,null,0,null,null,0,null,null,0,null,null,0,null,null,0,null,null,0,null,null,0]
[null,"Di",null,0,0,0,0,0,null,null,null,null,null,null,0,null,null,{"$f":"P22*Q22","v":0},null,null,0,null,null,0,null,null,0,null,null,0,null,null,0,{"$f":"IF(SUM(M22:AG24)>0,1,0)","v":"00:00:00"},null,null,{"$f":"SUM(O22:O24,R22:R24,U22:U24,X22:X24,AA22:AA24,AD22:AD24,AG22:AG24)","v":0}]
[null,null,null,null,null,null,null,null,null,null,null,null,null,null,0,null,null,0,null,null,0,null,null,0,null,null,0,null,null,0,null,null,0]
[null,null,null,null,null,null,null,null,null,null,null,null,null,null,0,null,null,0,null,null,0,null,null,0,null,null,0,null,null,0,null,null,0]
[null,null,null,null,null,null,null,null,null,null,"Total",null,{"$f":"SUM(M4:M24)","v":0},null,{"$f":"SUM(O4:O24)","v":0},{"$f":"SUM(P4:P24)","v":0},null,{"$f":"SUM(R4:R24)","v":0},{"$f":"SUM(S4:S24)","v":0},null,{"$f":"SUM(U4:U24)","v":0},{"$f":"SUM(V4:V24)","v":0},null,{"$f":"SUM(X4:X24)","v":0},{"$f":"SUM(Y4:Y24)","v":0},null,{"$f":"SUM(AA4:AA24)","v":0},{"$f":"SUM(AB4:AB24)","v":0},null,{"$f":"SUM(AD4:AD24)","v":0},{"$f":"SUM(AE4:AE24)","v":0},null,{"$f":"SUM(AG4:AG24)","v":0},null,"Charge totale",null,{"$f":"SUM(AK4:AK24)","v":0}]
[null,"avg.",null,{"$f":"IF(COUNTA(D4:D24)=0,\"\",AVERAGE(D4:D24))","v":0},{"$f":"IF(COUNTA(E4:E24)=0,\"\",AVERAGE(E4:E24))","v":0},{"$f":"IF(COUNTA(F4:F24)=0,\"\",AVERAGE(F4:F24))","v":0},{"$f":"IF(COUNTA(G4:G24)=0,\"\",AVERAGE(G4:G24))","v":0},{"$f":"IF(COUNTA(H4:H24)=0,\"\",COUNTIF(H4:H24,\"x\"))","v":0},null,null,"Zone",null,1,2,3,1,2,3,1,2,3,1,2,3,1,2,3,1,2,3,1,2,3,null,"Moyenne",null,{"$f":"AVERAGE(AK4:AK24)","v":0}]
[null,null,null,null,null,{"$f":"IF(COUNTA(F4:F24)=0,\"\",VAR(F4:F24))","v":0},{"$f":"IF(COUNTA(G4:G24)=0,\"\",STDEV(G4:G24))","v":0},"Divergence - durée du sommeil",null,null,"Unité par zone (RPE) ",null,{"$f":"IF('Répartition des intensités'!$AR$25=\"x\",COUNTIF(N4:N24,\"<3,5\"),COUNTIF(N4:N24,\"<4,5\"))","v":0},{"$f":"COUNT(N4:N24)-(M27+O27)","v":0},{"$f":"IF('Répartition des intensités'!$AR$25=\"x\",COUNTIF(N4:N24,\">5,5\"),COUNTIF(N4:N24,\">6,5\"))","v":0},{"$f":"IF('Répartition des intensités'!$AR$25=\"x\",COUNTIF(Q4:Q24,\"<3,5\"),COUNTIF(Q4:Q24,\"<4,5\"))","v":0},{"$f":"COUNT(Q4:Q24)-(P27+R27)","v":0},{"$f":"IF('Répartition des intensités'!$AR$25=\"x\",COUNTIF(Q4:Q24,\">5,5\"),COUNTIF(Q4:Q24,\">6,5\"))","v":0},{"$f":"IF('Répartition des intensités'!$AR$25=\"x\",COUNTIF(T4:T24,\"<3,5\"),COUNTIF(T4:T24,\"<4,5\"))","v":0},{"$f":"COUNT(T4:T24)-(S27+U27)","v":0},{"$f":"IF('Répartition des intensités'!$AR$25=\"x\",COUNTIF(T4:T24,\">5,5\"),COUNTIF(T4:T24,\">6,5\"))","v":0},{"$f":"IF('Répartition des intensités'!$AR$25=\"x\",COUNTIF(W4:W24,\"<3,5\"),COUNTIF(W4:W24,\"<4,5\"))","v":0},{"$f":"COUNT(W4:W24)-(V27+X27)","v":0},{"$f":"IF('Répartition des intensités'!$AR$25=\"x\",COUNTIF(W4:W24,\">5,5\"),COUNTIF(W4:W24,\">6,5\"))","v":0},{"$f":"IF('Répartition des intensités'!$AR$25=\"x\",COUNTIF(Z4:Z24,\"<3,5\"),COUNTIF(Z4:Z24,\"<4,5\"))","v":0},{"$f":"COUNT(Z4:Z24)-(Y27+AA27)","v":0},{"$f":"IF('Répartition des intensités'!$AR$25=\"x\",COUNTIF(Z4:Z24,\">5,5\"),COUNTIF(Z4:Z24,\">6,5\"))","v":0},{"$f":"IF('Répartition des intensités'!$AR$25=\"x\",COUNTIF(AC4:AC24,\"<3,5\"),COUNTIF(AC4:AC24,\"<4,5\"))","v":0},{"$f":"COUNT(AC4:AC24)-(AB27+AD27)","v":0},{"$f":"IF('Répartition des intensités'!$AR$25=\"x\",COUNTIF(AC4:AC24,\">5,5\"),COUNTIF(AC4:AC24,\">6,5\"))","v":0},{"$f":"IF('Répartition des intensités'!$AR$25=\"x\",COUNTIF(AF4:AF24,\"<3,5\"),COUNTIF(AF4:AF24,\"<4,5\"))","v":0},{"$f":"COUNT(AF4:AF24)-(AE27+AG27)","v":0},{"$f":"IF('Répartition des intensités'!$AR$25=\"x\",COUNTIF(AF4:AF24,\">5,5\"),COUNTIF(AF4:AF24,\">6,5\"))","v":0},null,"Divergence",null,{"$f":"STDEVP(AK4:AK24)","v":0}]
[null,null,null,"échelle de Foster",null,null,null,"RPE",null,null,"Temps par zone (RPE)",null,{"$f":"IF('Répartition des intensités'!$AR$25=\"x\",SUMIF(N4:N24,\"<3,5\",M4:M24),SUMIF(N4:N24,\"<4,5\",M4:M24))","v":0},{"$f":"IF(N27=0,0,SUM((M25)-(M28+O28)))","v":0},{"$f":"IF('Répartition des intensités'!$AR$25=\"x\",SUMIF(N4:N24,\">5,5\",M4:M24),SUMIF(N4:N24,\">6,5\",M4:M24))","v":0},{"$f":"IF('Répartition des intensités'!$AR$25=\"x\",SUMIF(Q4:Q24,\"<3,5\",P4:P24),SUMIF(Q4:Q24,\"<4,5\",P4:P24))","v":0},{"$f":"IF(Q27=0,0,SUM((P25)-(P28+R28)))","v":0},{"$f":"IF('Répartition des intensités'!$AR$25=\"x\",SUMIF(Q4:Q24,\">5,5\",P4:P24),SUMIF(Q4:Q24,\">6,5\",P4:P24))","v":0},{"$f":"IF('Répartition des intensités'!$AR$25=\"x\",SUMIF(T4:T24,\"<3,5\",S4:S24),SUMIF(T4:T24,\"<4,5\",S4:S24))","v":0},{"$f":"IF(T27=0,0,SUM((S25)-(S28+U28)))","v":0},{"$f":"IF('Répartition des intensités'!$AR$25=\"x\",SUMIF(T4:T24,\">5,5\",S4:S24),SUMIF(T4:T24,\">6,5\",S4:S24))","v":0},{"$f":"IF('Répartition des intensités'!$AR$25=\"x\",SUMIF(W4:W24,\"<3,5\",V4:V24),SUMIF(W4:W24,\"<4,5\",V4:V24))","v":0},{"$f":"IF(W27=0,0,SUM((V25)-(V28+X28)))","v":0},{"$f":"IF('Répartition des intensités'!$AR$25=\"x\",SUMIF(W4:W24,\">5,5\",V4:V24),SUMIF(W4:W24,\">6,5\",V4:V24))","v":0},{"$f":"IF('Répartition des intensités'!$AR$25=\"x\",SUMIF(Z4:Z24,\"<3,5\",Y4:Y24),SUMIF(Z4:Z24,\"<4,5\",Y4:Y24))","v":0},{"$f":"IF(Z27=0,0,SUM((Y25)-(Y28+AA28)))","v":0},{"$f":"IF('Répartition des intensités'!$AR$25=\"x\",SUMIF(Z4:Z24,\">5,5\",Y4:Y24),SUMIF(Z4:Z24,\">6,5\",Y4:Y24))","v":0},{"$f":"IF('Répartition des intensités'!$AR$25=\"x\",SUMIF(AC4:AC24,\"<3,5\",AB4:AB24),SUMIF(AC4:AC24,\"<4,5\",AB4:AB24))","v":0},{"$f":"IF(AC27=0,0,SUM((AB25)-(AB28+AD28)))","v":0},{"$f":"IF('Répartition des intensités'!$AR$25=\"x\",SUMIF(AC4:AC24,\">5,5\",AB4:AB24),SUMIF(AC4:AC24,\">6,5\",AB4:AB24))","v":0},{"$f":"IF('Répartition des intensités'!$AR$25=\"x\",SUMIF(AF4:AF24,\"<3,5\",AE4:AE24),SUMIF(AF4:AF24,\"<4,5\",AE4:AE24))","v":0},{"$f":"IF(AF27=0,0,SUM((AE25)-(AE28+AG28)))","v":0},{"$f":"IF('Répartition des intensités'!$AR$25=\"x\",SUMIF(AF4:AF24,\">5,5\",AE4:AE24),SUMIF(AF4:AF24,\">6,5\",AE4:AE24))","v":0}]
[null,null,null,"Comme au repos",null,null,null,0,null,"REG","Est-ce que j'ai l'impression d'avoir récupéré en me levant?"]
[null,null,null,"très facile",null,null,null,1]
[null,null,null,"facile",null,null,null,2,null,1,"… pas du tout récupéré",null,null,null,null,null,null,null,null,null,null,null,null,null,null,null,null,null,null,null,null,null,null,null,"Entrainements",null,null,null,"Rapport de santé"]
[null,null,null,null,null,null,null,3,null,2,"… un peu récupéré",null,null,null,null,null,null,null,null,null,null,null,null,null,null,null,null,null,null,null,null,null,null,null,"Jours d'entrainement",null,{"$f":"IF(SUM(AH4:AH24)=0,\"\",SUM(AH4:AH24))","v":""}]
[null,null,null,"Assez dur",null,null,null,4,null,3,"… récupéré",null,null,null,null,null,null,null,null,null,null,{"$f":"B4","v":"Lu"},{"$f":"AK4","v":0},null,null,null,null,null,null,null,null,null,null,null,"Entrainements",null,{"$f":"IF(AK32=\"\",\"\",SUM(M27:AG27))","v":""}]
[null,null,null,"dur",null,null,null,5,null,4,"…  en forme",null,null,null,null,null,null,null,null,null,null,{"$f":"B7","v":"Ma"},{"$f":"AK7","v":0},null,null,null,null,null,null,null,null,null,null,null,"Heures d'entrainement",null,{"$f":"IF(AK32=\"\",\"\",SUM(M25,P25,S25,Y25,AB25,V25,AE25)/60)","v":""},null,{"$f":"IF($AK$32=\"\",\"\",AK32-AM36-AM44-AM52)","v":""},"Aucune limitation",null,null,null,0]
[null,null,null,null,null,null,null,6,null,5,"… très en forme",null,null,null,null,null,null,null,null,null,null,{"$f":"B10","v":"Me"},{"$f":"AK10","v":0},null,null,null,null,null,null,null,null,null,null,null,"Charge de l'entrainement",null,{"$f":"IF(AK32=\"\",\"\",SUM(AK25))","v":""}]
[null,null,null,"très dur",null,null,null,7,null,null,null,null,null,null,null,null,null,null,null,null,null,{"$f":"B13","v":"Je"},{"$f":"AK13","v":0},null,null,null,null,null,null,null,null,null,null,null,"Monotonie",null,{"$f":"IF(AK27=0,0,(AVERAGE(AK4:AK24))/AK27)","v":0},null,{"$f":"SUM(AM37:AM42)","v":0},"Limitation pour cause de douleurs"]
[null,null,null,null,null,null,null,8,null,"Nombre de matchs",null,null,null,null,null,null,null,null,null,null,null,{"$f":"B16","v":"Ve"},{"$f":"AK16","v":0},null,null,null,null,null,null,null,null,null,null,null,"Efforts à l'entrainement",null,{"$f":"IF(AK32=\"\",\"\",AK35*AK36)","v":""},null,{"$f":"COUNTIF($H$4:$H$24,$AR37)","v":0},"Doigt",null,null,null,1]
[null,null,null,"extrèmement dur",null,null,null,9,null,null,null,null,null,null,null,null,null,null,null,null,null,{"$f":"B19","v":"Sa"},{"$f":"AK19","v":0},null,null,null,null,null,null,null,null,null,null,null,null,null,null,null,0,"Épaule",null,null,null,2]
[null,null,null,"Comme mon entrainement le plus dur",null,null,null,10,null,1,"… 3 sets et plus",null,null,null,null,null,null,null,null,null,null,{"$f":"B22","v":"Di"},{"$f":"AK22","v":0},null,null,null,null,null,null,null,null,null,null,null,"Compétition",null,null,null,0,"Dos",null,null,null,3]
[null,null,null,null,null,null,null,null,null,0.5,"… moins de 3 sets",null,null,null,null,null,null,null,null,null,null,null,null,null,null,null,null,null,null,null,null,null,null,null,"Matchs de volleyball",null,{"$f":"IF(AK32=\"\",\"\",SUM(AM4:AM24))","v":""},null,0,"Genou",null,null,null,4]
[null,null,null,null,null,null,null,null,null,null,null,null,null,null,null,null,null,null,null,null,null,null,null,null,null,null,null,null,null,null,null,null,null,null,"Sets de volleyball",null,{"$f":"IF(AK32=\"\",\"\",SUM(AN4:AN24))","v":""},null,0,"Cheville",null,null,null,5]
[null,null,null,null,null,null,null,null,null,"Sets joués",null,null,null,null,null,null,null,null,null,null,null,null,null,null,null,null,null,null,null,null,null,null,null,null,"Matchs de beach volley",null,{"$f":"IF(AK35=\"\",\"\",SUM(AO4:AO24))","v":""},null,0,"Autre",null,null,null,6]
[null,null,null,null,null,null,null,null,null,1,"… depuis le début et durant tout le set",null,null,null,null,null,null,null,null,null,null,null,null,null,null,null,null,null,null,null,null,null,null,null,"Sets de beach volley",null,{"$f":"IF(AK35=\"\",\"\",SUM(AP4:AP24))","v":""}]
[null,null,null,null,null,null,null,null,null,0.5,"… entré/sorti en cours, beaucoup joué",null,null,null,null,null,null,null,null,null,null,null,null,null,null,null,null,null,null,null,null,null,null,null,null,null,null,null,{"$f":"SUM(AM45:AM50)","v":0},"Absence pour cause de blessure"]
[null,null,null,null,null,null,null,null,null,0.1,"… entré/sorti en cours, peu joué",null,null,null,null,null,null,null,null,null,null,null,null,null,null,null,null,null,null,null,null,null,null,null,"Satisfaction",null,null,null,{"$f":"COUNTIF($H$4:$H$24,$AR45)","v":0},"Doigt",null,null,null,11]
[null,null,null,null,null,null,null,null,null,null,null,null,null,null,null,null,null,null,null,null,null,null,null,null,null,null,null,null,null,null,null,null,null,null,"Satisfaction de l'entrainement/match J",null,{"$f":"IF(AK32=\"\",\"\",SUM(AQ4:AQ24)/AK32)","v":""},null,0,"Épaule",null,null,null,12]
[null,null,null,null,null,null,null,null,null,"J","Es-tu content de la qualité de ton",null,null,null,null,null,null,null,null,null,null,null,null,null,null,null,null,null,null,null,null,null,null,null,null,null,null,null,0,"Dos",null,null,null,13]
[null,null,null,null,null,null,null,null,null,null,"entrainement/compétition?",null,null,null,null,null,null,null,null,null,null,null,null,null,null,null,null,null,null,null,null,null,null,null,"Santé",null,null,null,0,"Genou",null,null,null,14]
[null,null,null,null,null,null,null,null,null,1,"… pas content",null,null,null,null,null,null,null,null,null,null,null,null,null,null,null,null,null,null,null,null,null,null,null,"Limitation pour cause de douleurs",null,{"$f":"AM36","v":0},null,0,"Cheville",null,null,null,15]
[null,null,null,null,null,null,null,null,null,2,"… plutôt pas content",null,null,null,null,null,null,null,null,null,null,null,null,null,null,null,null,null,null,null,null,null,null,null,"Absence pour cause de blessure",null,{"$f":"AM44","v":0},null,0,"Autre",null,null,null,16]
[null,null,null,null,null,null,null,null,null,3,"… moyen",null,null,null,null,null,null,null,null,null,null,null,null,null,null,null,null,null,null,null,null,null,null,null,"Absence pour cause de maladie",null,{"$f":"AM52","v":0}]
[null,null,null,null,null,null,null,null,null,4,"… content",null,null,null,null,null,null,null,null,null,null,null,null,null,null,null,null,null,null,null,null,null,null,null,null,null,null,null,{"$f":"SUM(AM53:AM59)","v":0},"Absence pour cause de maladie"]
[null,null,null,null,null,null,null,null,null,5,"… très content!",null,null,null,null,null,null,null,null,null,null,null,null,null,null,null,null,null,null,null,null,null,null,null,null,null,null,null,{"$f":"COUNTIF($H$4:$H$24,$AR53)","v":0},"Maladie",null,null,null,21]

{"sheet":"32","index":8,"n_rows":155,"n_cols":45,"rows_kept":155,"cut":false,"hidden":false,"merged":[[30,34,30,36],[30,38,31,43],[0,5,0,6],[1,44,2,44],[1,15,1,17],[28,10,29,10],[22,9,22,10],[37,3,37,6],[38,3,38,6],[31,3,31,6],[32,3,32,6],[33,3,33,6],[34,3,34,6],[27,3,27,6],[28,3,28,6],[29,3,29,6],[30,3,30,6],[35,3,35,6],[28,9,29,9],[36,9,37,9],[9,4,11,4],[12,4,14,4],[3,7,5,7],[15,7,17,7],[1,12,1,14],[11,9,11,10],[7,9,7,10],[10,9,10,10],[1,39,2,39],[18,36,20,36],[21,36,23,36],[1,41,2,41],[15,36,17,36],[1,38,2,38],[17,9,17,10],[1,27,1,29],[1,24,1,26],[9,36,11,36],[12,36,14,36],[9,7,11,7],[14,9,14,10],[12,7,14,7],[3,5,5,5],[6,5,8,5],[9,5,11,5],[12,5,14,5],[15,9,15,10],[16,9,16,10],[6,7,8,7],[15,6,17,6],[18,5,20,5],[1,40,2,40],[1,1,2,1],[1,36,2,36],[1,34,2,34],[1,21,1,23],[1,9,2,10],[1,18,1,20],[1,30,1,32],[9,1,11,1],[9,3,11,3],[9,6,11,6],[9,9,9,10],[3,4,5,4],[6,4,8,4],[3,1,5,1],[6,36,8,36],[3,3,5,3],[3,6,5,6],[3,9,3,10],[4,9,4,10],[5,9,5,10],[3,36,5,36],[6,1,8,1],[6,3,8,3],[21,1,23,1],[21,3,23,3],[21,5,23,5],[21,6,23,6],[21,9,21,10],[23,9,23,10],[21,7,23,7],[21,4,23,4],[12,1,14,1],[12,3,14,3],[12,6,14,6],[12,9,12,10],[13,9,13,10],[18,9,18,10],[19,9,19,10],[20,9,20,10],[18,7,20,7],[18,1,20,1],[18,3,20,3],[18,6,20,6],[18,4,20,4],[15,1,17,1],[15,3,17,3],[38,34,38,36],[44,34,44,36],[47,34,47,36],[1,43,2,43],[29,21,29,26],[36,3,36,6],[46,9,47,9],[15,4,17,4],[15,5,17,5],[6,6,8,6],[6,9,6,10],[8,9,8,10]]}
[null,null,"Woche",{"$f":"INT(MOD(INT((F1-2)/7)+0.6,52+5/28))+1","v":32},{"$f":"D1+1000","v":1032},{"$f":"'31'!F1+7","v":"2018-08-06"},null,"-",null,{"$f":"F1+6","v":"2018-08-12"},null,null,null,null,null,null,null,null,null,null,null,null,null,null,null,null,null,null,null,null,null,null,{"$f":"'Aperçu de la charge'!D2","v":"Prénom Nom"},null,{"$f":"'Aperçu de la charge'!N2","v":"2018/2019"}]
[null,"Jour",null,"Poids","REG","qualité sommeil","durée sommeil","Santé",null,"Description de l'entrainement",null,null,"Club - VB",null,null,"TS/ Nati - VB",null,null,"Club - BVB",null,null,"TS/ Nati - BVB",null,null,"Force - fitness",null,null,"Compet. - VB",null,null,"Compet. - BVB",null,null,null,"Réflexion",null,"Charge/\njour",null,"matchs VB","Sets VB","Matchs BVB","Sets BVB","J","Autre\n (Rég, mentale)","Mental- oder Sonstiges Training"]
[null,null,null,"[kg]","[1 - 5]","[1-5]","[Std]","Nr.",null,null,null,null,"Durée","RPE","Charge","Durée","RPE","Charge","Durée","RPE","Charge","Durée","RPE","Charge","Durée","RPE","Charge","Durée","RPE","Charge","Durée","RPE","Charge",null,null,null,null,null,null,null,null,null,"[1-5]"]
[null,"Lu",null,0,0,0,0,0,null,null,null,null,null,null,{"$f":"M4*N4","v":0},null,null,{"$f":"P4*Q4","v":0},null,null,{"$f":"S4*T4","v":0},null,null,{"$f":"V4*W4","v":0},null,null,{"$f":"Y4*Z4","v":0},null,null,{"$f":"AB4*AC4","v":0},null,null,{"$f":"AE4*AF4","v":0},{"$f":"IF(SUM(M4:AG6)>0,1,0)","v":"00:00:00"},null,null,{"$f":"SUM(O4:O6,R4:R6,U4:U6,X4:X6,AA4:AA6,AD4:AD6,AG4:AG6)","v":0}]
[null,null,null,null,null,null,null,null,null,null,null,null,null,null,{"$f":"M5*N5","v":0},null,null,{"$f":"P5*Q5","v":0},null,null,{"$f":"S5*T5","v":0},null,null,{"$f":"V5*W5","v":0},null,null,{"$f":"Y5*Z5","v":0},null,null,{"$f":"AB5*AC5","v":0},null,null,{"$f":"AE5*AF5","v":0}]
[null,null,null,null,null,null,null,null,null,null,null,null,null,null,0,null,null,0,null,null,0,null,null,0,null,null,0,null,null,0,null,null,0]
[null,"Ma",null,0,0,0,0,0,null,null,null,null,null,null,0,null,null,{"$f":"P7*Q7","v":0},null,null,0,null,null,0,null,null,0,null,null,0,null,null,0,{"$f":"IF(SUM(M7:AG9)>0,1,0)","v":"00:00:00"},null,null,{"$f":"SUM(O7:O9,R7:R9,U7:U9,X7:X9,AA7:AA9,AD7:AD9,AG7:AG9)","v":0}]
[null,null,null,null,null,null,null,null,null,null,null,null,null,null,0,null,null,0,null,null,0,null,null,0,null,null,0,null,null,0,null,null,0]
[null,null,null,null,null,null,null,null,null,null,null,null,null,null,0,null,null,0,null,null,0,null,null,0,null,null,0,null,null,0,null,null,0]
[null,"Me",null,0,0,0,0,0,null,null,null,null,null,null,0,null,null,{"$f":"P10*Q10","v":0},null,null,0,null,null,0,null,null,0,null,null,0,null,null,0,{"$f":"IF(SUM(M10:AG12)>0,1,0)","v":"00:00:00"},null,null,{"$f":"SUM(O10:O12,R10:R12,U10:U12,X10:X12,AA10:AA12,AD10:AD12,AG10:AG12)","v":0}]
[null,null,null,null,null,null,null,null,null,null,null,null,null,null,0,null,null,0,null,null,0,null,null,0,null,null,0,null,null,0,null,null,0]
[null,null,null,null,null,null,null,null,null,null,null,null,null,null,0,null,null,0,null,null,0,null,null,0,null,null,0,null,null,0,null,null,0]
[null,"Je",null,0,0,0,0,0,null,null,null,null,null,null,0,null,null,{"$f":"P13*Q13","v":0},null,null,0,null,null,0,null,null,0,null,null,0,null,null,0,{"$f":"IF(SUM(M13:AG15)>0,1,0)","v":"00:00:00"},null,null,{"$f":"SUM(O13:O15,R13:R15,U13:U15,X13:X15,AA13:AA15,AD13:AD15,AG13:AG15)","v":0}]
[null,null,null,null,null,null,null,null,null,null,null,null,null,null,0,null,null,0,null,null,0,null,null,0,null,null,0,null,null,0,null,null,0]
[null,null,null,null,null,null,null,null,null,null,null,null,null,null,0,null,null,0,null,null,0,null,null,0,null,null,0,null,null,0,null,null,0]
[null,"Ve",null,0,0,0,0,0,null,null,null,null,null,null,0,null,null,{"$f":"P16*Q16","v":0},null,null,0,null,null,0,null,null,0,null,null,0,null,null,0,{"$f":"IF(SUM(M16:AG18)>0,1,0)","v":"00:00:00"},null,null,{"$f":"SUM(O16:O18,R16:R18,U16:U18,X16:X18,AA16:AA18,AD16:AD18,AG16:AG18)","v":0}]
[null,null,null,null,null,null,null,null,null,null,null,null,null,null,0,null,null,0,null,null,0,null,null,0,null,null,0,null,null,0,null,null,0]
[null,null,null,null,null,null,null,null,null,null,null,null,null,null,0,null,null,0,null,null,0,null,null,0,null,null,0,null,null,0,null,null,0]
[null,"Sa",null,0,0,0,0,0,null,null,null,null,null,null,{"$f":"M19*N19","v":0},null,null,{"$f":"P19*Q19","v":0},null,null,{"$f":"S19*T19","v":0},null,null,{"$f":"V19*W19","v":0},null,null,{"$f":"Y19*Z19","v":0},null,null,{"$f":"AB19*AC19","v":0},null,null,{"$f":"AE19*AF19","v":0},{"$f":"IF(SUM(M19:AG21)>0,1,0)","v":"00:00:00"},null,null,{"$f":"SUM(O19:O21,R19:R21,U19:U21,X19:X21,AA19:AA21,AD19:AD21,AG19:AG21)","v":0}]
[null,null,null,null,null,null,null,null,null,null,null,null,null,null,{"$f":"M20*N20","v":0},null,null,0,null,null,{"$f":"S20*T20","v":0},null,null,{"$f":"V20*W20","v":0},null,null,{"$f":"Y20*Z20","v":0},null,null,{"$f":"AB20*AC20","v":0},null,null,{"$f":"AE20*AF20","v":0}]
[null,null,null,null,null,null,null,null,null,null,null,null,null,null,0,null,null,0,null,null,0,null,null,0,null,null,0,null,null,0,null,null,0]
[null,"Di",null,0,0,0,0,0,null,null,null,null,null,null,0,null,null,{"$f":"P22*Q22","v":0},null,null,0,null,null,0,null,null,0,null,null,0,null,null,0,{"$f":"IF(SUM(M22:AG24)>0,1,0)","v":"00:00:00"},null,null,{"$f":"SUM(O22:O24,R22:R24,U22:U24,X22:X24,AA22:AA24,AD22:AD24,AG22:AG24)","v":0}]
[null,null,null,null,null,null,null,null,null,null,null,null,null,null,0,null,null,0,null,null,0,null,null,0,null,null,0,null,null,0,null,null,0]
[null,null,null,null,null,null,null,null,null,null,null,null,null,null,0,null,null,0,null,null,0,null,null,0,null,null,0,null,null,0,null,null,0]
[null,null,null,null,null,null,null,null,null,null,"Total",null,{"$f":"SUM(M4:M24)","v":0},null,{"$f":"SUM(O4:O24)","v":0},{"$f":"SUM(P4:P24)","v":0},null,{"$f":"SUM(R4:R24)","v":0},{"$f":"SUM(S4:S24)","v":0},null,{"$f":"SUM(U4:U24)","v":0},{"$f":"SUM(V4:V24)","v":0},null,{"$f":"SUM(X4:X24)","v":0},{"$f":"SUM(Y4:Y24)","v":0},null,{"$f":"SUM(AA4:AA24)","v":0},{"$f":"SUM(AB4:AB24)","v":0},null,{"$f":"SUM(AD4:AD24)","v":0},{"$f":"SUM(AE4:AE24)","v":0},null,{"$f":"SUM(AG4:AG24)","v":0},null,"Charge totale",null,{"$f":"SUM(AK4:AK24)","v":0}]
[null,"avg.",null,{"$f":"IF(COUNTA(D4:D24)=0,\"\",AVERAGE(D4:D24))","v":0},{"$f":"IF(COUNTA(E4:E24)=0,\"\",AVERAGE(E4:E24))","v":0},{"$f":"IF(COUNTA(F4:F24)=0,\"\",AVERAGE(F4:F24))","v":0},{"$f":"IF(COUNTA(G4:G24)=0,\"\",AVERAGE(G4:G24))","v":0},{"$f":"IF(COUNTA(H4:H24)=0,\"\",COUNTIF(H4:H24,\"x\"))","v":0},null,null,"Zone",null,1,2,3,1,2,3,1,2,3,1,2,3,1,2,3,1,2,3,1,2,3,null,"Moyenne",null,{"$f":"AVERAGE(AK4:AK24)","v":0}]
[null,null,null,null,null,{"$f":"IF(COUNTA(F4:F24)=0,\"\",VAR(F4:F24))","v":0},{"$f":"IF(COUNTA(G4:G24)=0,\"\",STDEV(G4:G24))","v":0},"Divergence - durée du sommeil",null,null,"Unité par zone (RPE) ",null,{"$f":"IF('Répartition des intensités'!$AR$25=\"x\",COUNTIF(N4:N24,\"<3,5\"),COUNTIF(N4:N24,\"<4,5\"))","v":0},{"$f":"COUNT(N4:N24)-(M27+O27)","v":0},{"$f":"IF('Répartition des intensités'!$AR$25=\"x\",COUNTIF(N4:N24,\">5,5\"),COUNTIF(N4:N24,\">6,5\"))","v":0},{"$f":"IF('Répartition des intensités'!$AR$25=\"x\",COUNTIF(Q4:Q24,\"<3,5\"),COUNTIF(Q4:Q24,\"<4,5\"))","v":0},{"$f":"COUNT(Q4:Q24)-(P27+R27)","v":0},{"$f":"IF('Répartition des intensités'!$AR$25=\"x\",COUNTIF(Q4:Q24,\">5,5\"),COUNTIF(Q4:Q24,\">6,5\"))","v":0},{"$f":"IF('Répartition des intensités'!$AR$25=\"x\",COUNTIF(T4:T24,\"<3,5\"),COUNTIF(T4:T24,\"<4,5\"))","v":0},{"$f":"COUNT(T4:T24)-(S27+U27)","v":0},{"$f":"IF('Répartition des intensités'!$AR$25=\"x\",COUNTIF(T4:T24,\">5,5\"),COUNTIF(T4:T24,\">6,5\"))","v":0},{"$f":"IF('Répartition des intensités'!$AR$25=\"x\",COUNTIF(W4:W24,\"<3,5\"),COUNTIF(W4:W24,\"<4,5\"))","v":0},{"$f":"COUNT(W4:W24)-(V27+X27)","v":0},{"$f":"IF('Répartition des intensités'!$AR$25=\"x\",COUNTIF(W4:W24,\">5,5\"),COUNTIF(W4:W24,\">6,5\"))","v":0},{"$f":"IF('Répartition des intensités'!$AR$25=\"x\",COUNTIF(Z4:Z24,\"<3,5\"),COUNTIF(Z4:Z24,\"<4,5\"))","v":0},{"$f":"COUNT(Z4:Z24)-(Y27+AA27)","v":0},{"$f":"IF('Répartition des intensités'!$AR$25=\"x\",COUNTIF(Z4:Z24,\">5,5\"),COUNTIF(Z4:Z24,\">6,5\"))","v":0},{"$f":"IF('Répartition des intensités'!$AR$25=\"x\",COUNTIF(AC4:AC24,\"<3,5\"),COUNTIF(AC4:AC24,\"<4,5\"))","v":0},{"$f":"COUNT(AC4:AC24)-(AB27+AD27)","v":0},{"$f":"IF('Répartition des intensités'!$AR$25=\"x\",COUNTIF(AC4:AC24,\">5,5\"),COUNTIF(AC4:AC24,\">6,5\"))","v":0},{"$f":"IF('Répartition des intensités'!$AR$25=\"x\",COUNTIF(AF4:AF24,\"<3,5\"),COUNTIF(AF4:AF24,\"<4,5\"))","v":0},{"$f":"COUNT(AF4:AF24)-(AE27+AG27)","v":0},{"$f":"IF('Répartition des intensités'!$AR$25=\"x\",COUNTIF(AF4:AF24,\">5,5\"),COUNTIF(AF4:AF24,\">6,5\"))","v":0},null,"Divergence",null,{"$f":"STDEVP(AK4:AK24)","v":0}]
[null,null,null,"échelle de Foster",null,null,null,"RPE",null,null,"Temps par zone (RPE)",null,{"$f":"IF('Répartition des intensités'!$AR$25=\"x\",SUMIF(N4:N24,\"<3,5\",M4:M24),SUMIF(N4:N24,\"<4,5\",M4:M24))","v":0},{"$f":"IF(N27=0,0,SUM((M25)-(M28+O28)))","v":0},{"$f":"IF('Répartition des intensités'!$AR$25=\"x\",SUMIF(N4:N24,\">5,5\",M4:M24),SUMIF(N4:N24,\">6,5\",M4:M24))","v":0},{"$f":"IF('Répartition des intensités'!$AR$25=\"x\",SUMIF(Q4:Q24,\"<3,5\",P4:P24),SUMIF(Q4:Q24,\"<4,5\",P4:P24))","v":0},{"$f":"IF(Q27=0,0,SUM((P25)-(P28+R28)))","v":0},{"$f":"IF('Répartition des intensités'!$AR$25=\"x\",SUMIF(Q4:Q24,\">5,5\",P4:P24),SUMIF(Q4:Q24,\">6,5\",P4:P24))","v":0},{"$f":"IF('Répartition des intensités'!$AR$25=\"x\",SUMIF(T4:T24,\"<3,5\",S4:S24),SUMIF(T4:T24,\"<4,5\",S4:S24))","v":0},{"$f":"IF(T27=0,0,SUM((S25)-(S28+U28)))","v":0},{"$f":"IF('Répartition des intensités'!$AR$25=\"x\",SUMIF(T4:T24,\">5,5\",S4:S24),SUMIF(T4:T24,\">6,5\",S4:S24))","v":0},{"$f":"IF('Répartition des intensités'!$AR$25=\"x\",SUMIF(W4:W24,\"<3,5\",V4:V24),SUMIF(W4:W24,\"<4,5\",V4:V24))","v":0},{"$f":"IF(W27=0,0,SUM((V25)-(V28+X28)))","v":0},{"$f":"IF('Répartition des intensités'!$AR$25=\"x\",SUMIF(W4:W24,\">5,5\",V4:V24),SUMIF(W4:W24,\">6,5\",V4:V24))","v":0},{"$f":"IF('Répartition des intensités'!$AR$25=\"x\",SUMIF(Z4:Z24,\"<3,5\",Y4:Y24),SUMIF(Z4:Z24,\"<4,5\",Y4:Y24))","v":0},{"$f":"IF(Z27=0,0,SUM((Y25)-(Y28+AA28)))","v":0},{"$f":"IF('Répartition des intensités'!$AR$25=\"x\",SUMIF(Z4:Z24,\">5,5\",Y4:Y24),SUMIF(Z4:Z24,\">6,5\",Y4:Y24))","v":0},{"$f":"IF('Répartition des intensités'!$AR$25=\"x\",SUMIF(AC4:AC24,\"<3,5\",AB4:AB24),SUMIF(AC4:AC24,\"<4,5\",AB4:AB24))","v":0},{"$f":"IF(AC27=0,0,SUM((AB25)-(AB28+AD28)))","v":0},{"$f":"IF('Répartition des intensités'!$AR$25=\"x\",SUMIF(AC4:AC24,\">5,5\",AB4:AB24),SUMIF(AC4:AC24,\">6,5\",AB4:AB24))","v":0},{"$f":"IF('Répartition des intensités'!$AR$25=\"x\",SUMIF(AF4:AF24,\"<3,5\",AE4:AE24),SUMIF(AF4:AF24,\"<4,5\",AE4:AE24))","v":0},{"$f":"IF(AF27=0,0,SUM((AE25)-(AE28+AG28)))","v":0},{"$f":"IF('Répartition des intensités'!$AR$25=\"x\",SUMIF(AF4:AF24,\">5,5\",AE4:AE24),SUMIF(AF4:AF24,\">6,5\",AE4:AE24))","v":0}]
[null,null,null,"Comme au repos",null,null,null,0,null,"REG","Est-ce que j'ai l'impression d'avoir récupéré en me levant?"]
[null,null,null,"très facile",null,null,null,1]
[null,null,null,"facile",null,null,null,2,null,1,"… pas du tout récupéré",null,null,null,null,null,null,null,null,null,null,null,null,null,null,null,null,null,null,null,null,null,null,null,"Entrainements",null,null,null,"Rapport de santé"]
[null,null,null,null,null,null,null,3,null,2,"… un peu récupéré",null,null,null,null,null,null,null,null,null,null,null,null,null,null,null,null,null,null,null,null,null,null,null,"Jours d'entrainement",null,{"$f":"IF(SUM(AH4:AH24)=0,\"\",SUM(AH4:AH24))","v":""}]
[null,null,null,"Assez dur",null,null,null,4,null,3,"… récupéré",null,null,null,null,null,null,null,null,null,null,{"$f":"B4","v":"Lu"},{"$f":"AK4","v":0},null,null,null,null,null,null,null,null,null,null,null,"Entrainements",null,{"$f":"IF(AK32=\"\",\"\",SUM(M27:AG27))","v":""}]
[null,null,null,"dur",null,null,null,5,null,4,"…  en forme",null,null,null,null,null,null,null,null,null,null,{"$f":"B7","v":"Ma"},{"$f":"AK7","v":0},null,null,null,null,null,null,null,null,null,null,null,"Heures d'entrainement",null,{"$f":"IF(AK32=\"\",\"\",SUM(M25,P25,S25,Y25,AB25,V25,AE25)/60)","v":""},null,{"$f":"IF($AK$32=\"\",\"\",AK32-AM36-AM44-AM52)","v":""},"Aucune limitation",null,null,null,0]
[null,null,null,null,null,null,null,6,null,5,"… très en forme",null,null,null,null,null,null,null,null,null,null,{"$f":"B10","v":"Me"},{"$f":"AK10","v":0},null,null,null,null,null,null,null,null,null,null,null,"Charge de l'entrainement",null,{"$f":"IF(AK32=\"\",\"\",SUM(AK25))","v":""}]
[null,null,null,"très dur",null,null,null,7,null,null,null,null,null,null,null,null,null,null,null,null,null,{"$f":"B13","v":"Je"},{"$f":"AK13","v":0},null,null,null,null,null,null,null,null,null,null,null,"Monotonie",null,{"$f":"IF(AK27=0,0,(AVERAGE(AK4:AK24))/AK27)","v":0},null,{"$f":"SUM(AM37:AM42)","v":0},"Limitation pour cause de douleurs"]
[null,null,null,null,null,null,null,8,null,"Nombre de matchs",null,null,null,null,null,null,null,null,null,null,null,{"$f":"B16","v":"Ve"},{"$f":"AK16","v":0},null,null,null,null,null,null,null,null,null,null,null,"Efforts à l'entrainement",null,{"$f":"IF(AK32=\"\",\"\",AK35*AK36)","v":""},null,{"$f":"COUNTIF($H$4:$H$24,$AR37)","v":0},"Doigt",null,null,null,1]
[null,null,null,"extrèmement dur",null,null,null,9,null,null,null,null,null,null,null,null,null,null,null,null,null,{"$f":"B19","v":"Sa"},{"$f":"AK19","v":0},null,null,null,null,null,null,null,null,null,null,null,null,null,null,null,0,"Épaule",null,null,null,2]
[null,null,null,"Comme mon entrainement le plus dur",null,null,null,10,null,1,"… 3 sets et plus",null,null,null,null,null,null,null,null,null,null,{"$f":"B22","v":"Di"},{"$f":"AK22","v":0},null,null,null,null,null,null,null,null,null,null,null,"Compétition",null,null,null,0,"Dos",null,null,null,3]
[null,null,null,null,null,null,null,null,null,0.5,"… moins de 3 sets",null,null,null,null,null,null,null,null,null,null,null,null,null,null,null,null,null,null,null,null,null,null,null,"Matchs de volleyball",null,{"$f":"IF(AK32=\"\",\"\",SUM(AM4:AM24))","v":""},null,0,"Genou",null,null,null,4]
[null,null,null,null,null,null,null,null,null,null,null,null,null,null,null,null,null,null,null,null,null,null,null,null,null,null,null,null,null,null,null,null,null,null,"Sets de volleyball",null,{"$f":"IF(AK32=\"\",\"\",SUM(AN4:AN24))","v":""},null,0,"Cheville",null,null,null,5]
[null,null,null,null,null,null,null,null,null,"Sets joués",null,null,null,null,null,null,null,null,null,null,null,null,null,null,null,null,null,null,null,null,null,null,null,null,"Matchs de beach volley",null,{"$f":"IF(AK35=\"\",\"\",SUM(AO4:AO24))","v":""},null,0,"Autre",null,null,null,6]
[null,null,null,null,null,null,null,null,null,1,"… depuis le début et durant tout le set",null,null,null,null,null,null,null,null,null,null,null,null,null,null,null,null,null,null,null,null,null,null,null,"Sets de beach volley",null,{"$f":"IF(AK35=\"\",\"\",SUM(AP4:AP24))","v":""}]
[null,null,null,null,null,null,null,null,null,0.5,"… entré/sorti en cours, beaucoup joué",null,null,null,null,null,null,null,null,null,null,null,null,null,null,null,null,null,null,null,null,null,null,null,null,null,null,null,{"$f":"SUM(AM45:AM50)","v":0},"Absence pour cause de blessure"]
[null,null,null,null,null,null,null,null,null,0.1,"… entré/sorti en cours, peu joué",null,null,null,null,null,null,null,null,null,null,null,null,null,null,null,null,null,null,null,null,null,null,null,"Satisfaction",null,null,null,{"$f":"COUNTIF($H$4:$H$24,$AR45)","v":0},"Doigt",null,null,null,11]
[null,null,null,null,null,null,null,null,null,null,null,null,null,null,null,null,null,null,null,null,null,null,null,null,null,null,null,null,null,null,null,null,null,null,"Satisfaction de l'entrainement/match J",null,{"$f":"IF(AK32=\"\",\"\",SUM(AQ4:AQ24)/AK32)","v":""},null,0,"Épaule",null,null,null,12]
[null,null,null,null,null,null,null,null,null,"J","Es-tu content de la qualité de ton",null,null,null,null,null,null,null,null,null,null,null,null,null,null,null,null,null,null,null,null,null,null,null,null,null,null,null,0,"Dos",null,null,null,13]
[null,null,null,null,null,null,null,null,null,null,"entrainement/compétition?",null,null,null,null,null,null,null,null,null,null,null,null,null,null,null,null,null,null,null,null,null,null,null,"Santé",null,null,null,0,"Genou",null,null,null,14]
[null,null,null,null,null,null,null,null,null,1,"… pas content",null,null,null,null,null,null,null,null,null,null,null,null,null,null,null,null,null,null,null,null,null,null,null,"Limitation pour cause de douleurs",null,{"$f":"AM36","v":0},null,0,"Cheville",null,null,null,15]
[null,null,null,null,null,null,null,null,null,2,"… plutôt pas content",null,null,null,null,null,null,null,null,null,null,null,null,null,null,null,null,null,null,null,null,null,null,null,"Absence pour cause de blessure",null,{"$f":"AM44","v":0},null,0,"Autre",null,null,null,16]
[null,null,null,null,null,null,null,null,null,3,"… moyen",null,null,null,null,null,null,null,null,null,null,null,null,null,null,null,null,null,null,null,null,null,null,null,"Absence pour cause de maladie",null,{"$f":"AM52","v":0}]
[null,null,null,null,null,null,null,null,null,4,"… content",null,null,null,null,null,null,null,null,null,null,null,null,null,null,null,null,null,null,null,null,null,null,null,null,null,null,null,{"$f":"SUM(AM53:AM59)","v":0},"Absence pour cause de maladie"]
[null,null,null,null,null,null,null,null,null,5,"… très content!",null,null,null,null,null,null,null,null,null,null,null,null,null,null,null,null,null,null,null,null,null,null,null,null,null,null,null,{"$f":"COUNTIF($H$4:$H$24,$AR53)","v":0},"Maladie",null,null,null,21]
[]
[]
[]
[]
[]
[]
[]
[]
[]
[]
[]
[]
[]
[]
[]
[]
[]
[]
[]
[]
[]
[]
[]
[]
[]
[]
[]
[]
[]
[]
[]
[]
[]
[]
[]
[]
[]
[]
[]
[]
[]
[]
[]
[]
[]
[]
[]
[]
[]
[]
[]
[]
[]
[]
[]
[]
[]
[]
[]
[]
[]
[]
[]
[]
[]
[]
[]
[]
[]
[]
[]
[]
[]
[]
[]
[]
[]
[]
[]
[]
[]
[]
[null,null,null,null,null,null,null,null,null,null,null,null,null,null,null,null,null,null,null,null,null,null,null,null,{"$f":"Z136-1","v":27},{"$f":"AA136-1","v":28},{"$f":"AB136-1","v":29},{"$f":"AC136-1","v":30},{"$f":"AD136-1","v":31},{"$f":"D1","v":32},{"$f":"AD136+1","v":33},{"$f":"AE136+1","v":34}]
[]
[]
[]
[]
[]
[]
[]
[]
[]
[]
[]
[]
[]
[]
[]
[]
[]
[]
[null,null,null,null,null,null,null,null,null,null,null,null,null,null,null,null,null,null,null,null,null,null,null,null,null,null,null,null,null,null,null,null,{"$f":"AF136+1","v":35}]

{"sheet":"33","index":9,"n_rows":155,"n_cols":45,"rows_kept":155,"cut":false,"hidden":false,"merged":[[30,34,30,36],[30,38,31,43],[0,5,0,6],[1,44,2,44],[1,15,1,17],[28,10,29,10],[22,9,22,10],[37,3,37,6],[38,3,38,6],[31,3,31,6],[32,3,32,6],[33,3,33,6],[34,3,34,6],[27,3,27,6],[28,3,28,6],[29,3,29,6],[30,3,30,6],[35,3,35,6],[28,9,29,9],[36,9,37,9],[9,4,11,4],[12,4,14,4],[3,7,5,7],[15,7,17,7],[1,12,1,14],[11,9,11,10],[7,9,7,10],[10,9,10,10],[1,39,2,39],[18,36,20,36],[21,36,23,36],[1,41,2,41],[15,36,17,36],[1,38,2,38],[17,9,17,10],[1,27,1,29],[1,24,1,26],[9,36,11,36],[12,36,14,36],[9,7,11,7],[14,9,14,10],[12,7,14,7],[3,5,5,5],[6,5,8,5],[9,5,11,5],[12,5,14,5],[15,9,15,10],[16,9,16,10],[6,7,8,7],[15,6,17,6],[18,5,20,5],[1,40,2,40],[1,1,2,1],[1,36,2,36],[1,34,2,34],[1,21,1,23],[1,9,2,10],[1,18,1,20],[1,30,1,32],[9,1,11,1],[9,3,11,3],[9,6,11,6],[9,9,9,10],[3,4,5,4],[6,4,8,4],[3,1,5,1],[6,36,8,36],[3,3,5,3],[3,6,5,6],[3,9,3,10],[4,9,4,10],[5,9,5,10],[3,36,5,36],[6,1,8,1],[6,3,8,3],[21,1,23,1],[21,3,23,3],[21,5,23,5],[21,6,23,6],[21,9,21,10],[23,9,23,10],[21,7,23,7],[21,4,23,4],[12,1,14,1],[12,3,14,3],[12,6,14,6],[12,9,12,10],[13,9,13,10],[18,9,18,10],[19,9,19,10],[20,9,20,10],[18,7,20,7],[18,1,20,1],[18,3,20,3],[18,6,20,6],[18,4,20,4],[15,1,17,1],[15,3,17,3],[1,43,2,43],[38,34,38,36],[44,34,44,36],[47,34,47,36],[29,21,29,26],[36,3,36,6],[46,9,47,9],[15,4,17,4],[15,5,17,5],[6,6,8,6],[6,9,6,10],[8,9,8,10]]}
[null,null,"Woche",{"$f":"INT(MOD(INT((F1-2)/7)+0.6,52+5/28))+1","v":33},{"$f":"D1+1000","v":1033},{"$f":"'32'!F1+7","v":"2018-08-13"},null,"-",null,{"$f":"F1+6","v":"2018-08-19"},null,null,null,null,null,null,null,null,null,null,null,null,null,null,null,null,null,null,null,null,null,null,{"$f":"'Aperçu de la charge'!D2","v":"Prénom Nom"},null,{"$f":"'Aperçu de la charge'!N2","v":"2018/2019"}]
[null,"Jour",null,"Poids","REG","qualité sommeil","durée sommeil","Santé",null,"Description de l'entrainement",null,null,"Club - VB",null,null,"TS/ Nati - VB",null,null,"Club - BVB",null,null,"TS/ Nati - BVB",null,null,"Force - fitness",null,null,"Compet. - VB",null,null,"Compet. - BVB",null,null,null,"Réflexion",null,"Charge/\njour",null,"matchs VB","Sets VB","Matchs BVB","Sets BVB","J","Autre\n (Rég, mentale)","Mental- oder Sonstiges Training"]
[null,null,null,"[kg]","[1 - 5]","[1-5]","[Std]","Nr.",null,null,null,null,"Durée","RPE","Charge","Durée","RPE","Charge","Durée","RPE","Charge","Durée","RPE","Charge","Durée","RPE","Charge","Durée","RPE","Charge","Durée","RPE","Charge",null,null,null,null,null,null,null,null,null,"[1-5]"]
[null,"Lu",null,0,0,0,0,0,null,null,null,null,null,null,{"$f":"M4*N4","v":0},null,null,{"$f":"P4*Q4","v":0},null,null,{"$f":"S4*T4","v":0},null,null,{"$f":"V4*W4","v":0},null,null,{"$f":"Y4*Z4","v":0},null,null,{"$f":"AB4*AC4","v":0},null,null,{"$f":"AE4*AF4","v":0},{"$f":"IF(SUM(M4:AG6)>0,1,0)","v":"00:00:00"},null,null,{"$f":"SUM(O4:O6,R4:R6,U4:U6,X4:X6,AA4:AA6,AD4:AD6,AG4:AG6)","v":0}]
[null,null,null,null,null,null,null,null,null,null,null,null,null,null,{"$f":"M5*N5","v":0},null,null,{"$f":"P5*Q5","v":0},null,null,{"$f":"S5*T5","v":0},null,null,{"$f":"V5*W5","v":0},null,null,{"$f":"Y5*Z5","v":0},null,null,{"$f":"AB5*AC5","v":0},null,null,{"$f":"AE5*AF5","v":0}]
[null,null,null,null,null,null,null,null,null,null,null,null,null,null,0,null,null,0,null,null,0,null,null,0,null,null,0,null,null,0,null,null,0]
[null,"Ma",null,0,0,0,0,0,null,null,null,null,null,null,0,null,null,{"$f":"P7*Q7","v":0},null,null,0,null,null,0,null,null,0,null,null,0,null,null,0,{"$f":"IF(SUM(M7:AG9)>0,1,0)","v":"00:00:00"},null,null,{"$f":"SUM(O7:O9,R7:R9,U7:U9,X7:X9,AA7:AA9,AD7:AD9,AG7:AG9)","v":0}]
[null,null,null,null,null,null,null,null,null,null,null,null,null,null,0,null,null,0,null,null,0,null,null,0,null,null,0,null,null,0,null,null,0]
[null,null,null,null,null,null,null,null,null,null,null,null,null,null,0,null,null,0,null,null,0,null,null,0,null,null,0,null,null,0,null,null,0]
[null,"Me",null,0,0,0,0,0,null,null,null,null,null,null,0,null,null,{"$f":"P10*Q10","v":0},null,null,0,null,null,0,null,null,0,null,null,0,null,null,0,{"$f":"IF(SUM(M10:AG12)>0,1,0)","v":"00:00:00"},null,null,{"$f":"SUM(O10:O12,R10:R12,U10:U12,X10:X12,AA10:AA12,AD10:AD12,AG10:AG12)","v":0}]
[null,null,null,null,null,null,null,null,null,null,null,null,null,null,0,null,null,0,null,null,0,null,null,0,null,null,0,null,null,0,null,null,0]
[null,null,null,null,null,null,null,null,null,null,null,null,null,null,0,null,null,0,null,null,0,null,null,0,null,null,0,null,null,0,null,null,0]
[null,"Je",null,0,0,0,0,0,null,null,null,null,null,null,0,null,null,{"$f":"P13*Q13","v":0},null,null,0,null,null,0,null,null,0,null,null,0,null,null,0,{"$f":"IF(SUM(M13:AG15)>0,1,0)","v":"00:00:00"},null,null,{"$f":"SUM(O13:O15,R13:R15,U13:U15,X13:X15,AA13:AA15,AD13:AD15,AG13:AG15)","v":0}]
[null,null,null,null,null,null,null,null,null,null,null,null,null,null,0,null,null,0,null,null,0,null,null,0,null,null,0,null,null,0,null,null,0]
[null,null,null,null,null,null,null,null,null,null,null,null,null,null,0,null,null,0,null,null,0,null,null,0,null,null,0,null,null,0,null,null,0]
[null,"Ve",null,0,0,0,0,0,null,null,null,null,null,null,0,null,null,{"$f":"P16*Q16","v":0},null,null,0,null,null,0,null,null,0,null,null,0,null,null,0,{"$f":"IF(SUM(M16:AG18)>0,1,0)","v":"00:00:00"},null,null,{"$f":"SUM(O16:O18,R16:R18,U16:U18,X16:X18,AA16:AA18,AD16:AD18,AG16:AG18)","v":0}]
[null,null,null,null,null,null,null,null,null,null,null,null,null,null,0,null,null,0,null,null,0,null,null,0,null,null,0,null,null,0,null,null,0]
[null,null,null,null,null,null,null,null,null,null,null,null,null,null,0,null,null,0,null,null,0,null,null,0,null,null,0,null,null,0,null,null,0]
[null,"Sa",null,0,0,0,0,0,null,null,null,null,null,null,{"$f":"M19*N19","v":0},null,null,{"$f":"P19*Q19","v":0},null,null,{"$f":"S19*T19","v":0},null,null,{"$f":"V19*W19","v":0},null,null,{"$f":"Y19*Z19","v":0},null,null,{"$f":"AB19*AC19","v":0},null,null,{"$f":"AE19*AF19","v":0},{"$f":"IF(SUM(M19:AG21)>0,1,0)","v":"00:00:00"},null,null,{"$f":"SUM(O19:O21,R19:R21,U19:U21,X19:X21,AA19:AA21,AD19:AD21,AG19:AG21)","v":0}]
[null,null,null,null,null,null,null,null,null,null,null,null,null,null,{"$f":"M20*N20","v":0},null,null,0,null,null,{"$f":"S20*T20","v":0},null,null,{"$f":"V20*W20","v":0},null,null,{"$f":"Y20*Z20","v":0},null,null,{"$f":"AB20*AC20","v":0},null,null,{"$f":"AE20*AF20","v":0}]
[null,null,null,null,null,null,null,null,null,null,null,null,null,null,0,null,null,0,null,null,0,null,null,0,null,null,0,null,null,0,null,null,0]
[null,"Di",null,0,0,0,0,0,null,null,null,null,null,null,0,null,null,{"$f":"P22*Q22","v":0},null,null,0,null,null,0,null,null,0,null,null,0,null,null,0,{"$f":"IF(SUM(M22:AG24)>0,1,0)","v":"00:00:00"},null,null,{"$f":"SUM(O22:O24,R22:R24,U22:U24,X22:X24,AA22:AA24,AD22:AD24,AG22:AG24)","v":0}]
[null,null,null,null,null,null,null,null,null,null,null,null,null,null,0,null,null,0,null,null,0,null,null,0,null,null,0,null,null,0,null,null,0]
[null,null,null,null,null,null,null,null,null,null,null,null,null,null,0,null,null,0,null,null,0,null,null,0,null,null,0,null,null,0,null,null,0]
[null,null,null,null,null,null,null,null,null,null,"Total",null,{"$f":"SUM(M4:M24)","v":0},null,{"$f":"SUM(O4:O24)","v":0},{"$f":"SUM(P4:P24)","v":0},null,{"$f":"SUM(R4:R24)","v":0},{"$f":"SUM(S4:S24)","v":0},null,{"$f":"SUM(U4:U24)","v":0},{"$f":"SUM(V4:V24)","v":0},null,{"$f":"SUM(X4:X24)","v":0},{"$f":"SUM(Y4:Y24)","v":0},null,{"$f":"SUM(AA4:AA24)","v":0},{"$f":"SUM(AB4:AB24)","v":0},null,{"$f":"SUM(AD4:AD24)","v":0},{"$f":"SUM(AE4:AE24)","v":0},null,{"$f":"SUM(AG4:AG24)","v":0},null,"Charge totale",null,{"$f":"SUM(AK4:AK24)","v":0}]
[null,"avg.",null,{"$f":"IF(COUNTA(D4:D24)=0,\"\",AVERAGE(D4:D24))","v":0},{"$f":"IF(COUNTA(E4:E24)=0,\"\",AVERAGE(E4:E24))","v":0},{"$f":"IF(COUNTA(F4:F24)=0,\"\",AVERAGE(F4:F24))","v":0},{"$f":"IF(COUNTA(G4:G24)=0,\"\",AVERAGE(G4:G24))","v":0},{"$f":"IF(COUNTA(H4:H24)=0,\"\",COUNTIF(H4:H24,\"x\"))","v":0},null,null,"Zone",null,1,2,3,1,2,3,1,2,3,1,2,3,1,2,3,1,2,3,1,2,3,null,"Moyenne",null,{"$f":"AVERAGE(AK4:AK24)","v":0}]
[null,null,null,null,null,{"$f":"IF(COUNTA(F4:F24)=0,\"\",VAR(F4:F24))","v":0},{"$f":"IF(COUNTA(G4:G24)=0,\"\",STDEV(G4:G24))","v":0},"Divergence - durée du sommeil",null,null,"Unité par zone (RPE) ",null,{"$f":"IF('Répartition des intensités'!$AR$25=\"x\",COUNTIF(N4:N24,\"<3,5\"),COUNTIF(N4:N24,\"<4,5\"))","v":0},{"$f":"COUNT(N4:N24)-(M27+O27)","v":0},{"$f":"IF('Répartition des intensités'!$AR$25=\"x\",COUNTIF(N4:N24,\">5,5\"),COUNTIF(N4:N24,\">6,5\"))","v":0},{"$f":"IF('Répartition des intensités'!$AR$25=\"x\",COUNTIF(Q4:Q24,\"<3,5\"),COUNTIF(Q4:Q24,\"<4,5\"))","v":0},{"$f":"COUNT(Q4:Q24)-(P27+R27)","v":0},{"$f":"IF('Répartition des intensités'!$AR$25=\"x\",COUNTIF(Q4:Q24,\">5,5\"),COUNTIF(Q4:Q24,\">6,5\"))","v":0},{"$f":"IF('Répartition des intensités'!$AR$25=\"x\",COUNTIF(T4:T24,\"<3,5\"),COUNTIF(T4:T24,\"<4,5\"))","v":0},{"$f":"COUNT(T4:T24)-(S27+U27)","v":0},{"$f":"IF('Répartition des intensités'!$AR$25=\"x\",COUNTIF(T4:T24,\">5,5\"),COUNTIF(T4:T24,\">6,5\"))","v":0},{"$f":"IF('Répartition des intensités'!$AR$25=\"x\",COUNTIF(W4:W24,\"<3,5\"),COUNTIF(W4:W24,\"<4,5\"))","v":0},{"$f":"COUNT(W4:W24)-(V27+X27)","v":0},{"$f":"IF('Répartition des intensités'!$AR$25=\"x\",COUNTIF(W4:W24,\">5,5\"),COUNTIF(W4:W24,\">6,5\"))","v":0},{"$f":"IF('Répartition des intensités'!$AR$25=\"x\",COUNTIF(Z4:Z24,\"<3,5\"),COUNTIF(Z4:Z24,\"<4,5\"))","v":0},{"$f":"COUNT(Z4:Z24)-(Y27+AA27)","v":0},{"$f":"IF('Répartition des intensités'!$AR$25=\"x\",COUNTIF(Z4:Z24,\">5,5\"),COUNTIF(Z4:Z24,\">6,5\"))","v":0},{"$f":"IF('Répartition des intensités'!$AR$25=\"x\",COUNTIF(AC4:AC24,\"<3,5\"),COUNTIF(AC4:AC24,\"<4,5\"))","v":0},{"$f":"COUNT(AC4:AC24)-(AB27+AD27)","v":0},{"$f":"IF('Répartition des intensités'!$AR$25=\"x\",COUNTIF(AC4:AC24,\">5,5\"),COUNTIF(AC4:AC24,\">6,5\"))","v":0},{"$f":"IF('Répartition des intensités'!$AR$25=\"x\",COUNTIF(AF4:AF24,\"<3,5\"),COUNTIF(AF4:AF24,\"<4,5\"))","v":0},{"$f":"COUNT(AF4:AF24)-(AE27+AG27)","v":0},{"$f":"IF('Répartition des intensités'!$AR$25=\"x\",COUNTIF(AF4:AF24,\">5,5\"),COUNTIF(AF4:AF24,\">6,5\"))","v":0},null,"Divergence",null,{"$f":"STDEVP(AK4:AK24)","v":0}]
[null,null,null,"échelle de Foster",null,null,null,"RPE",null,null,"Temps par zone (RPE)",null,{"$f":"IF('Répartition des intensités'!$AR$25=\"x\",SUMIF(N4:N24,\"<3,5\",M4:M24),SUMIF(N4:N24,\"<4,5\",M4:M24))","v":0},{"$f":"IF(N27=0,0,SUM((M25)-(M28+O28)))","v":0},{"$f":"IF('Répartition des intensités'!$AR$25=\"x\",SUMIF(N4:N24,\">5,5\",M4:M24),SUMIF(N4:N24,\">6,5\",M4:M24))","v":0},{"$f":"IF('Répartition des intensités'!$AR$25=\"x\",SUMIF(Q4:Q24,\"<3,5\",P4:P24),SUMIF(Q4:Q24,\"<4,5\",P4:P24))","v":0},{"$f":"IF(Q27=0,0,SUM((P25)-(P28+R28)))","v":0},{"$f":"IF('Répartition des intensités'!$AR$25=\"x\",SUMIF(Q4:Q24,\">5,5\",P4:P24),SUMIF(Q4:Q24,\">6,5\",P4:P24))","v":0},{"$f":"IF('Répartition des intensités'!$AR$25=\"x\",SUMIF(T4:T24,\"<3,5\",S4:S24),SUMIF(T4:T24,\"<4,5\",S4:S24))","v":0},{"$f":"IF(T27=0,0,SUM((S25)-(S28+U28)))","v":0},{"$f":"IF('Répartition des intensités'!$AR$25=\"x\",SUMIF(T4:T24,\">5,5\",S4:S24),SUMIF(T4:T24,\">6,5\",S4:S24))","v":0},{"$f":"IF('Répartition des intensités'!$AR$25=\"x\",SUMIF(W4:W24,\"<3,5\",V4:V24),SUMIF(W4:W24,\"<4,5\",V4:V24))","v":0},{"$f":"IF(W27=0,0,SUM((V25)-(V28+X28)))","v":0},{"$f":"IF('Répartition des intensités'!$AR$25=\"x\",SUMIF(W4:W24,\">5,5\",V4:V24),SUMIF(W4:W24,\">6,5\",V4:V24))","v":0},{"$f":"IF('Répartition des intensités'!$AR$25=\"x\",SUMIF(Z4:Z24,\"<3,5\",Y4:Y24),SUMIF(Z4:Z24,\"<4,5\",Y4:Y24))","v":0},{"$f":"IF(Z27=0,0,SUM((Y25)-(Y28+AA28)))","v":0},{"$f":"IF('Répartition des intensités'!$AR$25=\"x\",SUMIF(Z4:Z24,\">5,5\",Y4:Y24),SUMIF(Z4:Z24,\">6,5\",Y4:Y24))","v":0},{"$f":"IF('Répartition des intensités'!$AR$25=\"x\",SUMIF(AC4:AC24,\"<3,5\",AB4:AB24),SUMIF(AC4:AC24,\"<4,5\",AB4:AB24))","v":0},{"$f":"IF(AC27=0,0,SUM((AB25)-(AB28+AD28)))","v":0},{"$f":"IF('Répartition des intensités'!$AR$25=\"x\",SUMIF(AC4:AC24,\">5,5\",AB4:AB24),SUMIF(AC4:AC24,\">6,5\",AB4:AB24))","v":0},{"$f":"IF('Répartition des intensités'!$AR$25=\"x\",SUMIF(AF4:AF24,\"<3,5\",AE4:AE24),SUMIF(AF4:AF24,\"<4,5\",AE4:AE24))","v":0},{"$f":"IF(AF27=0,0,SUM((AE25)-(AE28+AG28)))","v":0},{"$f":"IF('Répartition des intensités'!$AR$25=\"x\",SUMIF(AF4:AF24,\">5,5\",AE4:AE24),SUMIF(AF4:AF24,\">6,5\",AE4:AE24))","v":0}]
[null,null,null,"Comme au repos",null,null,null,0,null,"REG","Est-ce que j'ai l'impression d'avoir récupéré en me levant?"]
[null,null,null,"très facile",null,null,null,1]
[null,null,null,"facile",null,null,null,2,null,1,"… pas du tout récupéré",null,null,null,null,null,null,null,null,null,null,null,null,null,null,null,null,null,null,null,null,null,null,null,"Entrainements",null,null,null,"Rapport de santé"]
[null,null,null,null,null,null,null,3,null,2,"… un peu récupéré",null,null,null,null,null,null,null,null,null,null,null,null,null,null,null,null,null,null,null,null,null,null,null,"Jours d'entrainement",null,{"$f":"IF(SUM(AH4:AH24)=0,\"\",SUM(AH4:AH24))","v":""}]
[null,null,null,"Assez dur",null,null,null,4,null,3,"… récupéré",null,null,null,null,null,null,null,null,null,null,{"$f":"B4","v":"Lu"},{"$f":"AK4","v":0},null,null,null,null,null,null,null,null,null,null,null,"Entrainements",null,{"$f":"IF(AK32=\"\",\"\",SUM(M27:AG27))","v":""}]
[null,null,null,"dur",null,null,null,5,null,4,"…  en forme",null,null,null,null,null,null,null,null,null,null,{"$f":"B7","v":"Ma"},{"$f":"AK7","v":0},null,null,null,null,null,null,null,null,null,null,null,"Heures d'entrainement",null,{"$f":"IF(AK32=\"\",\"\",SUM(M25,P25,S25,Y25,AB25,V25,AE25)/60)","v":""},null,{"$f":"IF($AK$32=\"\",\"\",AK32-AM36-AM44-AM52)","v":""},"Aucune limitation",null,null,null,0]
[null,null,null,null,null,null,null,6,null,5,"… très en forme",null,null,null,null,null,null,null,null,null,null,{"$f":"B10","v":"Me"},{"$f":"AK10","v":0},null,null,null,null,null,null,null,null,null,null,null,"Charge de l'entrainement",null,{"$f":"IF(AK32=\"\",\"\",SUM(AK25))","v":""}]
[null,null,null,"très dur",null,null,null,7,null,null,null,null,null,null,null,null,null,null,null,null,null,{"$f":"B13","v":"Je"},{"$f":"AK13","v":0},null,null,null,null,null,null,null,null,null,null,null,"Monotonie",null,{"$f":"IF(AK27=0,0,(AVERAGE(AK4:AK24))/AK27)","v":0},null,{"$f":"SUM(AM37:AM42)","v":0},"Limitation pour cause de douleurs"]
[null,null,null,null,null,null,null,8,null,"Nombre de matchs",null,null,null,null,null,null,null,null,null,null,null,{"$f":"B16","v":"Ve"},{"$f":"AK16","v":0},null,null,null,null,null,null,null,null,null,null,null,"Efforts à l'entrainement",null,{"$f":"IF(AK32=\"\",\"\",AK35*AK36)","v":""},null,{"$f":"COUNTIF($H$4:$H$24,$AR37)","v":0},"Doigt",null,null,null,1]
[null,null,null,"extrèmement dur",null,null,null,9,null,null,null,null,null,null,null,null,null,null,null,null,null,{"$f":"B19","v":"Sa"},{"$f":"AK19","v":0},null,null,null,null,null,null,null,null,null,null,null,null,null,null,null,0,"Épaule",null,null,null,2]
[null,null,null,"Comme mon entrainement le plus dur",null,null,null,10,null,1,"… 3 sets et plus",null,null,null,null,null,null,null,null,null,null,{"$f":"B22","v":"Di"},{"$f":"AK22","v":0},null,null,null,null,null,null,null,null,null,null,null,"Compétition",null,null,null,0,"Dos",null,null,null,3]
[null,null,null,null,null,null,null,null,null,0.5,"… moins de 3 sets",null,null,null,null,null,null,null,null,null,null,null,null,null,null,null,null,null,null,null,null,null,null,null,"Matchs de volleyball",null,{"$f":"IF(AK32=\"\",\"\",SUM(AM4:AM24))","v":""},null,0,"Genou",null,null,null,4]
[null,null,null,null,null,null,null,null,null,null,null,null,null,null,null,null,null,null,null,null,null,null,null,null,null,null,null,null,null,null,null,null,null,null,"Sets de volleyball",null,{"$f":"IF(AK32=\"\",\"\",SUM(AN4:AN24))","v":""},null,0,"Cheville",null,null,null,5]
[null,null,null,null,null,null,null,null,null,"Sets joués",null,null,null,null,null,null,null,null,null,null,null,null,null,null,null,null,null,null,null,null,null,null,null,null,"Matchs de beach volley",null,{"$f":"IF(AK35=\"\",\"\",SUM(AO4:AO24))","v":""},null,0,"Autre",null,null,null,6]
[null,null,null,null,null,null,null,null,null,1,"… depuis le début et durant tout le set",null,null,null,null,null,null,null,null,null,null,null,null,null,null,null,null,null,null,null,null,null,null,null,"Sets de beach volley",null,{"$f":"IF(AK35=\"\",\"\",SUM(AP4:AP24))","v":""}]
[null,null,null,null,null,null,null,null,null,0.5,"… entré/sorti en cours, beaucoup joué",null,null,null,null,null,null,null,null,null,null,null,null,null,null,null,null,null,null,null,null,null,null,null,null,null,null,null,{"$f":"SUM(AM45:AM50)","v":0},"Absence pour cause de blessure"]
[null,null,null,null,null,null,null,null,null,0.1,"… entré/sorti en cours, peu joué",null,null,null,null,null,null,null,null,null,null,null,null,null,null,null,null,null,null,null,null,null,null,null,"Satisfaction",null,null,null,{"$f":"COUNTIF($H$4:$H$24,$AR45)","v":0},"Doigt",null,null,null,11]
[null,null,null,null,null,null,null,null,null,null,null,null,null,null,null,null,null,null,null,null,null,null,null,null,null,null,null,null,null,null,null,null,null,null,"Satisfaction de l'entrainement/match J",null,{"$f":"IF(AK32=\"\",\"\",SUM(AQ4:AQ24)/AK32)","v":""},null,0,"Épaule",null,null,null,12]
[null,null,null,null,null,null,null,null,null,"J","Es-tu content de la qualité de ton",null,null,null,null,null,null,null,null,null,null,null,null,null,null,null,null,null,null,null,null,null,null,null,null,null,null,null,0,"Dos",null,null,null,13]
[null,null,null,null,null,null,null,null,null,null,"entrainement/compétition?",null,null,null,null,null,null,null,null,null,null,null,null,null,null,null,null,null,null,null,null,null,null,null,"Santé",null,null,null,0,"Genou",null,null,null,14]
[null,null,null,null,null,null,null,null,null,1,"… pas content",null,null,null,null,null,null,null,null,null,null,null,null,null,null,null,null,null,null,null,null,null,null,null,"Limitation pour cause de douleurs",null,{"$f":"AM36","v":0},null,0,"Cheville",null,null,null,15]
[null,null,null,null,null,null,null,null,null,2,"… plutôt pas content",null,null,null,null,null,null,null,null,null,null,null,null,null,null,null,null,null,null,null,null,null,null,null,"Absence pour cause de blessure",null,{"$f":"AM44","v":0},null,0,"Autre",null,null,null,16]
[null,null,null,null,null,null,null,null,null,3,"… moyen",null,null,null,null,null,null,null,null,null,null,null,null,null,null,null,null,null,null,null,null,null,null,null,"Absence pour cause de maladie",null,{"$f":"AM52","v":0}]
[null,null,null,null,null,null,null,null,null,4,"… content",null,null,null,null,null,null,null,null,null,null,null,null,null,null,null,null,null,null,null,null,null,null,null,null,null,null,null,{"$f":"SUM(AM53:AM59)","v":0},"Absence pour cause de maladie"]
[null,null,null,null,null,null,null,null,null,5,"… très content!",null,null,null,null,null,null,null,null,null,null,null,null,null,null,null,null,null,null,null,null,null,null,null,null,null,null,null,{"$f":"COUNTIF($H$4:$H$24,$AR53)","v":0},"Maladie",null,null,null,21]
[]
[]
[]
[]
[]
[]
[]
[]
[]
[]
[]
[]
[]
[]
[]
[]
[]
[]
[]
[]
[]
[]
[]
[]
[]
[]
[]
[]
[]
[]
[]
[]
[]
[]
[]
[]
[]
[]
[]
[]
[]
[]
[]
[]
[]
[]
[]
[]
[]
[]
[]
[]
[]
[]
[]
[]
[]
[]
[]
[]
[]
[]
[]
[]
[]
[]
[]
[]
[]
[]
[]
[]
[]
[]
[]
[]
[]
[]
[]
[]
[null,null,null,null,null,null,null,null,null,null,null,null,null,null,null,null,null,null,null,null,null,null,null,null,{"$f":"Z134-1","v":28},{"$f":"AA134-1","v":29},{"$f":"AB134-1","v":30},{"$f":"AC134-1","v":31},{"$f":"AD134-1","v":32},{"$f":"D1","v":33},{"$f":"AD134+1","v":34},{"$f":"AE134+1","v":35}]
[]
[]
[]
[]
[]
[]
[]
[]
[]
[]
[]
[]
[]
[]
[]
[]
[]
[]
[]
[]
[null,null,null,null,null,null,null,null,null,null,null,null,null,null,null,null,null,null,null,null,null,null,null,null,null,null,null,null,null,null,null,null,{"$f":"AF134+1","v":36}]

{"sheet":"34","index":10,"n_rows":155,"n_cols":45,"rows_kept":155,"cut":false,"hidden":false,"merged":[[35,3,35,6],[36,3,36,6],[38,3,38,6],[30,38,31,43],[0,5,0,6],[1,44,2,44],[20,9,20,10],[16,9,16,10],[11,9,11,10],[15,9,15,10],[1,15,1,17],[28,10,29,10],[27,3,27,6],[28,3,28,6],[22,9,22,10],[18,9,18,10],[19,9,19,10],[1,39,2,39],[7,9,7,10],[17,9,17,10],[1,40,2,40],[1,43,2,43],[30,3,30,6],[31,3,31,6],[21,36,23,36],[9,36,11,36],[12,36,14,36],[15,36,17,36],[18,36,20,36],[1,41,2,41],[29,3,29,6],[15,5,17,5],[21,6,23,6],[21,9,21,10],[23,9,23,10],[21,7,23,7],[21,4,23,4],[18,7,20,7],[18,4,20,4],[18,6,20,6],[1,38,2,38],[12,4,14,4],[6,36,8,36],[3,3,5,3],[3,6,5,6],[21,1,23,1],[15,7,17,7],[15,1,17,1],[15,3,17,3],[15,6,17,6],[15,4,17,4],[18,5,20,5],[18,1,20,1],[18,3,20,3],[21,5,23,5],[21,3,23,3],[1,1,2,1],[1,36,2,36],[1,34,2,34],[1,21,1,23],[1,9,2,10],[3,1,5,1],[1,27,1,29],[1,24,1,26],[3,4,5,4],[3,7,5,7],[1,12,1,14],[3,9,3,10],[4,9,4,10],[3,5,5,5],[5,9,5,10],[3,36,5,36],[1,18,1,20],[1,30,1,32],[9,1,11,1],[9,3,11,3],[9,6,11,6],[9,9,9,10],[10,9,10,10],[6,4,8,4],[9,7,11,7],[9,4,11,4],[12,1,14,1],[12,3,14,3],[12,6,14,6],[12,9,12,10],[13,9,13,10],[14,9,14,10],[12,7,14,7],[9,5,11,5],[12,5,14,5],[6,3,8,3],[6,6,8,6],[6,9,6,10],[8,9,8,10],[6,5,8,5],[6,1,8,1],[6,7,8,7],[38,34,38,36],[44,34,44,36],[47,34,47,36],[28,9,29,9],[29,21,29,26],[36,9,37,9],[46,9,47,9],[30,34,30,36],[37,3,37,6],[32,3,32,6],[33,3,33,6],[34,3,34,6]]}
[null,null,"Woche",{"$f":"INT(MOD(INT((F1-2)/7)+0.6,52+5/28))+1","v":34},{"$f":"D1+1000","v":1034},{"$f":"'33'!F1+7","v":"2018-08-20"},null,"-",null,{"$f":"F1+6","v":"2018-08-26"},null,null,null,null,null,null,null,null,null,null,null,null,null,null,null,null,null,null,null,null,null,null,{"$f":"'Aperçu de la charge'!D2","v":"Prénom Nom"},null,{"$f":"'Aperçu de la charge'!N2","v":"2018/2019"}]
[null,"Jour",null,"Poids","REG","qualité sommeil","durée sommeil","Santé",null,"Description de l'entrainement",null,null,"Club - VB",null,null,"TS/ Nati - VB",null,null,"Club - BVB",null,null,"TS/ Nati - BVB",null,null,"Force - fitness",null,null,"Compet. - VB",null,null,"Compet. - BVB",null,null,null,"Réflexion",null,"Charge/\njour",null,"matchs VB","Sets VB","Matchs BVB","Sets BVB","J","Autre\n (Rég, mentale)","Mental- oder Sonstiges Training"]
[null,null,null,"[kg]","[1 - 5]","[1-5]","[Std]","Nr.",null,null,null,null,"Durée","RPE","Charge","Durée","RPE","Charge","Durée","RPE","Charge","Durée","RPE","Charge","Durée","RPE","Charge","Durée","RPE","Charge","Durée","RPE","Charge",null,null,null,null,null,null,null,null,null,"[1-5]"]
[null,"Lu",null,0,0,0,0,0,null,null,null,null,null,null,{"$f":"M4*N4","v":0},null,null,{"$f":"P4*Q4","v":0},null,null,{"$f":"S4*T4","v":0},null,null,{"$f":"V4*W4","v":0},null,null,{"$f":"Y4*Z4","v":0},null,null,{"$f":"AB4*AC4","v":0},null,null,{"$f":"AE4*AF4","v":0},{"$f":"IF(SUM(M4:AG6)>0,1,0)","v":"00:00:00"},null,null,{"$f":"SUM(O4:O6,R4:R6,U4:U6,X4:X6,AA4:AA6,AD4:AD6,AG4:AG6)","v":0}]
[null,null,null,null,null,null,null,null,null,null,null,null,null,null,{"$f":"M5*N5","v":0},null,null,{"$f":"P5*Q5","v":0},null,null,{"$f":"S5*T5","v":0},null,null,{"$f":"V5*W5","v":0},null,null,{"$f":"Y5*Z5","v":0},null,null,{"$f":"AB5*AC5","v":0},null,null,{"$f":"AE5*AF5","v":0}]
[null,null,null,null,null,null,null,null,null,null,null,null,null,null,0,null,null,0,null,null,0,null,null,0,null,null,0,null,null,0,null,null,0]
[null,"Ma",null,0,0,0,0,0,null,null,null,null,null,null,0,null,null,{"$f":"P7*Q7","v":0},null,null,0,null,null,0,null,null,0,null,null,0,null,null,0,{"$f":"IF(SUM(M7:AG9)>0,1,0)","v":"00:00:00"},null,null,{"$f":"SUM(O7:O9,R7:R9,U7:U9,X7:X9,AA7:AA9,AD7:AD9,AG7:AG9)","v":0}]
[null,null,null,null,null,null,null,null,null,null,null,null,null,null,0,null,null,0,null,null,0,null,null,0,null,null,0,null,null,0,null,null,0]
[null,null,null,null,null,null,null,null,null,null,null,null,null,null,0,null,null,0,null,null,0,null,null,0,null,null,0,null,null,0,null,null,0]
[null,"Me",null,0,0,0,0,0,null,null,null,null,null,null,0,null,null,{"$f":"P10*Q10","v":0},null,null,0,null,null,0,null,null,0,null,null,0,null,null,0,{"$f":"IF(SUM(M10:AG12)>0,1,0)","v":"00:00:00"},null,null,{"$f":"SUM(O10:O12,R10:R12,U10:U12,X10:X12,AA10:AA12,AD10:AD12,AG10:AG12)","v":0}]
[null,null,null,null,null,null,null,null,null,null,null,null,null,null,0,null,null,0,null,null,0,null,null,0,null,null,0,null,null,0,null,null,0]
[null,null,null,null,null,null,null,null,null,null,null,null,null,null,0,null,null,0,null,null,0,null,null,0,null,null,0,null,null,0,null,null,0]
[null,"Je",null,0,0,0,0,0,null,null,null,null,null,null,0,null,null,{"$f":"P13*Q13","v":0},null,null,0,null,null,0,null,null,0,null,null,0,null,null,0,{"$f":"IF(SUM(M13:AG15)>0,1,0)","v":"00:00:00"},null,null,{"$f":"SUM(O13:O15,R13:R15,U13:U15,X13:X15,AA13:AA15,AD13:AD15,AG13:AG15)","v":0}]
[null,null,null,null,null,null,null,null,null,null,null,null,null,null,0,null,null,0,null,null,0,null,null,0,null,null,0,null,null,0,null,null,0]
[null,null,null,null,null,null,null,null,null,null,null,null,null,null,0,null,null,0,null,null,0,null,null,0,null,null,0,null,null,0,null,null,0]
[null,"Ve",null,0,0,0,0,0,null,null,null,null,null,null,0,null,null,{"$f":"P16*Q16","v":0},null,null,0,null,null,0,null,null,0,null,null,0,null,null,0,{"$f":"IF(SUM(M16:AG18)>0,1,0)","v":"00:00:00"},null,null,{"$f":"SUM(O16:O18,R16:R18,U16:U18,X16:X18,AA16:AA18,AD16:AD18,AG16:AG18)","v":0}]
[null,null,null,null,null,null,null,null,null,null,null,null,null,null,0,null,null,0,null,null,0,null,null,0,null,null,0,null,null,0,null,null,0]
[null,null,null,null,null,null,null,null,null,null,null,null,null,null,0,null,null,0,null,null,0,null,null,0,null,null,0,null,null,0,null,null,0]
[null,"Sa",null,0,0,0,0,0,null,null,null,null,null,null,{"$f":"M19*N19","v":0},null,null,{"$f":"P19*Q19","v":0},null,null,{"$f":"S19*T19","v":0},null,null,{"$f":"V19*W19","v":0},null,null,{"$f":"Y19*Z19","v":0},null,null,{"$f":"AB19*AC19","v":0},null,null,{"$f":"AE19*AF19","v":0},{"$f":"IF(SUM(M19:AG21)>0,1,0)","v":"00:00:00"},null,null,{"$f":"SUM(O19:O21,R19:R21,U19:U21,X19:X21,AA19:AA21,AD19:AD21,AG19:AG21)","v":0}]
[null,null,null,null,null,null,null,null,null,null,null,null,null,null,{"$f":"M20*N20","v":0},null,null,0,null,null,{"$f":"S20*T20","v":0},null,null,{"$f":"V20*W20","v":0},null,null,{"$f":"Y20*Z20","v":0},null,null,{"$f":"AB20*AC20","v":0},null,null,{"$f":"AE20*AF20","v":0}]
[null,null,null,null,null,null,null,null,null,null,null,null,null,null,0,null,null,0,null,null,0,null,null,0,null,null,0,null,null,0,null,null,0]
[null,"Di",null,0,0,0,0,0,null,null,null,null,null,null,0,null,null,{"$f":"P22*Q22","v":0},null,null,0,null,null,0,null,null,0,null,null,0,null,null,0,{"$f":"IF(SUM(M22:AG24)>0,1,0)","v":"00:00:00"},null,null,{"$f":"SUM(O22:O24,R22:R24,U22:U24,X22:X24,AA22:AA24,AD22:AD24,AG22:AG24)","v":0}]
[null,null,null,null,null,null,null,null,null,null,null,null,null,null,0,null,null,0,null,null,0,null,null,0,null,null,0,null,null,0,null,null,0]
[null,null,null,null,null,null,null,null,null,null,null,null,null,null,0,null,null,0,null,null,0,null,null,0,null,null,0,null,null,0,null,null,0]
[null,null,null,null,null,null,null,null,null,null,"Total",null,{"$f":"SUM(M4:M24)","v":0},null,{"$f":"SUM(O4:O24)","v":0},{"$f":"SUM(P4:P24)","v":0},null,{"$f":"SUM(R4:R24)","v":0},{"$f":"SUM(S4:S24)","v":0},null,{"$f":"SUM(U4:U24)","v":0},{"$f":"SUM(V4:V24)","v":0},null,{"$f":"SUM(X4:X24)","v":0},{"$f":"SUM(Y4:Y24)","v":0},null,{"$f":"SUM(AA4:AA24)","v":0},{"$f":"SUM(AB4:AB24)","v":0},null,{"$f":"SUM(AD4:AD24)","v":0},{"$f":"SUM(AE4:AE24)","v":0},null,{"$f":"SUM(AG4:AG24)","v":0},null,"Charge totale",null,{"$f":"SUM(AK4:AK24)","v":0}]
[null,"avg.",null,{"$f":"IF(COUNTA(D4:D24)=0,\"\",AVERAGE(D4:D24))","v":0},{"$f":"IF(COUNTA(E4:E24)=0,\"\",AVERAGE(E4:E24))","v":0},{"$f":"IF(COUNTA(F4:F24)=0,\"\",AVERAGE(F4:F24))","v":0},{"$f":"IF(COUNTA(G4:G24)=0,\"\",AVERAGE(G4:G24))","v":0},{"$f":"IF(COUNTA(H4:H24)=0,\"\",COUNTIF(H4:H24,\"x\"))","v":0},null,null,"Zone",null,1,2,3,1,2,3,1,2,3,1,2,3,1,2,3,1,2,3,1,2,3,null,"Moyenne",null,{"$f":"AVERAGE(AK4:AK24)","v":0}]
[null,null,null,null,null,{"$f":"IF(COUNTA(F4:F24)=0,\"\",VAR(F4:F24))","v":0},{"$f":"IF(COUNTA(G4:G24)=0,\"\",STDEV(G4:G24))","v":0},"Divergence - durée du sommeil",null,null,"Unité par zone (RPE) ",null,{"$f":"IF('Répartition des intensités'!$AR$25=\"x\",COUNTIF(N4:N24,\"<3,5\"),COUNTIF(N4:N24,\"<4,5\"))","v":0},{"$f":"COUNT(N4:N24)-(M27+O27)","v":0},{"$f":"IF('Répartition des intensités'!$AR$25=\"x\",COUNTIF(N4:N24,\">5,5\"),COUNTIF(N4:N24,\">6,5\"))","v":0},{"$f":"IF('Répartition des intensités'!$AR$25=\"x\",COUNTIF(Q4:Q24,\"<3,5\"),COUNTIF(Q4:Q24,\"<4,5\"))","v":0},{"$f":"COUNT(Q4:Q24)-(P27+R27)","v":0},{"$f":"IF('Répartition des intensités'!$AR$25=\"x\",COUNTIF(Q4:Q24,\">5,5\"),COUNTIF(Q4:Q24,\">6,5\"))","v":0},{"$f":"IF('Répartition des intensités'!$AR$25=\"x\",COUNTIF(T4:T24,\"<3,5\"),COUNTIF(T4:T24,\"<4,5\"))","v":0},{"$f":"COUNT(T4:T24)-(S27+U27)","v":0},{"$f":"IF('Répartition des intensités'!$AR$25=\"x\",COUNTIF(T4:T24,\">5,5\"),COUNTIF(T4:T24,\">6,5\"))","v":0},{"$f":"IF('Répartition des intensités'!$AR$25=\"x\",COUNTIF(W4:W24,\"<3,5\"),COUNTIF(W4:W24,\"<4,5\"))","v":0},{"$f":"COUNT(W4:W24)-(V27+X27)","v":0},{"$f":"IF('Répartition des intensités'!$AR$25=\"x\",COUNTIF(W4:W24,\">5,5\"),COUNTIF(W4:W24,\">6,5\"))","v":0},{"$f":"IF('Répartition des intensités'!$AR$25=\"x\",COUNTIF(Z4:Z24,\"<3,5\"),COUNTIF(Z4:Z24,\"<4,5\"))","v":0},{"$f":"COUNT(Z4:Z24)-(Y27+AA27)","v":0},{"$f":"IF('Répartition des intensités'!$AR$25=\"x\",COUNTIF(Z4:Z24,\">5,5\"),COUNTIF(Z4:Z24,\">6,5\"))","v":0},{"$f":"IF('Répartition des intensités'!$AR$25=\"x\",COUNTIF(AC4:AC24,\"<3,5\"),COUNTIF(AC4:AC24,\"<4,5\"))","v":0},{"$f":"COUNT(AC4:AC24)-(AB27+AD27)","v":0},{"$f":"IF('Répartition des intensités'!$AR$25=\"x\",COUNTIF(AC4:AC24,\">5,5\"),COUNTIF(AC4:AC24,\">6,5\"))","v":0},{"$f":"IF('Répartition des intensités'!$AR$25=\"x\",COUNTIF(AF4:AF24,\"<3,5\"),COUNTIF(AF4:AF24,\"<4,5\"))","v":0},{"$f":"COUNT(AF4:AF24)-(AE27+AG27)","v":0},{"$f":"IF('Répartition des intensités'!$AR$25=\"x\",COUNTIF(AF4:AF24,\">5,5\"),COUNTIF(AF4:AF24,\">6,5\"))","v":0},null,"Divergence",null,{"$f":"STDEVP(AK4:AK24)","v":0}]
[null,null,null,"échelle de Foster",null,null,null,"RPE",null,null,"Temps par zone (RPE)",null,{"$f":"IF('Répartition des intensités'!$AR$25=\"x\",SUMIF(N4:N24,\"<3,5\",M4:M24),SUMIF(N4:N24,\"<4,5\",M4:M24))","v":0},{"$f":"IF(N27=0,0,SUM((M25)-(M28+O28)))","v":0},{"$f":"IF('Répartition des intensités'!$AR$25=\"x\",SUMIF(N4:N24,\">5,5\",M4:M24),SUMIF(N4:N24,\">6,5\",M4:M24))","v":0},{"$f":"IF('Répartition des intensités'!$AR$25=\"x\",SUMIF(Q4:Q24,\"<3,5\",P4:P24),SUMIF(Q4:Q24,\"<4,5\",P4:P24))","v":0},{"$f":"IF(Q27=0,0,SUM((P25)-(P28+R28)))","v":0},{"$f":"IF('Répartition des intensités'!$AR$25=\"x\",SUMIF(Q4:Q24,\">5,5\",P4:P24),SUMIF(Q4:Q24,\">6,5\",P4:P24))","v":0},{"$f":"IF('Répartition des intensités'!$AR$25=\"x\",SUMIF(T4:T24,\"<3,5\",S4:S24),SUMIF(T4:T24,\"<4,5\",S4:S24))","v":0},{"$f":"IF(T27=0,0,SUM((S25)-(S28+U28)))","v":0},{"$f":"IF('Répartition des intensités'!$AR$25=\"x\",SUMIF(T4:T24,\">5,5\",S4:S24),SUMIF(T4:T24,\">6,5\",S4:S24))","v":0},{"$f":"IF('Répartition des intensités'!$AR$25=\"x\",SUMIF(W4:W24,\"<3,5\",V4:V24),SUMIF(W4:W24,\"<4,5\",V4:V24))","v":0},{"$f":"IF(W27=0,0,SUM((V25)-(V28+X28)))","v":0},{"$f":"IF('Répartition des intensités'!$AR$25=\"x\",SUMIF(W4:W24,\">5,5\",V4:V24),SUMIF(W4:W24,\">6,5\",V4:V24))","v":0},{"$f":"IF('Répartition des intensités'!$AR$25=\"x\",SUMIF(Z4:Z24,\"<3,5\",Y4:Y24),SUMIF(Z4:Z24,\"<4,5\",Y4:Y24))","v":0},{"$f":"IF(Z27=0,0,SUM((Y25)-(Y28+AA28)))","v":0},{"$f":"IF('Répartition des intensités'!$AR$25=\"x\",SUMIF(Z4:Z24,\">5,5\",Y4:Y24),SUMIF(Z4:Z24,\">6,5\",Y4:Y24))","v":0},{"$f":"IF('Répartition des intensités'!$AR$25=\"x\",SUMIF(AC4:AC24,\"<3,5\",AB4:AB24),SUMIF(AC4:AC24,\"<4,5\",AB4:AB24))","v":0},{"$f":"IF(AC27=0,0,SUM((AB25)-(AB28+AD28)))","v":0},{"$f":"IF('Répartition des intensités'!$AR$25=\"x\",SUMIF(AC4:AC24,\">5,5\",AB4:AB24),SUMIF(AC4:AC24,\">6,5\",AB4:AB24))","v":0},{"$f":"IF('Répartition des intensités'!$AR$25=\"x\",SUMIF(AF4:AF24,\"<3,5\",AE4:AE24),SUMIF(AF4:AF24,\"<4,5\",AE4:AE24))","v":0},{"$f":"IF(AF27=0,0,SUM((AE25)-(AE28+AG28)))","v":0},{"$f":"IF('Répartition des intensités'!$AR$25=\"x\",SUMIF(AF4:AF24,\">5,5\",AE4:AE24),SUMIF(AF4:AF24,\">6,5\",AE4:AE24))","v":0}]
[null,null,null,"Comme au repos",null,null,null,0,null,"REG","Est-ce que j'ai l'impression d'avoir récupéré en me levant?"]
[null,null,null,"très facile",null,null,null,1]
[null,null,null,"facile",null,null,null,2,null,1,"… pas du tout récupéré",null,null,null,null,null,null,null,null,null,null,null,null,null,null,null,null,null,null,null,null,null,null,null,"Entrainements",null,null,null,"Rapport de santé"]
[null,null,null,null,null,null,null,3,null,2,"… un peu récupéré",null,null,null,null,null,null,null,null,null,null,null,null,null,null,null,null,null,null,null,null,null,null,null,"Jours d'entrainement",null,{"$f":"IF(SUM(AH4:AH24)=0,\"\",SUM(AH4:AH24))","v":""}]
[null,null,null,"Assez dur",null,null,null,4,null,3,"… récupéré",null,null,null,null,null,null,null,null,null,null,{"$f":"B4","v":"Lu"},{"$f":"AK4","v":0},null,null,null,null,null,null,null,null,null,null,null,"Entrainements",null,{"$f":"IF(AK32=\"\",\"\",SUM(M27:AG27))","v":""}]
[null,null,null,"dur",null,null,null,5,null,4,"…  en forme",null,null,null,null,null,null,null,null,null,null,{"$f":"B7","v":"Ma"},{"$f":"AK7","v":0},null,null,null,null,null,null,null,null,null,null,null,"Heures d'entrainement",null,{"$f":"IF(AK32=\"\",\"\",SUM(M25,P25,S25,Y25,AB25,V25,AE25)/60)","v":""},null,{"$f":"IF($AK$32=\"\",\"\",AK32-AM36-AM44-AM52)","v":""},"Aucune limitation",null,null,null,0]
[null,null,null,null,null,null,null,6,null,5,"… très en forme",null,null,null,null,null,null,null,null,null,null,{"$f":"B10","v":"Me"},{"$f":"AK10","v":0},null,null,null,null,null,null,null,null,null,null,null,"Charge de l'entrainement",null,{"$f":"IF(AK32=\"\",\"\",SUM(AK25))","v":""}]
[null,null,null,"très dur",null,null,null,7,null,null,null,null,null,null,null,null,null,null,null,null,null,{"$f":"B13","v":"Je"},{"$f":"AK13","v":0},null,null,null,null,null,null,null,null,null,null,null,"Monotonie",null,{"$f":"IF(AK27=0,0,(AVERAGE(AK4:AK24))/AK27)","v":0},null,{"$f":"SUM(AM37:AM42)","v":0},"Limitation pour cause de douleurs"]
[null,null,null,null,null,null,null,8,null,"Nombre de matchs",null,null,null,null,null,null,null,null,null,null,null,{"$f":"B16","v":"Ve"},{"$f":"AK16","v":0},null,null,null,null,null,null,null,null,null,null,null,"Efforts à l'entrainement",null,{"$f":"IF(AK32=\"\",\"\",AK35*AK36)","v":""},null,{"$f":"COUNTIF($H$4:$H$24,$AR37)","v":0},"Doigt",null,null,null,1]
[null,null,null,"extrèmement dur",null,null,null,9,null,null,null,null,null,null,null,null,null,null,null,null,null,{"$f":"B19","v":"Sa"},{"$f":"AK19","v":0},null,null,null,null,null,null,null,null,null,null,null,null,null,null,null,0,"Épaule",null,null,null,2]
[null,null,null,"Comme mon entrainement le plus dur",null,null,null,10,null,1,"… 3 sets et plus",null,null,null,null,null,null,null,null,null,null,{"$f":"B22","v":"Di"},{"$f":"AK22","v":0},null,null,null,null,null,null,null,null,null,null,null,"Compétition",null,null,null,0,"Dos",null,null,null,3]
[null,null,null,null,null,null,null,null,null,0.5,"… moins de 3 sets",null,null,null,null,null,null,null,null,null,null,null,null,null,null,null,null,null,null,null,null,null,null,null,"Matchs de volleyball",null,{"$f":"IF(AK32=\"\",\"\",SUM(AM4:AM24))","v":""},null,0,"Genou",null,null,null,4]
[null,null,null,null,null,null,null,null,null,null,null,null,null,null,null,null,null,null,null,null,null,null,null,null,null,null,null,null,null,null,null,null,null,null,"Sets de volleyball",null,{"$f":"IF(AK32=\"\",\"\",SUM(AN4:AN24))","v":""},null,0,"Cheville",null,null,null,5]
[null,null,null,null,null,null,null,null,null,"Sets joués",null,null,null,null,null,null,null,null,null,null,null,null,null,null,null,null,null,null,null,null,null,null,null,null,"Matchs de beach volley",null,{"$f":"IF(AK35=\"\",\"\",SUM(AO4:AO24))","v":""},null,0,"Autre",null,null,null,6]
[null,null,null,null,null,null,null,null,null,1,"… depuis le début et durant tout le set",null,null,null,null,null,null,null,null,null,null,null,null,null,null,null,null,null,null,null,null,null,null,null,"Sets de beach volley",null,{"$f":"IF(AK35=\"\",\"\",SUM(AP4:AP24))","v":""}]
[null,null,null,null,null,null,null,null,null,0.5,"… entré/sorti en cours, beaucoup joué",null,null,null,null,null,null,null,null,null,null,null,null,null,null,null,null,null,null,null,null,null,null,null,null,null,null,null,{"$f":"SUM(AM45:AM50)","v":0},"Absence pour cause de blessure"]
[null,null,null,null,null,null,null,null,null,0.1,"… entré/sorti en cours, peu joué",null,null,null,null,null,null,null,null,null,null,null,null,null,null,null,null,null,null,null,null,null,null,null,"Satisfaction",null,null,null,{"$f":"COUNTIF($H$4:$H$24,$AR45)","v":0},"Doigt",null,null,null,11]
[null,null,null,null,null,null,null,null,null,null,null,null,null,null,null,null,null,null,null,null,null,null,null,null,null,null,null,null,null,null,null,null,null,null,"Satisfaction de l'entrainement/match J",null,{"$f":"IF(AK32=\"\",\"\",SUM(AQ4:AQ24)/AK32)","v":""},null,0,"Épaule",null,null,null,12]
[null,null,null,null,null,null,null,null,null,"J","Es-tu content de la qualité de ton",null,null,null,null,null,null,null,null,null,null,null,null,null,null,null,null,null,null,null,null,null,null,null,null,null,null,null,0,"Dos",null,null,null,13]
[null,null,null,null,null,null,null,null,null,null,"entrainement/compétition?",null,null,null,null,null,null,null,null,null,null,null,null,null,null,null,null,null,null,null,null,null,null,null,"Santé",null,null,null,0,"Genou",null,null,null,14]
[null,null,null,null,null,null,null,null,null,1,"… pas content",null,null,null,null,null,null,null,null,null,null,null,null,null,null,null,null,null,null,null,null,null,null,null,"Limitation pour cause de douleurs",null,{"$f":"AM36","v":0},null,0,"Cheville",null,null,null,15]
[null,null,null,null,null,null,null,null,null,2,"… plutôt pas content",null,null,null,null,null,null,null,null,null,null,null,null,null,null,null,null,null,null,null,null,null,null,null,"Absence pour cause de blessure",null,{"$f":"AM44","v":0},null,0,"Autre",null,null,null,16]
[null,null,null,null,null,null,null,null,null,3,"… moyen",null,null,null,null,null,null,null,null,null,null,null,null,null,null,null,null,null,null,null,null,null,null,null,"Absence pour cause de maladie",null,{"$f":"AM52","v":0}]
[null,null,null,null,null,null,null,null,null,4,"… content",null,null,null,null,null,null,null,null,null,null,null,null,null,null,null,null,null,null,null,null,null,null,null,null,null,null,null,{"$f":"SUM(AM53:AM59)","v":0},"Absence pour cause de maladie"]
[null,null,null,null,null,null,null,null,null,5,"… très content!",null,null,null,null,null,null,null,null,null,null,null,null,null,null,null,null,null,null,null,null,null,null,null,null,null,null,null,{"$f":"COUNTIF($H$4:$H$24,$AR53)","v":0},"Maladie",null,null,null,21]
[]
[]
[]
[]
[]
[]
[]
[]
[]
[]
[]
[]
[]
[]
[]
[]
[]
[]
[]
[]
[]
[]
[]
[]
[]
[]
[]
[]
[]
[]
[]
[]
[]
[]
[]
[]
[]
[]
[]
[]
[]
[]
[]
[]
[]
[]
[]
[]
[]
[]
[]
[]
[]
[]
[]
[]
[]
[]
[]
[]
[]
[]
[]
[]
[]
[]
[]
[]
[]
[]
[]
[]
[]
[]
[]
[]
[]
[]
[]
[]
[null,null,null,null,null,null,null,null,null,null,null,null,null,null,null,null,null,null,null,null,null,null,null,null,{"$f":"Z134-1","v":29},{"$f":"AA134-1","v":30},{"$f":"AB134-1","v":31},{"$f":"AC134-1","v":32},{"$f":"AD134-1","v":33},{"$f":"D1","v":34},{"$f":"AD134+1","v":35},{"$f":"AE134+1","v":36}]
[]
[]
[]
[]
[]
[]
[]
[]
[]
[]
[]
[]
[]
[]
[]
[]
[]
[]
[]
[]
[null,null,null,null,null,null,null,null,null,null,null,null,null,null,null,null,null,null,null,null,null,null,null,null,null,null,null,null,null,null,null,null,{"$f":"H1","v":"-"}]

{"sheet":"35","index":11,"n_rows":155,"n_cols":45,"rows_kept":155,"cut":false,"hidden":false,"merged":[[30,34,30,36],[30,38,31,43],[0,5,0,6],[1,44,2,44],[1,15,1,17],[28,10,29,10],[22,9,22,10],[37,3,37,6],[38,3,38,6],[31,3,31,6],[32,3,32,6],[33,3,33,6],[34,3,34,6],[27,3,27,6],[28,3,28,6],[29,3,29,6],[30,3,30,6],[35,3,35,6],[28,9,29,9],[36,9,37,9],[9,4,11,4],[12,4,14,4],[3,7,5,7],[15,7,17,7],[1,12,1,14],[11,9,11,10],[7,9,7,10],[10,9,10,10],[1,39,2,39],[18,36,20,36],[21,36,23,36],[1,41,2,41],[15,36,17,36],[1,38,2,38],[17,9,17,10],[1,27,1,29],[1,24,1,26],[9,36,11,36],[12,36,14,36],[9,7,11,7],[14,9,14,10],[12,7,14,7],[3,5,5,5],[6,5,8,5],[9,5,11,5],[12,5,14,5],[15,9,15,10],[16,9,16,10],[6,7,8,7],[15,6,17,6],[18,5,20,5],[1,40,2,40],[1,1,2,1],[1,36,2,36],[1,34,2,34],[1,21,1,23],[1,9,2,10],[1,18,1,20],[1,30,1,32],[9,1,11,1],[9,3,11,3],[9,6,11,6],[9,9,9,10],[3,4,5,4],[6,4,8,4],[3,1,5,1],[6,36,8,36],[3,3,5,3],[3,6,5,6],[3,9,3,10],[4,9,4,10],[5,9,5,10],[3,36,5,36],[6,1,8,1],[6,3,8,3],[21,1,23,1],[21,3,23,3],[21,5,23,5],[21,6,23,6],[21,9,21,10],[23,9,23,10],[21,7,23,7],[21,4,23,4],[12,1,14,1],[12,3,14,3],[12,6,14,6],[12,9,12,10],[13,9,13,10],[18,9,18,10],[19,9,19,10],[20,9,20,10],[18,7,20,7],[18,1,20,1],[18,3,20,3],[18,6,20,6],[18,4,20,4],[15,1,17,1],[15,3,17,3],[1,43,2,43],[38,34,38,36],[44,34,44,36],[47,34,47,36],[29,21,29,26],[36,3,36,6],[46,9,47,9],[15,4,17,4],[15,5,17,5],[6,6,8,6],[6,9,6,10],[8,9,8,10]]}
[null,null,"Woche",{"$f":"INT(MOD(INT((F1-2)/7)+0.6,52+5/28))+1","v":35},{"$f":"D1+1000","v":1035},{"$f":"'34'!F1+7","v":"2018-08-27"},null,"-",null,{"$f":"F1+6","v":"2018-09-02"},null,null,null,null,null,null,null,null,null,null,null,null,null,null,null,null,null,null,null,null,null,null,{"$f":"'Aperçu de la charge'!D2","v":"Prénom Nom"},null,{"$f":"'Aperçu de la charge'!N2","v":"2018/2019"}]
[null,"Jour",null,"Poids","REG","qualité sommeil","durée sommeil","Santé",null,"Description de l'entrainement",null,null,"Club - VB",null,null,"TS/ Nati - VB",null,null,"Club - BVB",null,null,"TS/ Nati - BVB",null,null,"Force - fitness",null,null,"Compet. - VB",null,null,"Compet. - BVB",null,null,null,"Réflexion",null,"Charge/\njour",null,"matchs VB","Sets VB","Matchs BVB","Sets BVB","J","Autre\n (Rég, mentale)","Mental- oder Sonstiges Training"]
[null,null,null,"[kg]","[1 - 5]","[1-5]","[Std]","Nr.",null,null,null,null,"Durée","RPE","Charge","Durée","RPE","Charge","Durée","RPE","Charge","Durée","RPE","Charge","Durée","RPE","Charge","Durée","RPE","Charge","Durée","RPE","Charge",null,null,null,null,null,null,null,null,null,"[1-5]"]
[null,"Lu",null,0,0,0,0,0,null,null,null,null,null,null,{"$f":"M4*N4","v":0},null,null,{"$f":"P4*Q4","v":0},null,null,{"$f":"S4*T4","v":0},null,null,{"$f":"V4*W4","v":0},null,null,{"$f":"Y4*Z4","v":0},null,null,{"$f":"AB4*AC4","v":0},null,null,{"$f":"AE4*AF4","v":0},{"$f":"IF(SUM(M4:AG6)>0,1,0)","v":"00:00:00"},null,null,{"$f":"SUM(O4:O6,R4:R6,U4:U6,X4:X6,AA4:AA6,AD4:AD6,AG4:AG6)","v":0}]
[null,null,null,null,null,null,null,null,null,null,null,null,null,null,{"$f":"M5*N5","v":0},null,null,{"$f":"P5*Q5","v":0},null,null,{"$f":"S5*T5","v":0},null,null,{"$f":"V5*W5","v":0},null,null,{"$f":"Y5*Z5","v":0},null,null,{"$f":"AB5*AC5","v":0},null,null,{"$f":"AE5*AF5","v":0}]
[null,null,null,null,null,null,null,null,null,null,null,null,null,null,0,null,null,0,null,null,0,null,null,0,null,null,0,null,null,0,null,null,0]
[null,"Ma",null,0,0,0,0,0,null,null,null,null,null,null,0,null,null,{"$f":"P7*Q7","v":0},null,null,0,null,null,0,null,null,0,null,null,0,null,null,0,{"$f":"IF(SUM(M7:AG9)>0,1,0)","v":"00:00:00"},null,null,{"$f":"SUM(O7:O9,R7:R9,U7:U9,X7:X9,AA7:AA9,AD7:AD9,AG7:AG9)","v":0}]
[null,null,null,null,null,null,null,null,null,null,null,null,null,null,0,null,null,0,null,null,0,null,null,0,null,null,0,null,null,0,null,null,0]
[null,null,null,null,null,null,null,null,null,null,null,null,null,null,0,null,null,0,null,null,0,null,null,0,null,null,0,null,null,0,null,null,0]
[null,"Me",null,0,0,0,0,0,null,null,null,null,null,null,0,null,null,{"$f":"P10*Q10","v":0},null,null,0,null,null,0,null,null,0,null,null,0,null,null,0,{"$f":"IF(SUM(M10:AG12)>0,1,0)","v":"00:00:00"},null,null,{"$f":"SUM(O10:O12,R10:R12,U10:U12,X10:X12,AA10:AA12,AD10:AD12,AG10:AG12)","v":0}]
[null,null,null,null,null,null,null,null,null,null,null,null,null,null,0,null,null,0,null,null,0,null,null,0,null,null,0,null,null,0,null,null,0]
[null,null,null,null,null,null,null,null,null,null,null,null,null,null,0,null,null,0,null,null,0,null,null,0,null,null,0,null,null,0,null,null,0]
[null,"Je",null,0,0,0,0,0,null,null,null,null,null,null,0,null,null,{"$f":"P13*Q13","v":0},null,null,0,null,null,0,null,null,0,null,null,0,null,null,0,{"$f":"IF(SUM(M13:AG15)>0,1,0)","v":"00:00:00"},null,null,{"$f":"SUM(O13:O15,R13:R15,U13:U15,X13:X15,AA13:AA15,AD13:AD15,AG13:AG15)","v":0}]
[null,null,null,null,null,null,null,null,null,null,null,null,null,null,0,null,null,0,null,null,0,null,null,0,null,null,0,null,null,0,null,null,0]
[null,null,null,null,null,null,null,null,null,null,null,null,null,null,0,null,null,0,null,null,0,null,null,0,null,null,0,null,null,0,null,null,0]
[null,"Ve",null,0,0,0,0,0,null,null,null,null,null,null,0,null,null,{"$f":"P16*Q16","v":0},null,null,0,null,null,0,null,null,0,null,null,0,null,null,0,{"$f":"IF(SUM(M16:AG18)>0,1,0)","v":"00:00:00"},null,null,{"$f":"SUM(O16:O18,R16:R18,U16:U18,X16:X18,AA16:AA18,AD16:AD18,AG16:AG18)","v":0}]
[null,null,null,null,null,null,null,null,null,null,null,null,null,null,0,null,null,0,null,null,0,null,null,0,null,null,0,null,null,0,null,null,0]
[null,null,null,null,null,null,null,null,null,null,null,null,null,null,0,null,null,0,null,null,0,null,null,0,null,null,0,null,null,0,null,null,0]
[null,"Sa",null,0,0,0,0,0,null,null,null,null,null,null,{"$f":"M19*N19","v":0},null,null,{"$f":"P19*Q19","v":0},null,null,{"$f":"S19*T19","v":0},null,null,{"$f":"V19*W19","v":0},null,null,{"$f":"Y19*Z19","v":0},null,null,{"$f":"AB19*AC19","v":0},null,null,{"$f":"AE19*AF19","v":0},{"$f":"IF(SUM(M19:AG21)>0,1,0)","v":"00:00:00"},null,null,{"$f":"SUM(O19:O21,R19:R21,U19:U21,X19:X21,AA19:AA21,AD19:AD21,AG19:AG21)","v":0}]
[null,null,null,null,null,null,null,null,null,null,null,null,null,null,{"$f":"M20*N20","v":0},null,null,0,null,null,{"$f":"S20*T20","v":0},null,null,{"$f":"V20*W20","v":0},null,null,{"$f":"Y20*Z20","v":0},null,null,{"$f":"AB20*AC20","v":0},null,null,{"$f":"AE20*AF20","v":0}]
[null,null,null,null,null,null,null,null,null,null,null,null,null,null,0,null,null,0,null,null,0,null,null,0,null,null,0,null,null,0,null,null,0]
[null,"Di",null,0,0,0,0,0,null,null,null,null,null,null,0,null,null,{"$f":"P22*Q22","v":0},null,null,0,null,null,0,null,null,0,null,null,0,null,null,0,{"$f":"IF(SUM(M22:AG24)>0,1,0)","v":"00:00:00"},null,null,{"$f":"SUM(O22:O24,R22:R24,U22:U24,X22:X24,AA22:AA24,AD22:AD24,AG22:AG24)","v":0}]
[null,null,null,null,null,null,null,null,null,null,null,null,null,null,0,null,null,0,null,null,0,null,null,0,null,null,0,null,null,0,null,null,0]
[null,null,null,null,null,null,null,null,null,null,null,null,null,null,0,null,null,0,null,null,0,null,null,0,null,null,0,null,null,0,null,null,0]
[null,null,null,null,null,null,null,null,null,null,"Total",null,{"$f":"SUM(M4:M24)","v":0},null,{"$f":"SUM(O4:O24)","v":0},{"$f":"SUM(P4:P24)","v":0},null,{"$f":"SUM(R4:R24)","v":0},{"$f":"SUM(S4:S24)","v":0},null,{"$f":"SUM(U4:U24)","v":0},{"$f":"SUM(V4:V24)","v":0},null,{"$f":"SUM(X4:X24)","v":0},{"$f":"SUM(Y4:Y24)","v":0},null,{"$f":"SUM(AA4:AA24)","v":0},{"$f":"SUM(AB4:AB24)","v":0},null,{"$f":"SUM(AD4:AD24)","v":0},{"$f":"SUM(AE4:AE24)","v":0},null,{"$f":"SUM(AG4:AG24)","v":0},null,"Charge totale",null,{"$f":"SUM(AK4:AK24)","v":0}]
[null,"avg.",null,{"$f":"IF(COUNTA(D4:D24)=0,\"\",AVERAGE(D4:D24))","v":0},{"$f":"IF(COUNTA(E4:E24)=0,\"\",AVERAGE(E4:E24))","v":0},{"$f":"IF(COUNTA(F4:F24)=0,\"\",AVERAGE(F4:F24))","v":0},{"$f":"IF(COUNTA(G4:G24)=0,\"\",AVERAGE(G4:G24))","v":0},{"$f":"IF(COUNTA(H4:H24)=0,\"\",COUNTIF(H4:H24,\"x\"))","v":0},null,null,"Zone",null,1,2,3,1,2,3,1,2,3,1,2,3,1,2,3,1,2,3,1,2,3,null,"Moyenne",null,{"$f":"AVERAGE(AK4:AK24)","v":0}]
[null,null,null,null,null,{"$f":"IF(COUNTA(F4:F24)=0,\"\",VAR(F4:F24))","v":0},{"$f":"IF(COUNTA(G4:G24)=0,\"\",STDEV(G4:G24))","v":0},"Divergence - durée du sommeil",null,null,"Unité par zone (RPE) ",null,{"$f":"IF('Répartition des intensités'!$AR$25=\"x\",COUNTIF(N4:N24,\"<3,5\"),COUNTIF(N4:N24,\"<4,5\"))","v":0},{"$f":"COUNT(N4:N24)-(M27+O27)","v":0},{"$f":"IF('Répartition des intensités'!$AR$25=\"x\",COUNTIF(N4:N24,\">5,5\"),COUNTIF(N4:N24,\">6,5\"))","v":0},{"$f":"IF('Répartition des intensités'!$AR$25=\"x\",COUNTIF(Q4:Q24,\"<3,5\"),COUNTIF(Q4:Q24,\"<4,5\"))","v":0},{"$f":"COUNT(Q4:Q24)-(P27+R27)","v":0},{"$f":"IF('Répartition des intensités'!$AR$25=\"x\",COUNTIF(Q4:Q24,\">5,5\"),COUNTIF(Q4:Q24,\">6,5\"))","v":0},{"$f":"IF('Répartition des intensités'!$AR$25=\"x\",COUNTIF(T4:T24,\"<3,5\"),COUNTIF(T4:T24,\"<4,5\"))","v":0},{"$f":"COUNT(T4:T24)-(S27+U27)","v":0},{"$f":"IF('Répartition des intensités'!$AR$25=\"x\",COUNTIF(T4:T24,\">5,5\"),COUNTIF(T4:T24,\">6,5\"))","v":0},{"$f":"IF('Répartition des intensités'!$AR$25=\"x\",COUNTIF(W4:W24,\"<3,5\"),COUNTIF(W4:W24,\"<4,5\"))","v":0},{"$f":"COUNT(W4:W24)-(V27+X27)","v":0},{"$f":"IF('Répartition des intensités'!$AR$25=\"x\",COUNTIF(W4:W24,\">5,5\"),COUNTIF(W4:W24,\">6,5\"))","v":0},{"$f":"IF('Répartition des intensités'!$AR$25=\"x\",COUNTIF(Z4:Z24,\"<3,5\"),COUNTIF(Z4:Z24,\"<4,5\"))","v":0},{"$f":"COUNT(Z4:Z24)-(Y27+AA27)","v":0},{"$f":"IF('Répartition des intensités'!$AR$25=\"x\",COUNTIF(Z4:Z24,\">5,5\"),COUNTIF(Z4:Z24,\">6,5\"))","v":0},{"$f":"IF('Répartition des intensités'!$AR$25=\"x\",COUNTIF(AC4:AC24,\"<3,5\"),COUNTIF(AC4:AC24,\"<4,5\"))","v":0},{"$f":"COUNT(AC4:AC24)-(AB27+AD27)","v":0},{"$f":"IF('Répartition des intensités'!$AR$25=\"x\",COUNTIF(AC4:AC24,\">5,5\"),COUNTIF(AC4:AC24,\">6,5\"))","v":0},{"$f":"IF('Répartition des intensités'!$AR$25=\"x\",COUNTIF(AF4:AF24,\"<3,5\"),COUNTIF(AF4:AF24,\"<4,5\"))","v":0},{"$f":"COUNT(AF4:AF24)-(AE27+AG27)","v":0},{"$f":"IF('Répartition des intensités'!$AR$25=\"x\",COUNTIF(AF4:AF24,\">5,5\"),COUNTIF(AF4:AF24,\">6,5\"))","v":0},null,"Divergence",null,{"$f":"STDEVP(AK4:AK24)","v":0}]
[null,null,null,"échelle de Foster",null,null,null,"RPE",null,null,"Temps par zone (RPE)",null,{"$f":"IF('Répartition des intensités'!$AR$25=\"x\",SUMIF(N4:N24,\"<3,5\",M4:M24),SUMIF(N4:N24,\"<4,5\",M4:M24))","v":0},{"$f":"IF(N27=0,0,SUM((M25)-(M28+O28)))","v":0},{"$f":"IF('Répartition des intensités'!$AR$25=\"x\",SUMIF(N4:N24,\">5,5\",M4:M24),SUMIF(N4:N24,\">6,5\",M4:M24))","v":0},{"$f":"IF('Répartition des intensités'!$AR$25=\"x\",SUMIF(Q4:Q24,\"<3,5\",P4:P24),SUMIF(Q4:Q24,\"<4,5\",P4:P24))","v":0},{"$f":"IF(Q27=0,0,SUM((P25)-(P28+R28)))","v":0},{"$f":"IF('Répartition des intensités'!$AR$25=\"x\",SUMIF(Q4:Q24,\">5,5\",P4:P24),SUMIF(Q4:Q24,\">6,5\",P4:P24))","v":0},{"$f":"IF('Répartition des intensités'!$AR$25=\"x\",SUMIF(T4:T24,\"<3,5\",S4:S24),SUMIF(T4:T24,\"<4,5\",S4:S24))","v":0},{"$f":"IF(T27=0,0,SUM((S25)-(S28+U28)))","v":0},{"$f":"IF('Répartition des intensités'!$AR$25=\"x\",SUMIF(T4:T24,\">5,5\",S4:S24),SUMIF(T4:T24,\">6,5\",S4:S24))","v":0},{"$f":"IF('Répartition des intensités'!$AR$25=\"x\",SUMIF(W4:W24,\"<3,5\",V4:V24),SUMIF(W4:W24,\"<4,5\",V4:V24))","v":0},{"$f":"IF(W27=0,0,SUM((V25)-(V28+X28)))","v":0},{"$f":"IF('Répartition des intensités'!$AR$25=\"x\",SUMIF(W4:W24,\">5,5\",V4:V24),SUMIF(W4:W24,\">6,5\",V4:V24))","v":0},{"$f":"IF('Répartition des intensités'!$AR$25=\"x\",SUMIF(Z4:Z24,\"<3,5\",Y4:Y24),SUMIF(Z4:Z24,\"<4,5\",Y4:Y24))","v":0},{"$f":"IF(Z27=0,0,SUM((Y25)-(Y28+AA28)))","v":0},{"$f":"IF('Répartition des intensités'!$AR$25=\"x\",SUMIF(Z4:Z24,\">5,5\",Y4:Y24),SUMIF(Z4:Z24,\">6,5\",Y4:Y24))","v":0},{"$f":"IF('Répartition des intensités'!$AR$25=\"x\",SUMIF(AC4:AC24,\"<3,5\",AB4:AB24),SUMIF(AC4:AC24,\"<4,5\",AB4:AB24))","v":0},{"$f":"IF(AC27=0,0,SUM((AB25)-(AB28+AD28)))","v":0},{"$f":"IF('Répartition des intensités'!$AR$25=\"x\",SUMIF(AC4:AC24,\">5,5\",AB4:AB24),SUMIF(AC4:AC24,\">6,5\",AB4:AB24))","v":0},{"$f":"IF('Répartition des intensités'!$AR$25=\"x\",SUMIF(AF4:AF24,\"<3,5\",AE4:AE24),SUMIF(AF4:AF24,\"<4,5\",AE4:AE24))","v":0},{"$f":"IF(AF27=0,0,SUM((AE25)-(AE28+AG28)))","v":0},{"$f":"IF('Répartition des intensités'!$AR$25=\"x\",SUMIF(AF4:AF24,\">5,5\",AE4:AE24),SUMIF(AF4:AF24,\">6,5\",AE4:AE24))","v":0}]
[null,null,null,"Comme au repos",null,null,null,0,null,"REG","Est-ce que j'ai l'impression d'avoir récupéré en me levant?"]
[null,null,null,"très facile",null,null,null,1]
[null,null,null,"facile",null,null,null,2,null,1,"… pas du tout récupéré",null,null,null,null,null,null,null,null,null,null,null,null,null,null,null,null,null,null,null,null,null,null,null,"Entrainements",null,null,null,"Rapport de santé"]
[null,null,null,null,null,null,null,3,null,2,"… un peu récupéré",null,null,null,null,null,null,null,null,null,null,null,null,null,null,null,null,null,null,null,null,null,null,null,"Jours d'entrainement",null,{"$f":"IF(SUM(AH4:AH24)=0,\"\",SUM(AH4:AH24))","v":""}]
[null,null,null,"Assez dur",null,null,null,4,null,3,"… récupéré",null,null,null,null,null,null,null,null,null,null,{"$f":"B4","v":"Lu"},{"$f":"AK4","v":0},null,null,null,null,null,null,null,null,null,null,null,"Entrainements",null,{"$f":"IF(AK32=\"\",\"\",SUM(M27:AG27))","v":""}]
[null,null,null,"dur",null,null,null,5,null,4,"…  en forme",null,null,null,null,null,null,null,null,null,null,{"$f":"B7","v":"Ma"},{"$f":"AK7","v":0},null,null,null,null,null,null,null,null,null,null,null,"Heures d'entrainement",null,{"$f":"IF(AK32=\"\",\"\",SUM(M25,P25,S25,Y25,AB25,V25,AE25)/60)","v":""},null,{"$f":"IF($AK$32=\"\",\"\",AK32-AM36-AM44-AM52)","v":""},"Aucune limitation",null,null,null,0]
[null,null,null,null,null,null,null,6,null,5,"… très en forme",null,null,null,null,null,null,null,null,null,null,{"$f":"B10","v":"Me"},{"$f":"AK10","v":0},null,null,null,null,null,null,null,null,null,null,null,"Charge de l'entrainement",null,{"$f":"IF(AK32=\"\",\"\",SUM(AK25))","v":""}]
[null,null,null,"très dur",null,null,null,7,null,null,null,null,null,null,null,null,null,null,null,null,null,{"$f":"B13","v":"Je"},{"$f":"AK13","v":0},null,null,null,null,null,null,null,null,null,null,null,"Monotonie",null,{"$f":"IF(AK27=0,0,(AVERAGE(AK4:AK24))/AK27)","v":0},null,{"$f":"SUM(AM37:AM42)","v":0},"Limitation pour cause de douleurs"]
[null,null,null,null,null,null,null,8,null,"Nombre de matchs",null,null,null,null,null,null,null,null,null,null,null,{"$f":"B16","v":"Ve"},{"$f":"AK16","v":0},null,null,null,null,null,null,null,null,null,null,null,"Efforts à l'entrainement",null,{"$f":"IF(AK32=\"\",\"\",AK35*AK36)","v":""},null,{"$f":"COUNTIF($H$4:$H$24,$AR37)","v":0},"Doigt",null,null,null,1]
[null,null,null,"extrèmement dur",null,null,null,9,null,null,null,null,null,null,null,null,null,null,null,null,null,{"$f":"B19","v":"Sa"},{"$f":"AK19","v":0},null,null,null,null,null,null,null,null,null,null,null,null,null,null,null,0,"Épaule",null,null,null,2]
[null,null,null,"Comme mon entrainement le plus dur",null,null,null,10,null,1,"… 3 sets et plus",null,null,null,null,null,null,null,null,null,null,{"$f":"B22","v":"Di"},{"$f":"AK22","v":0},null,null,null,null,null,null,null,null,null,null,null,"Compétition",null,null,null,0,"Dos",null,null,null,3]
[null,null,null,null,null,null,null,null,null,0.5,"… moins de 3 sets",null,null,null,null,null,null,null,null,null,null,null,null,null,null,null,null,null,null,null,null,null,null,null,"Matchs de volleyball",null,{"$f":"IF(AK32=\"\",\"\",SUM(AM4:AM24))","v":""},null,0,"Genou",null,null,null,4]
[null,null,null,null,null,null,null,null,null,null,null,null,null,null,null,null,null,null,null,null,null,null,null,null,null,null,null,null,null,null,null,null,null,null,"Sets de volleyball",null,{"$f":"IF(AK32=\"\",\"\",SUM(AN4:AN24))","v":""},null,0,"Cheville",null,null,null,5]
[null,null,null,null,null,null,null,null,null,"Sets joués",null,null,null,null,null,null,null,null,null,null,null,null,null,null,null,null,null,null,null,null,null,null,null,null,"Matchs de beach volley",null,{"$f":"IF(AK35=\"\",\"\",SUM(AO4:AO24))","v":""},null,0,"Autre",null,null,null,6]
[null,null,null,null,null,null,null,null,null,1,"… depuis le début et durant tout le set",null,null,null,null,null,null,null,null,null,null,null,null,null,null,null,null,null,null,null,null,null,null,null,"Sets de beach volley",null,{"$f":"IF(AK35=\"\",\"\",SUM(AP4:AP24))","v":""}]
[null,null,null,null,null,null,null,null,null,0.5,"… entré/sorti en cours, beaucoup joué",null,null,null,null,null,null,null,null,null,null,null,null,null,null,null,null,null,null,null,null,null,null,null,null,null,null,null,{"$f":"SUM(AM45:AM50)","v":0},"Absence pour cause de blessure"]
[null,null,null,null,null,null,null,null,null,0.1,"… entré/sorti en cours, peu joué",null,null,null,null,null,null,null,null,null,null,null,null,null,null,null,null,null,null,null,null,null,null,null,"Satisfaction",null,null,null,{"$f":"COUNTIF($H$4:$H$24,$AR45)","v":0},"Doigt",null,null,null,11]
[null,null,null,null,null,null,null,null,null,null,null,null,null,null,null,null,null,null,null,null,null,null,null,null,null,null,null,null,null,null,null,null,null,null,"Satisfaction de l'entrainement/match J",null,{"$f":"IF(AK32=\"\",\"\",SUM(AQ4:AQ24)/AK32)","v":""},null,0,"Épaule",null,null,null,12]
[null,null,null,null,null,null,null,null,null,"J","Es-tu content de la qualité de ton",null,null,null,null,null,null,null,null,null,null,null,null,null,null,null,null,null,null,null,null,null,null,null,null,null,null,null,0,"Dos",null,null,null,13]
[null,null,null,null,null,null,null,null,null,null,"entrainement/compétition?",null,null,null,null,null,null,null,null,null,null,null,null,null,null,null,null,null,null,null,null,null,null,null,"Santé",null,null,null,0,"Genou",null,null,null,14]
[null,null,null,null,null,null,null,null,null,1,"… pas content",null,null,null,null,null,null,null,null,null,null,null,null,null,null,null,null,null,null,null,null,null,null,null,"Limitation pour cause de douleurs",null,{"$f":"AM36","v":0},null,0,"Cheville",null,null,null,15]
[null,null,null,null,null,null,null,null,null,2,"… plutôt pas content",null,null,null,null,null,null,null,null,null,null,null,null,null,null,null,null,null,null,null,null,null,null,null,"Absence pour cause de blessure",null,{"$f":"AM44","v":0},null,0,"Autre",null,null,null,16]
[null,null,null,null,null,null,null,null,null,3,"… moyen",null,null,null,null,null,null,null,null,null,null,null,null,null,null,null,null,null,null,null,null,null,null,null,"Absence pour cause de maladie",null,{"$f":"AM52","v":0}]
[null,null,null,null,null,null,null,null,null,4,"… content",null,null,null,null,null,null,null,null,null,null,null,null,null,null,null,null,null,null,null,null,null,null,null,null,null,null,null,{"$f":"SUM(AM53:AM59)","v":0},"Absence pour cause de maladie"]
[null,null,null,null,null,null,null,null,null,5,"… très content!",null,null,null,null,null,null,null,null,null,null,null,null,null,null,null,null,null,null,null,null,null,null,null,null,null,null,null,{"$f":"COUNTIF($H$4:$H$24,$AR53)","v":0},"Maladie",null,null,null,21]
[]
[]
[]
[]
[]
[]
[]
[]
[]
[]
[]
[]
[]
[]
[]
[]
[]
[]
[]
[]
[]
[]
[]
[]
[]
[]
[]
[]
[]
[]
[]
[]
[]
[]
[]
[]
[]
[]
[]
[]
[]
[]
[]
[]
[]
[]
[]
[]
[]
[]
[]
[]
[]
[]
[]
[]
[]
[]
[]
[]
[]
[]
[]
[]
[]
[]
[]
[]
[]
[]
[]
[]
[]
[]
[]
[]
[]
[]
[]
[]
[null,null,null,null,null,null,null,null,null,null,null,null,null,null,null,null,null,null,null,null,null,null,null,null,{"$f":"Z134-1","v":30},{"$f":"AA134-1","v":31},{"$f":"AB134-1","v":32},{"$f":"AC134-1","v":33},{"$f":"AD134-1","v":34},{"$f":"D1","v":35},{"$f":"AD134+1","v":36},{"$f":"AE134+1","v":37}]
[]
[]
[]
[]
[]
[]
[]
[]
[]
[]
[]
[]
[]
[]
[]
[]
[]
[]
[]
[]
[null,null,null,null,null,null,null,null,null,null,null,null,null,null,null,null,null,null,null,null,null,null,null,null,null,null,null,null,null,null,null,null,{"$f":"H1","v":"-"}]

{"sheet":"36","index":12,"n_rows":155,"n_cols":45,"rows_kept":155,"cut":false,"hidden":false,"merged":[[30,34,30,36],[30,38,31,43],[0,5,0,6],[1,44,2,44],[1,15,1,17],[28,10,29,10],[29,21,29,26],[36,9,37,9],[21,6,23,6],[21,9,21,10],[23,9,23,10],[21,7,23,7],[1,12,1,14],[7,9,7,10],[1,38,2,38],[1,24,1,26],[1,18,1,20],[1,30,1,32],[1,27,1,29],[27,3,27,6],[28,3,28,6],[37,3,37,6],[30,3,30,6],[31,3,31,6],[32,3,32,6],[33,3,33,6],[34,3,34,6],[35,3,35,6],[36,3,36,6],[38,3,38,6],[46,9,47,9],[18,36,20,36],[1,41,2,41],[3,36,5,36],[1,36,2,36],[20,9,20,10],[5,9,5,10],[1,39,2,39],[21,36,23,36],[9,36,11,36],[12,36,14,36],[15,36,17,36],[28,9,29,9],[16,9,16,10],[15,9,15,10],[10,9,10,10],[29,3,29,6],[15,5,17,5],[12,4,14,4],[6,36,8,36],[3,3,5,3],[3,6,5,6],[3,9,3,10],[4,9,4,10],[17,9,17,10],[22,9,22,10],[18,9,18,10],[19,9,19,10],[9,6,11,6],[9,9,9,10],[6,4,8,4],[9,7,11,7],[9,4,11,4],[11,9,11,10],[3,4,5,4],[3,7,5,7],[13,9,13,10],[14,9,14,10],[12,7,14,7],[9,5,11,5],[12,5,14,5],[21,1,23,1],[15,7,17,7],[15,1,17,1],[15,3,17,3],[15,6,17,6],[15,4,17,4],[18,5,20,5],[18,1,20,1],[18,3,20,3],[21,5,23,5],[21,3,23,3],[21,4,23,4],[18,7,20,7],[18,4,20,4],[18,6,20,6],[1,1,2,1],[9,1,11,1],[9,3,11,3],[1,40,2,40],[1,43,2,43],[38,34,38,36],[44,34,44,36],[47,34,47,36],[12,1,14,1],[6,3,8,3],[6,6,8,6],[6,9,6,10],[8,9,8,10],[6,5,8,5],[6,1,8,1],[6,7,8,7],[1,34,2,34],[1,21,1,23],[1,9,2,10],[3,1,5,1],[3,5,5,5],[12,3,14,3],[12,6,14,6],[12,9,12,10]]}
["A6",null,"Woche",{"$f":"INT(MOD(INT((F1-2)/7)+0.6,52+5/28))+1","v":36},{"$f":"D1+1000","v":1036},{"$f":"'35'!F1+7","v":"2018-09-03"},null,"-",null,{"$f":"F1+6","v":"2018-09-09"},null,null,null,null,null,null,null,null,null,null,null,null,null,null,null,null,null,null,null,null,null,null,{"$f":"'Aperçu de la charge'!D2","v":"Prénom Nom"},null,{"$f":"'Aperçu de la charge'!N2","v":"2018/2019"}]
[null,"Jour",null,"Poids","REG","qualité sommeil","durée sommeil","Santé",null,"Description de l'entrainement",null,null,"Club - VB",null,null,"TS/ Nati - VB",null,null,"Club - BVB",null,null,"TS/ Nati - BVB",null,null,"Force - fitness",null,null,"Compet. - VB",null,null,"Compet. - BVB",null,null,null,"Réflexion",null,"Charge/\njour",null,"matchs VB","Sets VB","Matchs BVB","Sets BVB","J","Autre\n (Rég, mentale)","Mental- oder Sonstiges Training"]
[null,null,null,"[kg]","[1 - 5]","[1-5]","[Std]","Nr.",null,null,null,null,"Durée","RPE","Charge","Durée","RPE","Charge","Durée","RPE","Charge","Durée","RPE","Charge","Durée","RPE","Charge","Durée","RPE","Charge","Durée","RPE","Charge",null,null,null,null,null,null,null,null,null,"[1-5]"]
[null,"Lu",null,0,0,0,0,0,null,null,null,null,null,null,{"$f":"M4*N4","v":0},null,null,{"$f":"P4*Q4","v":0},null,null,{"$f":"S4*T4","v":0},null,null,{"$f":"V4*W4","v":0},null,null,{"$f":"Y4*Z4","v":0},null,null,{"$f":"AB4*AC4","v":0},null,null,{"$f":"AE4*AF4","v":0},{"$f":"IF(SUM(M4:AG6)>0,1,0)","v":"00:00:00"},null,null,{"$f":"SUM(O4:O6,R4:R6,U4:U6,X4:X6,AA4:AA6,AD4:AD6,AG4:AG6)","v":0}]
[null,null,null,null,null,null,null,null,null,null,null,null,null,null,{"$f":"M5*N5","v":0},null,null,{"$f":"P5*Q5","v":0},null,null,{"$f":"S5*T5","v":0},null,null,{"$f":"V5*W5","v":0},null,null,{"$f":"Y5*Z5","v":0},null,null,{"$f":"AB5*AC5","v":0},null,null,{"$f":"AE5*AF5","v":0}]
[null,null,null,null,null,null,null,null,null,null,null,null,null,null,0,null,null,0,null,null,0,null,null,0,null,null,0,null,null,0,null,null,0]
[null,"Ma",null,0,0,0,0,0,null,null,null,null,null,null,0,null,null,{"$f":"P7*Q7","v":0},null,null,0,null,null,0,null,null,0,null,null,0,null,null,0,{"$f":"IF(SUM(M7:AG9)>0,1,0)","v":"00:00:00"},null,null,{"$f":"SUM(O7:O9,R7:R9,U7:U9,X7:X9,AA7:AA9,AD7:AD9,AG7:AG9)","v":0}]
[null,null,null,null,null,null,null,null,null,null,null,null,null,null,0,null,null,0,null,null,0,null,null,0,null,null,0,null,null,0,null,null,0]
[null,null,null,null,null,null,null,null,null,null,null,null,null,null,0,null,null,0,null,null,0,null,null,0,null,null,0,null,null,0,null,null,0]
[null,"Me",null,0,0,0,0,0,null,null,null,null,null,null,0,null,null,{"$f":"P10*Q10","v":0},null,null,0,null,null,0,null,null,0,null,null,0,null,null,0,{"$f":"IF(SUM(M10:AG12)>0,1,0)","v":"00:00:00"},null,null,{"$f":"SUM(O10:O12,R10:R12,U10:U12,X10:X12,AA10:AA12,AD10:AD12,AG10:AG12)","v":0}]
[null,null,null,null,null,null,null,null,null,null,null,null,null,null,0,null,null,0,null,null,0,null,null,0,null,null,0,null,null,0,null,null,0]
[null,null,null,null,null,null,null,null,null,null,null,null,null,null,0,null,null,0,null,null,0,null,null,0,null,null,0,null,null,0,null,null,0]
[null,"Je",null,0,0,0,0,0,null,null,null,null,null,null,0,null,null,{"$f":"P13*Q13","v":0},null,null,0,null,null,0,null,null,0,null,null,0,null,null,0,{"$f":"IF(SUM(M13:AG15)>0,1,0)","v":"00:00:00"},null,null,{"$f":"SUM(O13:O15,R13:R15,U13:U15,X13:X15,AA13:AA15,AD13:AD15,AG13:AG15)","v":0}]
[null,null,null,null,null,null,null,null,null,null,null,null,null,null,0,null,null,0,null,null,0,null,null,0,null,null,0,null,null,0,null,null,0]
[null,null,null,null,null,null,null,null,null,null,null,null,null,null,0,null,null,0,null,null,0,null,null,0,null,null,0,null,null,0,null,null,0]
[null,"Ve",null,0,0,0,0,0,null,null,null,null,null,null,0,null,null,{"$f":"P16*Q16","v":0},null,null,0,null,null,0,null,null,0,null,null,0,null,null,0,{"$f":"IF(SUM(M16:AG18)>0,1,0)","v":"00:00:00"},null,null,{"$f":"SUM(O16:O18,R16:R18,U16:U18,X16:X18,AA16:AA18,AD16:AD18,AG16:AG18)","v":0}]
[null,null,null,null,null,null,null,null,null,null,null,null,null,null,0,null,null,0,null,null,0,null,null,0,null,null,0,null,null,0,null,null,0]
[null,null,null,null,null,null,null,null,null,null,null,null,null,null,0,null,null,0,null,null,0,null,null,0,null,null,0,null,null,0,null,null,0]
[null,"Sa",null,0,0,0,0,0,null,null,null,null,null,null,{"$f":"M19*N19","v":0},null,null,{"$f":"P19*Q19","v":0},null,null,{"$f":"S19*T19","v":0},null,null,{"$f":"V19*W19","v":0},null,null,{"$f":"Y19*Z19","v":0},null,null,{"$f":"AB19*AC19","v":0},null,null,{"$f":"AE19*AF19","v":0},{"$f":"IF(SUM(M19:AG21)>0,1,0)","v":"00:00:00"},null,null,{"$f":"SUM(O19:O21,R19:R21,U19:U21,X19:X21,AA19:AA21,AD19:AD21,AG19:AG21)","v":0}]
[null,null,null,null,null,null,null,null,null,null,null,null,null,null,{"$f":"M20*N20","v":0},null,null,0,null,null,{"$f":"S20*T20","v":0},null,null,{"$f":"V20*W20","v":0},null,null,{"$f":"Y20*Z20","v":0},null,null,{"$f":"AB20*AC20","v":0},null,null,{"$f":"AE20*AF20","v":0}]
[null,null,null,null,null,null,null,null,null,null,null,null,null,null,0,null,null,0,null,null,0,null,null,0,null,null,0,null,null,0,null,null,0]
[null,"Di",null,0,0,0,0,0,null,null,null,null,null,null,0,null,null,{"$f":"P22*Q22","v":0},null,null,0,null,null,0,null,null,0,null,null,0,null,null,0,{"$f":"IF(SUM(M22:AG24)>0,1,0)","v":"00:00:00"},null,null,{"$f":"SUM(O22:O24,R22:R24,U22:U24,X22:X24,AA22:AA24,AD22:AD24,AG22:AG24)","v":0}]
[null,null,null,null,null,null,null,null,null,null,null,null,null,null,0,null,null,0,null,null,0,null,null,0,null,null,0,null,null,0,null,null,0]
[null,null,null,null,null,null,null,null,null,null,null,null,null,null,0,null,null,0,null,null,0,null,null,0,null,null,0,null,null,0,null,null,0]
[null,null,null,null,null,null,null,null,null,null,"Total",null,{"$f":"SUM(M4:M24)","v":0},null,{"$f":"SUM(O4:O24)","v":0},{"$f":"SUM(P4:P24)","v":0},null,{"$f":"SUM(R4:R24)","v":0},{"$f":"SUM(S4:S24)","v":0},null,{"$f":"SUM(U4:U24)","v":0},{"$f":"SUM(V4:V24)","v":0},null,{"$f":"SUM(X4:X24)","v":0},{"$f":"SUM(Y4:Y24)","v":0},null,{"$f":"SUM(AA4:AA24)","v":0},{"$f":"SUM(AB4:AB24)","v":0},null,{"$f":"SUM(AD4:AD24)","v":0},{"$f":"SUM(AE4:AE24)","v":0},null,{"$f":"SUM(AG4:AG24)","v":0},null,"Charge totale",null,{"$f":"SUM(AK4:AK24)","v":0}]
[null,"avg.",null,{"$f":"IF(COUNTA(D4:D24)=0,\"\",AVERAGE(D4:D24))","v":0},{"$f":"IF(COUNTA(E4:E24)=0,\"\",AVERAGE(E4:E24))","v":0},{"$f":"IF(COUNTA(F4:F24)=0,\"\",AVERAGE(F4:F24))","v":0},{"$f":"IF(COUNTA(G4:G24)=0,\"\",AVERAGE(G4:G24))","v":0},{"$f":"IF(COUNTA(H4:H24)=0,\"\",COUNTIF(H4:H24,\"x\"))","v":0},null,null,"Zone",null,1,2,3,1,2,3,1,2,3,1,2,3,1,2,3,1,2,3,1,2,3,null,"Moyenne",null,{"$f":"AVERAGE(AK4:AK24)","v":0}]
[null,null,null,null,null,{"$f":"IF(COUNTA(F4:F24)=0,\"\",VAR(F4:F24))","v":0},{"$f":"IF(COUNTA(G4:G24)=0,\"\",STDEV(G4:G24))","v":0},"Divergence - durée du sommeil",null,null,"Unité par zone (RPE) ",null,{"$f":"IF('Répartition des intensités'!$AR$25=\"x\",COUNTIF(N4:N24,\"<3,5\"),COUNTIF(N4:N24,\"<4,5\"))","v":0},{"$f":"COUNT(N4:N24)-(M27+O27)","v":0},{"$f":"IF('Répartition des intensités'!$AR$25=\"x\",COUNTIF(N4:N24,\">5,5\"),COUNTIF(N4:N24,\">6,5\"))","v":0},{"$f":"IF('Répartition des intensités'!$AR$25=\"x\",COUNTIF(Q4:Q24,\"<3,5\"),COUNTIF(Q4:Q24,\"<4,5\"))","v":0},{"$f":"COUNT(Q4:Q24)-(P27+R27)","v":0},{"$f":"IF('Répartition des intensités'!$AR$25=\"x\",COUNTIF(Q4:Q24,\">5,5\"),COUNTIF(Q4:Q24,\">6,5\"))","v":0},{"$f":"IF('Répartition des intensités'!$AR$25=\"x\",COUNTIF(T4:T24,\"<3,5\"),COUNTIF(T4:T24,\"<4,5\"))","v":0},{"$f":"COUNT(T4:T24)-(S27+U27)","v":0},{"$f":"IF('Répartition des intensités'!$AR$25=\"x\",COUNTIF(T4:T24,\">5,5\"),COUNTIF(T4:T24,\">6,5\"))","v":0},{"$f":"IF('Répartition des intensités'!$AR$25=\"x\",COUNTIF(W4:W24,\"<3,5\"),COUNTIF(W4:W24,\"<4,5\"))","v":0},{"$f":"COUNT(W4:W24)-(V27+X27)","v":0},{"$f":"IF('Répartition des intensités'!$AR$25=\"x\",COUNTIF(W4:W24,\">5,5\"),COUNTIF(W4:W24,\">6,5\"))","v":0},{"$f":"IF('Répartition des intensités'!$AR$25=\"x\",COUNTIF(Z4:Z24,\"<3,5\"),COUNTIF(Z4:Z24,\"<4,5\"))","v":0},{"$f":"COUNT(Z4:Z24)-(Y27+AA27)","v":0},{"$f":"IF('Répartition des intensités'!$AR$25=\"x\",COUNTIF(Z4:Z24,\">5,5\"),COUNTIF(Z4:Z24,\">6,5\"))","v":0},{"$f":"IF('Répartition des intensités'!$AR$25=\"x\",COUNTIF(AC4:AC24,\"<3,5\"),COUNTIF(AC4:AC24,\"<4,5\"))","v":0},{"$f":"COUNT(AC4:AC24)-(AB27+AD27)","v":0},{"$f":"IF('Répartition des intensités'!$AR$25=\"x\",COUNTIF(AC4:AC24,\">5,5\"),COUNTIF(AC4:AC24,\">6,5\"))","v":0},{"$f":"IF('Répartition des intensités'!$AR$25=\"x\",COUNTIF(AF4:AF24,\"<3,5\"),COUNTIF(AF4:AF24,\"<4,5\"))","v":0},{"$f":"COUNT(AF4:AF24)-(AE27+AG27)","v":0},{"$f":"IF('Répartition des intensités'!$AR$25=\"x\",COUNTIF(AF4:AF24,\">5,5\"),COUNTIF(AF4:AF24,\">6,5\"))","v":0},null,"Divergence",null,{"$f":"STDEVP(AK4:AK24)","v":0}]
[null,null,null,"échelle de Foster",null,null,null,"RPE",null,null,"Temps par zone (RPE)",null,{"$f":"IF('Répartition des intensités'!$AR$25=\"x\",SUMIF(N4:N24,\"<3,5\",M4:M24),SUMIF(N4:N24,\"<4,5\",M4:M24))","v":0},{"$f":"IF(N27=0,0,SUM((M25)-(M28+O28)))","v":0},{"$f":"IF('Répartition des intensités'!$AR$25=\"x\",SUMIF(N4:N24,\">5,5\",M4:M24),SUMIF(N4:N24,\">6,5\",M4:M24))","v":0},{"$f":"IF('Répartition des intensités'!$AR$25=\"x\",SUMIF(Q4:Q24,\"<3,5\",P4:P24),SUMIF(Q4:Q24,\"<4,5\",P4:P24))","v":0},{"$f":"IF(Q27=0,0,SUM((P25)-(P28+R28)))","v":0},{"$f":"IF('Répartition des intensités'!$AR$25=\"x\",SUMIF(Q4:Q24,\">5,5\",P4:P24),SUMIF(Q4:Q24,\">6,5\",P4:P24))","v":0},{"$f":"IF('Répartition des intensités'!$AR$25=\"x\",SUMIF(T4:T24,\"<3,5\",S4:S24),SUMIF(T4:T24,\"<4,5\",S4:S24))","v":0},{"$f":"IF(T27=0,0,SUM((S25)-(S28+U28)))","v":0},{"$f":"IF('Répartition des intensités'!$AR$25=\"x\",SUMIF(T4:T24,\">5,5\",S4:S24),SUMIF(T4:T24,\">6,5\",S4:S24))","v":0},{"$f":"IF('Répartition des intensités'!$AR$25=\"x\",SUMIF(W4:W24,\"<3,5\",V4:V24),SUMIF(W4:W24,\"<4,5\",V4:V24))","v":0},{"$f":"IF(W27=0,0,SUM((V25)-(V28+X28)))","v":0},{"$f":"IF('Répartition des intensités'!$AR$25=\"x\",SUMIF(W4:W24,\">5,5\",V4:V24),SUMIF(W4:W24,\">6,5\",V4:V24))","v":0},{"$f":"IF('Répartition des intensités'!$AR$25=\"x\",SUMIF(Z4:Z24,\"<3,5\",Y4:Y24),SUMIF(Z4:Z24,\"<4,5\",Y4:Y24))","v":0},{"$f":"IF(Z27=0,0,SUM((Y25)-(Y28+AA28)))","v":0},{"$f":"IF('Répartition des intensités'!$AR$25=\"x\",SUMIF(Z4:Z24,\">5,5\",Y4:Y24),SUMIF(Z4:Z24,\">6,5\",Y4:Y24))","v":0},{"$f":"IF('Répartition des intensités'!$AR$25=\"x\",SUMIF(AC4:AC24,\"<3,5\",AB4:AB24),SUMIF(AC4:AC24,\"<4,5\",AB4:AB24))","v":0},{"$f":"IF(AC27=0,0,SUM((AB25)-(AB28+AD28)))","v":0},{"$f":"IF('Répartition des intensités'!$AR$25=\"x\",SUMIF(AC4:AC24,\">5,5\",AB4:AB24),SUMIF(AC4:AC24,\">6,5\",AB4:AB24))","v":0},{"$f":"IF('Répartition des intensités'!$AR$25=\"x\",SUMIF(AF4:AF24,\"<3,5\",AE4:AE24),SUMIF(AF4:AF24,\"<4,5\",AE4:AE24))","v":0},{"$f":"IF(AF27=0,0,SUM((AE25)-(AE28+AG28)))","v":0},{"$f":"IF('Répartition des intensités'!$AR$25=\"x\",SUMIF(AF4:AF24,\">5,5\",AE4:AE24),SUMIF(AF4:AF24,\">6,5\",AE4:AE24))","v":0}]
[null,null,null,"Comme au repos",null,null,null,0,null,"REG","Est-ce que j'ai l'impression d'avoir récupéré en me levant?"]
[null,null,null,"très facile",null,null,null,1]
[null,null,null,"facile",null,null,null,2,null,1,"… pas du tout récupéré",null,null,null,null,null,null,null,null,null,null,null,null,null,null,null,null,null,null,null,null,null,null,null,"Entrainements",null,null,null,"Rapport de santé"]
[null,null,null,null,null,null,null,3,null,2,"… un peu récupéré",null,null,null,null,null,null,null,null,null,null,null,null,null,null,null,null,null,null,null,null,null,null,null,"Jours d'entrainement",null,{"$f":"IF(SUM(AH4:AH24)=0,\"\",SUM(AH4:AH24))","v":""}]
[null,null,null,"Assez dur",null,null,null,4,null,3,"… récupéré",null,null,null,null,null,null,null,null,null,null,{"$f":"B4","v":"Lu"},{"$f":"AK4","v":0},null,null,null,null,null,null,null,null,null,null,null,"Entrainements",null,{"$f":"IF(AK32=\"\",\"\",SUM(M27:AG27))","v":""}]
[null,null,null,"dur",null,null,null,5,null,4,"…  en forme",null,null,null,null,null,null,null,null,null,null,{"$f":"B7","v":"Ma"},{"$f":"AK7","v":0},null,null,null,null,null,null,null,null,null,null,null,"Heures d'entrainement",null,{"$f":"IF(AK32=\"\",\"\",SUM(M25,P25,S25,Y25,AB25,V25,AE25)/60)","v":""},null,{"$f":"IF($AK$32=\"\",\"\",AK32-AM36-AM44-AM52)","v":""},"Aucune limitation",null,null,null,0]
[null,null,null,null,null,null,null,6,null,5,"… très en forme",null,null,null,null,null,null,null,null,null,null,{"$f":"B10","v":"Me"},{"$f":"AK10","v":0},null,null,null,null,null,null,null,null,null,null,null,"Charge de l'entrainement",null,{"$f":"IF(AK32=\"\",\"\",SUM(AK25))","v":""}]
[null,null,null,"très dur",null,null,null,7,null,null,null,null,null,null,null,null,null,null,null,null,null,{"$f":"B13","v":"Je"},{"$f":"AK13","v":0},null,null,null,null,null,null,null,null,null,null,null,"Monotonie",null,{"$f":"IF(AK27=0,0,(AVERAGE(AK4:AK24))/AK27)","v":0},null,{"$f":"SUM(AM37:AM42)","v":0},"Limitation pour cause de douleurs"]
[null,null,null,null,null,null,null,8,null,"Nombre de matchs",null,null,null,null,null,null,null,null,null,null,null,{"$f":"B16","v":"Ve"},{"$f":"AK16","v":0},null,null,null,null,null,null,null,null,null,null,null,"Efforts à l'entrainement",null,{"$f":"IF(AK32=\"\",\"\",AK35*AK36)","v":""},null,{"$f":"COUNTIF($H$4:$H$24,$AR37)","v":0},"Doigt",null,null,null,1]
[null,null,null,"extrèmement dur",null,null,null,9,null,null,null,null,null,null,null,null,null,null,null,null,null,{"$f":"B19","v":"Sa"},{"$f":"AK19","v":0},null,null,null,null,null,null,null,null,null,null,null,null,null,null,null,0,"Épaule",null,null,null,2]
[null,null,null,"Comme mon entrainement le plus dur",null,null,null,10,null,1,"… 3 sets et plus",null,null,null,null,null,null,null,null,null,null,{"$f":"B22","v":"Di"},{"$f":"AK22","v":0},null,null,null,null,null,null,null,null,null,null,null,"Compétition",null,null,null,0,"Dos",null,null,null,3]
[null,null,null,null,null,null,null,null,null,0.5,"… moins de 3 sets",null,null,null,null,null,null,null,null,null,null,null,null,null,null,null,null,null,null,null,null,null,null,null,"Matchs de volleyball",null,{"$f":"IF(AK32=\"\",\"\",SUM(AM4:AM24))","v":""},null,0,"Genou",null,null,null,4]
[null,null,null,null,null,null,null,null,null,null,null,null,null,null,null,null,null,null,null,null,null,null,null,null,null,null,null,null,null,null,null,null,null,null,"Sets de volleyball",null,{"$f":"IF(AK32=\"\",\"\",SUM(AN4:AN24))","v":""},null,0,"Cheville",null,null,null,5]
[null,null,null,null,null,null,null,null,null,"Sets joués",null,null,null,null,null,null,null,null,null,null,null,null,null,null,null,null,null,null,null,null,null,null,null,null,"Matchs de beach volley",null,{"$f":"IF(AK35=\"\",\"\",SUM(AO4:AO24))","v":""},null,0,"Autre",null,null,null,6]
[null,null,null,null,null,null,null,null,null,1,"… depuis le début et durant tout le set",null,null,null,null,null,null,null,null,null,null,null,null,null,null,null,null,null,null,null,null,null,null,null,"Sets de beach volley",null,{"$f":"IF(AK35=\"\",\"\",SUM(AP4:AP24))","v":""}]
[null,null,null,null,null,null,null,null,null,0.5,"… entré/sorti en cours, beaucoup joué",null,null,null,null,null,null,null,null,null,null,null,null,null,null,null,null,null,null,null,null,null,null,null,null,null,null,null,{"$f":"SUM(AM45:AM50)","v":0},"Absence pour cause de blessure"]
[null,null,null,null,null,null,null,null,null,0.1,"… entré/sorti en cours, peu joué",null,null,null,null,null,null,null,null,null,null,null,null,null,null,null,null,null,null,null,null,null,null,null,"Satisfaction",null,null,null,{"$f":"COUNTIF($H$4:$H$24,$AR45)","v":0},"Doigt",null,null,null,11]
[null,null,null,null,null,null,null,null,null,null,null,null,null,null,null,null,null,null,null,null,null,null,null,null,null,null,null,null,null,null,null,null,null,null,"Satisfaction de l'entrainement/match J",null,{"$f":"IF(AK32=\"\",\"\",SUM(AQ4:AQ24)/AK32)","v":""},null,0,"Épaule",null,null,null,12]
[null,null,null,null,null,null,null,null,null,"J","Es-tu content de la qualité de ton",null,null,null,null,null,null,null,null,null,null,null,null,null,null,null,null,null,null,null,null,null,null,null,null,null,null,null,0,"Dos",null,null,null,13]
[null,null,null,null,null,null,null,null,null,null,"entrainement/compétition?",null,null,null,null,null,null,null,null,null,null,null,null,null,null,null,null,null,null,null,null,null,null,null,"Santé",null,null,null,0,"Genou",null,null,null,14]
[null,null,null,null,null,null,null,null,null,1,"… pas content",null,null,null,null,null,null,null,null,null,null,null,null,null,null,null,null,null,null,null,null,null,null,null,"Limitation pour cause de douleurs",null,{"$f":"AM36","v":0},null,0,"Cheville",null,null,null,15]
[null,null,null,null,null,null,null,null,null,2,"… plutôt pas content",null,null,null,null,null,null,null,null,null,null,null,null,null,null,null,null,null,null,null,null,null,null,null,"Absence pour cause de blessure",null,{"$f":"AM44","v":0},null,0,"Autre",null,null,null,16]
[null,null,null,null,null,null,null,null,null,3,"… moyen",null,null,null,null,null,null,null,null,null,null,null,null,null,null,null,null,null,null,null,null,null,null,null,"Absence pour cause de maladie",null,{"$f":"AM52","v":0}]
[null,null,null,null,null,null,null,null,null,4,"… content",null,null,null,null,null,null,null,null,null,null,null,null,null,null,null,null,null,null,null,null,null,null,null,null,null,null,null,{"$f":"SUM(AM53:AM59)","v":0},"Absence pour cause de maladie"]
[null,null,null,null,null,null,null,null,null,5,"… très content!",null,null,null,null,null,null,null,null,null,null,null,null,null,null,null,null,null,null,null,null,null,null,null,null,null,null,null,{"$f":"COUNTIF($H$4:$H$24,$AR53)","v":0},"Maladie",null,null,null,21]
[]
[]
[]
[]
[]
[]
[]
[]
[]
[]
[]
[]
[]
[]
[]
[]
[]
[]
[]
[]
[]
[]
[]
[]
[]
[]
[]
[]
[]
[]
[]
[]
[]
[]
[]
[]
[]
[]
[]
[]
[]
[]
[]
[]
[]
[]
[]
[]
[]
[]
[]
[]
[]
[]
[]
[]
[]
[]
[]
[]
[]
[]
[]
[]
[]
[]
[]
[]
[]
[]
[]
[]
[]
[]
[]
[]
[]
[]
[]
[]
[null,null,null,null,null,null,null,null,null,null,null,null,null,null,null,null,null,null,null,null,null,null,null,null,{"$f":"Z134-1","v":29},30,31,32,33,34,35,{"$f":"D1","v":36}]
[]
[]
[]
[]
[]
[]
[]
[]
[]
[]
[]
[]
[]
[]
[]
[]
[]
[]
[]
[]
[null,null,null,null,null,null,null,null,null,null,null,null,null,null,null,null,null,null,null,null,null,null,null,null,null,null,null,null,null,null,null,null,{"$f":"AF134+1","v":37}]

{"sheet":"37","index":13,"n_rows":155,"n_cols":45,"rows_kept":155,"cut":false,"hidden":false,"merged":[[30,34,30,36],[30,38,31,43],[0,5,0,6],[1,44,2,44],[1,15,1,17],[28,10,29,10],[29,21,29,26],[36,9,37,9],[21,6,23,6],[21,9,21,10],[23,9,23,10],[21,7,23,7],[1,12,1,14],[7,9,7,10],[1,38,2,38],[1,24,1,26],[1,18,1,20],[1,30,1,32],[1,27,1,29],[27,3,27,6],[28,3,28,6],[37,3,37,6],[30,3,30,6],[31,3,31,6],[32,3,32,6],[33,3,33,6],[34,3,34,6],[35,3,35,6],[36,3,36,6],[38,3,38,6],[46,9,47,9],[18,36,20,36],[1,41,2,41],[3,36,5,36],[1,36,2,36],[20,9,20,10],[5,9,5,10],[1,39,2,39],[21,36,23,36],[9,36,11,36],[12,36,14,36],[15,36,17,36],[28,9,29,9],[16,9,16,10],[15,9,15,10],[10,9,10,10],[29,3,29,6],[15,5,17,5],[12,4,14,4],[6,36,8,36],[3,3,5,3],[3,6,5,6],[3,9,3,10],[4,9,4,10],[17,9,17,10],[22,9,22,10],[18,9,18,10],[19,9,19,10],[9,6,11,6],[9,9,9,10],[6,4,8,4],[9,7,11,7],[9,4,11,4],[11,9,11,10],[3,4,5,4],[3,7,5,7],[13,9,13,10],[14,9,14,10],[12,7,14,7],[9,5,11,5],[12,5,14,5],[21,1,23,1],[15,7,17,7],[15,1,17,1],[15,3,17,3],[15,6,17,6],[15,4,17,4],[18,5,20,5],[18,1,20,1],[18,3,20,3],[21,5,23,5],[21,3,23,3],[21,4,23,4],[18,7,20,7],[18,4,20,4],[18,6,20,6],[1,1,2,1],[9,1,11,1],[9,3,11,3],[1,40,2,40],[1,43,2,43],[38,34,38,36],[44,34,44,36],[47,34,47,36],[12,1,14,1],[6,3,8,3],[6,6,8,6],[6,9,6,10],[8,9,8,10],[6,5,8,5],[6,1,8,1],[6,7,8,7],[1,34,2,34],[1,21,1,23],[1,9,2,10],[3,1,5,1],[3,5,5,5],[12,3,14,3],[12,6,14,6],[12,9,12,10]]}
[null,null,"Woche",{"$f":"INT(MOD(INT((F1-2)/7)+0.6,52+5/28))+1","v":37},{"$f":"D1+1000","v":1037},{"$f":"'36'!F1+7","v":"2018-09-10"},null,"-",null,{"$f":"F1+6","v":"2018-09-16"},null,null,null,null,null,null,null,null,null,null,null,null,null,null,null,null,null,null,null,null,null,null,{"$f":"'Aperçu de la charge'!D2","v":"Prénom Nom"},null,{"$f":"'Aperçu de la charge'!N2","v":"2018/2019"}]
[null,"Jour",null,"Poids","REG","qualité sommeil","durée sommeil","Santé",null,"Description de l'entrainement",null,null,"Club - VB",null,null,"TS/ Nati - VB",null,null,"Club - BVB",null,null,"TS/ Nati - BVB",null,null,"Force - fitness",null,null,"Compet. - VB",null,null,"Compet. - BVB",null,null,null,"Réflexion",null,"Charge/\njour",null,"matchs VB","Sets VB","Matchs BVB","Sets BVB","J","Autre\n (Rég, mentale)","Mental- oder Sonstiges Training"]
[null,null,null,"[kg]","[1 - 5]","[1-5]","[Std]","Nr.",null,null,null,null,"Durée","RPE","Charge","Durée","RPE","Charge","Durée","RPE","Charge","Durée","RPE","Charge","Durée","RPE","Charge","Durée","RPE","Charge","Durée","RPE","Charge",null,null,null,null,null,null,null,null,null,"[1-5]"]
[null,"Lu",null,0,0,0,0,0,null,null,null,null,null,null,{"$f":"M4*N4","v":0},null,null,{"$f":"P4*Q4","v":0},null,null,{"$f":"S4*T4","v":0},null,null,{"$f":"V4*W4","v":0},null,null,{"$f":"Y4*Z4","v":0},null,null,{"$f":"AB4*AC4","v":0},null,null,{"$f":"AE4*AF4","v":0},{"$f":"IF(SUM(M4:AG6)>0,1,0)","v":"00:00:00"},null,null,{"$f":"SUM(O4:O6,R4:R6,U4:U6,X4:X6,AA4:AA6,AD4:AD6,AG4:AG6)","v":0}]
[null,null,null,null,null,null,null,null,null,null,null,null,null,null,{"$f":"M5*N5","v":0},null,null,{"$f":"P5*Q5","v":0},null,null,{"$f":"S5*T5","v":0},null,null,{"$f":"V5*W5","v":0},null,null,{"$f":"Y5*Z5","v":0},null,null,{"$f":"AB5*AC5","v":0},null,null,{"$f":"AE5*AF5","v":0}]
[null,null,null,null,null,null,null,null,null,null,null,null,null,null,0,null,null,0,null,null,0,null,null,0,null,null,0,null,null,0,null,null,0]
[null,"Ma",null,0,0,0,0,0,null,null,null,null,null,null,0,null,null,{"$f":"P7*Q7","v":0},null,null,0,null,null,0,null,null,0,null,null,0,null,null,0,{"$f":"IF(SUM(M7:AG9)>0,1,0)","v":"00:00:00"},null,null,{"$f":"SUM(O7:O9,R7:R9,U7:U9,X7:X9,AA7:AA9,AD7:AD9,AG7:AG9)","v":0}]
[null,null,null,null,null,null,null,null,null,null,null,null,null,null,0,null,null,0,null,null,0,null,null,0,null,null,0,null,null,0,null,null,0]
[null,null,null,null,null,null,null,null,null,null,null,null,null,null,0,null,null,0,null,null,0,null,null,0,null,null,0,null,null,0,null,null,0]
[null,"Me",null,0,0,0,0,0,null,null,null,null,null,null,0,null,null,{"$f":"P10*Q10","v":0},null,null,0,null,null,0,null,null,0,null,null,0,null,null,0,{"$f":"IF(SUM(M10:AG12)>0,1,0)","v":"00:00:00"},null,null,{"$f":"SUM(O10:O12,R10:R12,U10:U12,X10:X12,AA10:AA12,AD10:AD12,AG10:AG12)","v":0}]
[null,null,null,null,null,null,null,null,null,null,null,null,null,null,0,null,null,0,null,null,0,null,null,0,null,null,0,null,null,0,null,null,0]
[null,null,null,null,null,null,null,null,null,null,null,null,null,null,0,null,null,0,null,null,0,null,null,0,null,null,0,null,null,0,null,null,0]
[null,"Je",null,0,0,0,0,0,null,null,null,null,null,null,0,null,null,{"$f":"P13*Q13","v":0},null,null,0,null,null,0,null,null,0,null,null,0,null,null,0,{"$f":"IF(SUM(M13:AG15)>0,1,0)","v":"00:00:00"},null,null,{"$f":"SUM(O13:O15,R13:R15,U13:U15,X13:X15,AA13:AA15,AD13:AD15,AG13:AG15)","v":0}]
[null,null,null,null,null,null,null,null,null,null,null,null,null,null,0,null,null,0,null,null,0,null,null,0,null,null,0,null,null,0,null,null,0]
[null,null,null,null,null,null,null,null,null,null,null,null,null,null,0,null,null,0,null,null,0,null,null,0,null,null,0,null,null,0,null,null,0]
[null,"Ve",null,0,0,0,0,0,null,null,null,null,null,null,0,null,null,{"$f":"P16*Q16","v":0},null,null,0,null,null,0,null,null,0,null,null,0,null,null,0,{"$f":"IF(SUM(M16:AG18)>0,1,0)","v":"00:00:00"},null,null,{"$f":"SUM(O16:O18,R16:R18,U16:U18,X16:X18,AA16:AA18,AD16:AD18,AG16:AG18)","v":0}]
[null,null,null,null,null,null,null,null,null,null,null,null,null,null,0,null,null,0,null,null,0,null,null,0,null,null,0,null,null,0,null,null,0]
[null,null,null,null,null,null,null,null,null,null,null,null,null,null,0,null,null,0,null,null,0,null,null,0,null,null,0,null,null,0,null,null,0]
[null,"Sa",null,0,0,0,0,0,null,null,null,null,null,null,{"$f":"M19*N19","v":0},null,null,{"$f":"P19*Q19","v":0},null,null,{"$f":"S19*T19","v":0},null,null,{"$f":"V19*W19","v":0},null,null,{"$f":"Y19*Z19","v":0},null,null,{"$f":"AB19*AC19","v":0},null,null,{"$f":"AE19*AF19","v":0},{"$f":"IF(SUM(M19:AG21)>0,1,0)","v":"00:00:00"},null,null,{"$f":"SUM(O19:O21,R19:R21,U19:U21,X19:X21,AA19:AA21,AD19:AD21,AG19:AG21)","v":0}]
[null,null,null,null,null,null,null,null,null,null,null,null,null,null,{"$f":"M20*N20","v":0},null,null,0,null,null,{"$f":"S20*T20","v":0},null,null,{"$f":"V20*W20","v":0},null,null,{"$f":"Y20*Z20","v":0},null,null,{"$f":"AB20*AC20","v":0},null,null,{"$f":"AE20*AF20","v":0}]
[null,null,null,null,null,null,null,null,null,null,null,null,null,null,0,null,null,0,null,null,0,null,null,0,null,null,0,null,null,0,null,null,0]
[null,"Di",null,0,0,0,0,0,null,null,null,null,null,null,0,null,null,{"$f":"P22*Q22","v":0},null,null,0,null,null,0,null,null,0,null,null,0,null,null,0,{"$f":"IF(SUM(M22:AG24)>0,1,0)","v":"00:00:00"},null,null,{"$f":"SUM(O22:O24,R22:R24,U22:U24,X22:X24,AA22:AA24,AD22:AD24,AG22:AG24)","v":0}]
[null,null,null,null,null,null,null,null,null,null,null,null,null,null,0,null,null,0,null,null,0,null,null,0,null,null,0,null,null,0,null,null,0]
[null,null,null,null,null,null,null,null,null,null,null,null,null,null,0,null,null,0,null,null,0,null,null,0,null,null,0,null,null,0,null,null,0]
[null,null,null,null,null,null,null,null,null,null,"Total",null,{"$f":"SUM(M4:M24)","v":0},null,{"$f":"SUM(O4:O24)","v":0},{"$f":"SUM(P4:P24)","v":0},null,{"$f":"SUM(R4:R24)","v":0},{"$f":"SUM(S4:S24)","v":0},null,{"$f":"SUM(U4:U24)","v":0},{"$f":"SUM(V4:V24)","v":0},null,{"$f":"SUM(X4:X24)","v":0},{"$f":"SUM(Y4:Y24)","v":0},null,{"$f":"SUM(AA4:AA24)","v":0},{"$f":"SUM(AB4:AB24)","v":0},null,{"$f":"SUM(AD4:AD24)","v":0},{"$f":"SUM(AE4:AE24)","v":0},null,{"$f":"SUM(AG4:AG24)","v":0},null,"Charge totale",null,{"$f":"SUM(AK4:AK24)","v":0}]
[null,"avg.",null,{"$f":"IF(COUNTA(D4:D24)=0,\"\",AVERAGE(D4:D24))","v":0},{"$f":"IF(COUNTA(E4:E24)=0,\"\",AVERAGE(E4:E24))","v":0},{"$f":"IF(COUNTA(F4:F24)=0,\"\",AVERAGE(F4:F24))","v":0},{"$f":"IF(COUNTA(G4:G24)=0,\"\",AVERAGE(G4:G24))","v":0},{"$f":"IF(COUNTA(H4:H24)=0,\"\",COUNTIF(H4:H24,\"x\"))","v":0},null,null,"Zone",null,1,2,3,1,2,3,1,2,3,1,2,3,1,2,3,1,2,3,1,2,3,null,"Moyenne",null,{"$f":"AVERAGE(AK4:AK24)","v":0}]
[null,null,null,null,null,{"$f":"IF(COUNTA(F4:F24)=0,\"\",VAR(F4:F24))","v":0},{"$f":"IF(COUNTA(G4:G24)=0,\"\",STDEV(G4:G24))","v":0},"Divergence - durée du sommeil",null,null,"Unité par zone (RPE) ",null,{"$f":"IF('Répartition des intensités'!$AR$25=\"x\",COUNTIF(N4:N24,\"<3,5\"),COUNTIF(N4:N24,\"<4,5\"))","v":0},{"$f":"COUNT(N4:N24)-(M27+O27)","v":0},{"$f":"IF('Répartition des intensités'!$AR$25=\"x\",COUNTIF(N4:N24,\">5,5\"),COUNTIF(N4:N24,\">6,5\"))","v":0},{"$f":"IF('Répartition des intensités'!$AR$25=\"x\",COUNTIF(Q4:Q24,\"<3,5\"),COUNTIF(Q4:Q24,\"<4,5\"))","v":0},{"$f":"COUNT(Q4:Q24)-(P27+R27)","v":0},{"$f":"IF('Répartition des intensités'!$AR$25=\"x\",COUNTIF(Q4:Q24,\">5,5\"),COUNTIF(Q4:Q24,\">6,5\"))","v":0},{"$f":"IF('Répartition des intensités'!$AR$25=\"x\",COUNTIF(T4:T24,\"<3,5\"),COUNTIF(T4:T24,\"<4,5\"))","v":0},{"$f":"COUNT(T4:T24)-(S27+U27)","v":0},{"$f":"IF('Répartition des intensités'!$AR$25=\"x\",COUNTIF(T4:T24,\">5,5\"),COUNTIF(T4:T24,\">6,5\"))","v":0},{"$f":"IF('Répartition des intensités'!$AR$25=\"x\",COUNTIF(W4:W24,\"<3,5\"),COUNTIF(W4:W24,\"<4,5\"))","v":0},{"$f":"COUNT(W4:W24)-(V27+X27)","v":0},{"$f":"IF('Répartition des intensités'!$AR$25=\"x\",COUNTIF(W4:W24,\">5,5\"),COUNTIF(W4:W24,\">6,5\"))","v":0},{"$f":"IF('Répartition des intensités'!$AR$25=\"x\",COUNTIF(Z4:Z24,\"<3,5\"),COUNTIF(Z4:Z24,\"<4,5\"))","v":0},{"$f":"COUNT(Z4:Z24)-(Y27+AA27)","v":0},{"$f":"IF('Répartition des intensités'!$AR$25=\"x\",COUNTIF(Z4:Z24,\">5,5\"),COUNTIF(Z4:Z24,\">6,5\"))","v":0},{"$f":"IF('Répartition des intensités'!$AR$25=\"x\",COUNTIF(AC4:AC24,\"<3,5\"),COUNTIF(AC4:AC24,\"<4,5\"))","v":0},{"$f":"COUNT(AC4:AC24)-(AB27+AD27)","v":0},{"$f":"IF('Répartition des intensités'!$AR$25=\"x\",COUNTIF(AC4:AC24,\">5,5\"),COUNTIF(AC4:AC24,\">6,5\"))","v":0},{"$f":"IF('Répartition des intensités'!$AR$25=\"x\",COUNTIF(AF4:AF24,\"<3,5\"),COUNTIF(AF4:AF24,\"<4,5\"))","v":0},{"$f":"COUNT(AF4:AF24)-(AE27+AG27)","v":0},{"$f":"IF('Répartition des intensités'!$AR$25=\"x\",COUNTIF(AF4:AF24,\">5,5\"),COUNTIF(AF4:AF24,\">6,5\"))","v":0},null,"Divergence",null,{"$f":"STDEVP(AK4:AK24)","v":0}]
[null,null,null,"échelle de Foster",null,null,null,"RPE",null,null,"Temps par zone (RPE)",null,{"$f":"IF('Répartition des intensités'!$AR$25=\"x\",SUMIF(N4:N24,\"<3,5\",M4:M24),SUMIF(N4:N24,\"<4,5\",M4:M24))","v":0},{"$f":"IF(N27=0,0,SUM((M25)-(M28+O28)))","v":0},{"$f":"IF('Répartition des intensités'!$AR$25=\"x\",SUMIF(N4:N24,\">5,5\",M4:M24),SUMIF(N4:N24,\">6,5\",M4:M24))","v":0},{"$f":"IF('Répartition des intensités'!$AR$25=\"x\",SUMIF(Q4:Q24,\"<3,5\",P4:P24),SUMIF(Q4:Q24,\"<4,5\",P4:P24))","v":0},{"$f":"IF(Q27=0,0,SUM((P25)-(P28+R28)))","v":0},{"$f":"IF('Répartition des intensités'!$AR$25=\"x\",SUMIF(Q4:Q24,\">5,5\",P4:P24),SUMIF(Q4:Q24,\">6,5\",P4:P24))","v":0},{"$f":"IF('Répartition des intensités'!$AR$25=\"x\",SUMIF(T4:T24,\"<3,5\",S4:S24),SUMIF(T4:T24,\"<4,5\",S4:S24))","v":0},{"$f":"IF(T27=0,0,SUM((S25)-(S28+U28)))","v":0},{"$f":"IF('Répartition des intensités'!$AR$25=\"x\",SUMIF(T4:T24,\">5,5\",S4:S24),SUMIF(T4:T24,\">6,5\",S4:S24))","v":0},{"$f":"IF('Répartition des intensités'!$AR$25=\"x\",SUMIF(W4:W24,\"<3,5\",V4:V24),SUMIF(W4:W24,\"<4,5\",V4:V24))","v":0},{"$f":"IF(W27=0,0,SUM((V25)-(V28+X28)))","v":0},{"$f":"IF('Répartition des intensités'!$AR$25=\"x\",SUMIF(W4:W24,\">5,5\",V4:V24),SUMIF(W4:W24,\">6,5\",V4:V24))","v":0},{"$f":"IF('Répartition des intensités'!$AR$25=\"x\",SUMIF(Z4:Z24,\"<3,5\",Y4:Y24),SUMIF(Z4:Z24,\"<4,5\",Y4:Y24))","v":0},{"$f":"IF(Z27=0,0,SUM((Y25)-(Y28+AA28)))","v":0},{"$f":"IF('Répartition des intensités'!$AR$25=\"x\",SUMIF(Z4:Z24,\">5,5\",Y4:Y24),SUMIF(Z4:Z24,\">6,5\",Y4:Y24))","v":0},{"$f":"IF('Répartition des intensités'!$AR$25=\"x\",SUMIF(AC4:AC24,\"<3,5\",AB4:AB24),SUMIF(AC4:AC24,\"<4,5\",AB4:AB24))","v":0},{"$f":"IF(AC27=0,0,SUM((AB25)-(AB28+AD28)))","v":0},{"$f":"IF('Répartition des intensités'!$AR$25=\"x\",SUMIF(AC4:AC24,\">5,5\",AB4:AB24),SUMIF(AC4:AC24,\">6,5\",AB4:AB24))","v":0},{"$f":"IF('Répartition des intensités'!$AR$25=\"x\",SUMIF(AF4:AF24,\"<3,5\",AE4:AE24),SUMIF(AF4:AF24,\"<4,5\",AE4:AE24))","v":0},{"$f":"IF(AF27=0,0,SUM((AE25)-(AE28+AG28)))","v":0},{"$f":"IF('Répartition des intensités'!$AR$25=\"x\",SUMIF(AF4:AF24,\">5,5\",AE4:AE24),SUMIF(AF4:AF24,\">6,5\",AE4:AE24))","v":0}]
[null,null,null,"Comme au repos",null,null,null,0,null,"REG","Est-ce que j'ai l'impression d'avoir récupéré en me levant?"]
[null,null,null,"très facile",null,null,null,1]
[null,null,null,"facile",null,null,null,2,null,1,"… pas du tout récupéré",null,null,null,null,null,null,null,null,null,null,null,null,null,null,null,null,null,null,null,null,null,null,null,"Entrainements",null,null,null,"Rapport de santé"]
[null,null,null,null,null,null,null,3,null,2,"… un peu récupéré",null,null,null,null,null,null,null,null,null,null,null,null,null,null,null,null,null,null,null,null,null,null,null,"Jours d'entrainement",null,{"$f":"IF(SUM(AH4:AH24)=0,\"\",SUM(AH4:AH24))","v":""}]
[null,null,null,"Assez dur",null,null,null,4,null,3,"… récupéré",null,null,null,null,null,null,null,null,null,null,{"$f":"B4","v":"Lu"},{"$f":"AK4","v":0},null,null,null,null,null,null,null,null,null,null,null,"Entrainements",null,{"$f":"IF(AK32=\"\",\"\",SUM(M27:AG27))","v":""}]
[null,null,null,"dur",null,null,null,5,null,4,"…  en forme",null,null,null,null,null,null,null,null,null,null,{"$f":"B7","v":"Ma"},{"$f":"AK7","v":0},null,null,null,null,null,null,null,null,null,null,null,"Heures d'entrainement",null,{"$f":"IF(AK32=\"\",\"\",SUM(M25,P25,S25,Y25,AB25,V25,AE25)/60)","v":""},null,{"$f":"IF($AK$32=\"\",\"\",AK32-AM36-AM44-AM52)","v":""},"Aucune limitation",null,null,null,0]
[null,null,null,null,null,null,null,6,null,5,"… très en forme",null,null,null,null,null,null,null,null,null,null,{"$f":"B10","v":"Me"},{"$f":"AK10","v":0},null,null,null,null,null,null,null,null,null,null,null,"Charge de l'entrainement",null,{"$f":"IF(AK32=\"\",\"\",SUM(AK25))","v":""}]
[null,null,null,"très dur",null,null,null,7,null,null,null,null,null,null,null,null,null,null,null,null,null,{"$f":"B13","v":"Je"},{"$f":"AK13","v":0},null,null,null,null,null,null,null,null,null,null,null,"Monotonie",null,{"$f":"IF(AK27=0,0,(AVERAGE(AK4:AK24))/AK27)","v":0},null,{"$f":"SUM(AM37:AM42)","v":0},"Limitation pour cause de douleurs"]
[null,null,null,null,null,null,null,8,null,"Nombre de matchs",null,null,null,null,null,null,null,null,null,null,null,{"$f":"B16","v":"Ve"},{"$f":"AK16","v":0},null,null,null,null,null,null,null,null,null,null,null,"Efforts à l'entrainement",null,{"$f":"IF(AK32=\"\",\"\",AK35*AK36)","v":""},null,{"$f":"COUNTIF($H$4:$H$24,$AR37)","v":0},"Doigt",null,null,null,1]
[null,null,null,"extrèmement dur",null,null,null,9,null,null,null,null,null,null,null,null,null,null,null,null,null,{"$f":"B19","v":"Sa"},{"$f":"AK19","v":0},null,null,null,null,null,null,null,null,null,null,null,null,null,null,null,0,"Épaule",null,null,null,2]
[null,null,null,"Comme mon entrainement le plus dur",null,null,null,10,null,1,"… 3 sets et plus",null,null,null,null,null,null,null,null,null,null,{"$f":"B22","v":"Di"},{"$f":"AK22","v":0},null,null,null,null,null,null,null,null,null,null,null,"Compétition",null,null,null,0,"Dos",null,null,null,3]
[null,null,null,null,null,null,null,null,null,0.5,"… moins de 3 sets",null,null,null,null,null,null,null,null,null,null,null,null,null,null,null,null,null,null,null,null,null,null,null,"Matchs de volleyball",null,{"$f":"IF(AK32=\"\",\"\",SUM(AM4:AM24))","v":""},null,0,"Genou",null,null,null,4]
[null,null,null,null,null,null,null,null,null,null,null,null,null,null,null,null,null,null,null,null,null,null,null,null,null,null,null,null,null,null,null,null,null,null,"Sets de volleyball",null,{"$f":"IF(AK32=\"\",\"\",SUM(AN4:AN24))","v":""},null,0,"Cheville",null,null,null,5]
[null,null,null,null,null,null,null,null,null,"Sets joués",null,null,null,null,null,null,null,null,null,null,null,null,null,null,null,null,null,null,null,null,null,null,null,null,"Matchs de beach volley",null,{"$f":"IF(AK35=\"\",\"\",SUM(AO4:AO24))","v":""},null,0,"Autre",null,null,null,6]
[null,null,null,null,null,null,null,null,null,1,"… depuis le début et durant tout le set",null,null,null,null,null,null,null,null,null,null,null,null,null,null,null,null,null,null,null,null,null,null,null,"Sets de beach volley",null,{"$f":"IF(AK35=\"\",\"\",SUM(AP4:AP24))","v":""}]
[null,null,null,null,null,null,null,null,null,0.5,"… entré/sorti en cours, beaucoup joué",null,null,null,null,null,null,null,null,null,null,null,null,null,null,null,null,null,null,null,null,null,null,null,null,null,null,null,{"$f":"SUM(AM45:AM50)","v":0},"Absence pour cause de blessure"]
[null,null,null,null,null,null,null,null,null,0.1,"… entré/sorti en cours, peu joué",null,null,null,null,null,null,null,null,null,null,null,null,null,null,null,null,null,null,null,null,null,null,null,"Satisfaction",null,null,null,{"$f":"COUNTIF($H$4:$H$24,$AR45)","v":0},"Doigt",null,null,null,11]
[null,null,null,null,null,null,null,null,null,null,null,null,null,null,null,null,null,null,null,null,null,null,null,null,null,null,null,null,null,null,null,null,null,null,"Satisfaction de l'entrainement/match J",null,{"$f":"IF(AK32=\"\",\"\",SUM(AQ4:AQ24)/AK32)","v":""},null,0,"Épaule",null,null,null,12]
[null,null,null,null,null,null,null,null,null,"J","Es-tu content de la qualité de ton",null,null,null,null,null,null,null,null,null,null,null,null,null,null,null,null,null,null,null,null,null,null,null,null,null,null,null,0,"Dos",null,null,null,13]
[null,null,null,null,null,null,null,null,null,null,"entrainement/compétition?",null,null,null,null,null,null,null,null,null,null,null,null,null,null,null,null,null,null,null,null,null,null,null,"Santé",null,null,null,0,"Genou",null,null,null,14]
[null,null,null,null,null,null,null,null,null,1,"… pas content",null,null,null,null,null,null,null,null,null,null,null,null,null,null,null,null,null,null,null,null,null,null,null,"Limitation pour cause de douleurs",null,{"$f":"AM36","v":0},null,0,"Cheville",null,null,null,15]
[null,null,null,null,null,null,null,null,null,2,"… plutôt pas content",null,null,null,null,null,null,null,null,null,null,null,null,null,null,null,null,null,null,null,null,null,null,null,"Absence pour cause de blessure",null,{"$f":"AM44","v":0},null,0,"Autre",null,null,null,16]
[null,null,null,null,null,null,null,null,null,3,"… moyen",null,null,null,null,null,null,null,null,null,null,null,null,null,null,null,null,null,null,null,null,null,null,null,"Absence pour cause de maladie",null,{"$f":"AM52","v":0}]
[null,null,null,null,null,null,null,null,null,4,"… content",null,null,null,null,null,null,null,null,null,null,null,null,null,null,null,null,null,null,null,null,null,null,null,null,null,null,null,{"$f":"SUM(AM53:AM59)","v":0},"Absence pour cause de maladie"]
[null,null,null,null,null,null,null,null,null,5,"… très content!",null,null,null,null,null,null,null,null,null,null,null,null,null,null,null,null,null,null,null,null,null,null,null,null,null,null,null,{"$f":"COUNTIF($H$4:$H$24,$AR53)","v":0},"Maladie",null,null,null,21]
[]
[]
[]
[]
[]
[]
[]
[]
[]
[]
[]
[]
[]
[]
[]
[]
[]
[]
[]
[]
[]
[]
[]
[]
[]
[]
[]
[]
[]
[]
[]
[]
[]
[]
[]
[]
[]
[]
[]
[]
[]
[]
[]
[]
[]
[]
[]
[]
[]
[]
[]
[]
[]
[]
[]
[]
[]
[]
[]
[]
[]
[]
[]
[]
[]
[]
[]
[]
[]
[]
[]
[]
[]
[]
[]
[]
[]
[]
[]
[]
[null,null,null,null,null,null,null,null,null,null,null,null,null,null,null,null,null,null,null,null,null,null,null,null,{"$f":"Z134-1","v":30},31,32,33,34,35,36,{"$f":"D1","v":37}]
[]
[]
[]
[]
[]
[]
[]
[]
[]
[]
[]
[]
[]
[]
[]
[]
[]
[]
[]
[]
[null,null,null,null,null,null,null,null,null,null,null,null,null,null,null,null,null,null,null,null,null,null,null,null,null,null,null,null,null,null,null,null,{"$f":"AF134+1","v":38}]

{"sheet":"38","index":14,"n_rows":155,"n_cols":45,"rows_kept":155,"cut":false,"hidden":false,"merged":[[0,5,0,6],[1,44,2,44],[29,3,29,6],[30,3,30,6],[35,3,35,6],[36,3,36,6],[46,9,47,9],[9,4,11,4],[12,4,14,4],[3,7,5,7],[15,7,17,7],[27,3,27,6],[15,5,17,5],[18,5,20,5],[28,10,29,10],[15,9,15,10],[1,41,2,41],[1,21,1,23],[30,34,30,36],[30,38,31,43],[1,40,2,40],[16,9,16,10],[28,9,29,9],[28,3,28,6],[37,3,37,6],[38,3,38,6],[31,3,31,6],[32,3,32,6],[33,3,33,6],[34,3,34,6],[22,9,22,10],[29,21,29,26],[36,9,37,9],[1,39,2,39],[18,36,20,36],[21,36,23,36],[15,36,17,36],[1,38,2,38],[1,36,2,36],[1,34,2,34],[1,30,1,32],[1,27,1,29],[1,24,1,26],[9,36,11,36],[12,36,14,36],[6,36,8,36],[1,18,1,20],[11,9,11,10],[10,9,10,10],[1,15,1,17],[1,9,2,10],[3,9,3,10],[4,9,4,10],[5,9,5,10],[3,36,5,36],[6,1,8,1],[6,7,8,7],[6,3,8,3],[6,6,8,6],[6,9,6,10],[8,9,8,10],[7,9,7,10],[15,6,17,6],[15,4,17,4],[9,1,11,1],[9,3,11,3],[9,6,11,6],[9,9,9,10],[1,12,1,14],[18,1,20,1],[18,3,20,3],[18,6,20,6],[1,1,2,1],[3,4,5,4],[6,4,8,4],[3,1,5,1],[9,7,11,7],[14,9,14,10],[12,7,14,7],[3,5,5,5],[6,5,8,5],[9,5,11,5],[12,5,14,5],[17,9,17,10],[3,3,5,3],[3,6,5,6],[1,43,2,43],[38,34,38,36],[44,34,44,36],[47,34,47,36],[21,1,23,1],[21,3,23,3],[21,5,23,5],[21,6,23,6],[21,9,21,10],[23,9,23,10],[21,7,23,7],[21,4,23,4],[12,1,14,1],[12,3,14,3],[12,6,14,6],[12,9,12,10],[13,9,13,10],[18,9,18,10],[19,9,19,10],[20,9,20,10],[18,7,20,7],[18,4,20,4],[15,1,17,1],[15,3,17,3]]}
[null,null,"Woche",{"$f":"INT(MOD(INT((F1-2)/7)+0.6,52+5/28))+1","v":38},{"$f":"D1+1000","v":1038},{"$f":"'37'!F1+7","v":"2018-09-17"},null,"-",null,{"$f":"F1+6","v":"2018-09-23"},null,null,null,null,null,null,null,null,null,null,null,null,null,null,null,null,null,null,null,null,null,null,{"$f":"'Aperçu de la charge'!D2","v":"Prénom Nom"},null,{"$f":"'Aperçu de la charge'!N2","v":"2018/2019"}]
[null,"Jour",null,"Poids","REG","qualité sommeil","durée sommeil","Santé",null,"Description de l'entrainement",null,null,"Club - VB",null,null,"TS/ Nati - VB",null,null,"Club - BVB",null,null,"TS/ Nati - BVB",null,null,"Force - fitness",null,null,"Compet. - VB",null,null,"Compet. - BVB",null,null,null,"Réflexion",null,"Charge/\njour",null,"matchs VB","Sets VB","Matchs BVB","Sets BVB","J","Autre\n (Rég, mentale)","Mental- oder Sonstiges Training"]
[null,null,null,"[kg]","[1 - 5]","[1-5]","[Std]","Nr.",null,null,null,null,"Durée","RPE","Charge","Durée","RPE","Charge","Durée","RPE","Charge","Durée","RPE","Charge","Durée","RPE","Charge","Durée","RPE","Charge","Durée","RPE","Charge",null,null,null,null,null,null,null,null,null,"[1-5]"]
[null,"Lu",null,0,0,0,0,0,null,null,null,null,null,null,{"$f":"M4*N4","v":0},null,null,{"$f":"P4*Q4","v":0},null,null,{"$f":"S4*T4","v":0},null,null,{"$f":"V4*W4","v":0},null,null,{"$f":"Y4*Z4","v":0},null,null,{"$f":"AB4*AC4","v":0},null,null,{"$f":"AE4*AF4","v":0},{"$f":"IF(SUM(M4:AG6)>0,1,0)","v":"00:00:00"},null,null,{"$f":"SUM(O4:O6,R4:R6,U4:U6,X4:X6,AA4:AA6,AD4:AD6,AG4:AG6)","v":0}]
[null,null,null,null,null,null,null,null,null,null,null,null,null,null,{"$f":"M5*N5","v":0},null,null,{"$f":"P5*Q5","v":0},null,null,{"$f":"S5*T5","v":0},null,null,{"$f":"V5*W5","v":0},null,null,{"$f":"Y5*Z5","v":0},null,null,{"$f":"AB5*AC5","v":0},null,null,{"$f":"AE5*AF5","v":0}]
[null,null,null,null,null,null,null,null,null,null,null,null,null,null,0,null,null,0,null,null,0,null,null,0,null,null,0,null,null,0,null,null,0]
[null,"Ma",null,0,0,0,0,0,null,null,null,null,null,null,0,null,null,{"$f":"P7*Q7","v":0},null,null,0,null,null,0,null,null,0,null,null,0,null,null,0,{"$f":"IF(SUM(M7:AG9)>0,1,0)","v":"00:00:00"},null,null,{"$f":"SUM(O7:O9,R7:R9,U7:U9,X7:X9,AA7:AA9,AD7:AD9,AG7:AG9)","v":0}]
[null,null,null,null,null,null,null,null,null,null,null,null,null,null,0,null,null,0,null,null,0,null,null,0,null,null,0,null,null,0,null,null,0]
[null,null,null,null,null,null,null,null,null,null,null,null,null,null,0,null,null,0,null,null,0,null,null,0,null,null,0,null,null,0,null,null,0]
[null,"Me",null,0,0,0,0,0,null,null,null,null,null,null,0,null,null,{"$f":"P10*Q10","v":0},null,null,0,null,null,0,null,null,0,null,null,0,null,null,0,{"$f":"IF(SUM(M10:AG12)>0,1,0)","v":"00:00:00"},null,null,{"$f":"SUM(O10:O12,R10:R12,U10:U12,X10:X12,AA10:AA12,AD10:AD12,AG10:AG12)","v":0}]
[null,null,null,null,null,null,null,null,null,null,null,null,null,null,0,null,null,0,null,null,0,null,null,0,null,null,0,null,null,0,null,null,0]
[null,null,null,null,null,null,null,null,null,null,null,null,null,null,0,null,null,0,null,null,0,null,null,0,null,null,0,null,null,0,null,null,0]
[null,"Je",null,0,0,0,0,0,null,null,null,null,null,null,0,null,null,{"$f":"P13*Q13","v":0},null,null,0,null,null,0,null,null,0,null,null,0,null,null,0,{"$f":"IF(SUM(M13:AG15)>0,1,0)","v":"00:00:00"},null,null,{"$f":"SUM(O13:O15,R13:R15,U13:U15,X13:X15,AA13:AA15,AD13:AD15,AG13:AG15)","v":0}]
[null,null,null,null,null,null,null,null,null,null,null,null,null,null,0,null,null,0,null,null,0,null,null,0,null,null,0,null,null,0,null,null,0]
[null,null,null,null,null,null,null,null,null,null,null,null,null,null,0,null,null,0,null,null,0,null,null,0,null,null,0,null,null,0,null,null,0]
[null,"Ve",null,0,0,0,0,0,null,null,null,null,null,null,0,null,null,{"$f":"P16*Q16","v":0},null,null,0,null,null,0,null,null,0,null,null,0,null,null,0,{"$f":"IF(SUM(M16:AG18)>0,1,0)","v":"00:00:00"},null,null,{"$f":"SUM(O16:O18,R16:R18,U16:U18,X16:X18,AA16:AA18,AD16:AD18,AG16:AG18)","v":0}]
[null,null,null,null,null,null,null,null,null,null,null,null,null,null,0,null,null,0,null,null,0,null,null,0,null,null,0,null,null,0,null,null,0]
[null,null,null,null,null,null,null,null,null,null,null,null,null,null,0,null,null,0,null,null,0,null,null,0,null,null,0,null,null,0,null,null,0]
[null,"Sa",null,0,0,0,0,0,null,null,null,null,null,null,{"$f":"M19*N19","v":0},null,null,{"$f":"P19*Q19","v":0},null,null,{"$f":"S19*T19","v":0},null,null,{"$f":"V19*W19","v":0},null,null,{"$f":"Y19*Z19","v":0},null,null,{"$f":"AB19*AC19","v":0},null,null,{"$f":"AE19*AF19","v":0},{"$f":"IF(SUM(M19:AG21)>0,1,0)","v":"00:00:00"},null,null,{"$f":"SUM(O19:O21,R19:R21,U19:U21,X19:X21,AA19:AA21,AD19:AD21,AG19:AG21)","v":0}]
[null,null,null,null,null,null,null,null,null,null,null,null,null,null,{"$f":"M20*N20","v":0},null,null,0,null,null,{"$f":"S20*T20","v":0},null,null,{"$f":"V20*W20","v":0},null,null,{"$f":"Y20*Z20","v":0},null,null,{"$f":"AB20*AC20","v":0},null,null,{"$f":"AE20*AF20","v":0}]
[null,null,null,null,null,null,null,null,null,null,null,null,null,null,0,null,null,0,null,null,0,null,null,0,null,null,0,null,null,0,null,null,0]
[null,"Di",null,0,0,0,0,0,null,null,null,null,null,null,0,null,null,{"$f":"P22*Q22","v":0},null,null,0,null,null,0,null,null,0,null,null,0,null,null,0,{"$f":"IF(SUM(M22:AG24)>0,1,0)","v":"00:00:00"},null,null,{"$f":"SUM(O22:O24,R22:R24,U22:U24,X22:X24,AA22:AA24,AD22:AD24,AG22:AG24)","v":0}]
[null,null,null,null,null,null,null,null,null,null,null,null,null,null,0,null,null,0,null,null,0,null,null,0,null,null,0,null,null,0,null,null,0]
[null,null,null,null,null,null,null,null,null,null,null,null,null,null,0,null,null,0,null,null,0,null,null,0,null,null,0,null,null,0,null,null,0]
[null,null,null,null,null,null,null,null,null,null,"Total",null,{"$f":"SUM(M4:M24)","v":0},null,{"$f":"SUM(O4:O24)","v":0},{"$f":"SUM(P4:P24)","v":0},null,{"$f":"SUM(R4:R24)","v":0},{"$f":"SUM(S4:S24)","v":0},null,{"$f":"SUM(U4:U24)","v":0},{"$f":"SUM(V4:V24)","v":0},null,{"$f":"SUM(X4:X24)","v":0},{"$f":"SUM(Y4:Y24)","v":0},null,{"$f":"SUM(AA4:AA24)","v":0},{"$f":"SUM(AB4:AB24)","v":0},null,{"$f":"SUM(AD4:AD24)","v":0},{"$f":"SUM(AE4:AE24)","v":0},null,{"$f":"SUM(AG4:AG24)","v":0},null,"Charge totale",null,{"$f":"SUM(AK4:AK24)","v":0}]
[null,"avg.",null,{"$f":"IF(COUNTA(D4:D24)=0,\"\",AVERAGE(D4:D24))","v":0},{"$f":"IF(COUNTA(E4:E24)=0,\"\",AVERAGE(E4:E24))","v":0},{"$f":"IF(COUNTA(F4:F24)=0,\"\",AVERAGE(F4:F24))","v":0},{"$f":"IF(COUNTA(G4:G24)=0,\"\",AVERAGE(G4:G24))","v":0},{"$f":"IF(COUNTA(H4:H24)=0,\"\",COUNTIF(H4:H24,\"x\"))","v":0},null,null,"Zone",null,1,2,3,1,2,3,1,2,3,1,2,3,1,2,3,1,2,3,1,2,3,null,"Moyenne",null,{"$f":"AVERAGE(AK4:AK24)","v":0}]
[null,null,null,null,null,{"$f":"IF(COUNTA(F4:F24)=0,\"\",VAR(F4:F24))","v":0},{"$f":"IF(COUNTA(G4:G24)=0,\"\",STDEV(G4:G24))","v":0},"Divergence - durée du sommeil",null,null,"Unité par zone (RPE) ",null,{"$f":"IF('Répartition des intensités'!$AR$25=\"x\",COUNTIF(N4:N24,\"<3,5\"),COUNTIF(N4:N24,\"<4,5\"))","v":0},{"$f":"COUNT(N4:N24)-(M27+O27)","v":0},{"$f":"IF('Répartition des intensités'!$AR$25=\"x\",COUNTIF(N4:N24,\">5,5\"),COUNTIF(N4:N24,\">6,5\"))","v":0},{"$f":"IF('Répartition des intensités'!$AR$25=\"x\",COUNTIF(Q4:Q24,\"<3,5\"),COUNTIF(Q4:Q24,\"<4,5\"))","v":0},{"$f":"COUNT(Q4:Q24)-(P27+R27)","v":0},{"$f":"IF('Répartition des intensités'!$AR$25=\"x\",COUNTIF(Q4:Q24,\">5,5\"),COUNTIF(Q4:Q24,\">6,5\"))","v":0},{"$f":"IF('Répartition des intensités'!$AR$25=\"x\",COUNTIF(T4:T24,\"<3,5\"),COUNTIF(T4:T24,\"<4,5\"))","v":0},{"$f":"COUNT(T4:T24)-(S27+U27)","v":0},{"$f":"IF('Répartition des intensités'!$AR$25=\"x\",COUNTIF(T4:T24,\">5,5\"),COUNTIF(T4:T24,\">6,5\"))","v":0},{"$f":"IF('Répartition des intensités'!$AR$25=\"x\",COUNTIF(W4:W24,\"<3,5\"),COUNTIF(W4:W24,\"<4,5\"))","v":0},{"$f":"COUNT(W4:W24)-(V27+X27)","v":0},{"$f":"IF('Répartition des intensités'!$AR$25=\"x\",COUNTIF(W4:W24,\">5,5\"),COUNTIF(W4:W24,\">6,5\"))","v":0},{"$f":"IF('Répartition des intensités'!$AR$25=\"x\",COUNTIF(Z4:Z24,\"<3,5\"),COUNTIF(Z4:Z24,\"<4,5\"))","v":0},{"$f":"COUNT(Z4:Z24)-(Y27+AA27)","v":0},{"$f":"IF('Répartition des intensités'!$AR$25=\"x\",COUNTIF(Z4:Z24,\">5,5\"),COUNTIF(Z4:Z24,\">6,5\"))","v":0},{"$f":"IF('Répartition des intensités'!$AR$25=\"x\",COUNTIF(AC4:AC24,\"<3,5\"),COUNTIF(AC4:AC24,\"<4,5\"))","v":0},{"$f":"COUNT(AC4:AC24)-(AB27+AD27)","v":0},{"$f":"IF('Répartition des intensités'!$AR$25=\"x\",COUNTIF(AC4:AC24,\">5,5\"),COUNTIF(AC4:AC24,\">6,5\"))","v":0},{"$f":"IF('Répartition des intensités'!$AR$25=\"x\",COUNTIF(AF4:AF24,\"<3,5\"),COUNTIF(AF4:AF24,\"<4,5\"))","v":0},{"$f":"COUNT(AF4:AF24)-(AE27+AG27)","v":0},{"$f":"IF('Répartition des intensités'!$AR$25=\"x\",COUNTIF(AF4:AF24,\">5,5\"),COUNTIF(AF4:AF24,\">6,5\"))","v":0},null,"Divergence",null,{"$f":"STDEVP(AK4:AK24)","v":0}]
[null,null,null,"échelle de Foster",null,null,null,"RPE",null,null,"Temps par zone (RPE)",null,{"$f":"IF('Répartition des intensités'!$AR$25=\"x\",SUMIF(N4:N24,\"<3,5\",M4:M24),SUMIF(N4:N24,\"<4,5\",M4:M24))","v":0},{"$f":"IF(N27=0,0,SUM((M25)-(M28+O28)))","v":0},{"$f":"IF('Répartition des intensités'!$AR$25=\"x\",SUMIF(N4:N24,\">5,5\",M4:M24),SUMIF(N4:N24,\">6,5\",M4:M24))","v":0},{"$f":"IF('Répartition des intensités'!$AR$25=\"x\",SUMIF(Q4:Q24,\"<3,5\",P4:P24),SUMIF(Q4:Q24,\"<4,5\",P4:P24))","v":0},{"$f":"IF(Q27=0,0,SUM((P25)-(P28+R28)))","v":0},{"$f":"IF('Répartition des intensités'!$AR$25=\"x\",SUMIF(Q4:Q24,\">5,5\",P4:P24),SUMIF(Q4:Q24,\">6,5\",P4:P24))","v":0},{"$f":"IF('Répartition des intensités'!$AR$25=\"x\",SUMIF(T4:T24,\"<3,5\",S4:S24),SUMIF(T4:T24,\"<4,5\",S4:S24))","v":0},{"$f":"IF(T27=0,0,SUM((S25)-(S28+U28)))","v":0},{"$f":"IF('Répartition des intensités'!$AR$25=\"x\",SUMIF(T4:T24,\">5,5\",S4:S24),SUMIF(T4:T24,\">6,5\",S4:S24))","v":0},{"$f":"IF('Répartition des intensités'!$AR$25=\"x\",SUMIF(W4:W24,\"<3,5\",V4:V24),SUMIF(W4:W24,\"<4,5\",V4:V24))","v":0},{"$f":"IF(W27=0,0,SUM((V25)-(V28+X28)))","v":0},{"$f":"IF('Répartition des intensités'!$AR$25=\"x\",SUMIF(W4:W24,\">5,5\",V4:V24),SUMIF(W4:W24,\">6,5\",V4:V24))","v":0},{"$f":"IF('Répartition des intensités'!$AR$25=\"x\",SUMIF(Z4:Z24,\"<3,5\",Y4:Y24),SUMIF(Z4:Z24,\"<4,5\",Y4:Y24))","v":0},{"$f":"IF(Z27=0,0,SUM((Y25)-(Y28+AA28)))","v":0},{"$f":"IF('Répartition des intensités'!$AR$25=\"x\",SUMIF(Z4:Z24,\">5,5\",Y4:Y24),SUMIF(Z4:Z24,\">6,5\",Y4:Y24))","v":0},{"$f":"IF('Répartition des intensités'!$AR$25=\"x\",SUMIF(AC4:AC24,\"<3,5\",AB4:AB24),SUMIF(AC4:AC24,\"<4,5\",AB4:AB24))","v":0},{"$f":"IF(AC27=0,0,SUM((AB25)-(AB28+AD28)))","v":0},{"$f":"IF('Répartition des intensités'!$AR$25=\"x\",SUMIF(AC4:AC24,\">5,5\",AB4:AB24),SUMIF(AC4:AC24,\">6,5\",AB4:AB24))","v":0},{"$f":"IF('Répartition des intensités'!$AR$25=\"x\",SUMIF(AF4:AF24,\"<3,5\",AE4:AE24),SUMIF(AF4:AF24,\"<4,5\",AE4:AE24))","v":0},{"$f":"IF(AF27=0,0,SUM((AE25)-(AE28+AG28)))","v":0},{"$f":"IF('Répartition des intensités'!$AR$25=\"x\",SUMIF(AF4:AF24,\">5,5\",AE4:AE24),SUMIF(AF4:AF24,\">6,5\",AE4:AE24))","v":0}]
[null,null,null,"Comme au repos",null,null,null,0,null,"REG","Est-ce que j'ai l'impression d'avoir récupéré en me levant?"]
[null,null,null,"très facile",null,null,null,1]
[null,null,null,"facile",null,null,null,2,null,1,"… pas du tout récupéré",null,null,null,null,null,null,null,null,null,null,null,null,null,null,null,null,null,null,null,null,null,null,null,"Entrainements",null,null,null,"Rapport de santé"]
[null,null,null,null,null,null,null,3,null,2,"… un peu récupéré",null,null,null,null,null,null,null,null,null,null,null,null,null,null,null,null,null,null,null,null,null,null,null,"Jours d'entrainement",null,{"$f":"IF(SUM(AH4:AH24)=0,\"\",SUM(AH4:AH24))","v":""}]
[null,null,null,"Assez dur",null,null,null,4,null,3,"… récupéré",null,null,null,null,null,null,null,null,null,null,{"$f":"B4","v":"Lu"},{"$f":"AK4","v":0},null,null,null,null,null,null,null,null,null,null,null,"Entrainements",null,{"$f":"IF(AK32=\"\",\"\",SUM(M27:AG27))","v":""}]
[null,null,null,"dur",null,null,null,5,null,4,"…  en forme",null,null,null,null,null,null,null,null,null,null,{"$f":"B7","v":"Ma"},{"$f":"AK7","v":0},null,null,null,null,null,null,null,null,null,null,null,"Heures d'entrainement",null,{"$f":"IF(AK32=\"\",\"\",SUM(M25,P25,S25,Y25,AB25,V25,AE25)/60)","v":""},null,{"$f":"IF($AK$32=\"\",\"\",AK32-AM36-AM44-AM52)","v":""},"Aucune limitation",null,null,null,0]
[null,null,null,null,null,null,null,6,null,5,"… très en forme",null,null,null,null,null,null,null,null,null,null,{"$f":"B10","v":"Me"},{"$f":"AK10","v":0},null,null,null,null,null,null,null,null,null,null,null,"Charge de l'entrainement",null,{"$f":"IF(AK32=\"\",\"\",SUM(AK25))","v":""}]
[null,null,null,"très dur",null,null,null,7,null,null,null,null,null,null,null,null,null,null,null,null,null,{"$f":"B13","v":"Je"},{"$f":"AK13","v":0},null,null,null,null,null,null,null,null,null,null,null,"Monotonie",null,{"$f":"IF(AK27=0,0,(AVERAGE(AK4:AK24))/AK27)","v":0},null,{"$f":"SUM(AM37:AM42)","v":0},"Limitation pour cause de douleurs"]
[null,null,null,null,null,null,null,8,null,"Nombre de matchs",null,null,null,null,null,null,null,null,null,null,null,{"$f":"B16","v":"Ve"},{"$f":"AK16","v":0},null,null,null,null,null,null,null,null,null,null,null,"Efforts à l'entrainement",null,{"$f":"IF(AK32=\"\",\"\",AK35*AK36)","v":""},null,{"$f":"COUNTIF($H$4:$H$24,$AR37)","v":0},"Doigt",null,null,null,1]
[null,null,null,"extrèmement dur",null,null,null,9,null,null,null,null,null,null,null,null,null,null,null,null,null,{"$f":"B19","v":"Sa"},{"$f":"AK19","v":0},null,null,null,null,null,null,null,null,null,null,null,null,null,null,null,0,"Épaule",null,null,null,2]
[null,null,null,"Comme mon entrainement le plus dur",null,null,null,10,null,1,"… 3 sets et plus",null,null,null,null,null,null,null,null,null,null,{"$f":"B22","v":"Di"},{"$f":"AK22","v":0},null,null,null,null,null,null,null,null,null,null,null,"Compétition",null,null,null,0,"Dos",null,null,null,3]
[null,null,null,null,null,null,null,null,null,0.5,"… moins de 3 sets",null,null,null,null,null,null,null,null,null,null,null,null,null,null,null,null,null,null,null,null,null,null,null,"Matchs de volleyball",null,{"$f":"IF(AK32=\"\",\"\",SUM(AM4:AM24))","v":""},null,0,"Genou",null,null,null,4]
[null,null,null,null,null,null,null,null,null,null,null,null,null,null,null,null,null,null,null,null,null,null,null,null,null,null,null,null,null,null,null,null,null,null,"Sets de volleyball",null,{"$f":"IF(AK32=\"\",\"\",SUM(AN4:AN24))","v":""},null,0,"Cheville",null,null,null,5]
[null,null,null,null,null,null,null,null,null,"Sets joués",null,null,null,null,null,null,null,null,null,null,null,null,null,null,null,null,null,null,null,null,null,null,null,null,"Matchs de beach volley",null,{"$f":"IF(AK35=\"\",\"\",SUM(AO4:AO24))","v":""},null,0,"Autre",null,null,null,6]
[null,null,null,null,null,null,null,null,null,1,"… depuis le début et durant tout le set",null,null,null,null,null,null,null,null,null,null,null,null,null,null,null,null,null,null,null,null,null,null,null,"Sets de beach volley",null,{"$f":"IF(AK35=\"\",\"\",SUM(AP4:AP24))","v":""}]
[null,null,null,null,null,null,null,null,null,0.5,"… entré/sorti en cours, beaucoup joué",null,null,null,null,null,null,null,null,null,null,null,null,null,null,null,null,null,null,null,null,null,null,null,null,null,null,null,{"$f":"SUM(AM45:AM50)","v":0},"Absence pour cause de blessure"]
[null,null,null,null,null,null,null,null,null,0.1,"… entré/sorti en cours, peu joué",null,null,null,null,null,null,null,null,null,null,null,null,null,null,null,null,null,null,null,null,null,null,null,"Satisfaction",null,null,null,{"$f":"COUNTIF($H$4:$H$24,$AR45)","v":0},"Doigt",null,null,null,11]
[null,null,null,null,null,null,null,null,null,null,null,null,null,null,null,null,null,null,null,null,null,null,null,null,null,null,null,null,null,null,null,null,null,null,"Satisfaction de l'entrainement/match J",null,{"$f":"IF(AK32=\"\",\"\",SUM(AQ4:AQ24)/AK32)","v":""},null,0,"Épaule",null,null,null,12]
[null,null,null,null,null,null,null,null,null,"J","Es-tu content de la qualité de ton",null,null,null,null,null,null,null,null,null,null,null,null,null,null,null,null,null,null,null,null,null,null,null,null,null,null,null,0,"Dos",null,null,null,13]
[null,null,null,null,null,null,null,null,null,null,"entrainement/compétition?",null,null,null,null,null,null,null,null,null,null,null,null,null,null,null,null,null,null,null,null,null,null,null,"Santé",null,null,null,0,"Genou",null,null,null,14]
[null,null,null,null,null,null,null,null,null,1,"… pas content",null,null,null,null,null,null,null,null,null,null,null,null,null,null,null,null,null,null,null,null,null,null,null,"Limitation pour cause de douleurs",null,{"$f":"AM36","v":0},null,0,"Cheville",null,null,null,15]
[null,null,null,null,null,null,null,null,null,2,"… plutôt pas content",null,null,null,null,null,null,null,null,null,null,null,null,null,null,null,null,null,null,null,null,null,null,null,"Absence pour cause de blessure",null,{"$f":"AM44","v":0},null,0,"Autre",null,null,null,16]
[null,null,null,null,null,null,null,null,null,3,"… moyen",null,null,null,null,null,null,null,null,null,null,null,null,null,null,null,null,null,null,null,null,null,null,null,"Absence pour cause de maladie",null,{"$f":"AM52","v":0}]
[null,null,null,null,null,null,null,null,null,4,"… content",null,null,null,null,null,null,null,null,null,null,null,null,null,null,null,null,null,null,null,null,null,null,null,null,null,null,null,{"$f":"SUM(AM53:AM59)","v":0},"Absence pour cause de maladie"]
[null,null,null,null,null,null,null,null,null,5,"… très content!",null,null,null,null,null,null,null,null,null,null,null,null,null,null,null,null,null,null,null,null,null,null,null,null,null,null,null,{"$f":"COUNTIF($H$4:$H$24,$AR53)","v":0},"Maladie",null,null,null,21]
[]
[]
[]
[]
[]
[]
[]
[]
[]
[]
[]
[]
[]
[]
[]
[]
[]
[]
[]
[]
[]
[]
[]
[]
[]
[]
[]
[]
[]
[]
[]
[]
[]
[]
[]
[]
[]
[]
[]
[]
[]
[]
[]
[]
[]
[]
[]
[]
[]
[]
[]
[]
[]
[]
[]
[]
[]
[]
[]
[]
[]
[]
[]
[]
[]
[]
[]
[]
[]
[]
[]
[]
[]
[]
[]
[]
[]
[]
[]
[]
[null,null,null,null,null,null,null,null,null,null,null,null,null,null,null,null,null,null,null,null,null,null,null,null,{"$f":"Z134-1","v":31},32,33,34,35,36,37,{"$f":"D1","v":38}]
[]
[]
[]
[]
[]
[]
[]
[]
[]
[]
[]
[]
[]
[]
[]
[]
[]
[]
[]
[]
[null,null,null,null,null,null,null,null,null,null,null,null,null,null,null,null,null,null,null,null,null,null,null,null,null,null,null,null,null,null,null,null,{"$f":"AF134+1","v":39}]

{"sheet":"39","index":15,"n_rows":155,"n_cols":45,"rows_kept":155,"cut":false,"hidden":false,"merged":[[0,5,0,6],[1,44,2,44],[29,3,29,6],[30,3,30,6],[35,3,35,6],[36,3,36,6],[46,9,47,9],[9,4,11,4],[12,4,14,4],[3,7,5,7],[15,7,17,7],[27,3,27,6],[15,5,17,5],[18,5,20,5],[28,10,29,10],[15,9,15,10],[1,41,2,41],[1,21,1,23],[30,34,30,36],[30,38,31,43],[1,40,2,40],[16,9,16,10],[28,9,29,9],[28,3,28,6],[37,3,37,6],[38,3,38,6],[31,3,31,6],[32,3,32,6],[33,3,33,6],[34,3,34,6],[22,9,22,10],[29,21,29,26],[36,9,37,9],[1,39,2,39],[18,36,20,36],[21,36,23,36],[15,36,17,36],[1,38,2,38],[1,36,2,36],[1,34,2,34],[1,30,1,32],[1,27,1,29],[1,24,1,26],[9,36,11,36],[12,36,14,36],[6,36,8,36],[1,18,1,20],[11,9,11,10],[10,9,10,10],[1,15,1,17],[1,9,2,10],[3,9,3,10],[4,9,4,10],[5,9,5,10],[3,36,5,36],[6,1,8,1],[6,7,8,7],[6,3,8,3],[6,6,8,6],[6,9,6,10],[8,9,8,10],[7,9,7,10],[15,6,17,6],[15,4,17,4],[9,1,11,1],[9,3,11,3],[9,6,11,6],[9,9,9,10],[1,12,1,14],[18,1,20,1],[18,3,20,3],[18,6,20,6],[1,1,2,1],[3,4,5,4],[6,4,8,4],[3,1,5,1],[9,7,11,7],[14,9,14,10],[12,7,14,7],[3,5,5,5],[6,5,8,5],[9,5,11,5],[12,5,14,5],[17,9,17,10],[3,3,5,3],[3,6,5,6],[1,43,2,43],[38,34,38,36],[44,34,44,36],[47,34,47,36],[21,1,23,1],[21,3,23,3],[21,5,23,5],[21,6,23,6],[21,9,21,10],[23,9,23,10],[21,7,23,7],[21,4,23,4],[12,1,14,1],[12,3,14,3],[12,6,14,6],[12,9,12,10],[13,9,13,10],[18,9,18,10],[19,9,19,10],[20,9,20,10],[18,7,20,7],[18,4,20,4],[15,1,17,1],[15,3,17,3]]}
[null,null,"Woche",{"$f":"INT(MOD(INT((F1-2)/7)+0.6,52+5/28))+1","v":39},{"$f":"D1+1000","v":1039},{"$f":"'38'!F1+7","v":"2018-09-24"},null,"-",null,{"$f":"F1+6","v":"2018-09-30"},null,null,null,null,null,null,null,null,null,null,null,null,null,null,null,null,null,null,null,null,null,null,{"$f":"'Aperçu de la charge'!D2","v":"Prénom Nom"},null,{"$f":"'Aperçu de la charge'!N2","v":"2018/2019"}]
[null,"Jour",null,"Poids","REG","qualité sommeil","durée sommeil","Santé",null,"Description de l'entrainement",null,null,"Club - VB",null,null,"TS/ Nati - VB",null,null,"Club - BVB",null,null,"TS/ Nati - BVB",null,null,"Force - fitness",null,null,"Compet. - VB",null,null,"Compet. - BVB",null,null,null,"Réflexion",null,"Charge/\njour",null,"matchs VB","Sets VB","Matchs BVB","Sets BVB","J","Autre\n (Rég, mentale)","Mental- oder Sonstiges Training"]
[null,null,null,"[kg]","[1 - 5]","[1-5]","[Std]","Nr.",null,null,null,null,"Durée","RPE","Charge","Durée","RPE","Charge","Durée","RPE","Charge","Durée","RPE","Charge","Durée","RPE","Charge","Durée","RPE","Charge","Durée","RPE","Charge",null,null,null,null,null,null,null,null,null,"[1-5]"]
[null,"Lu",null,0,0,0,0,0,null,null,null,null,null,null,{"$f":"M4*N4","v":0},null,null,{"$f":"P4*Q4","v":0},null,null,{"$f":"S4*T4","v":0},null,null,{"$f":"V4*W4","v":0},null,null,{"$f":"Y4*Z4","v":0},null,null,{"$f":"AB4*AC4","v":0},null,null,{"$f":"AE4*AF4","v":0},{"$f":"IF(SUM(M4:AG6)>0,1,0)","v":"00:00:00"},null,null,{"$f":"SUM(O4:O6,R4:R6,U4:U6,X4:X6,AA4:AA6,AD4:AD6,AG4:AG6)","v":0}]
[null,null,null,null,null,null,null,null,null,null,null,null,null,null,{"$f":"M5*N5","v":0},null,null,{"$f":"P5*Q5","v":0},null,null,{"$f":"S5*T5","v":0},null,null,{"$f":"V5*W5","v":0},null,null,{"$f":"Y5*Z5","v":0},null,null,{"$f":"AB5*AC5","v":0},null,null,{"$f":"AE5*AF5","v":0}]
[null,null,null,null,null,null,null,null,null,null,null,null,null,null,0,null,null,0,null,null,0,null,null,0,null,null,0,null,null,0,null,null,0]
[null,"Ma",null,0,0,0,0,0,null,null,null,null,null,null,0,null,null,{"$f":"P7*Q7","v":0},null,null,0,null,null,0,null,null,0,null,null,0,null,null,0,{"$f":"IF(SUM(M7:AG9)>0,1,0)","v":"00:00:00"},null,null,{"$f":"SUM(O7:O9,R7:R9,U7:U9,X7:X9,AA7:AA9,AD7:AD9,AG7:AG9)","v":0}]
[null,null,null,null,null,null,null,null,null,null,null,null,null,null,0,null,null,0,null,null,0,null,null,0,null,null,0,null,null,0,null,null,0]
[null,null,null,null,null,null,null,null,null,null,null,null,null,null,0,null,null,0,null,null,0,null,null,0,null,null,0,null,null,0,null,null,0]
[null,"Me",null,0,0,0,0,0,null,null,null,null,null,null,0,null,null,{"$f":"P10*Q10","v":0},null,null,0,null,null,0,null,null,0,null,null,0,null,null,0,{"$f":"IF(SUM(M10:AG12)>0,1,0)","v":"00:00:00"},null,null,{"$f":"SUM(O10:O12,R10:R12,U10:U12,X10:X12,AA10:AA12,AD10:AD12,AG10:AG12)","v":0}]
[null,null,null,null,null,null,null,null,null,null,null,null,null,null,0,null,null,0,null,null,0,null,null,0,null,null,0,null,null,0,null,null,0]
[null,null,null,null,null,null,null,null,null,null,null,null,null,null,0,null,null,0,null,null,0,null,null,0,null,null,0,null,null,0,null,null,0]
[null,"Je",null,0,0,0,0,0,null,null,null,null,null,null,0,null,null,{"$f":"P13*Q13","v":0},null,null,0,null,null,0,null,null,0,null,null,0,null,null,0,{"$f":"IF(SUM(M13:AG15)>0,1,0)","v":"00:00:00"},null,null,{"$f":"SUM(O13:O15,R13:R15,U13:U15,X13:X15,AA13:AA15,AD13:AD15,AG13:AG15)","v":0}]
[null,null,null,null,null,null,null,null,null,null,null,null,null,null,0,null,null,0,null,null,0,null,null,0,null,null,0,null,null,0,null,null,0]
[null,null,null,null,null,null,null,null,null,null,null,null,null,null,0,null,null,0,null,null,0,null,null,0,null,null,0,null,null,0,null,null,0]
[null,"Ve",null,0,0,0,0,0,null,null,null,null,null,null,0,null,null,{"$f":"P16*Q16","v":0},null,null,0,null,null,0,null,null,0,null,null,0,null,null,0,{"$f":"IF(SUM(M16:AG18)>0,1,0)","v":"00:00:00"},null,null,{"$f":"SUM(O16:O18,R16:R18,U16:U18,X16:X18,AA16:AA18,AD16:AD18,AG16:AG18)","v":0}]
[null,null,null,null,null,null,null,null,null,null,null,null,null,null,0,null,null,0,null,null,0,null,null,0,null,null,0,null,null,0,null,null,0]
[null,null,null,null,null,null,null,null,null,null,null,null,null,null,0,null,null,0,null,null,0,null,null,0,null,null,0,null,null,0,null,null,0]
[null,"Sa",null,0,0,0,0,0,null,null,null,null,null,null,{"$f":"M19*N19","v":0},null,null,{"$f":"P19*Q19","v":0},null,null,{"$f":"S19*T19","v":0},null,null,{"$f":"V19*W19","v":0},null,null,{"$f":"Y19*Z19","v":0},null,null,{"$f":"AB19*AC19","v":0},null,null,{"$f":"AE19*AF19","v":0},{"$f":"IF(SUM(M19:AG21)>0,1,0)","v":"00:00:00"},null,null,{"$f":"SUM(O19:O21,R19:R21,U19:U21,X19:X21,AA19:AA21,AD19:AD21,AG19:AG21)","v":0}]
[null,null,null,null,null,null,null,null,null,null,null,null,null,null,{"$f":"M20*N20","v":0},null,null,0,null,null,{"$f":"S20*T20","v":0},null,null,{"$f":"V20*W20","v":0},null,null,{"$f":"Y20*Z20","v":0},null,null,{"$f":"AB20*AC20","v":0},null,null,{"$f":"AE20*AF20","v":0}]
[null,null,null,null,null,null,null,null,null,null,null,null,null,null,0,null,null,0,null,null,0,null,null,0,null,null,0,null,null,0,null,null,0]
[null,"Di",null,0,0,0,0,0,null,null,null,null,null,null,0,null,null,{"$f":"P22*Q22","v":0},null,null,0,null,null,0,null,null,0,null,null,0,null,null,0,{"$f":"IF(SUM(M22:AG24)>0,1,0)","v":"00:00:00"},null,null,{"$f":"SUM(O22:O24,R22:R24,U22:U24,X22:X24,AA22:AA24,AD22:AD24,AG22:AG24)","v":0}]
[null,null,null,null,null,null,null,null,null,null,null,null,null,null,0,null,null,0,null,null,0,null,null,0,null,null,0,null,null,0,null,null,0]
[null,null,null,null,null,null,null,null,null,null,null,null,null,null,0,null,null,0,null,null,0,null,null,0,null,null,0,null,null,0,null,null,0]
[null,null,null,null,null,null,null,null,null,null,"Total",null,{"$f":"SUM(M4:M24)","v":0},null,{"$f":"SUM(O4:O24)","v":0},{"$f":"SUM(P4:P24)","v":0},null,{"$f":"SUM(R4:R24)","v":0},{"$f":"SUM(S4:S24)","v":0},null,{"$f":"SUM(U4:U24)","v":0},{"$f":"SUM(V4:V24)","v":0},null,{"$f":"SUM(X4:X24)","v":0},{"$f":"SUM(Y4:Y24)","v":0},null,{"$f":"SUM(AA4:AA24)","v":0},{"$f":"SUM(AB4:AB24)","v":0},null,{"$f":"SUM(AD4:AD24)","v":0},{"$f":"SUM(AE4:AE24)","v":0},null,{"$f":"SUM(AG4:AG24)","v":0},null,"Charge totale",null,{"$f":"SUM(AK4:AK24)","v":0}]
[null,"avg.",null,{"$f":"IF(COUNTA(D4:D24)=0,\"\",AVERAGE(D4:D24))","v":0},{"$f":"IF(COUNTA(E4:E24)=0,\"\",AVERAGE(E4:E24))","v":0},{"$f":"IF(COUNTA(F4:F24)=0,\"\",AVERAGE(F4:F24))","v":0},{"$f":"IF(COUNTA(G4:G24)=0,\"\",AVERAGE(G4:G24))","v":0},{"$f":"IF(COUNTA(H4:H24)=0,\"\",COUNTIF(H4:H24,\"x\"))","v":0},null,null,"Zone",null,1,2,3,1,2,3,1,2,3,1,2,3,1,2,3,1,2,3,1,2,3,null,"Moyenne",null,{"$f":"AVERAGE(AK4:AK24)","v":0}]
[null,null,null,null,null,{"$f":"IF(COUNTA(F4:F24)=0,\"\",VAR(F4:F24))","v":0},{"$f":"IF(COUNTA(G4:G24)=0,\"\",STDEV(G4:G24))","v":0},"Divergence - durée du sommeil",null,null,"Unité par zone (RPE) ",null,{"$f":"IF('Répartition des intensités'!$AR$25=\"x\",COUNTIF(N4:N24,\"<3,5\"),COUNTIF(N4:N24,\"<4,5\"))","v":0},{"$f":"COUNT(N4:N24)-(M27+O27)","v":0},{"$f":"IF('Répartition des intensités'!$AR$25=\"x\",COUNTIF(N4:N24,\">5,5\"),COUNTIF(N4:N24,\">6,5\"))","v":0},{"$f":"IF('Répartition des intensités'!$AR$25=\"x\",COUNTIF(Q4:Q24,\"<3,5\"),COUNTIF(Q4:Q24,\"<4,5\"))","v":0},{"$f":"COUNT(Q4:Q24)-(P27+R27)","v":0},{"$f":"IF('Répartition des intensités'!$AR$25=\"x\",COUNTIF(Q4:Q24,\">5,5\"),COUNTIF(Q4:Q24,\">6,5\"))","v":0},{"$f":"IF('Répartition des intensités'!$AR$25=\"x\",COUNTIF(T4:T24,\"<3,5\"),COUNTIF(T4:T24,\"<4,5\"))","v":0},{"$f":"COUNT(T4:T24)-(S27+U27)","v":0},{"$f":"IF('Répartition des intensités'!$AR$25=\"x\",COUNTIF(T4:T24,\">5,5\"),COUNTIF(T4:T24,\">6,5\"))","v":0},{"$f":"IF('Répartition des intensités'!$AR$25=\"x\",COUNTIF(W4:W24,\"<3,5\"),COUNTIF(W4:W24,\"<4,5\"))","v":0},{"$f":"COUNT(W4:W24)-(V27+X27)","v":0},{"$f":"IF('Répartition des intensités'!$AR$25=\"x\",COUNTIF(W4:W24,\">5,5\"),COUNTIF(W4:W24,\">6,5\"))","v":0},{"$f":"IF('Répartition des intensités'!$AR$25=\"x\",COUNTIF(Z4:Z24,\"<3,5\"),COUNTIF(Z4:Z24,\"<4,5\"))","v":0},{"$f":"COUNT(Z4:Z24)-(Y27+AA27)","v":0},{"$f":"IF('Répartition des intensités'!$AR$25=\"x\",COUNTIF(Z4:Z24,\">5,5\"),COUNTIF(Z4:Z24,\">6,5\"))","v":0},{"$f":"IF('Répartition des intensités'!$AR$25=\"x\",COUNTIF(AC4:AC24,\"<3,5\"),COUNTIF(AC4:AC24,\"<4,5\"))","v":0},{"$f":"COUNT(AC4:AC24)-(AB27+AD27)","v":0},{"$f":"IF('Répartition des intensités'!$AR$25=\"x\",COUNTIF(AC4:AC24,\">5,5\"),COUNTIF(AC4:AC24,\">6,5\"))","v":0},{"$f":"IF('Répartition des intensités'!$AR$25=\"x\",COUNTIF(AF4:AF24,\"<3,5\"),COUNTIF(AF4:AF24,\"<4,5\"))","v":0},{"$f":"COUNT(AF4:AF24)-(AE27+AG27)","v":0},{"$f":"IF('Répartition des intensités'!$AR$25=\"x\",COUNTIF(AF4:AF24,\">5,5\"),COUNTIF(AF4:AF24,\">6,5\"))","v":0},null,"Divergence",null,{"$f":"STDEVP(AK4:AK24)","v":0}]
[null,null,null,"échelle de Foster",null,null,null,"RPE",null,null,"Temps par zone (RPE)",null,{"$f":"IF('Répartition des intensités'!$AR$25=\"x\",SUMIF(N4:N24,\"<3,5\",M4:M24),SUMIF(N4:N24,\"<4,5\",M4:M24))","v":0},{"$f":"IF(N27=0,0,SUM((M25)-(M28+O28)))","v":0},{"$f":"IF('Répartition des intensités'!$AR$25=\"x\",SUMIF(N4:N24,\">5,5\",M4:M24),SUMIF(N4:N24,\">6,5\",M4:M24))","v":0},{"$f":"IF('Répartition des intensités'!$AR$25=\"x\",SUMIF(Q4:Q24,\"<3,5\",P4:P24),SUMIF(Q4:Q24,\"<4,5\",P4:P24))","v":0},{"$f":"IF(Q27=0,0,SUM((P25)-(P28+R28)))","v":0},{"$f":"IF('Répartition des intensités'!$AR$25=\"x\",SUMIF(Q4:Q24,\">5,5\",P4:P24),SUMIF(Q4:Q24,\">6,5\",P4:P24))","v":0},{"$f":"IF('Répartition des intensités'!$AR$25=\"x\",SUMIF(T4:T24,\"<3,5\",S4:S24),SUMIF(T4:T24,\"<4,5\",S4:S24))","v":0},{"$f":"IF(T27=0,0,SUM((S25)-(S28+U28)))","v":0},{"$f":"IF('Répartition des intensités'!$AR$25=\"x\",SUMIF(T4:T24,\">5,5\",S4:S24),SUMIF(T4:T24,\">6,5\",S4:S24))","v":0},{"$f":"IF('Répartition des intensités'!$AR$25=\"x\",SUMIF(W4:W24,\"<3,5\",V4:V24),SUMIF(W4:W24,\"<4,5\",V4:V24))","v":0},{"$f":"IF(W27=0,0,SUM((V25)-(V28+X28)))","v":0},{"$f":"IF('Répartition des intensités'!$AR$25=\"x\",SUMIF(W4:W24,\">5,5\",V4:V24),SUMIF(W4:W24,\">6,5\",V4:V24))","v":0},{"$f":"IF('Répartition des intensités'!$AR$25=\"x\",SUMIF(Z4:Z24,\"<3,5\",Y4:Y24),SUMIF(Z4:Z24,\"<4,5\",Y4:Y24))","v":0},{"$f":"IF(Z27=0,0,SUM((Y25)-(Y28+AA28)))","v":0},{"$f":"IF('Répartition des intensités'!$AR$25=\"x\",SUMIF(Z4:Z24,\">5,5\",Y4:Y24),SUMIF(Z4:Z24,\">6,5\",Y4:Y24))","v":0},{"$f":"IF('Répartition des intensités'!$AR$25=\"x\",SUMIF(AC4:AC24,\"<3,5\",AB4:AB24),SUMIF(AC4:AC24,\"<4,5\",AB4:AB24))","v":0},{"$f":"IF(AC27=0,0,SUM((AB25)-(AB28+AD28)))","v":0},{"$f":"IF('Répartition des intensités'!$AR$25=\"x\",SUMIF(AC4:AC24,\">5,5\",AB4:AB24),SUMIF(AC4:AC24,\">6,5\",AB4:AB24))","v":0},{"$f":"IF('Répartition des intensités'!$AR$25=\"x\",SUMIF(AF4:AF24,\"<3,5\",AE4:AE24),SUMIF(AF4:AF24,\"<4,5\",AE4:AE24))","v":0},{"$f":"IF(AF27=0,0,SUM((AE25)-(AE28+AG28)))","v":0},{"$f":"IF('Répartition des intensités'!$AR$25=\"x\",SUMIF(AF4:AF24,\">5,5\",AE4:AE24),SUMIF(AF4:AF24,\">6,5\",AE4:AE24))","v":0}]
[null,null,null,"Comme au repos",null,null,null,0,null,"REG","Est-ce que j'ai l'impression d'avoir récupéré en me levant?"]
[null,null,null,"très facile",null,null,null,1]
[null,null,null,"facile",null,null,null,2,null,1,"… pas du tout récupéré",null,null,null,null,null,null,null,null,null,null,null,null,null,null,null,null,null,null,null,null,null,null,null,"Entrainements",null,null,null,"Rapport de santé"]
[null,null,null,null,null,null,null,3,null,2,"… un peu récupéré",null,null,null,null,null,null,null,null,null,null,null,null,null,null,null,null,null,null,null,null,null,null,null,"Jours d'entrainement",null,{"$f":"IF(SUM(AH4:AH24)=0,\"\",SUM(AH4:AH24))","v":""}]
[null,null,null,"Assez dur",null,null,null,4,null,3,"… récupéré",null,null,null,null,null,null,null,null,null,null,{"$f":"B4","v":"Lu"},{"$f":"AK4","v":0},null,null,null,null,null,null,null,null,null,null,null,"Entrainements",null,{"$f":"IF(AK32=\"\",\"\",SUM(M27:AG27))","v":""}]
[null,null,null,"dur",null,null,null,5,null,4,"…  en forme",null,null,null,null,null,null,null,null,null,null,{"$f":"B7","v":"Ma"},{"$f":"AK7","v":0},null,null,null,null,null,null,null,null,null,null,null,"Heures d'entrainement",null,{"$f":"IF(AK32=\"\",\"\",SUM(M25,P25,S25,Y25,AB25,V25,AE25)/60)","v":""},null,{"$f":"IF($AK$32=\"\",\"\",AK32-AM36-AM44-AM52)","v":""},"Aucune limitation",null,null,null,0]
[null,null,null,null,null,null,null,6,null,5,"… très en forme",null,null,null,null,null,null,null,null,null,null,{"$f":"B10","v":"Me"},{"$f":"AK10","v":0},null,null,null,null,null,null,null,null,null,null,null,"Charge de l'entrainement",null,{"$f":"IF(AK32=\"\",\"\",SUM(AK25))","v":""}]
[null,null,null,"très dur",null,null,null,7,null,null,null,null,null,null,null,null,null,null,null,null,null,{"$f":"B13","v":"Je"},{"$f":"AK13","v":0},null,null,null,null,null,null,null,null,null,null,null,"Monotonie",null,{"$f":"IF(AK27=0,0,(AVERAGE(AK4:AK24))/AK27)","v":0},null,{"$f":"SUM(AM37:AM42)","v":0},"Limitation pour cause de douleurs"]
[null,null,null,null,null,null,null,8,null,"Nombre de matchs",null,null,null,null,null,null,null,null,null,null,null,{"$f":"B16","v":"Ve"},{"$f":"AK16","v":0},null,null,null,null,null,null,null,null,null,null,null,"Efforts à l'entrainement",null,{"$f":"IF(AK32=\"\",\"\",AK35*AK36)","v":""},null,{"$f":"COUNTIF($H$4:$H$24,$AR37)","v":0},"Doigt",null,null,null,1]
[null,null,null,"extrèmement dur",null,null,null,9,null,null,null,null,null,null,null,null,null,null,null,null,null,{"$f":"B19","v":"Sa"},{"$f":"AK19","v":0},null,null,null,null,null,null,null,null,null,null,null,null,null,null,null,0,"Épaule",null,null,null,2]
[null,null,null,"Comme mon entrainement le plus dur",null,null,null,10,null,1,"… 3 sets et plus",null,null,null,null,null,null,null,null,null,null,{"$f":"B22","v":"Di"},{"$f":"AK22","v":0},null,null,null,null,null,null,null,null,null,null,null,"Compétition",null,null,null,0,"Dos",null,null,null,3]
[null,null,null,null,null,null,null,null,null,0.5,"… moins de 3 sets",null,null,null,null,null,null,null,null,null,null,null,null,null,null,null,null,null,null,null,null,null,null,null,"Matchs de volleyball",null,{"$f":"IF(AK32=\"\",\"\",SUM(AM4:AM24))","v":""},null,0,"Genou",null,null,null,4]
[null,null,null,null,null,null,null,null,null,null,null,null,null,null,null,null,null,null,null,null,null,null,null,null,null,null,null,null,null,null,null,null,null,null,"Sets de volleyball",null,{"$f":"IF(AK32=\"\",\"\",SUM(AN4:AN24))","v":""},null,0,"Cheville",null,null,null,5]
[null,null,null,null,null,null,null,null,null,"Sets joués",null,null,null,null,null,null,null,null,null,null,null,null,null,null,null,null,null,null,null,null,null,null,null,null,"Matchs de beach volley",null,{"$f":"IF(AK35=\"\",\"\",SUM(AO4:AO24))","v":""},null,0,"Autre",null,null,null,6]
[null,null,null,null,null,null,null,null,null,1,"… depuis le début et durant tout le set",null,null,null,null,null,null,null,null,null,null,null,null,null,null,null,null,null,null,null,null,null,null,null,"Sets de beach volley",null,{"$f":"IF(AK35=\"\",\"\",SUM(AP4:AP24))","v":""}]
[null,null,null,null,null,null,null,null,null,0.5,"… entré/sorti en cours, beaucoup joué",null,null,null,null,null,null,null,null,null,null,null,null,null,null,null,null,null,null,null,null,null,null,null,null,null,null,null,{"$f":"SUM(AM45:AM50)","v":0},"Absence pour cause de blessure"]
[null,null,null,null,null,null,null,null,null,0.1,"… entré/sorti en cours, peu joué",null,null,null,null,null,null,null,null,null,null,null,null,null,null,null,null,null,null,null,null,null,null,null,"Satisfaction",null,null,null,{"$f":"COUNTIF($H$4:$H$24,$AR45)","v":0},"Doigt",null,null,null,11]
[null,null,null,null,null,null,null,null,null,null,null,null,null,null,null,null,null,null,null,null,null,null,null,null,null,null,null,null,null,null,null,null,null,null,"Satisfaction de l'entrainement/match J",null,{"$f":"IF(AK32=\"\",\"\",SUM(AQ4:AQ24)/AK32)","v":""},null,0,"Épaule",null,null,null,12]
[null,null,null,null,null,null,null,null,null,"J","Es-tu content de la qualité de ton",null,null,null,null,null,null,null,null,null,null,null,null,null,null,null,null,null,null,null,null,null,null,null,null,null,null,null,0,"Dos",null,null,null,13]
[null,null,null,null,null,null,null,null,null,null,"entrainement/compétition?",null,null,null,null,null,null,null,null,null,null,null,null,null,null,null,null,null,null,null,null,null,null,null,"Santé",null,null,null,0,"Genou",null,null,null,14]
[null,null,null,null,null,null,null,null,null,1,"… pas content",null,null,null,null,null,null,null,null,null,null,null,null,null,null,null,null,null,null,null,null,null,null,null,"Limitation pour cause de douleurs",null,{"$f":"AM36","v":0},null,0,"Cheville",null,null,null,15]
[null,null,null,null,null,null,null,null,null,2,"… plutôt pas content",null,null,null,null,null,null,null,null,null,null,null,null,null,null,null,null,null,null,null,null,null,null,null,"Absence pour cause de blessure",null,{"$f":"AM44","v":0},null,0,"Autre",null,null,null,16]
[null,null,null,null,null,null,null,null,null,3,"… moyen",null,null,null,null,null,null,null,null,null,null,null,null,null,null,null,null,null,null,null,null,null,null,null,"Absence pour cause de maladie",null,{"$f":"AM52","v":0}]
[null,null,null,null,null,null,null,null,null,4,"… content",null,null,null,null,null,null,null,null,null,null,null,null,null,null,null,null,null,null,null,null,null,null,null,null,null,null,null,{"$f":"SUM(AM53:AM59)","v":0},"Absence pour cause de maladie"]
[null,null,null,null,null,null,null,null,null,5,"… très content!",null,null,null,null,null,null,null,null,null,null,null,null,null,null,null,null,null,null,null,null,null,null,null,null,null,null,null,{"$f":"COUNTIF($H$4:$H$24,$AR53)","v":0},"Maladie",null,null,null,21]
[]
[]
[]
[]
[]
[]
[]
[]
[]
[]
[]
[]
[]
[]
[]
[]
[]
[]
[]
[]
[]
[]
[]
[]
[]
[]
[]
[]
[]
[]
[]
[]
[]
[]
[]
[]
[]
[]
[]
[]
[]
[]
[]
[]
[]
[]
[]
[]
[]
[]
[]
[]
[]
[]
[]
[]
[]
[]
[]
[]
[]
[]
[]
[]
[]
[]
[]
[]
[]
[]
[]
[]
[]
[]
[]
[]
[]
[]
[]
[]
[null,null,null,null,null,null,null,null,null,null,null,null,null,null,null,null,null,null,null,null,null,null,null,null,{"$f":"Z134-1","v":32},33,34,35,36,37,{"$f":"AF134-1","v":38},{"$f":"D1","v":39}]
[]
[]
[]
[]
[]
[]
[]
[]
[]
[]
[]
[]
[]
[]
[]
[]
[]
[]
[]
[]
[null,null,null,null,null,null,null,null,null,null,null,null,null,null,null,null,null,null,null,null,null,null,null,null,null,null,null,null,null,null,null,null,{"$f":"AF134+1","v":40}]

{"sheet":"40","index":16,"n_rows":155,"n_cols":45,"rows_kept":155,"cut":false,"hidden":false,"merged":[[30,34,30,36],[30,38,31,43],[0,5,0,6],[1,44,2,44],[1,15,1,17],[28,10,29,10],[29,21,29,26],[36,9,37,9],[21,6,23,6],[21,9,21,10],[23,9,23,10],[21,7,23,7],[1,12,1,14],[7,9,7,10],[1,38,2,38],[1,24,1,26],[1,18,1,20],[1,30,1,32],[1,27,1,29],[27,3,27,6],[28,3,28,6],[37,3,37,6],[30,3,30,6],[31,3,31,6],[32,3,32,6],[33,3,33,6],[34,3,34,6],[35,3,35,6],[36,3,36,6],[38,3,38,6],[46,9,47,9],[18,36,20,36],[1,41,2,41],[3,36,5,36],[1,36,2,36],[20,9,20,10],[5,9,5,10],[1,39,2,39],[21,36,23,36],[9,36,11,36],[12,36,14,36],[15,36,17,36],[28,9,29,9],[16,9,16,10],[15,9,15,10],[10,9,10,10],[29,3,29,6],[15,5,17,5],[12,4,14,4],[6,36,8,36],[3,3,5,3],[3,6,5,6],[3,9,3,10],[4,9,4,10],[17,9,17,10],[22,9,22,10],[18,9,18,10],[19,9,19,10],[9,6,11,6],[9,9,9,10],[6,4,8,4],[9,7,11,7],[9,4,11,4],[11,9,11,10],[3,4,5,4],[3,7,5,7],[13,9,13,10],[14,9,14,10],[12,7,14,7],[9,5,11,5],[12,5,14,5],[21,1,23,1],[15,7,17,7],[15,1,17,1],[15,3,17,3],[15,6,17,6],[15,4,17,4],[18,5,20,5],[18,1,20,1],[18,3,20,3],[21,5,23,5],[21,3,23,3],[21,4,23,4],[18,7,20,7],[18,4,20,4],[18,6,20,6],[1,1,2,1],[9,1,11,1],[9,3,11,3],[1,40,2,40],[1,43,2,43],[38,34,38,36],[44,34,44,36],[47,34,47,36],[12,1,14,1],[6,3,8,3],[6,6,8,6],[6,9,6,10],[8,9,8,10],[6,5,8,5],[6,1,8,1],[6,7,8,7],[1,34,2,34],[1,21,1,23],[1,9,2,10],[3,1,5,1],[3,5,5,5],[12,3,14,3],[12,6,14,6],[12,9,12,10]]}
[null,null,"Woche",{"$f":"INT(MOD(INT((F1-2)/7)+0.6,52+5/28))+1","v":40},{"$f":"D1+1000","v":1040},{"$f":"'39'!F1+7","v":"2018-10-01"},null,"-",null,{"$f":"F1+6","v":"2018-10-07"},null,null,null,null,null,null,null,null,null,null,null,null,null,null,null,null,null,null,null,null,null,null,{"$f":"'Aperçu de la charge'!D2","v":"Prénom Nom"},null,{"$f":"'Aperçu de la charge'!N2","v":"2018/2019"}]
[null,"Jour",null,"Poids","REG","qualité sommeil","durée sommeil","Santé",null,"Description de l'entrainement",null,null,"Club - VB",null,null,"TS/ Nati - VB",null,null,"Club - BVB",null,null,"TS/ Nati - BVB",null,null,"Force - fitness",null,null,"Compet. - VB",null,null,"Compet. - BVB",null,null,null,"Réflexion",null,"Charge/\njour",null,"matchs VB","Sets VB","Matchs BVB","Sets BVB","J","Autre\n (Rég, mentale)","Mental- oder Sonstiges Training"]
[null,null,null,"[kg]","[1 - 5]","[1-5]","[Std]","Nr.",null,null,null,null,"Durée","RPE","Charge","Durée","RPE","Charge","Durée","RPE","Charge","Durée","RPE","Charge","Durée","RPE","Charge","Durée","RPE","Charge","Durée","RPE","Charge",null,null,null,null,null,null,null,null,null,"[1-5]"]
[null,"Lu",null,0,0,0,0,0,null,null,null,null,null,null,{"$f":"M4*N4","v":0},null,null,{"$f":"P4*Q4","v":0},null,null,{"$f":"S4*T4","v":0},null,null,{"$f":"V4*W4","v":0},null,null,{"$f":"Y4*Z4","v":0},null,null,{"$f":"AB4*AC4","v":0},null,null,{"$f":"AE4*AF4","v":0},{"$f":"IF(SUM(M4:AG6)>0,1,0)","v":"00:00:00"},null,null,{"$f":"SUM(O4:O6,R4:R6,U4:U6,X4:X6,AA4:AA6,AD4:AD6,AG4:AG6)","v":0}]
[null,null,null,null,null,null,null,null,null,null,null,null,null,null,{"$f":"M5*N5","v":0},null,null,{"$f":"P5*Q5","v":0},null,null,{"$f":"S5*T5","v":0},null,null,{"$f":"V5*W5","v":0},null,null,{"$f":"Y5*Z5","v":0},null,null,{"$f":"AB5*AC5","v":0},null,null,{"$f":"AE5*AF5","v":0}]
[null,null,null,null,null,null,null,null,null,null,null,null,null,null,0,null,null,0,null,null,0,null,null,0,null,null,0,null,null,0,null,null,0]
[null,"Ma",null,0,0,0,0,0,null,null,null,null,null,null,0,null,null,{"$f":"P7*Q7","v":0},null,null,0,null,null,0,null,null,0,null,null,0,null,null,0,{"$f":"IF(SUM(M7:AG9)>0,1,0)","v":"00:00:00"},null,null,{"$f":"SUM(O7:O9,R7:R9,U7:U9,X7:X9,AA7:AA9,AD7:AD9,AG7:AG9)","v":0}]
[null,null,null,null,null,null,null,null,null,null,null,null,null,null,0,null,null,0,null,null,0,null,null,0,null,null,0,null,null,0,null,null,0]
[null,null,null,null,null,null,null,null,null,null,null,null,null,null,0,null,null,0,null,null,0,null,null,0,null,null,0,null,null,0,null,null,0]
[null,"Me",null,0,0,0,0,0,null,null,null,null,null,null,0,null,null,{"$f":"P10*Q10","v":0},null,null,0,null,null,0,null,null,0,null,null,0,null,null,0,{"$f":"IF(SUM(M10:AG12)>0,1,0)","v":"00:00:00"},null,null,{"$f":"SUM(O10:O12,R10:R12,U10:U12,X10:X12,AA10:AA12,AD10:AD12,AG10:AG12)","v":0}]
[null,null,null,null,null,null,null,null,null,null,null,null,null,null,0,null,null,0,null,null,0,null,null,0,null,null,0,null,null,0,null,null,0]
[null,null,null,null,null,null,null,null,null,null,null,null,null,null,0,null,null,0,null,null,0,null,null,0,null,null,0,null,null,0,null,null,0]
[null,"Je",null,0,0,0,0,0,null,null,null,null,null,null,0,null,null,{"$f":"P13*Q13","v":0},null,null,0,null,null,0,null,null,0,null,null,0,null,null,0,{"$f":"IF(SUM(M13:AG15)>0,1,0)","v":"00:00:00"},null,null,{"$f":"SUM(O13:O15,R13:R15,U13:U15,X13:X15,AA13:AA15,AD13:AD15,AG13:AG15)","v":0}]
[null,null,null,null,null,null,null,null,null,null,null,null,null,null,0,null,null,0,null,null,0,null,null,0,null,null,0,null,null,0,null,null,0]
[null,null,null,null,null,null,null,null,null,null,null,null,null,null,0,null,null,0,null,null,0,null,null,0,null,null,0,null,null,0,null,null,0]
[null,"Ve",null,0,0,0,0,0,null,null,null,null,null,null,0,null,null,{"$f":"P16*Q16","v":0},null,null,0,null,null,0,null,null,0,null,null,0,null,null,0,{"$f":"IF(SUM(M16:AG18)>0,1,0)","v":"00:00:00"},null,null,{"$f":"SUM(O16:O18,R16:R18,U16:U18,X16:X18,AA16:AA18,AD16:AD18,AG16:AG18)","v":0}]
[null,null,null,null,null,null,null,null,null,null,null,null,null,null,0,null,null,0,null,null,0,null,null,0,null,null,0,null,null,0,null,null,0]
[null,null,null,null,null,null,null,null,null,null,null,null,null,null,0,null,null,0,null,null,0,null,null,0,null,null,0,null,null,0,null,null,0]
[null,"Sa",null,0,0,0,0,0,null,null,null,null,null,null,{"$f":"M19*N19","v":0},null,null,{"$f":"P19*Q19","v":0},null,null,{"$f":"S19*T19","v":0},null,null,{"$f":"V19*W19","v":0},null,null,{"$f":"Y19*Z19","v":0},null,null,{"$f":"AB19*AC19","v":0},null,null,{"$f":"AE19*AF19","v":0},{"$f":"IF(SUM(M19:AG21)>0,1,0)","v":"00:00:00"},null,null,{"$f":"SUM(O19:O21,R19:R21,U19:U21,X19:X21,AA19:AA21,AD19:AD21,AG19:AG21)","v":0}]
[null,null,null,null,null,null,null,null,null,null,null,null,null,null,{"$f":"M20*N20","v":0},null,null,0,null,null,{"$f":"S20*T20","v":0},null,null,{"$f":"V20*W20","v":0},null,null,{"$f":"Y20*Z20","v":0},null,null,{"$f":"AB20*AC20","v":0},null,null,{"$f":"AE20*AF20","v":0}]
[null,null,null,null,null,null,null,null,null,null,null,null,null,null,0,null,null,0,null,null,0,null,null,0,null,null,0,null,null,0,null,null,0]
[null,"Di",null,0,0,0,0,0,null,null,null,null,null,null,0,null,null,{"$f":"P22*Q22","v":0},null,null,0,null,null,0,null,null,0,null,null,0,null,null,0,{"$f":"IF(SUM(M22:AG24)>0,1,0)","v":"00:00:00"},null,null,{"$f":"SUM(O22:O24,R22:R24,U22:U24,X22:X24,AA22:AA24,AD22:AD24,AG22:AG24)","v":0}]
[null,null,null,null,null,null,null,null,null,null,null,null,null,null,0,null,null,0,null,null,0,null,null,0,null,null,0,null,null,0,null,null,0]
[null,null,null,null,null,null,null,null,null,null,null,null,null,null,0,null,null,0,null,null,0,null,null,0,null,null,0,null,null,0,null,null,0]
[null,null,null,null,null,null,null,null,null,null,"Total",null,{"$f":"SUM(M4:M24)","v":0},null,{"$f":"SUM(O4:O24)","v":0},{"$f":"SUM(P4:P24)","v":0},null,{"$f":"SUM(R4:R24)","v":0},{"$f":"SUM(S4:S24)","v":0},null,{"$f":"SUM(U4:U24)","v":0},{"$f":"SUM(V4:V24)","v":0},null,{"$f":"SUM(X4:X24)","v":0},{"$f":"SUM(Y4:Y24)","v":0},null,{"$f":"SUM(AA4:AA24)","v":0},{"$f":"SUM(AB4:AB24)","v":0},null,{"$f":"SUM(AD4:AD24)","v":0},{"$f":"SUM(AE4:AE24)","v":0},null,{"$f":"SUM(AG4:AG24)","v":0},null,"Charge totale",null,{"$f":"SUM(AK4:AK24)","v":0}]
[null,"avg.",null,{"$f":"IF(COUNTA(D4:D24)=0,\"\",AVERAGE(D4:D24))","v":0},{"$f":"IF(COUNTA(E4:E24)=0,\"\",AVERAGE(E4:E24))","v":0},{"$f":"IF(COUNTA(F4:F24)=0,\"\",AVERAGE(F4:F24))","v":0},{"$f":"IF(COUNTA(G4:G24)=0,\"\",AVERAGE(G4:G24))","v":0},{"$f":"IF(COUNTA(H4:H24)=0,\"\",COUNTIF(H4:H24,\"x\"))","v":0},null,null,"Zone",null,1,2,3,1,2,3,1,2,3,1,2,3,1,2,3,1,2,3,1,2,3,null,"Moyenne",null,{"$f":"AVERAGE(AK4:AK24)","v":0}]
[null,null,null,null,null,{"$f":"IF(COUNTA(F4:F24)=0,\"\",VAR(F4:F24))","v":0},{"$f":"IF(COUNTA(G4:G24)=0,\"\",STDEV(G4:G24))","v":0},"Divergence - durée du sommeil",null,null,"Unité par zone (RPE) ",null,{"$f":"IF('Répartition des intensités'!$AR$25=\"x\",COUNTIF(N4:N24,\"<3,5\"),COUNTIF(N4:N24,\"<4,5\"))","v":0},{"$f":"COUNT(N4:N24)-(M27+O27)","v":0},{"$f":"IF('Répartition des intensités'!$AR$25=\"x\",COUNTIF(N4:N24,\">5,5\"),COUNTIF(N4:N24,\">6,5\"))","v":0},{"$f":"IF('Répartition des intensités'!$AR$25=\"x\",COUNTIF(Q4:Q24,\"<3,5\"),COUNTIF(Q4:Q24,\"<4,5\"))","v":0},{"$f":"COUNT(Q4:Q24)-(P27+R27)","v":0},{"$f":"IF('Répartition des intensités'!$AR$25=\"x\",COUNTIF(Q4:Q24,\">5,5\"),COUNTIF(Q4:Q24,\">6,5\"))","v":0},{"$f":"IF('Répartition des intensités'!$AR$25=\"x\",COUNTIF(T4:T24,\"<3,5\"),COUNTIF(T4:T24,\"<4,5\"))","v":0},{"$f":"COUNT(T4:T24)-(S27+U27)","v":0},{"$f":"IF('Répartition des intensités'!$AR$25=\"x\",COUNTIF(T4:T24,\">5,5\"),COUNTIF(T4:T24,\">6,5\"))","v":0},{"$f":"IF('Répartition des intensités'!$AR$25=\"x\",COUNTIF(W4:W24,\"<3,5\"),COUNTIF(W4:W24,\"<4,5\"))","v":0},{"$f":"COUNT(W4:W24)-(V27+X27)","v":0},{"$f":"IF('Répartition des intensités'!$AR$25=\"x\",COUNTIF(W4:W24,\">5,5\"),COUNTIF(W4:W24,\">6,5\"))","v":0},{"$f":"IF('Répartition des intensités'!$AR$25=\"x\",COUNTIF(Z4:Z24,\"<3,5\"),COUNTIF(Z4:Z24,\"<4,5\"))","v":0},{"$f":"COUNT(Z4:Z24)-(Y27+AA27)","v":0},{"$f":"IF('Répartition des intensités'!$AR$25=\"x\",COUNTIF(Z4:Z24,\">5,5\"),COUNTIF(Z4:Z24,\">6,5\"))","v":0},{"$f":"IF('Répartition des intensités'!$AR$25=\"x\",COUNTIF(AC4:AC24,\"<3,5\"),COUNTIF(AC4:AC24,\"<4,5\"))","v":0},{"$f":"COUNT(AC4:AC24)-(AB27+AD27)","v":0},{"$f":"IF('Répartition des intensités'!$AR$25=\"x\",COUNTIF(AC4:AC24,\">5,5\"),COUNTIF(AC4:AC24,\">6,5\"))","v":0},{"$f":"IF('Répartition des intensités'!$AR$25=\"x\",COUNTIF(AF4:AF24,\"<3,5\"),COUNTIF(AF4:AF24,\"<4,5\"))","v":0},{"$f":"COUNT(AF4:AF24)-(AE27+AG27)","v":0},{"$f":"IF('Répartition des intensités'!$AR$25=\"x\",COUNTIF(AF4:AF24,\">5,5\"),COUNTIF(AF4:AF24,\">6,5\"))","v":0},null,"Divergence",null,{"$f":"STDEVP(AK4:AK24)","v":0}]
[null,null,null,"échelle de Foster",null,null,null,"RPE",null,null,"Temps par zone (RPE)",null,{"$f":"IF('Répartition des intensités'!$AR$25=\"x\",SUMIF(N4:N24,\"<3,5\",M4:M24),SUMIF(N4:N24,\"<4,5\",M4:M24))","v":0},{"$f":"IF(N27=0,0,SUM((M25)-(M28+O28)))","v":0},{"$f":"IF('Répartition des intensités'!$AR$25=\"x\",SUMIF(N4:N24,\">5,5\",M4:M24),SUMIF(N4:N24,\">6,5\",M4:M24))","v":0},{"$f":"IF('Répartition des intensités'!$AR$25=\"x\",SUMIF(Q4:Q24,\"<3,5\",P4:P24),SUMIF(Q4:Q24,\"<4,5\",P4:P24))","v":0},{"$f":"IF(Q27=0,0,SUM((P25)-(P28+R28)))","v":0},{"$f":"IF('Répartition des intensités'!$AR$25=\"x\",SUMIF(Q4:Q24,\">5,5\",P4:P24),SUMIF(Q4:Q24,\">6,5\",P4:P24))","v":0},{"$f":"IF('Répartition des intensités'!$AR$25=\"x\",SUMIF(T4:T24,\"<3,5\",S4:S24),SUMIF(T4:T24,\"<4,5\",S4:S24))","v":0},{"$f":"IF(T27=0,0,SUM((S25)-(S28+U28)))","v":0},{"$f":"IF('Répartition des intensités'!$AR$25=\"x\",SUMIF(T4:T24,\">5,5\",S4:S24),SUMIF(T4:T24,\">6,5\",S4:S24))","v":0},{"$f":"IF('Répartition des intensités'!$AR$25=\"x\",SUMIF(W4:W24,\"<3,5\",V4:V24),SUMIF(W4:W24,\"<4,5\",V4:V24))","v":0},{"$f":"IF(W27=0,0,SUM((V25)-(V28+X28)))","v":0},{"$f":"IF('Répartition des intensités'!$AR$25=\"x\",SUMIF(W4:W24,\">5,5\",V4:V24),SUMIF(W4:W24,\">6,5\",V4:V24))","v":0},{"$f":"IF('Répartition des intensités'!$AR$25=\"x\",SUMIF(Z4:Z24,\"<3,5\",Y4:Y24),SUMIF(Z4:Z24,\"<4,5\",Y4:Y24))","v":0},{"$f":"IF(Z27=0,0,SUM((Y25)-(Y28+AA28)))","v":0},{"$f":"IF('Répartition des intensités'!$AR$25=\"x\",SUMIF(Z4:Z24,\">5,5\",Y4:Y24),SUMIF(Z4:Z24,\">6,5\",Y4:Y24))","v":0},{"$f":"IF('Répartition des intensités'!$AR$25=\"x\",SUMIF(AC4:AC24,\"<3,5\",AB4:AB24),SUMIF(AC4:AC24,\"<4,5\",AB4:AB24))","v":0},{"$f":"IF(AC27=0,0,SUM((AB25)-(AB28+AD28)))","v":0},{"$f":"IF('Répartition des intensités'!$AR$25=\"x\",SUMIF(AC4:AC24,\">5,5\",AB4:AB24),SUMIF(AC4:AC24,\">6,5\",AB4:AB24))","v":0},{"$f":"IF('Répartition des intensités'!$AR$25=\"x\",SUMIF(AF4:AF24,\"<3,5\",AE4:AE24),SUMIF(AF4:AF24,\"<4,5\",AE4:AE24))","v":0},{"$f":"IF(AF27=0,0,SUM((AE25)-(AE28+AG28)))","v":0},{"$f":"IF('Répartition des intensités'!$AR$25=\"x\",SUMIF(AF4:AF24,\">5,5\",AE4:AE24),SUMIF(AF4:AF24,\">6,5\",AE4:AE24))","v":0}]
[null,null,null,"Comme au repos",null,null,null,0,null,"REG","Est-ce que j'ai l'impression d'avoir récupéré en me levant?"]
[null,null,null,"très facile",null,null,null,1]
[null,null,null,"facile",null,null,null,2,null,1,"… pas du tout récupéré",null,null,null,null,null,null,null,null,null,null,null,null,null,null,null,null,null,null,null,null,null,null,null,"Entrainements",null,null,null,"Rapport de santé"]
[null,null,null,null,null,null,null,3,null,2,"… un peu récupéré",null,null,null,null,null,null,null,null,null,null,null,null,null,null,null,null,null,null,null,null,null,null,null,"Jours d'entrainement",null,{"$f":"IF(SUM(AH4:AH24)=0,\"\",SUM(AH4:AH24))","v":""}]
[null,null,null,"Assez dur",null,null,null,4,null,3,"… récupéré",null,null,null,null,null,null,null,null,null,null,{"$f":"B4","v":"Lu"},{"$f":"AK4","v":0},null,null,null,null,null,null,null,null,null,null,null,"Entrainements",null,{"$f":"IF(AK32=\"\",\"\",SUM(M27:AG27))","v":""}]
[null,null,null,"dur",null,null,null,5,null,4,"…  en forme",null,null,null,null,null,null,null,null,null,null,{"$f":"B7","v":"Ma"},{"$f":"AK7","v":0},null,null,null,null,null,null,null,null,null,null,null,"Heures d'entrainement",null,{"$f":"IF(AK32=\"\",\"\",SUM(M25,P25,S25,Y25,AB25,V25,AE25)/60)","v":""},null,{"$f":"IF($AK$32=\"\",\"\",AK32-AM36-AM44-AM52)","v":""},"Aucune limitation",null,null,null,0]
[null,null,null,null,null,null,null,6,null,5,"… très en forme",null,null,null,null,null,null,null,null,null,null,{"$f":"B10","v":"Me"},{"$f":"AK10","v":0},null,null,null,null,null,null,null,null,null,null,null,"Charge de l'entrainement",null,{"$f":"IF(AK32=\"\",\"\",SUM(AK25))","v":""}]
[null,null,null,"très dur",null,null,null,7,null,null,null,null,null,null,null,null,null,null,null,null,null,{"$f":"B13","v":"Je"},{"$f":"AK13","v":0},null,null,null,null,null,null,null,null,null,null,null,"Monotonie",null,{"$f":"IF(AK27=0,0,(AVERAGE(AK4:AK24))/AK27)","v":0},null,{"$f":"SUM(AM37:AM42)","v":0},"Limitation pour cause de douleurs"]
[null,null,null,null,null,null,null,8,null,"Nombre de matchs",null,null,null,null,null,null,null,null,null,null,null,{"$f":"B16","v":"Ve"},{"$f":"AK16","v":0},null,null,null,null,null,null,null,null,null,null,null,"Efforts à l'entrainement",null,{"$f":"IF(AK32=\"\",\"\",AK35*AK36)","v":""},null,{"$f":"COUNTIF($H$4:$H$24,$AR37)","v":0},"Doigt",null,null,null,1]
[null,null,null,"extrèmement dur",null,null,null,9,null,null,null,null,null,null,null,null,null,null,null,null,null,{"$f":"B19","v":"Sa"},{"$f":"AK19","v":0},null,null,null,null,null,null,null,null,null,null,null,null,null,null,null,0,"Épaule",null,null,null,2]
[null,null,null,"Comme mon entrainement le plus dur",null,null,null,10,null,1,"… 3 sets et plus",null,null,null,null,null,null,null,null,null,null,{"$f":"B22","v":"Di"},{"$f":"AK22","v":0},null,null,null,null,null,null,null,null,null,null,null,"Compétition",null,null,null,0,"Dos",null,null,null,3]
[null,null,null,null,null,null,null,null,null,0.5,"… moins de 3 sets",null,null,null,null,null,null,null,null,null,null,null,null,null,null,null,null,null,null,null,null,null,null,null,"Matchs de volleyball",null,{"$f":"IF(AK32=\"\",\"\",SUM(AM4:AM24))","v":""},null,0,"Genou",null,null,null,4]
[null,null,null,null,null,null,null,null,null,null,null,null,null,null,null,null,null,null,null,null,null,null,null,null,null,null,null,null,null,null,null,null,null,null,"Sets de volleyball",null,{"$f":"IF(AK32=\"\",\"\",SUM(AN4:AN24))","v":""},null,0,"Cheville",null,null,null,5]
[null,null,null,null,null,null,null,null,null,"Sets joués",null,null,null,null,null,null,null,null,null,null,null,null,null,null,null,null,null,null,null,null,null,null,null,null,"Matchs de beach volley",null,{"$f":"IF(AK35=\"\",\"\",SUM(AO4:AO24))","v":""},null,0,"Autre",null,null,null,6]
[null,null,null,null,null,null,null,null,null,1,"… depuis le début et durant tout le set",null,null,null,null,null,null,null,null,null,null,null,null,null,null,null,null,null,null,null,null,null,null,null,"Sets de beach volley",null,{"$f":"IF(AK35=\"\",\"\",SUM(AP4:AP24))","v":""}]
[null,null,null,null,null,null,null,null,null,0.5,"… entré/sorti en cours, beaucoup joué",null,null,null,null,null,null,null,null,null,null,null,null,null,null,null,null,null,null,null,null,null,null,null,null,null,null,null,{"$f":"SUM(AM45:AM50)","v":0},"Absence pour cause de blessure"]
[null,null,null,null,null,null,null,null,null,0.1,"… entré/sorti en cours, peu joué",null,null,null,null,null,null,null,null,null,null,null,null,null,null,null,null,null,null,null,null,null,null,null,"Satisfaction",null,null,null,{"$f":"COUNTIF($H$4:$H$24,$AR45)","v":0},"Doigt",null,null,null,11]
[null,null,null,null,null,null,null,null,null,null,null,null,null,null,null,null,null,null,null,null,null,null,null,null,null,null,null,null,null,null,null,null,null,null,"Satisfaction de l'entrainement/match J",null,{"$f":"IF(AK32=\"\",\"\",SUM(AQ4:AQ24)/AK32)","v":""},null,0,"Épaule",null,null,null,12]
[null,null,null,null,null,null,null,null,null,"J","Es-tu content de la qualité de ton",null,null,null,null,null,null,null,null,null,null,null,null,null,null,null,null,null,null,null,null,null,null,null,null,null,null,null,0,"Dos",null,null,null,13]
[null,null,null,null,null,null,null,null,null,null,"entrainement/compétition?",null,null,null,null,null,null,null,null,null,null,null,null,null,null,null,null,null,null,null,null,null,null,null,"Santé",null,null,null,0,"Genou",null,null,null,14]
[null,null,null,null,null,null,null,null,null,1,"… pas content",null,null,null,null,null,null,null,null,null,null,null,null,null,null,null,null,null,null,null,null,null,null,null,"Limitation pour cause de douleurs",null,{"$f":"AM36","v":0},null,0,"Cheville",null,null,null,15]
[null,null,null,null,null,null,null,null,null,2,"… plutôt pas content",null,null,null,null,null,null,null,null,null,null,null,null,null,null,null,null,null,null,null,null,null,null,null,"Absence pour cause de blessure",null,{"$f":"AM44","v":0},null,0,"Autre",null,null,null,16]
[null,null,null,null,null,null,null,null,null,3,"… moyen",null,null,null,null,null,null,null,null,null,null,null,null,null,null,null,null,null,null,null,null,null,null,null,"Absence pour cause de maladie",null,{"$f":"AM52","v":0}]
[null,null,null,null,null,null,null,null,null,4,"… content",null,null,null,null,null,null,null,null,null,null,null,null,null,null,null,null,null,null,null,null,null,null,null,null,null,null,null,{"$f":"SUM(AM53:AM59)","v":0},"Absence pour cause de maladie"]
[null,null,null,null,null,null,null,null,null,5,"… très content!",null,null,null,null,null,null,null,null,null,null,null,null,null,null,null,null,null,null,null,null,null,null,null,null,null,null,null,{"$f":"COUNTIF($H$4:$H$24,$AR53)","v":0},"Maladie",null,null,null,21]
[]
[]
[]
[]
[]
[]
[]
[]
[]
[]
[]
[]
[]
[]
[]
[]
[]
[]
[]
[]
[]
[]
[]
[]
[]
[]
[]
[]
[]
[]
[]
[]
[]
[]
[]
[]
[]
[]
[]
[]
[]
[]
[]
[]
[]
[]
[]
[]
[]
[]
[]
[]
[]
[]
[]
[]
[]
[]
[]
[]
[]
[]
[]
[]
[]
[]
[]
[]
[]
[]
[]
[]
[]
[]
[]
[]
[]
[]
[]
[]
[null,null,null,null,null,null,null,null,null,null,null,null,null,null,null,null,null,null,null,null,null,null,null,null,{"$f":"Z134-1","v":33},34,35,36,37,38,39,{"$f":"D1","v":40}]
[]
[]
[]
[]
[]
[]
[]
[]
[]
[]
[]
[]
[]
[]
[]
[]
[]
[]
[]
[]
[null,null,null,null,null,null,null,null,null,null,null,null,null,null,null,null,null,null,null,null,null,null,null,null,null,null,null,null,null,null,null,null,{"$f":"AF134+1","v":41}]

{"sheet":"41","index":17,"n_rows":155,"n_cols":45,"rows_kept":155,"cut":false,"hidden":false,"merged":[[30,34,30,36],[30,38,31,43],[0,5,0,6],[1,44,2,44],[1,15,1,17],[28,10,29,10],[29,21,29,26],[36,9,37,9],[21,6,23,6],[21,9,21,10],[23,9,23,10],[21,7,23,7],[1,12,1,14],[7,9,7,10],[1,38,2,38],[1,24,1,26],[1,18,1,20],[1,30,1,32],[1,27,1,29],[27,3,27,6],[28,3,28,6],[37,3,37,6],[30,3,30,6],[31,3,31,6],[32,3,32,6],[33,3,33,6],[34,3,34,6],[35,3,35,6],[36,3,36,6],[38,3,38,6],[46,9,47,9],[18,36,20,36],[1,41,2,41],[3,36,5,36],[1,36,2,36],[20,9,20,10],[5,9,5,10],[1,39,2,39],[21,36,23,36],[9,36,11,36],[12,36,14,36],[15,36,17,36],[28,9,29,9],[16,9,16,10],[15,9,15,10],[10,9,10,10],[29,3,29,6],[15,5,17,5],[12,4,14,4],[6,36,8,36],[3,3,5,3],[3,6,5,6],[3,9,3,10],[4,9,4,10],[17,9,17,10],[22,9,22,10],[18,9,18,10],[19,9,19,10],[9,6,11,6],[9,9,9,10],[6,4,8,4],[9,7,11,7],[9,4,11,4],[11,9,11,10],[3,4,5,4],[3,7,5,7],[13,9,13,10],[14,9,14,10],[12,7,14,7],[9,5,11,5],[12,5,14,5],[21,1,23,1],[15,7,17,7],[15,1,17,1],[15,3,17,3],[15,6,17,6],[15,4,17,4],[18,5,20,5],[18,1,20,1],[18,3,20,3],[21,5,23,5],[21,3,23,3],[21,4,23,4],[18,7,20,7],[18,4,20,4],[18,6,20,6],[1,1,2,1],[9,1,11,1],[9,3,11,3],[1,40,2,40],[1,43,2,43],[38,34,38,36],[44,34,44,36],[47,34,47,36],[12,1,14,1],[6,3,8,3],[6,6,8,6],[6,9,6,10],[8,9,8,10],[6,5,8,5],[6,1,8,1],[6,7,8,7],[1,34,2,34],[1,21,1,23],[1,9,2,10],[3,1,5,1],[3,5,5,5],[12,3,14,3],[12,6,14,6],[12,9,12,10]]}
[null,null,"Woche",{"$f":"INT(MOD(INT((F1-2)/7)+0.6,52+5/28))+1","v":41},{"$f":"D1+1000","v":1041},{"$f":"'40'!F1+7","v":"2018-10-08"},null,"-",null,{"$f":"F1+6","v":"2018-10-14"},null,null,null,null,null,null,null,null,null,null,null,null,null,null,null,null,null,null,null,null,null,null,{"$f":"'Aperçu de la charge'!D2","v":"Prénom Nom"},null,{"$f":"'Aperçu de la charge'!N2","v":"2018/2019"}]
[null,"Jour",null,"Poids","REG","qualité sommeil","durée sommeil","Santé",null,"Description de l'entrainement",null,null,"Club - VB",null,null,"TS/ Nati - VB",null,null,"Club - BVB",null,null,"TS/ Nati - BVB",null,null,"Force - fitness",null,null,"Compet. - VB",null,null,"Compet. - BVB",null,null,null,"Réflexion",null,"Charge/\njour",null,"matchs VB","Sets VB","Matchs BVB","Sets BVB","J","Autre\n (Rég, mentale)","Mental- oder Sonstiges Training"]
[null,null,null,"[kg]","[1 - 5]","[1-5]","[Std]","Nr.",null,null,null,null,"Durée","RPE","Charge","Durée","RPE","Charge","Durée","RPE","Charge","Durée","RPE","Charge","Durée","RPE","Charge","Durée","RPE","Charge","Durée","RPE","Charge",null,null,null,null,null,null,null,null,null,"[1-5]"]
[null,"Lu",null,0,0,0,0,0,null,null,null,null,null,null,{"$f":"M4*N4","v":0},null,null,{"$f":"P4*Q4","v":0},null,null,{"$f":"S4*T4","v":0},null,null,{"$f":"V4*W4","v":0},null,null,{"$f":"Y4*Z4","v":0},null,null,{"$f":"AB4*AC4","v":0},null,null,{"$f":"AE4*AF4","v":0},{"$f":"IF(SUM(M4:AG6)>0,1,0)","v":"00:00:00"},null,null,{"$f":"SUM(O4:O6,R4:R6,U4:U6,X4:X6,AA4:AA6,AD4:AD6,AG4:AG6)","v":0}]
[null,null,null,null,null,null,null,null,null,null,null,null,null,null,{"$f":"M5*N5","v":0},null,null,{"$f":"P5*Q5","v":0},null,null,{"$f":"S5*T5","v":0},null,null,{"$f":"V5*W5","v":0},null,null,{"$f":"Y5*Z5","v":0},null,null,{"$f":"AB5*AC5","v":0},null,null,{"$f":"AE5*AF5","v":0}]
[null,null,null,null,null,null,null,null,null,null,null,null,null,null,0,null,null,0,null,null,0,null,null,0,null,null,0,null,null,0,null,null,0]
[null,"Ma",null,0,0,0,0,0,null,null,null,null,null,null,0,null,null,{"$f":"P7*Q7","v":0},null,null,0,null,null,0,null,null,0,null,null,0,null,null,0,{"$f":"IF(SUM(M7:AG9)>0,1,0)","v":"00:00:00"},null,null,{"$f":"SUM(O7:O9,R7:R9,U7:U9,X7:X9,AA7:AA9,AD7:AD9,AG7:AG9)","v":0}]
[null,null,null,null,null,null,null,null,null,null,null,null,null,null,0,null,null,0,null,null,0,null,null,0,null,null,0,null,null,0,null,null,0]
[null,null,null,null,null,null,null,null,null,null,null,null,null,null,0,null,null,0,null,null,0,null,null,0,null,null,0,null,null,0,null,null,0]
[null,"Me",null,0,0,0,0,0,null,null,null,null,null,null,0,null,null,{"$f":"P10*Q10","v":0},null,null,0,null,null,0,null,null,0,null,null,0,null,null,0,{"$f":"IF(SUM(M10:AG12)>0,1,0)","v":"00:00:00"},null,null,{"$f":"SUM(O10:O12,R10:R12,U10:U12,X10:X12,AA10:AA12,AD10:AD12,AG10:AG12)","v":0}]
[null,null,null,null,null,null,null,null,null,null,null,null,null,null,0,null,null,0,null,null,0,null,null,0,null,null,0,null,null,0,null,null,0]
[null,null,null,null,null,null,null,null,null,null,null,null,null,null,0,null,null,0,null,null,0,null,null,0,null,null,0,null,null,0,null,null,0]
[null,"Je",null,0,0,0,0,0,null,null,null,null,null,null,0,null,null,{"$f":"P13*Q13","v":0},null,null,0,null,null,0,null,null,0,null,null,0,null,null,0,{"$f":"IF(SUM(M13:AG15)>0,1,0)","v":"00:00:00"},null,null,{"$f":"SUM(O13:O15,R13:R15,U13:U15,X13:X15,AA13:AA15,AD13:AD15,AG13:AG15)","v":0}]
[null,null,null,null,null,null,null,null,null,null,null,null,null,null,0,null,null,0,null,null,0,null,null,0,null,null,0,null,null,0,null,null,0]
[null,null,null,null,null,null,null,null,null,null,null,null,null,null,0,null,null,0,null,null,0,null,null,0,null,null,0,null,null,0,null,null,0]
[null,"Ve",null,0,0,0,0,0,null,null,null,null,null,null,0,null,null,{"$f":"P16*Q16","v":0},null,null,0,null,null,0,null,null,0,null,null,0,null,null,0,{"$f":"IF(SUM(M16:AG18)>0,1,0)","v":"00:00:00"},null,null,{"$f":"SUM(O16:O18,R16:R18,U16:U18,X16:X18,AA16:AA18,AD16:AD18,AG16:AG18)","v":0}]
[null,null,null,null,null,null,null,null,null,null,null,null,null,null,0,null,null,0,null,null,0,null,null,0,null,null,0,null,null,0,null,null,0]
[null,null,null,null,null,null,null,null,null,null,null,null,null,null,0,null,null,0,null,null,0,null,null,0,null,null,0,null,null,0,null,null,0]
[null,"Sa",null,0,0,0,0,0,null,null,null,null,null,null,{"$f":"M19*N19","v":0},null,null,{"$f":"P19*Q19","v":0},null,null,{"$f":"S19*T19","v":0},null,null,{"$f":"V19*W19","v":0},null,null,{"$f":"Y19*Z19","v":0},null,null,{"$f":"AB19*AC19","v":0},null,null,{"$f":"AE19*AF19","v":0},{"$f":"IF(SUM(M19:AG21)>0,1,0)","v":"00:00:00"},null,null,{"$f":"SUM(O19:O21,R19:R21,U19:U21,X19:X21,AA19:AA21,AD19:AD21,AG19:AG21)","v":0}]
[null,null,null,null,null,null,null,null,null,null,null,null,null,null,{"$f":"M20*N20","v":0},null,null,0,null,null,{"$f":"S20*T20","v":0},null,null,{"$f":"V20*W20","v":0},null,null,{"$f":"Y20*Z20","v":0},null,null,{"$f":"AB20*AC20","v":0},null,null,{"$f":"AE20*AF20","v":0}]
[null,null,null,null,null,null,null,null,null,null,null,null,null,null,0,null,null,0,null,null,0,null,null,0,null,null,0,null,null,0,null,null,0]
[null,"Di",null,0,0,0,0,0,null,null,null,null,null,null,0,null,null,{"$f":"P22*Q22","v":0},null,null,0,null,null,0,null,null,0,null,null,0,null,null,0,{"$f":"IF(SUM(M22:AG24)>0,1,0)","v":"00:00:00"},null,null,{"$f":"SUM(O22:O24,R22:R24,U22:U24,X22:X24,AA22:AA24,AD22:AD24,AG22:AG24)","v":0}]
[null,null,null,null,null,null,null,null,null,null,null,null,null,null,0,null,null,0,null,null,0,null,null,0,null,null,0,null,null,0,null,null,0]
[null,null,null,null,null,null,null,null,null,null,null,null,null,null,0,null,null,0,null,null,0,null,null,0,null,null,0,null,null,0,null,null,0]
[null,null,null,null,null,null,null,null,null,null,"Total",null,{"$f":"SUM(M4:M24)","v":0},null,{"$f":"SUM(O4:O24)","v":0},{"$f":"SUM(P4:P24)","v":0},null,{"$f":"SUM(R4:R24)","v":0},{"$f":"SUM(S4:S24)","v":0},null,{"$f":"SUM(U4:U24)","v":0},{"$f":"SUM(V4:V24)","v":0},null,{"$f":"SUM(X4:X24)","v":0},{"$f":"SUM(Y4:Y24)","v":0},null,{"$f":"SUM(AA4:AA24)","v":0},{"$f":"SUM(AB4:AB24)","v":0},null,{"$f":"SUM(AD4:AD24)","v":0},{"$f":"SUM(AE4:AE24)","v":0},null,{"$f":"SUM(AG4:AG24)","v":0},null,"Charge totale",null,{"$f":"SUM(AK4:AK24)","v":0}]
[null,"avg.",null,{"$f":"IF(COUNTA(D4:D24)=0,\"\",AVERAGE(D4:D24))","v":0},{"$f":"IF(COUNTA(E4:E24)=0,\"\",AVERAGE(E4:E24))","v":0},{"$f":"IF(COUNTA(F4:F24)=0,\"\",AVERAGE(F4:F24))","v":0},{"$f":"IF(COUNTA(G4:G24)=0,\"\",AVERAGE(G4:G24))","v":0},{"$f":"IF(COUNTA(H4:H24)=0,\"\",COUNTIF(H4:H24,\"x\"))","v":0},null,null,"Zone",null,1,2,3,1,2,3,1,2,3,1,2,3,1,2,3,1,2,3,1,2,3,null,"Moyenne",null,{"$f":"AVERAGE(AK4:AK24)","v":0}]
[null,null,null,null,null,{"$f":"IF(COUNTA(F4:F24)=0,\"\",VAR(F4:F24))","v":0},{"$f":"IF(COUNTA(G4:G24)=0,\"\",STDEV(G4:G24))","v":0},"Divergence - durée du sommeil",null,null,"Unité par zone (RPE) ",null,{"$f":"IF('Répartition des intensités'!$AR$25=\"x\",COUNTIF(N4:N24,\"<3,5\"),COUNTIF(N4:N24,\"<4,5\"))","v":0},{"$f":"COUNT(N4:N24)-(M27+O27)","v":0},{"$f":"IF('Répartition des intensités'!$AR$25=\"x\",COUNTIF(N4:N24,\">5,5\"),COUNTIF(N4:N24,\">6,5\"))","v":0},{"$f":"IF('Répartition des intensités'!$AR$25=\"x\",COUNTIF(Q4:Q24,\"<3,5\"),COUNTIF(Q4:Q24,\"<4,5\"))","v":0},{"$f":"COUNT(Q4:Q24)-(P27+R27)","v":0},{"$f":"IF('Répartition des intensités'!$AR$25=\"x\",COUNTIF(Q4:Q24,\">5,5\"),COUNTIF(Q4:Q24,\">6,5\"))","v":0},{"$f":"IF('Répartition des intensités'!$AR$25=\"x\",COUNTIF(T4:T24,\"<3,5\"),COUNTIF(T4:T24,\"<4,5\"))","v":0},{"$f":"COUNT(T4:T24)-(S27+U27)","v":0},{"$f":"IF('Répartition des intensités'!$AR$25=\"x\",COUNTIF(T4:T24,\">5,5\"),COUNTIF(T4:T24,\">6,5\"))","v":0},{"$f":"IF('Répartition des intensités'!$AR$25=\"x\",COUNTIF(W4:W24,\"<3,5\"),COUNTIF(W4:W24,\"<4,5\"))","v":0},{"$f":"COUNT(W4:W24)-(V27+X27)","v":0},{"$f":"IF('Répartition des intensités'!$AR$25=\"x\",COUNTIF(W4:W24,\">5,5\"),COUNTIF(W4:W24,\">6,5\"))","v":0},{"$f":"IF('Répartition des intensités'!$AR$25=\"x\",COUNTIF(Z4:Z24,\"<3,5\"),COUNTIF(Z4:Z24,\"<4,5\"))","v":0},{"$f":"COUNT(Z4:Z24)-(Y27+AA27)","v":0},{"$f":"IF('Répartition des intensités'!$AR$25=\"x\",COUNTIF(Z4:Z24,\">5,5\"),COUNTIF(Z4:Z24,\">6,5\"))","v":0},{"$f":"IF('Répartition des intensités'!$AR$25=\"x\",COUNTIF(AC4:AC24,\"<3,5\"),COUNTIF(AC4:AC24,\"<4,5\"))","v":0},{"$f":"COUNT(AC4:AC24)-(AB27+AD27)","v":0},{"$f":"IF('Répartition des intensités'!$AR$25=\"x\",COUNTIF(AC4:AC24,\">5,5\"),COUNTIF(AC4:AC24,\">6,5\"))","v":0},{"$f":"IF('Répartition des intensités'!$AR$25=\"x\",COUNTIF(AF4:AF24,\"<3,5\"),COUNTIF(AF4:AF24,\"<4,5\"))","v":0},{"$f":"COUNT(AF4:AF24)-(AE27+AG27)","v":0},{"$f":"IF('Répartition des intensités'!$AR$25=\"x\",COUNTIF(AF4:AF24,\">5,5\"),COUNTIF(AF4:AF24,\">6,5\"))","v":0},null,"Divergence",null,{"$f":"STDEVP(AK4:AK24)","v":0}]
[null,null,null,"échelle de Foster",null,null,null,"RPE",null,null,"Temps par zone (RPE)",null,{"$f":"IF('Répartition des intensités'!$AR$25=\"x\",SUMIF(N4:N24,\"<3,5\",M4:M24),SUMIF(N4:N24,\"<4,5\",M4:M24))","v":0},{"$f":"IF(N27=0,0,SUM((M25)-(M28+O28)))","v":0},{"$f":"IF('Répartition des intensités'!$AR$25=\"x\",SUMIF(N4:N24,\">5,5\",M4:M24),SUMIF(N4:N24,\">6,5\",M4:M24))","v":0},{"$f":"IF('Répartition des intensités'!$AR$25=\"x\",SUMIF(Q4:Q24,\"<3,5\",P4:P24),SUMIF(Q4:Q24,\"<4,5\",P4:P24))","v":0},{"$f":"IF(Q27=0,0,SUM((P25)-(P28+R28)))","v":0},{"$f":"IF('Répartition des intensités'!$AR$25=\"x\",SUMIF(Q4:Q24,\">5,5\",P4:P24),SUMIF(Q4:Q24,\">6,5\",P4:P24))","v":0},{"$f":"IF('Répartition des intensités'!$AR$25=\"x\",SUMIF(T4:T24,\"<3,5\",S4:S24),SUMIF(T4:T24,\"<4,5\",S4:S24))","v":0},{"$f":"IF(T27=0,0,SUM((S25)-(S28+U28)))","v":0},{"$f":"IF('Répartition des intensités'!$AR$25=\"x\",SUMIF(T4:T24,\">5,5\",S4:S24),SUMIF(T4:T24,\">6,5\",S4:S24))","v":0},{"$f":"IF('Répartition des intensités'!$AR$25=\"x\",SUMIF(W4:W24,\"<3,5\",V4:V24),SUMIF(W4:W24,\"<4,5\",V4:V24))","v":0},{"$f":"IF(W27=0,0,SUM((V25)-(V28+X28)))","v":0},{"$f":"IF('Répartition des intensités'!$AR$25=\"x\",SUMIF(W4:W24,\">5,5\",V4:V24),SUMIF(W4:W24,\">6,5\",V4:V24))","v":0},{"$f":"IF('Répartition des intensités'!$AR$25=\"x\",SUMIF(Z4:Z24,\"<3,5\",Y4:Y24),SUMIF(Z4:Z24,\"<4,5\",Y4:Y24))","v":0},{"$f":"IF(Z27=0,0,SUM((Y25)-(Y28+AA28)))","v":0},{"$f":"IF('Répartition des intensités'!$AR$25=\"x\",SUMIF(Z4:Z24,\">5,5\",Y4:Y24),SUMIF(Z4:Z24,\">6,5\",Y4:Y24))","v":0},{"$f":"IF('Répartition des intensités'!$AR$25=\"x\",SUMIF(AC4:AC24,\"<3,5\",AB4:AB24),SUMIF(AC4:AC24,\"<4,5\",AB4:AB24))","v":0},{"$f":"IF(AC27=0,0,SUM((AB25)-(AB28+AD28)))","v":0},{"$f":"IF('Répartition des intensités'!$AR$25=\"x\",SUMIF(AC4:AC24,\">5,5\",AB4:AB24),SUMIF(AC4:AC24,\">6,5\",AB4:AB24))","v":0},{"$f":"IF('Répartition des intensités'!$AR$25=\"x\",SUMIF(AF4:AF24,\"<3,5\",AE4:AE24),SUMIF(AF4:AF24,\"<4,5\",AE4:AE24))","v":0},{"$f":"IF(AF27=0,0,SUM((AE25)-(AE28+AG28)))","v":0},{"$f":"IF('Répartition des intensités'!$AR$25=\"x\",SUMIF(AF4:AF24,\">5,5\",AE4:AE24),SUMIF(AF4:AF24,\">6,5\",AE4:AE24))","v":0}]
[null,null,null,"Comme au repos",null,null,null,0,null,"REG","Est-ce que j'ai l'impression d'avoir récupéré en me levant?"]
[null,null,null,"très facile",null,null,null,1]
[null,null,null,"facile",null,null,null,2,null,1,"… pas du tout récupéré",null,null,null,null,null,null,null,null,null,null,null,null,null,null,null,null,null,null,null,null,null,null,null,"Entrainements",null,null,null,"Rapport de santé"]
[null,null,null,null,null,null,null,3,null,2,"… un peu récupéré",null,null,null,null,null,null,null,null,null,null,null,null,null,null,null,null,null,null,null,null,null,null,null,"Jours d'entrainement",null,{"$f":"IF(SUM(AH4:AH24)=0,\"\",SUM(AH4:AH24))","v":""}]
[null,null,null,"Assez dur",null,null,null,4,null,3,"… récupéré",null,null,null,null,null,null,null,null,null,null,{"$f":"B4","v":"Lu"},{"$f":"AK4","v":0},null,null,null,null,null,null,null,null,null,null,null,"Entrainements",null,{"$f":"IF(AK32=\"\",\"\",SUM(M27:AG27))","v":""}]
[null,null,null,"dur",null,null,null,5,null,4,"…  en forme",null,null,null,null,null,null,null,null,null,null,{"$f":"B7","v":"Ma"},{"$f":"AK7","v":0},null,null,null,null,null,null,null,null,null,null,null,"Heures d'entrainement",null,{"$f":"IF(AK32=\"\",\"\",SUM(M25,P25,S25,Y25,AB25,V25,AE25)/60)","v":""},null,{"$f":"IF($AK$32=\"\",\"\",AK32-AM36-AM44-AM52)","v":""},"Aucune limitation",null,null,null,0]
[null,null,null,null,null,null,null,6,null,5,"… très en forme",null,null,null,null,null,null,null,null,null,null,{"$f":"B10","v":"Me"},{"$f":"AK10","v":0},null,null,null,null,null,null,null,null,null,null,null,"Charge de l'entrainement",null,{"$f":"IF(AK32=\"\",\"\",SUM(AK25))","v":""}]
[null,null,null,"très dur",null,null,null,7,null,null,null,null,null,null,null,null,null,null,null,null,null,{"$f":"B13","v":"Je"},{"$f":"AK13","v":0},null,null,null,null,null,null,null,null,null,null,null,"Monotonie",null,{"$f":"IF(AK27=0,0,(AVERAGE(AK4:AK24))/AK27)","v":0},null,{"$f":"SUM(AM37:AM42)","v":0},"Limitation pour cause de douleurs"]
[null,null,null,null,null,null,null,8,null,"Nombre de matchs",null,null,null,null,null,null,null,null,null,null,null,{"$f":"B16","v":"Ve"},{"$f":"AK16","v":0},null,null,null,null,null,null,null,null,null,null,null,"Efforts à l'entrainement",null,{"$f":"IF(AK32=\"\",\"\",AK35*AK36)","v":""},null,{"$f":"COUNTIF($H$4:$H$24,$AR37)","v":0},"Doigt",null,null,null,1]
[null,null,null,"extrèmement dur",null,null,null,9,null,null,null,null,null,null,null,null,null,null,null,null,null,{"$f":"B19","v":"Sa"},{"$f":"AK19","v":0},null,null,null,null,null,null,null,null,null,null,null,null,null,null,null,0,"Épaule",null,null,null,2]
[null,null,null,"Comme mon entrainement le plus dur",null,null,null,10,null,1,"… 3 sets et plus",null,null,null,null,null,null,null,null,null,null,{"$f":"B22","v":"Di"},{"$f":"AK22","v":0},null,null,null,null,null,null,null,null,null,null,null,"Compétition",null,null,null,0,"Dos",null,null,null,3]
[null,null,null,null,null,null,null,null,null,0.5,"… moins de 3 sets",null,null,null,null,null,null,null,null,null,null,null,null,null,null,null,null,null,null,null,null,null,null,null,"Matchs de volleyball",null,{"$f":"IF(AK32=\"\",\"\",SUM(AM4:AM24))","v":""},null,0,"Genou",null,null,null,4]
[null,null,null,null,null,null,null,null,null,null,null,null,null,null,null,null,null,null,null,null,null,null,null,null,null,null,null,null,null,null,null,null,null,null,"Sets de volleyball",null,{"$f":"IF(AK32=\"\",\"\",SUM(AN4:AN24))","v":""},null,0,"Cheville",null,null,null,5]
[null,null,null,null,null,null,null,null,null,"Sets joués",null,null,null,null,null,null,null,null,null,null,null,null,null,null,null,null,null,null,null,null,null,null,null,null,"Matchs de beach volley",null,{"$f":"IF(AK35=\"\",\"\",SUM(AO4:AO24))","v":""},null,0,"Autre",null,null,null,6]
[null,null,null,null,null,null,null,null,null,1,"… depuis le début et durant tout le set",null,null,null,null,null,null,null,null,null,null,null,null,null,null,null,null,null,null,null,null,null,null,null,"Sets de beach volley",null,{"$f":"IF(AK35=\"\",\"\",SUM(AP4:AP24))","v":""}]
[null,null,null,null,null,null,null,null,null,0.5,"… entré/sorti en cours, beaucoup joué",null,null,null,null,null,null,null,null,null,null,null,null,null,null,null,null,null,null,null,null,null,null,null,null,null,null,null,{"$f":"SUM(AM45:AM50)","v":0},"Absence pour cause de blessure"]
[null,null,null,null,null,null,null,null,null,0.1,"… entré/sorti en cours, peu joué",null,null,null,null,null,null,null,null,null,null,null,null,null,null,null,null,null,null,null,null,null,null,null,"Satisfaction",null,null,null,{"$f":"COUNTIF($H$4:$H$24,$AR45)","v":0},"Doigt",null,null,null,11]
[null,null,null,null,null,null,null,null,null,null,null,null,null,null,null,null,null,null,null,null,null,null,null,null,null,null,null,null,null,null,null,null,null,null,"Satisfaction de l'entrainement/match J",null,{"$f":"IF(AK32=\"\",\"\",SUM(AQ4:AQ24)/AK32)","v":""},null,0,"Épaule",null,null,null,12]
[null,null,null,null,null,null,null,null,null,"J","Es-tu content de la qualité de ton",null,null,null,null,null,null,null,null,null,null,null,null,null,null,null,null,null,null,null,null,null,null,null,null,null,null,null,0,"Dos",null,null,null,13]
[null,null,null,null,null,null,null,null,null,null,"entrainement/compétition?",null,null,null,null,null,null,null,null,null,null,null,null,null,null,null,null,null,null,null,null,null,null,null,"Santé",null,null,null,0,"Genou",null,null,null,14]
[null,null,null,null,null,null,null,null,null,1,"… pas content",null,null,null,null,null,null,null,null,null,null,null,null,null,null,null,null,null,null,null,null,null,null,null,"Limitation pour cause de douleurs",null,{"$f":"AM36","v":0},null,0,"Cheville",null,null,null,15]
[null,null,null,null,null,null,null,null,null,2,"… plutôt pas content",null,null,null,null,null,null,null,null,null,null,null,null,null,null,null,null,null,null,null,null,null,null,null,"Absence pour cause de blessure",null,{"$f":"AM44","v":0},null,0,"Autre",null,null,null,16]
[null,null,null,null,null,null,null,null,null,3,"… moyen",null,null,null,null,null,null,null,null,null,null,null,null,null,null,null,null,null,null,null,null,null,null,null,"Absence pour cause de maladie",null,{"$f":"AM52","v":0}]
[null,null,null,null,null,null,null,null,null,4,"… content",null,null,null,null,null,null,null,null,null,null,null,null,null,null,null,null,null,null,null,null,null,null,null,null,null,null,null,{"$f":"SUM(AM53:AM59)","v":0},"Absence pour cause de maladie"]
[null,null,null,null,null,null,null,null,null,5,"… très content!",null,null,null,null,null,null,null,null,null,null,null,null,null,null,null,null,null,null,null,null,null,null,null,null,null,null,null,{"$f":"COUNTIF($H$4:$H$24,$AR53)","v":0},"Maladie",null,null,null,21]
[]
[]
[]
[]
[]
[]
[]
[]
[]
[]
[]
[]
[]
[]
[]
[]
[]
[]
[]
[]
[]
[]
[]
[]
[]
[]
[]
[]
[]
[]
[]
[]
[]
[]
[]
[]
[]
[]
[]
[]
[]
[]
[]
[]
[]
[]
[]
[]
[]
[]
[]
[]
[]
[]
[]
[]
[]
[]
[]
[]
[]
[]
[]
[]
[]
[]
[]
[]
[]
[]
[]
[]
[]
[]
[]
[]
[]
[]
[]
[]
[null,null,null,null,null,null,null,null,null,null,null,null,null,null,null,null,null,null,null,null,null,null,null,null,{"$f":"Z134-1","v":34},35,36,37,38,39,40,{"$f":"D1","v":41}]
[]
[]
[]
[]
[]
[]
[]
[]
[]
[]
[]
[]
[]
[]
[]
[]
[]
[]
[]
[]
[null,null,null,null,null,null,null,null,null,null,null,null,null,null,null,null,null,null,null,null,null,null,null,null,null,null,null,null,null,null,null,null,{"$f":"AF134+1","v":42}]

{"sheet":"42","index":18,"n_rows":155,"n_cols":45,"rows_kept":155,"cut":false,"hidden":false,"merged":[[30,34,30,36],[30,38,31,43],[0,5,0,6],[1,1,2,1],[1,44,2,44],[3,1,5,1],[6,1,8,1],[9,1,11,1],[12,1,14,1],[15,1,17,1],[18,1,20,1],[29,3,29,6],[30,3,30,6],[9,4,11,4],[12,4,14,4],[3,7,5,7],[15,7,17,7],[27,3,27,6],[15,5,17,5],[18,5,20,5],[18,3,20,3],[18,6,20,6],[10,9,10,10],[9,7,11,7],[46,9,47,9],[28,9,29,9],[28,3,28,6],[37,3,37,6],[38,3,38,6],[31,3,31,6],[32,3,32,6],[33,3,33,6],[34,3,34,6],[35,3,35,6],[36,3,36,6],[36,9,37,9],[12,7,14,7],[3,5,5,5],[6,5,8,5],[15,6,17,6],[15,9,15,10],[16,9,16,10],[17,9,17,10],[22,9,22,10],[9,6,11,6],[28,10,29,10],[1,41,2,41],[15,36,17,36],[1,38,2,38],[1,36,2,36],[9,36,11,36],[1,34,2,34],[12,36,14,36],[6,36,8,36],[3,36,5,36],[1,40,2,40],[29,21,29,26],[9,9,9,10],[1,12,1,14],[1,18,1,20],[11,9,11,10],[14,9,14,10],[15,4,17,4],[9,5,11,5],[12,5,14,5],[1,15,1,17],[1,9,2,10],[3,4,5,4],[6,4,8,4],[21,1,23,1],[21,3,23,3],[21,5,23,5],[21,6,23,6],[21,9,21,10],[23,9,23,10],[21,7,23,7],[21,4,23,4],[12,3,14,3],[12,6,14,6],[12,9,12,10],[13,9,13,10],[18,9,18,10],[19,9,19,10],[20,9,20,10],[18,7,20,7],[18,4,20,4],[15,3,17,3],[1,43,2,43],[38,34,38,36],[44,34,44,36],[47,34,47,36],[3,3,5,3],[3,6,5,6],[3,9,3,10],[4,9,4,10],[5,9,5,10],[6,7,8,7],[6,3,8,3],[6,6,8,6],[6,9,6,10],[8,9,8,10],[1,39,2,39],[18,36,20,36],[21,36,23,36],[7,9,7,10],[1,30,1,32],[1,27,1,29],[1,24,1,26],[1,21,1,23],[9,3,11,3]]}
[null,null,"Woche",{"$f":"INT(MOD(INT((F1-2)/7)+0.6,52+5/28))+1","v":42},{"$f":"D1+1000","v":1042},{"$f":"'41'!F1+7","v":"2018-10-15"},null,"-",null,{"$f":"F1+6","v":"2018-10-21"},null,null,null,null,null,null,null,null,null,null,null,null,null,null,null,null,null,null,null,null,null,null,{"$f":"'Aperçu de la charge'!D2","v":"Prénom Nom"},null,{"$f":"'Aperçu de la charge'!N2","v":"2018/2019"}]
[null,"Jour",null,"Poids","REG","qualité sommeil","durée sommeil","Santé",null,"Description de l'entrainement",null,null,"Club - VB",null,null,"TS/ Nati - VB",null,null,"Club - BVB",null,null,"TS/ Nati - BVB",null,null,"Force - fitness",null,null,"Compet. - VB",null,null,"Compet. - BVB",null,null,null,"Réflexion",null,"Charge/\njour",null,"matchs VB","Sets VB","Matchs BVB","Sets BVB","J","Autre\n (Rég, mentale)","Mental- oder Sonstiges Training"]
[null,null,null,"[kg]","[1 - 5]","[1-5]","[Std]","Nr.",null,null,null,null,"Durée","RPE","Charge","Durée","RPE","Charge","Durée","RPE","Charge","Durée","RPE","Charge","Durée","RPE","Charge","Durée","RPE","Charge","Durée","RPE","Charge",null,null,null,null,null,null,null,null,null,"[1-5]"]
[null,"Lu",null,0,0,0,0,0,null,null,null,null,null,null,{"$f":"M4*N4","v":0},null,null,{"$f":"P4*Q4","v":0},null,null,{"$f":"S4*T4","v":0},null,null,{"$f":"V4*W4","v":0},null,null,{"$f":"Y4*Z4","v":0},null,null,{"$f":"AB4*AC4","v":0},null,null,{"$f":"AE4*AF4","v":0},{"$f":"IF(SUM(M4:AG6)>0,1,0)","v":"00:00:00"},null,null,{"$f":"SUM(O4:O6,R4:R6,U4:U6,X4:X6,AA4:AA6,AD4:AD6,AG4:AG6)","v":0}]
[null,null,null,null,null,null,null,null,null,null,null,null,null,null,{"$f":"M5*N5","v":0},null,null,{"$f":"P5*Q5","v":0},null,null,{"$f":"S5*T5","v":0},null,null,{"$f":"V5*W5","v":0},null,null,{"$f":"Y5*Z5","v":0},null,null,{"$f":"AB5*AC5","v":0},null,null,{"$f":"AE5*AF5","v":0}]
[null,null,null,null,null,null,null,null,null,null,null,null,null,null,0,null,null,0,null,null,0,null,null,0,null,null,0,null,null,0,null,null,0]
[null,"Ma",null,0,0,0,0,0,null,null,null,null,null,null,0,null,null,{"$f":"P7*Q7","v":0},null,null,0,null,null,0,null,null,0,null,null,0,null,null,0,{"$f":"IF(SUM(M7:AG9)>0,1,0)","v":"00:00:00"},null,null,{"$f":"SUM(O7:O9,R7:R9,U7:U9,X7:X9,AA7:AA9,AD7:AD9,AG7:AG9)","v":0}]
[null,null,null,null,null,null,null,null,null,null,null,null,null,null,0,null,null,0,null,null,0,null,null,0,null,null,0,null,null,0,null,null,0]
[null,null,null,null,null,null,null,null,null,null,null,null,null,null,0,null,null,0,null,null,0,null,null,0,null,null,0,null,null,0,null,null,0]
[null,"Me",null,0,0,0,0,0,null,null,null,null,null,null,0,null,null,{"$f":"P10*Q10","v":0},null,null,0,null,null,0,null,null,0,null,null,0,null,null,0,{"$f":"IF(SUM(M10:AG12)>0,1,0)","v":"00:00:00"},null,null,{"$f":"SUM(O10:O12,R10:R12,U10:U12,X10:X12,AA10:AA12,AD10:AD12,AG10:AG12)","v":0}]
[null,null,null,null,null,null,null,null,null,null,null,null,null,null,0,null,null,0,null,null,0,null,null,0,null,null,0,null,null,0,null,null,0]
[null,null,null,null,null,null,null,null,null,null,null,null,null,null,0,null,null,0,null,null,0,null,null,0,null,null,0,null,null,0,null,null,0]
[null,"Je",null,0,0,0,0,0,null,null,null,null,null,null,0,null,null,{"$f":"P13*Q13","v":0},null,null,0,null,null,0,null,null,0,null,null,0,null,null,0,{"$f":"IF(SUM(M13:AG15)>0,1,0)","v":"00:00:00"},null,null,{"$f":"SUM(O13:O15,R13:R15,U13:U15,X13:X15,AA13:AA15,AD13:AD15,AG13:AG15)","v":0}]
[null,null,null,null,null,null,null,null,null,null,null,null,null,null,0,null,null,0,null,null,0,null,null,0,null,null,0,null,null,0,null,null,0]
[null,null,null,null,null,null,null,null,null,null,null,null,null,null,0,null,null,0,null,null,0,null,null,0,null,null,0,null,null,0,null,null,0]
[null,"Ve",null,0,0,0,0,0,null,null,null,null,null,null,0,null,null,{"$f":"P16*Q16","v":0},null,null,0,null,null,0,null,null,0,null,null,0,null,null,0,{"$f":"IF(SUM(M16:AG18)>0,1,0)","v":"00:00:00"},null,null,{"$f":"SUM(O16:O18,R16:R18,U16:U18,X16:X18,AA16:AA18,AD16:AD18,AG16:AG18)","v":0}]
[null,null,null,null,null,null,null,null,null,null,null,null,null,null,0,null,null,0,null,null,0,null,null,0,null,null,0,null,null,0,null,null,0]
[null,null,null,null,null,null,null,null,null,null,null,null,null,null,0,null,null,0,null,null,0,null,null,0,null,null,0,null,null,0,null,null,0]
[null,"Sa",null,0,0,0,0,0,null,null,null,null,null,null,{"$f":"M19*N19","v":0},null,null,{"$f":"P19*Q19","v":0},null,null,{"$f":"S19*T19","v":0},null,null,{"$f":"V19*W19","v":0},null,null,{"$f":"Y19*Z19","v":0},null,null,{"$f":"AB19*AC19","v":0},null,null,{"$f":"AE19*AF19","v":0},{"$f":"IF(SUM(M19:AG21)>0,1,0)","v":"00:00:00"},null,null,{"$f":"SUM(O19:O21,R19:R21,U19:U21,X19:X21,AA19:AA21,AD19:AD21,AG19:AG21)","v":0}]
[null,null,null,null,null,null,null,null,null,null,null,null,null,null,{"$f":"M20*N20","v":0},null,null,0,null,null,{"$f":"S20*T20","v":0},null,null,{"$f":"V20*W20","v":0},null,null,{"$f":"Y20*Z20","v":0},null,null,{"$f":"AB20*AC20","v":0},null,null,{"$f":"AE20*AF20","v":0}]
[null,null,null,null,null,null,null,null,null,null,null,null,null,null,0,null,null,0,null,null,0,null,null,0,null,null,0,null,null,0,null,null,0]
[null,"Di",null,0,0,0,0,0,null,null,null,null,null,null,0,null,null,{"$f":"P22*Q22","v":0},null,null,0,null,null,0,null,null,0,null,null,0,null,null,0,{"$f":"IF(SUM(M22:AG24)>0,1,0)","v":"00:00:00"},null,null,{"$f":"SUM(O22:O24,R22:R24,U22:U24,X22:X24,AA22:AA24,AD22:AD24,AG22:AG24)","v":0}]
[null,null,null,null,null,null,null,null,null,null,null,null,null,null,0,null,null,0,null,null,0,null,null,0,null,null,0,null,null,0,null,null,0]
[null,null,null,null,null,null,null,null,null,null,null,null,null,null,0,null,null,0,null,null,0,null,null,0,null,null,0,null,null,0,null,null,0]
[null,null,null,null,null,null,null,null,null,null,"Total",null,{"$f":"SUM(M4:M24)","v":0},null,{"$f":"SUM(O4:O24)","v":0},{"$f":"SUM(P4:P24)","v":0},null,{"$f":"SUM(R4:R24)","v":0},{"$f":"SUM(S4:S24)","v":0},null,{"$f":"SUM(U4:U24)","v":0},{"$f":"SUM(V4:V24)","v":0},null,{"$f":"SUM(X4:X24)","v":0},{"$f":"SUM(Y4:Y24)","v":0},null,{"$f":"SUM(AA4:AA24)","v":0},{"$f":"SUM(AB4:AB24)","v":0},null,{"$f":"SUM(AD4:AD24)","v":0},{"$f":"SUM(AE4:AE24)","v":0},null,{"$f":"SUM(AG4:AG24)","v":0},null,"Charge totale",null,{"$f":"SUM(AK4:AK24)","v":0}]
[null,"avg.",null,{"$f":"IF(COUNTA(D4:D24)=0,\"\",AVERAGE(D4:D24))","v":0},{"$f":"IF(COUNTA(E4:E24)=0,\"\",AVERAGE(E4:E24))","v":0},{"$f":"IF(COUNTA(F4:F24)=0,\"\",AVERAGE(F4:F24))","v":0},{"$f":"IF(COUNTA(G4:G24)=0,\"\",AVERAGE(G4:G24))","v":0},{"$f":"IF(COUNTA(H4:H24)=0,\"\",COUNTIF(H4:H24,\"x\"))","v":0},null,null,"Zone",null,1,2,3,1,2,3,1,2,3,1,2,3,1,2,3,1,2,3,1,2,3,null,"Moyenne",null,{"$f":"AVERAGE(AK4:AK24)","v":0}]
[null,null,null,null,null,{"$f":"IF(COUNTA(F4:F24)=0,\"\",VAR(F4:F24))","v":0},{"$f":"IF(COUNTA(G4:G24)=0,\"\",STDEV(G4:G24))","v":0},"Divergence - durée du sommeil",null,null,"Unité par zone (RPE) ",null,{"$f":"IF('Répartition des intensités'!$AR$25=\"x\",COUNTIF(N4:N24,\"<3,5\"),COUNTIF(N4:N24,\"<4,5\"))","v":0},{"$f":"COUNT(N4:N24)-(M27+O27)","v":0},{"$f":"IF('Répartition des intensités'!$AR$25=\"x\",COUNTIF(N4:N24,\">5,5\"),COUNTIF(N4:N24,\">6,5\"))","v":0},{"$f":"IF('Répartition des intensités'!$AR$25=\"x\",COUNTIF(Q4:Q24,\"<3,5\"),COUNTIF(Q4:Q24,\"<4,5\"))","v":0},{"$f":"COUNT(Q4:Q24)-(P27+R27)","v":0},{"$f":"IF('Répartition des intensités'!$AR$25=\"x\",COUNTIF(Q4:Q24,\">5,5\"),COUNTIF(Q4:Q24,\">6,5\"))","v":0},{"$f":"IF('Répartition des intensités'!$AR$25=\"x\",COUNTIF(T4:T24,\"<3,5\"),COUNTIF(T4:T24,\"<4,5\"))","v":0},{"$f":"COUNT(T4:T24)-(S27+U27)","v":0},{"$f":"IF('Répartition des intensités'!$AR$25=\"x\",COUNTIF(T4:T24,\">5,5\"),COUNTIF(T4:T24,\">6,5\"))","v":0},{"$f":"IF('Répartition des intensités'!$AR$25=\"x\",COUNTIF(W4:W24,\"<3,5\"),COUNTIF(W4:W24,\"<4,5\"))","v":0},{"$f":"COUNT(W4:W24)-(V27+X27)","v":0},{"$f":"IF('Répartition des intensités'!$AR$25=\"x\",COUNTIF(W4:W24,\">5,5\"),COUNTIF(W4:W24,\">6,5\"))","v":0},{"$f":"IF('Répartition des intensités'!$AR$25=\"x\",COUNTIF(Z4:Z24,\"<3,5\"),COUNTIF(Z4:Z24,\"<4,5\"))","v":0},{"$f":"COUNT(Z4:Z24)-(Y27+AA27)","v":0},{"$f":"IF('Répartition des intensités'!$AR$25=\"x\",COUNTIF(Z4:Z24,\">5,5\"),COUNTIF(Z4:Z24,\">6,5\"))","v":0},{"$f":"IF('Répartition des intensités'!$AR$25=\"x\",COUNTIF(AC4:AC24,\"<3,5\"),COUNTIF(AC4:AC24,\"<4,5\"))","v":0},{"$f":"COUNT(AC4:AC24)-(AB27+AD27)","v":0},{"$f":"IF('Répartition des intensités'!$AR$25=\"x\",COUNTIF(AC4:AC24,\">5,5\"),COUNTIF(AC4:AC24,\">6,5\"))","v":0},{"$f":"IF('Répartition des intensités'!$AR$25=\"x\",COUNTIF(AF4:AF24,\"<3,5\"),COUNTIF(AF4:AF24,\"<4,5\"))","v":0},{"$f":"COUNT(AF4:AF24)-(AE27+AG27)","v":0},{"$f":"IF('Répartition des intensités'!$AR$25=\"x\",COUNTIF(AF4:AF24,\">5,5\"),COUNTIF(AF4:AF24,\">6,5\"))","v":0},null,"Divergence",null,{"$f":"STDEVP(AK4:AK24)","v":0}]
[null,null,null,"échelle de Foster",null,null,null,"RPE",null,null,"Temps par zone (RPE)",null,{"$f":"IF('Répartition des intensités'!$AR$25=\"x\",SUMIF(N4:N24,\"<3,5\",M4:M24),SUMIF(N4:N24,\"<4,5\",M4:M24))","v":0},{"$f":"IF(N27=0,0,SUM((M25)-(M28+O28)))","v":0},{"$f":"IF('Répartition des intensités'!$AR$25=\"x\",SUMIF(N4:N24,\">5,5\",M4:M24),SUMIF(N4:N24,\">6,5\",M4:M24))","v":0},{"$f":"IF('Répartition des intensités'!$AR$25=\"x\",SUMIF(Q4:Q24,\"<3,5\",P4:P24),SUMIF(Q4:Q24,\"<4,5\",P4:P24))","v":0},{"$f":"IF(Q27=0,0,SUM((P25)-(P28+R28)))","v":0},{"$f":"IF('Répartition des intensités'!$AR$25=\"x\",SUMIF(Q4:Q24,\">5,5\",P4:P24),SUMIF(Q4:Q24,\">6,5\",P4:P24))","v":0},{"$f":"IF('Répartition des intensités'!$AR$25=\"x\",SUMIF(T4:T24,\"<3,5\",S4:S24),SUMIF(T4:T24,\"<4,5\",S4:S24))","v":0},{"$f":"IF(T27=0,0,SUM((S25)-(S28+U28)))","v":0},{"$f":"IF('Répartition des intensités'!$AR$25=\"x\",SUMIF(T4:T24,\">5,5\",S4:S24),SUMIF(T4:T24,\">6,5\",S4:S24))","v":0},{"$f":"IF('Répartition des intensités'!$AR$25=\"x\",SUMIF(W4:W24,\"<3,5\",V4:V24),SUMIF(W4:W24,\"<4,5\",V4:V24))","v":0},{"$f":"IF(W27=0,0,SUM((V25)-(V28+X28)))","v":0},{"$f":"IF('Répartition des intensités'!$AR$25=\"x\",SUMIF(W4:W24,\">5,5\",V4:V24),SUMIF(W4:W24,\">6,5\",V4:V24))","v":0},{"$f":"IF('Répartition des intensités'!$AR$25=\"x\",SUMIF(Z4:Z24,\"<3,5\",Y4:Y24),SUMIF(Z4:Z24,\"<4,5\",Y4:Y24))","v":0},{"$f":"IF(Z27=0,0,SUM((Y25)-(Y28+AA28)))","v":0},{"$f":"IF('Répartition des intensités'!$AR$25=\"x\",SUMIF(Z4:Z24,\">5,5\",Y4:Y24),SUMIF(Z4:Z24,\">6,5\",Y4:Y24))","v":0},{"$f":"IF('Répartition des intensités'!$AR$25=\"x\",SUMIF(AC4:AC24,\"<3,5\",AB4:AB24),SUMIF(AC4:AC24,\"<4,5\",AB4:AB24))","v":0},{"$f":"IF(AC27=0,0,SUM((AB25)-(AB28+AD28)))","v":0},{"$f":"IF('Répartition des intensités'!$AR$25=\"x\",SUMIF(AC4:AC24,\">5,5\",AB4:AB24),SUMIF(AC4:AC24,\">6,5\",AB4:AB24))","v":0},{"$f":"IF('Répartition des intensités'!$AR$25=\"x\",SUMIF(AF4:AF24,\"<3,5\",AE4:AE24),SUMIF(AF4:AF24,\"<4,5\",AE4:AE24))","v":0},{"$f":"IF(AF27=0,0,SUM((AE25)-(AE28+AG28)))","v":0},{"$f":"IF('Répartition des intensités'!$AR$25=\"x\",SUMIF(AF4:AF24,\">5,5\",AE4:AE24),SUMIF(AF4:AF24,\">6,5\",AE4:AE24))","v":0}]
[null,null,null,"Comme au repos",null,null,null,0,null,"REG","Est-ce que j'ai l'impression d'avoir récupéré en me levant?"]
[null,null,null,"très facile",null,null,null,1]
[null,null,null,"facile",null,null,null,2,null,1,"… pas du tout récupéré",null,null,null,null,null,null,null,null,null,null,null,null,null,null,null,null,null,null,null,null,null,null,null,"Entrainements",null,null,null,"Rapport de santé"]
[null,null,null,null,null,null,null,3,null,2,"… un peu récupéré",null,null,null,null,null,null,null,null,null,null,null,null,null,null,null,null,null,null,null,null,null,null,null,"Jours d'entrainement",null,{"$f":"IF(SUM(AH4:AH24)=0,\"\",SUM(AH4:AH24))","v":""}]
[null,null,null,"Assez dur",null,null,null,4,null,3,"… récupéré",null,null,null,null,null,null,null,null,null,null,{"$f":"B4","v":"Lu"},{"$f":"AK4","v":0},null,null,null,null,null,null,null,null,null,null,null,"Entrainements",null,{"$f":"IF(AK32=\"\",\"\",SUM(M27:AG27))","v":""}]
[null,null,null,"dur",null,null,null,5,null,4,"…  en forme",null,null,null,null,null,null,null,null,null,null,{"$f":"B7","v":"Ma"},{"$f":"AK7","v":0},null,null,null,null,null,null,null,null,null,null,null,"Heures d'entrainement",null,{"$f":"IF(AK32=\"\",\"\",SUM(M25,P25,S25,Y25,AB25,V25,AE25)/60)","v":""},null,{"$f":"IF($AK$32=\"\",\"\",AK32-AM36-AM44-AM52)","v":""},"Aucune limitation",null,null,null,0]
[null,null,null,null,null,null,null,6,null,5,"… très en forme",null,null,null,null,null,null,null,null,null,null,{"$f":"B10","v":"Me"},{"$f":"AK10","v":0},null,null,null,null,null,null,null,null,null,null,null,"Charge de l'entrainement",null,{"$f":"IF(AK32=\"\",\"\",SUM(AK25))","v":""}]
[null,null,null,"très dur",null,null,null,7,null,null,null,null,null,null,null,null,null,null,null,null,null,{"$f":"B13","v":"Je"},{"$f":"AK13","v":0},null,null,null,null,null,null,null,null,null,null,null,"Monotonie",null,{"$f":"IF(AK27=0,0,(AVERAGE(AK4:AK24))/AK27)","v":0},null,{"$f":"SUM(AM37:AM42)","v":0},"Limitation pour cause de douleurs"]
[null,null,null,null,null,null,null,8,null,"Nombre de matchs",null,null,null,null,null,null,null,null,null,null,null,{"$f":"B16","v":"Ve"},{"$f":"AK16","v":0},null,null,null,null,null,null,null,null,null,null,null,"Efforts à l'entrainement",null,{"$f":"IF(AK32=\"\",\"\",AK35*AK36)","v":""},null,{"$f":"COUNTIF($H$4:$H$24,$AR37)","v":0},"Doigt",null,null,null,1]
[null,null,null,"extrèmement dur",null,null,null,9,null,null,null,null,null,null,null,null,null,null,null,null,null,{"$f":"B19","v":"Sa"},{"$f":"AK19","v":0},null,null,null,null,null,null,null,null,null,null,null,null,null,null,null,0,"Épaule",null,null,null,2]
[null,null,null,"Comme mon entrainement le plus dur",null,null,null,10,null,1,"… 3 sets et plus",null,null,null,null,null,null,null,null,null,null,{"$f":"B22","v":"Di"},{"$f":"AK22","v":0},null,null,null,null,null,null,null,null,null,null,null,"Compétition",null,null,null,0,"Dos",null,null,null,3]
[null,null,null,null,null,null,null,null,null,0.5,"… moins de 3 sets",null,null,null,null,null,null,null,null,null,null,null,null,null,null,null,null,null,null,null,null,null,null,null,"Matchs de volleyball",null,{"$f":"IF(AK32=\"\",\"\",SUM(AM4:AM24))","v":""},null,0,"Genou",null,null,null,4]
[null,null,null,null,null,null,null,null,null,null,null,null,null,null,null,null,null,null,null,null,null,null,null,null,null,null,null,null,null,null,null,null,null,null,"Sets de volleyball",null,{"$f":"IF(AK32=\"\",\"\",SUM(AN4:AN24))","v":""},null,0,"Cheville",null,null,null,5]
[null,null,null,null,null,null,null,null,null,"Sets joués",null,null,null,null,null,null,null,null,null,null,null,null,null,null,null,null,null,null,null,null,null,null,null,null,"Matchs de beach volley",null,{"$f":"IF(AK35=\"\",\"\",SUM(AO4:AO24))","v":""},null,0,"Autre",null,null,null,6]
[null,null,null,null,null,null,null,null,null,1,"… depuis le début et durant tout le set",null,null,null,null,null,null,null,null,null,null,null,null,null,null,null,null,null,null,null,null,null,null,null,"Sets de beach volley",null,{"$f":"IF(AK35=\"\",\"\",SUM(AP4:AP24))","v":""}]
[null,null,null,null,null,null,null,null,null,0.5,"… entré/sorti en cours, beaucoup joué",null,null,null,null,null,null,null,null,null,null,null,null,null,null,null,null,null,null,null,null,null,null,null,null,null,null,null,{"$f":"SUM(AM45:AM50)","v":0},"Absence pour cause de blessure"]
[null,null,null,null,null,null,null,null,null,0.1,"… entré/sorti en cours, peu joué",null,null,null,null,null,null,null,null,null,null,null,null,null,null,null,null,null,null,null,null,null,null,null,"Satisfaction",null,null,null,{"$f":"COUNTIF($H$4:$H$24,$AR45)","v":0},"Doigt",null,null,null,11]
[null,null,null,null,null,null,null,null,null,null,null,null,null,null,null,null,null,null,null,null,null,null,null,null,null,null,null,null,null,null,null,null,null,null,"Satisfaction de l'entrainement/match J",null,{"$f":"IF(AK32=\"\",\"\",SUM(AQ4:AQ24)/AK32)","v":""},null,0,"Épaule",null,null,null,12]
[null,null,null,null,null,null,null,null,null,"J","Es-tu content de la qualité de ton",null,null,null,null,null,null,null,null,null,null,null,null,null,null,null,null,null,null,null,null,null,null,null,null,null,null,null,0,"Dos",null,null,null,13]
[null,null,null,null,null,null,null,null,null,null,"entrainement/compétition?",null,null,null,null,null,null,null,null,null,null,null,null,null,null,null,null,null,null,null,null,null,null,null,"Santé",null,null,null,0,"Genou",null,null,null,14]
[null,null,null,null,null,null,null,null,null,1,"… pas content",null,null,null,null,null,null,null,null,null,null,null,null,null,null,null,null,null,null,null,null,null,null,null,"Limitation pour cause de douleurs",null,{"$f":"AM36","v":0},null,0,"Cheville",null,null,null,15]
[null,null,null,null,null,null,null,null,null,2,"… plutôt pas content",null,null,null,null,null,null,null,null,null,null,null,null,null,null,null,null,null,null,null,null,null,null,null,"Absence pour cause de blessure",null,{"$f":"AM44","v":0},null,0,"Autre",null,null,null,16]
[null,null,null,null,null,null,null,null,null,3,"… moyen",null,null,null,null,null,null,null,null,null,null,null,null,null,null,null,null,null,null,null,null,null,null,null,"Absence pour cause de maladie",null,{"$f":"AM52","v":0}]
[null,null,null,null,null,null,null,null,null,4,"… content",null,null,null,null,null,null,null,null,null,null,null,null,null,null,null,null,null,null,null,null,null,null,null,null,null,null,null,{"$f":"SUM(AM53:AM59)","v":0},"Absence pour cause de maladie"]
[null,null,null,null,null,null,null,null,null,5,"… très content!",null,null,null,null,null,null,null,null,null,null,null,null,null,null,null,null,null,null,null,null,null,null,null,null,null,null,null,{"$f":"COUNTIF($H$4:$H$24,$AR53)","v":0},"Maladie",null,null,null,21]
[]
[]
[]
[]
[]
[]
[]
[]
[]
[]
[]
[]
[]
[]
[]
[]
[]
[]
[]
[]
[]
[]
[]
[]
[]
[]
[]
[]
[]
[]
[]
[]
[]
[]
[]
[]
[]
[]
[]
[]
[]
[]
[]
[]
[]
[]
[]
[]
[]
[]
[]
[]
[]
[]
[]
[]
[]
[]
[]
[]
[]
[]
[]
[]
[]
[]
[]
[]
[]
[]
[]
[]
[]
[]
[]
[]
[]
[]
[]
[]
[null,null,null,null,null,null,null,null,null,null,null,null,null,null,null,null,null,null,null,null,null,null,null,null,{"$f":"Z134-1","v":35},36,37,38,39,40,41,{"$f":"D1","v":42}]
[]
[]
[]
[]
[]
[]
[]
[]
[]
[]
[]
[]
[]
[]
[]
[]
[]
[]
[]
[]
[null,null,null,null,null,null,null,null,null,null,null,null,null,null,null,null,null,null,null,null,null,null,null,null,null,null,null,null,null,null,null,null,{"$f":"AF134+1","v":43}]

{"sheet":"43","index":19,"n_rows":155,"n_cols":45,"rows_kept":155,"cut":false,"hidden":false,"merged":[[30,34,30,36],[30,38,31,43],[0,5,0,6],[1,44,2,44],[1,15,1,17],[28,10,29,10],[29,21,29,26],[36,9,37,9],[21,6,23,6],[21,9,21,10],[23,9,23,10],[21,7,23,7],[1,12,1,14],[7,9,7,10],[1,38,2,38],[1,24,1,26],[1,18,1,20],[1,30,1,32],[1,27,1,29],[27,3,27,6],[28,3,28,6],[37,3,37,6],[30,3,30,6],[31,3,31,6],[32,3,32,6],[33,3,33,6],[34,3,34,6],[35,3,35,6],[36,3,36,6],[38,3,38,6],[46,9,47,9],[18,36,20,36],[1,41,2,41],[3,36,5,36],[1,36,2,36],[20,9,20,10],[5,9,5,10],[1,39,2,39],[21,36,23,36],[9,36,11,36],[12,36,14,36],[15,36,17,36],[28,9,29,9],[16,9,16,10],[15,9,15,10],[10,9,10,10],[29,3,29,6],[15,5,17,5],[12,4,14,4],[6,36,8,36],[3,3,5,3],[3,6,5,6],[3,9,3,10],[4,9,4,10],[17,9,17,10],[22,9,22,10],[18,9,18,10],[19,9,19,10],[9,6,11,6],[9,9,9,10],[6,4,8,4],[9,7,11,7],[9,4,11,4],[11,9,11,10],[3,4,5,4],[3,7,5,7],[13,9,13,10],[14,9,14,10],[12,7,14,7],[9,5,11,5],[12,5,14,5],[21,1,23,1],[15,7,17,7],[15,1,17,1],[15,3,17,3],[15,6,17,6],[15,4,17,4],[18,5,20,5],[18,1,20,1],[18,3,20,3],[21,5,23,5],[21,3,23,3],[21,4,23,4],[18,7,20,7],[18,4,20,4],[18,6,20,6],[1,1,2,1],[9,1,11,1],[9,3,11,3],[1,40,2,40],[1,43,2,43],[38,34,38,36],[44,34,44,36],[47,34,47,36],[12,1,14,1],[6,3,8,3],[6,6,8,6],[6,9,6,10],[8,9,8,10],[6,5,8,5],[6,1,8,1],[6,7,8,7],[1,34,2,34],[1,21,1,23],[1,9,2,10],[3,1,5,1],[3,5,5,5],[12,3,14,3],[12,6,14,6],[12,9,12,10]]}
[null,null,"Woche",{"$f":"INT(MOD(INT((F1-2)/7)+0.6,52+5/28))+1","v":43},{"$f":"D1+1000","v":1043},{"$f":"'42'!F1+7","v":"2018-10-22"},null,"-",null,{"$f":"F1+6","v":"2018-10-28"},null,null,null,null,null,null,null,null,null,null,null,null,null,null,null,null,null,null,null,null,null,null,{"$f":"'Aperçu de la charge'!D2","v":"Prénom Nom"},null,{"$f":"'Aperçu de la charge'!N2","v":"2018/2019"}]
[null,"Jour",null,"Poids","REG","qualité sommeil","durée sommeil","Santé",null,"Description de l'entrainement",null,null,"Club - VB",null,null,"TS/ Nati - VB",null,null,"Club - BVB",null,null,"TS/ Nati - BVB",null,null,"Force - fitness",null,null,"Compet. - VB",null,null,"Compet. - BVB",null,null,null,"Réflexion",null,"Charge/\njour",null,"matchs VB","Sets VB","Matchs BVB","Sets BVB","J","Autre\n (Rég, mentale)","Mental- oder Sonstiges Training"]
[null,null,null,"[kg]","[1 - 5]","[1-5]","[Std]","Nr.",null,null,null,null,"Durée","RPE","Charge","Durée","RPE","Charge","Durée","RPE","Charge","Durée","RPE","Charge","Durée","RPE","Charge","Durée","RPE","Charge","Durée","RPE","Charge",null,null,null,null,null,null,null,null,null,"[1-5]"]
[null,"Lu",null,0,0,0,0,0,null,null,null,null,null,null,{"$f":"M4*N4","v":0},null,null,{"$f":"P4*Q4","v":0},null,null,{"$f":"S4*T4","v":0},null,null,{"$f":"V4*W4","v":0},null,null,{"$f":"Y4*Z4","v":0},null,null,{"$f":"AB4*AC4","v":0},null,null,{"$f":"AE4*AF4","v":0},{"$f":"IF(SUM(M4:AG6)>0,1,0)","v":"00:00:00"},null,null,{"$f":"SUM(O4:O6,R4:R6,U4:U6,X4:X6,AA4:AA6,AD4:AD6,AG4:AG6)","v":0}]
[null,null,null,null,null,null,null,null,null,null,null,null,null,null,{"$f":"M5*N5","v":0},null,null,{"$f":"P5*Q5","v":0},null,null,{"$f":"S5*T5","v":0},null,null,{"$f":"V5*W5","v":0},null,null,{"$f":"Y5*Z5","v":0},null,null,{"$f":"AB5*AC5","v":0},null,null,{"$f":"AE5*AF5","v":0}]
[null,null,null,null,null,null,null,null,null,null,null,null,null,null,0,null,null,0,null,null,0,null,null,0,null,null,0,null,null,0,null,null,0]
[null,"Ma",null,0,0,0,0,0,null,null,null,null,null,null,0,null,null,{"$f":"P7*Q7","v":0},null,null,0,null,null,0,null,null,0,null,null,0,null,null,0,{"$f":"IF(SUM(M7:AG9)>0,1,0)","v":"00:00:00"},null,null,{"$f":"SUM(O7:O9,R7:R9,U7:U9,X7:X9,AA7:AA9,AD7:AD9,AG7:AG9)","v":0}]
[null,null,null,null,null,null,null,null,null,null,null,null,null,null,0,null,null,0,null,null,0,null,null,0,null,null,0,null,null,0,null,null,0]
[null,null,null,null,null,null,null,null,null,null,null,null,null,null,0,null,null,0,null,null,0,null,null,0,null,null,0,null,null,0,null,null,0]
[null,"Me",null,0,0,0,0,0,null,null,null,null,null,null,0,null,null,{"$f":"P10*Q10","v":0},null,null,0,null,null,0,null,null,0,null,null,0,null,null,0,{"$f":"IF(SUM(M10:AG12)>0,1,0)","v":"00:00:00"},null,null,{"$f":"SUM(O10:O12,R10:R12,U10:U12,X10:X12,AA10:AA12,AD10:AD12,AG10:AG12)","v":0}]
[null,null,null,null,null,null,null,null,null,null,null,null,null,null,0,null,null,0,null,null,0,null,null,0,null,null,0,null,null,0,null,null,0]
[null,null,null,null,null,null,null,null,null,null,null,null,null,null,0,null,null,0,null,null,0,null,null,0,null,null,0,null,null,0,null,null,0]
[null,"Je",null,0,0,0,0,0,null,null,null,null,null,null,0,null,null,{"$f":"P13*Q13","v":0},null,null,0,null,null,0,null,null,0,null,null,0,null,null,0,{"$f":"IF(SUM(M13:AG15)>0,1,0)","v":"00:00:00"},null,null,{"$f":"SUM(O13:O15,R13:R15,U13:U15,X13:X15,AA13:AA15,AD13:AD15,AG13:AG15)","v":0}]
[null,null,null,null,null,null,null,null,null,null,null,null,null,null,0,null,null,0,null,null,0,null,null,0,null,null,0,null,null,0,null,null,0]
[null,null,null,null,null,null,null,null,null,null,null,null,null,null,0,null,null,0,null,null,0,null,null,0,null,null,0,null,null,0,null,null,0]
[null,"Ve",null,0,0,0,0,0,null,null,null,null,null,null,0,null,null,{"$f":"P16*Q16","v":0},null,null,0,null,null,0,null,null,0,null,null,0,null,null,0,{"$f":"IF(SUM(M16:AG18)>0,1,0)","v":"00:00:00"},null,null,{"$f":"SUM(O16:O18,R16:R18,U16:U18,X16:X18,AA16:AA18,AD16:AD18,AG16:AG18)","v":0}]
[null,null,null,null,null,null,null,null,null,null,null,null,null,null,0,null,null,0,null,null,0,null,null,0,null,null,0,null,null,0,null,null,0]
[null,null,null,null,null,null,null,null,null,null,null,null,null,null,0,null,null,0,null,null,0,null,null,0,null,null,0,null,null,0,null,null,0]
[null,"Sa",null,0,0,0,0,0,null,null,null,null,null,null,{"$f":"M19*N19","v":0},null,null,{"$f":"P19*Q19","v":0},null,null,{"$f":"S19*T19","v":0},null,null,{"$f":"V19*W19","v":0},null,null,{"$f":"Y19*Z19","v":0},null,null,{"$f":"AB19*AC19","v":0},null,null,{"$f":"AE19*AF19","v":0},{"$f":"IF(SUM(M19:AG21)>0,1,0)","v":"00:00:00"},null,null,{"$f":"SUM(O19:O21,R19:R21,U19:U21,X19:X21,AA19:AA21,AD19:AD21,AG19:AG21)","v":0}]
[null,null,null,null,null,null,null,null,null,null,null,null,null,null,{"$f":"M20*N20","v":0},null,null,0,null,null,{"$f":"S20*T20","v":0},null,null,{"$f":"V20*W20","v":0},null,null,{"$f":"Y20*Z20","v":0},null,null,{"$f":"AB20*AC20","v":0},null,null,{"$f":"AE20*AF20","v":0}]
[null,null,null,null,null,null,null,null,null,null,null,null,null,null,0,null,null,0,null,null,0,null,null,0,null,null,0,null,null,0,null,null,0]
[null,"Di",null,0,0,0,0,0,null,null,null,null,null,null,0,null,null,{"$f":"P22*Q22","v":0},null,null,0,null,null,0,null,null,0,null,null,0,null,null,0,{"$f":"IF(SUM(M22:AG24)>0,1,0)","v":"00:00:00"},null,null,{"$f":"SUM(O22:O24,R22:R24,U22:U24,X22:X24,AA22:AA24,AD22:AD24,AG22:AG24)","v":0}]
[null,null,null,null,null,null,null,null,null,null,null,null,null,null,0,null,null,0,null,null,0,null,null,0,null,null,0,null,null,0,null,null,0]
[null,null,null,null,null,null,null,null,null,null,null,null,null,null,0,null,null,0,null,null,0,null,null,0,null,null,0,null,null,0,null,null,0]
[null,null,null,null,null,null,null,null,null,null,"Total",null,{"$f":"SUM(M4:M24)","v":0},null,{"$f":"SUM(O4:O24)","v":0},{"$f":"SUM(P4:P24)","v":0},null,{"$f":"SUM(R4:R24)","v":0},{"$f":"SUM(S4:S24)","v":0},null,{"$f":"SUM(U4:U24)","v":0},{"$f":"SUM(V4:V24)","v":0},null,{"$f":"SUM(X4:X24)","v":0},{"$f":"SUM(Y4:Y24)","v":0},null,{"$f":"SUM(AA4:AA24)","v":0},{"$f":"SUM(AB4:AB24)","v":0},null,{"$f":"SUM(AD4:AD24)","v":0},{"$f":"SUM(AE4:AE24)","v":0},null,{"$f":"SUM(AG4:AG24)","v":0},null,"Charge totale",null,{"$f":"SUM(AK4:AK24)","v":0}]
[null,"avg.",null,{"$f":"IF(COUNTA(D4:D24)=0,\"\",AVERAGE(D4:D24))","v":0},{"$f":"IF(COUNTA(E4:E24)=0,\"\",AVERAGE(E4:E24))","v":0},{"$f":"IF(COUNTA(F4:F24)=0,\"\",AVERAGE(F4:F24))","v":0},{"$f":"IF(COUNTA(G4:G24)=0,\"\",AVERAGE(G4:G24))","v":0},{"$f":"IF(COUNTA(H4:H24)=0,\"\",COUNTIF(H4:H24,\"x\"))","v":0},null,null,"Zone",null,1,2,3,1,2,3,1,2,3,1,2,3,1,2,3,1,2,3,1,2,3,null,"Moyenne",null,{"$f":"AVERAGE(AK4:AK24)","v":0}]
[null,null,null,null,null,{"$f":"IF(COUNTA(F4:F24)=0,\"\",VAR(F4:F24))","v":0},{"$f":"IF(COUNTA(G4:G24)=0,\"\",STDEV(G4:G24))","v":0},"Divergence - durée du sommeil",null,null,"Unité par zone (RPE) ",null,{"$f":"IF('Répartition des intensités'!$AR$25=\"x\",COUNTIF(N4:N24,\"<3,5\"),COUNTIF(N4:N24,\"<4,5\"))","v":0},{"$f":"COUNT(N4:N24)-(M27+O27)","v":0},{"$f":"IF('Répartition des intensités'!$AR$25=\"x\",COUNTIF(N4:N24,\">5,5\"),COUNTIF(N4:N24,\">6,5\"))","v":0},{"$f":"IF('Répartition des intensités'!$AR$25=\"x\",COUNTIF(Q4:Q24,\"<3,5\"),COUNTIF(Q4:Q24,\"<4,5\"))","v":0},{"$f":"COUNT(Q4:Q24)-(P27+R27)","v":0},{"$f":"IF('Répartition des intensités'!$AR$25=\"x\",COUNTIF(Q4:Q24,\">5,5\"),COUNTIF(Q4:Q24,\">6,5\"))","v":0},{"$f":"IF('Répartition des intensités'!$AR$25=\"x\",COUNTIF(T4:T24,\"<3,5\"),COUNTIF(T4:T24,\"<4,5\"))","v":0},{"$f":"COUNT(T4:T24)-(S27+U27)","v":0},{"$f":"IF('Répartition des intensités'!$AR$25=\"x\",COUNTIF(T4:T24,\">5,5\"),COUNTIF(T4:T24,\">6,5\"))","v":0},{"$f":"IF('Répartition des intensités'!$AR$25=\"x\",COUNTIF(W4:W24,\"<3,5\"),COUNTIF(W4:W24,\"<4,5\"))","v":0},{"$f":"COUNT(W4:W24)-(V27+X27)","v":0},{"$f":"IF('Répartition des intensités'!$AR$25=\"x\",COUNTIF(W4:W24,\">5,5\"),COUNTIF(W4:W24,\">6,5\"))","v":0},{"$f":"IF('Répartition des intensités'!$AR$25=\"x\",COUNTIF(Z4:Z24,\"<3,5\"),COUNTIF(Z4:Z24,\"<4,5\"))","v":0},{"$f":"COUNT(Z4:Z24)-(Y27+AA27)","v":0},{"$f":"IF('Répartition des intensités'!$AR$25=\"x\",COUNTIF(Z4:Z24,\">5,5\"),COUNTIF(Z4:Z24,\">6,5\"))","v":0},{"$f":"IF('Répartition des intensités'!$AR$25=\"x\",COUNTIF(AC4:AC24,\"<3,5\"),COUNTIF(AC4:AC24,\"<4,5\"))","v":0},{"$f":"COUNT(AC4:AC24)-(AB27+AD27)","v":0},{"$f":"IF('Répartition des intensités'!$AR$25=\"x\",COUNTIF(AC4:AC24,\">5,5\"),COUNTIF(AC4:AC24,\">6,5\"))","v":0},{"$f":"IF('Répartition des intensités'!$AR$25=\"x\",COUNTIF(AF4:AF24,\"<3,5\"),COUNTIF(AF4:AF24,\"<4,5\"))","v":0},{"$f":"COUNT(AF4:AF24)-(AE27+AG27)","v":0},{"$f":"IF('Répartition des intensités'!$AR$25=\"x\",COUNTIF(AF4:AF24,\">5,5\"),COUNTIF(AF4:AF24,\">6,5\"))","v":0},null,"Divergence",null,{"$f":"STDEVP(AK4:AK24)","v":0}]
[null,null,null,"échelle de Foster",null,null,null,"RPE",null,null,"Temps par zone (RPE)",null,{"$f":"IF('Répartition des intensités'!$AR$25=\"x\",SUMIF(N4:N24,\"<3,5\",M4:M24),SUMIF(N4:N24,\"<4,5\",M4:M24))","v":0},{"$f":"IF(N27=0,0,SUM((M25)-(M28+O28)))","v":0},{"$f":"IF('Répartition des intensités'!$AR$25=\"x\",SUMIF(N4:N24,\">5,5\",M4:M24),SUMIF(N4:N24,\">6,5\",M4:M24))","v":0},{"$f":"IF('Répartition des intensités'!$AR$25=\"x\",SUMIF(Q4:Q24,\"<3,5\",P4:P24),SUMIF(Q4:Q24,\"<4,5\",P4:P24))","v":0},{"$f":"IF(Q27=0,0,SUM((P25)-(P28+R28)))","v":0},{"$f":"IF('Répartition des intensités'!$AR$25=\"x\",SUMIF(Q4:Q24,\">5,5\",P4:P24),SUMIF(Q4:Q24,\">6,5\",P4:P24))","v":0},{"$f":"IF('Répartition des intensités'!$AR$25=\"x\",SUMIF(T4:T24,\"<3,5\",S4:S24),SUMIF(T4:T24,\"<4,5\",S4:S24))","v":0},{"$f":"IF(T27=0,0,SUM((S25)-(S28+U28)))","v":0},{"$f":"IF('Répartition des intensités'!$AR$25=\"x\",SUMIF(T4:T24,\">5,5\",S4:S24),SUMIF(T4:T24,\">6,5\",S4:S24))","v":0},{"$f":"IF('Répartition des intensités'!$AR$25=\"x\",SUMIF(W4:W24,\"<3,5\",V4:V24),SUMIF(W4:W24,\"<4,5\",V4:V24))","v":0},{"$f":"IF(W27=0,0,SUM((V25)-(V28+X28)))","v":0},{"$f":"IF('Répartition des intensités'!$AR$25=\"x\",SUMIF(W4:W24,\">5,5\",V4:V24),SUMIF(W4:W24,\">6,5\",V4:V24))","v":0},{"$f":"IF('Répartition des intensités'!$AR$25=\"x\",SUMIF(Z4:Z24,\"<3,5\",Y4:Y24),SUMIF(Z4:Z24,\"<4,5\",Y4:Y24))","v":0},{"$f":"IF(Z27=0,0,SUM((Y25)-(Y28+AA28)))","v":0},{"$f":"IF('Répartition des intensités'!$AR$25=\"x\",SUMIF(Z4:Z24,\">5,5\",Y4:Y24),SUMIF(Z4:Z24,\">6,5\",Y4:Y24))","v":0},{"$f":"IF('Répartition des intensités'!$AR$25=\"x\",SUMIF(AC4:AC24,\"<3,5\",AB4:AB24),SUMIF(AC4:AC24,\"<4,5\",AB4:AB24))","v":0},{"$f":"IF(AC27=0,0,SUM((AB25)-(AB28+AD28)))","v":0},{"$f":"IF('Répartition des intensités'!$AR$25=\"x\",SUMIF(AC4:AC24,\">5,5\",AB4:AB24),SUMIF(AC4:AC24,\">6,5\",AB4:AB24))","v":0},{"$f":"IF('Répartition des intensités'!$AR$25=\"x\",SUMIF(AF4:AF24,\"<3,5\",AE4:AE24),SUMIF(AF4:AF24,\"<4,5\",AE4:AE24))","v":0},{"$f":"IF(AF27=0,0,SUM((AE25)-(AE28+AG28)))","v":0},{"$f":"IF('Répartition des intensités'!$AR$25=\"x\",SUMIF(AF4:AF24,\">5,5\",AE4:AE24),SUMIF(AF4:AF24,\">6,5\",AE4:AE24))","v":0}]
[null,null,null,"Comme au repos",null,null,null,0,null,"REG","Est-ce que j'ai l'impression d'avoir récupéré en me levant?"]
[null,null,null,"très facile",null,null,null,1]
[null,null,null,"facile",null,null,null,2,null,1,"… pas du tout récupéré",null,null,null,null,null,null,null,null,null,null,null,null,null,null,null,null,null,null,null,null,null,null,null,"Entrainements",null,null,null,"Rapport de santé"]
[null,null,null,null,null,null,null,3,null,2,"… un peu récupéré",null,null,null,null,null,null,null,null,null,null,null,null,null,null,null,null,null,null,null,null,null,null,null,"Jours d'entrainement",null,{"$f":"IF(SUM(AH4:AH24)=0,\"\",SUM(AH4:AH24))","v":""}]
[null,null,null,"Assez dur",null,null,null,4,null,3,"… récupéré",null,null,null,null,null,null,null,null,null,null,{"$f":"B4","v":"Lu"},{"$f":"AK4","v":0},null,null,null,null,null,null,null,null,null,null,null,"Entrainements",null,{"$f":"IF(AK32=\"\",\"\",SUM(M27:AG27))","v":""}]
[null,null,null,"dur",null,null,null,5,null,4,"…  en forme",null,null,null,null,null,null,null,null,null,null,{"$f":"B7","v":"Ma"},{"$f":"AK7","v":0},null,null,null,null,null,null,null,null,null,null,null,"Heures d'entrainement",null,{"$f":"IF(AK32=\"\",\"\",SUM(M25,P25,S25,Y25,AB25,V25,AE25)/60)","v":""},null,{"$f":"IF($AK$32=\"\",\"\",AK32-AM36-AM44-AM52)","v":""},"Aucune limitation",null,null,null,0]
[null,null,null,null,null,null,null,6,null,5,"… très en forme",null,null,null,null,null,null,null,null,null,null,{"$f":"B10","v":"Me"},{"$f":"AK10","v":0},null,null,null,null,null,null,null,null,null,null,null,"Charge de l'entrainement",null,{"$f":"IF(AK32=\"\",\"\",SUM(AK25))","v":""}]
[null,null,null,"très dur",null,null,null,7,null,null,null,null,null,null,null,null,null,null,null,null,null,{"$f":"B13","v":"Je"},{"$f":"AK13","v":0},null,null,null,null,null,null,null,null,null,null,null,"Monotonie",null,{"$f":"IF(AK27=0,0,(AVERAGE(AK4:AK24))/AK27)","v":0},null,{"$f":"SUM(AM37:AM42)","v":0},"Limitation pour cause de douleurs"]
[null,null,null,null,null,null,null,8,null,"Nombre de matchs",null,null,null,null,null,null,null,null,null,null,null,{"$f":"B16","v":"Ve"},{"$f":"AK16","v":0},null,null,null,null,null,null,null,null,null,null,null,"Efforts à l'entrainement",null,{"$f":"IF(AK32=\"\",\"\",AK35*AK36)","v":""},null,{"$f":"COUNTIF($H$4:$H$24,$AR37)","v":0},"Doigt",null,null,null,1]
[null,null,null,"extrèmement dur",null,null,null,9,null,null,null,null,null,null,null,null,null,null,null,null,null,{"$f":"B19","v":"Sa"},{"$f":"AK19","v":0},null,null,null,null,null,null,null,null,null,null,null,null,null,null,null,0,"Épaule",null,null,null,2]
[null,null,null,"Comme mon entrainement le plus dur",null,null,null,10,null,1,"… 3 sets et plus",null,null,null,null,null,null,null,null,null,null,{"$f":"B22","v":"Di"},{"$f":"AK22","v":0},null,null,null,null,null,null,null,null,null,null,null,"Compétition",null,null,null,0,"Dos",null,null,null,3]
[null,null,null,null,null,null,null,null,null,0.5,"… moins de 3 sets",null,null,null,null,null,null,null,null,null,null,null,null,null,null,null,null,null,null,null,null,null,null,null,"Matchs de volleyball",null,{"$f":"IF(AK32=\"\",\"\",SUM(AM4:AM24))","v":""},null,0,"Genou",null,null,null,4]
[null,null,null,null,null,null,null,null,null,null,null,null,null,null,null,null,null,null,null,null,null,null,null,null,null,null,null,null,null,null,null,null,null,null,"Sets de volleyball",null,{"$f":"IF(AK32=\"\",\"\",SUM(AN4:AN24))","v":""},null,0,"Cheville",null,null,null,5]
[null,null,null,null,null,null,null,null,null,"Sets joués",null,null,null,null,null,null,null,null,null,null,null,null,null,null,null,null,null,null,null,null,null,null,null,null,"Matchs de beach volley",null,{"$f":"IF(AK35=\"\",\"\",SUM(AO4:AO24))","v":""},null,0,"Autre",null,null,null,6]
[null,null,null,null,null,null,null,null,null,1,"… depuis le début et durant tout le set",null,null,null,null,null,null,null,null,null,null,null,null,null,null,null,null,null,null,null,null,null,null,null,"Sets de beach volley",null,{"$f":"IF(AK35=\"\",\"\",SUM(AP4:AP24))","v":""}]
[null,null,null,null,null,null,null,null,null,0.5,"… entré/sorti en cours, beaucoup joué",null,null,null,null,null,null,null,null,null,null,null,null,null,null,null,null,null,null,null,null,null,null,null,null,null,null,null,{"$f":"SUM(AM45:AM50)","v":0},"Absence pour cause de blessure"]
[null,null,null,null,null,null,null,null,null,0.1,"… entré/sorti en cours, peu joué",null,null,null,null,null,null,null,null,null,null,null,null,null,null,null,null,null,null,null,null,null,null,null,"Satisfaction",null,null,null,{"$f":"COUNTIF($H$4:$H$24,$AR45)","v":0},"Doigt",null,null,null,11]
[null,null,null,null,null,null,null,null,null,null,null,null,null,null,null,null,null,null,null,null,null,null,null,null,null,null,null,null,null,null,null,null,null,null,"Satisfaction de l'entrainement/match J",null,{"$f":"IF(AK32=\"\",\"\",SUM(AQ4:AQ24)/AK32)","v":""},null,0,"Épaule",null,null,null,12]
[null,null,null,null,null,null,null,null,null,"J","Es-tu content de la qualité de ton",null,null,null,null,null,null,null,null,null,null,null,null,null,null,null,null,null,null,null,null,null,null,null,null,null,null,null,0,"Dos",null,null,null,13]
[null,null,null,null,null,null,null,null,null,null,"entrainement/compétition?",null,null,null,null,null,null,null,null,null,null,null,null,null,null,null,null,null,null,null,null,null,null,null,"Santé",null,null,null,0,"Genou",null,null,null,14]
[null,null,null,null,null,null,null,null,null,1,"… pas content",null,null,null,null,null,null,null,null,null,null,null,null,null,null,null,null,null,null,null,null,null,null,null,"Limitation pour cause de douleurs",null,{"$f":"AM36","v":0},null,0,"Cheville",null,null,null,15]
[null,null,null,null,null,null,null,null,null,2,"… plutôt pas content",null,null,null,null,null,null,null,null,null,null,null,null,null,null,null,null,null,null,null,null,null,null,null,"Absence pour cause de blessure",null,{"$f":"AM44","v":0},null,0,"Autre",null,null,null,16]
[null,null,null,null,null,null,null,null,null,3,"… moyen",null,null,null,null,null,null,null,null,null,null,null,null,null,null,null,null,null,null,null,null,null,null,null,"Absence pour cause de maladie",null,{"$f":"AM52","v":0}]
[null,null,null,null,null,null,null,null,null,4,"… content",null,null,null,null,null,null,null,null,null,null,null,null,null,null,null,null,null,null,null,null,null,null,null,null,null,null,null,{"$f":"SUM(AM53:AM59)","v":0},"Absence pour cause de maladie"]
[null,null,null,null,null,null,null,null,null,5,"… très content!",null,null,null,null,null,null,null,null,null,null,null,null,null,null,null,null,null,null,null,null,null,null,null,null,null,null,null,{"$f":"COUNTIF($H$4:$H$24,$AR53)","v":0},"Maladie",null,null,null,21]
[]
[]
[]
[]
[]
[]
[]
[]
[]
[]
[]
[]
[]
[]
[]
[]
[]
[]
[]
[]
[]
[]
[]
[]
[]
[]
[]
[]
[]
[]
[]
[]
[]
[]
[]
[]
[]
[]
[]
[]
[]
[]
[]
[]
[]
[]
[]
[]
[]
[]
[]
[]
[]
[]
[]
[]
[]
[]
[]
[]
[]
[]
[]
[]
[]
[]
[]
[]
[]
[]
[]
[]
[]
[]
[]
[]
[]
[]
[]
[]
[null,null,null,null,null,null,null,null,null,null,null,null,null,null,null,null,null,null,null,null,null,null,null,null,{"$f":"Z134-1","v":36},37,38,39,40,41,42,{"$f":"D1","v":43}]
[]
[]
[]
[]
[]
[]
[]
[]
[]
[]
[]
[]
[]
[]
[]
[]
[]
[]
[]
[]
[null,null,null,null,null,null,null,null,null,null,null,null,null,null,null,null,null,null,null,null,null,null,null,null,null,null,null,null,null,null,null,null,{"$f":"AF134+1","v":44}]

{"sheet":"44","index":20,"n_rows":155,"n_cols":45,"rows_kept":155,"cut":false,"hidden":false,"merged":[[0,5,0,6],[1,44,2,44],[29,3,29,6],[30,3,30,6],[35,3,35,6],[36,3,36,6],[46,9,47,9],[9,4,11,4],[12,4,14,4],[3,7,5,7],[15,7,17,7],[27,3,27,6],[15,5,17,5],[18,5,20,5],[28,10,29,10],[15,9,15,10],[1,41,2,41],[1,21,1,23],[30,34,30,36],[30,38,31,43],[1,40,2,40],[16,9,16,10],[28,9,29,9],[28,3,28,6],[37,3,37,6],[38,3,38,6],[31,3,31,6],[32,3,32,6],[33,3,33,6],[34,3,34,6],[22,9,22,10],[29,21,29,26],[36,9,37,9],[1,39,2,39],[18,36,20,36],[21,36,23,36],[15,36,17,36],[1,38,2,38],[1,36,2,36],[1,34,2,34],[1,30,1,32],[1,27,1,29],[1,24,1,26],[9,36,11,36],[12,36,14,36],[6,36,8,36],[1,18,1,20],[11,9,11,10],[10,9,10,10],[1,15,1,17],[1,9,2,10],[3,9,3,10],[4,9,4,10],[5,9,5,10],[3,36,5,36],[6,1,8,1],[6,7,8,7],[6,3,8,3],[6,6,8,6],[6,9,6,10],[8,9,8,10],[7,9,7,10],[15,6,17,6],[15,4,17,4],[9,1,11,1],[9,3,11,3],[9,6,11,6],[9,9,9,10],[1,12,1,14],[18,1,20,1],[18,3,20,3],[18,6,20,6],[1,1,2,1],[3,4,5,4],[6,4,8,4],[3,1,5,1],[9,7,11,7],[14,9,14,10],[12,7,14,7],[3,5,5,5],[6,5,8,5],[9,5,11,5],[12,5,14,5],[17,9,17,10],[3,3,5,3],[3,6,5,6],[1,43,2,43],[38,34,38,36],[44,34,44,36],[47,34,47,36],[21,1,23,1],[21,3,23,3],[21,5,23,5],[21,6,23,6],[21,9,21,10],[23,9,23,10],[21,7,23,7],[21,4,23,4],[12,1,14,1],[12,3,14,3],[12,6,14,6],[12,9,12,10],[13,9,13,10],[18,9,18,10],[19,9,19,10],[20,9,20,10],[18,7,20,7],[18,4,20,4],[15,1,17,1],[15,3,17,3]]}
[null,null,"Woche",{"$f":"INT(MOD(INT((F1-2)/7)+0.6,52+5/28))+1","v":44},{"$f":"D1+1000","v":1044},{"$f":"'43'!F1+7","v":"2018-10-29"},null,"-",null,{"$f":"F1+6","v":"2018-11-04"},null,null,null,null,null,null,null,null,null,null,null,null,null,null,null,null,null,null,null,null,null,null,{"$f":"'Aperçu de la charge'!D2","v":"Prénom Nom"},null,{"$f":"'Aperçu de la charge'!N2","v":"2018/2019"}]
[null,"Jour",null,"Poids","REG","qualité sommeil","durée sommeil","Santé",null,"Description de l'entrainement",null,null,"Club - VB",null,null,"TS/ Nati - VB",null,null,"Club - BVB",null,null,"TS/ Nati - BVB",null,null,"Force - fitness",null,null,"Compet. - VB",null,null,"Compet. - BVB",null,null,null,"Réflexion",null,"Charge/\njour",null,"matchs VB","Sets VB","Matchs BVB","Sets BVB","J","Autre\n (Rég, mentale)","Mental- oder Sonstiges Training"]
[null,null,null,"[kg]","[1 - 5]","[1-5]","[Std]","Nr.",null,null,null,null,"Durée","RPE","Charge","Durée","RPE","Charge","Durée","RPE","Charge","Durée","RPE","Charge","Durée","RPE","Charge","Durée","RPE","Charge","Durée","RPE","Charge",null,null,null,null,null,null,null,null,null,"[1-5]"]
[null,"Lu",null,0,0,0,0,0,null,null,null,null,null,null,{"$f":"M4*N4","v":0},null,null,{"$f":"P4*Q4","v":0},null,null,{"$f":"S4*T4","v":0},null,null,{"$f":"V4*W4","v":0},null,null,{"$f":"Y4*Z4","v":0},null,null,{"$f":"AB4*AC4","v":0},null,null,{"$f":"AE4*AF4","v":0},{"$f":"IF(SUM(M4:AG6)>0,1,0)","v":"00:00:00"},null,null,{"$f":"SUM(O4:O6,R4:R6,U4:U6,X4:X6,AA4:AA6,AD4:AD6,AG4:AG6)","v":0}]
[null,null,null,null,null,null,null,null,null,null,null,null,null,null,{"$f":"M5*N5","v":0},null,null,{"$f":"P5*Q5","v":0},null,null,{"$f":"S5*T5","v":0},null,null,{"$f":"V5*W5","v":0},null,null,{"$f":"Y5*Z5","v":0},null,null,{"$f":"AB5*AC5","v":0},null,null,{"$f":"AE5*AF5","v":0}]
[null,null,null,null,null,null,null,null,null,null,null,null,null,null,0,null,null,0,null,null,0,null,null,0,null,null,0,null,null,0,null,null,0]
[null,"Ma",null,0,0,0,0,0,null,null,null,null,null,null,0,null,null,{"$f":"P7*Q7","v":0},null,null,0,null,null,0,null,null,0,null,null,0,null,null,0,{"$f":"IF(SUM(M7:AG9)>0,1,0)","v":"00:00:00"},null,null,{"$f":"SUM(O7:O9,R7:R9,U7:U9,X7:X9,AA7:AA9,AD7:AD9,AG7:AG9)","v":0}]
[null,null,null,null,null,null,null,null,null,null,null,null,null,null,0,null,null,0,null,null,0,null,null,0,null,null,0,null,null,0,null,null,0]
[null,null,null,null,null,null,null,null,null,null,null,null,null,null,0,null,null,0,null,null,0,null,null,0,null,null,0,null,null,0,null,null,0]
[null,"Me",null,0,0,0,0,0,null,null,null,null,null,null,0,null,null,{"$f":"P10*Q10","v":0},null,null,0,null,null,0,null,null,0,null,null,0,null,null,0,{"$f":"IF(SUM(M10:AG12)>0,1,0)","v":"00:00:00"},null,null,{"$f":"SUM(O10:O12,R10:R12,U10:U12,X10:X12,AA10:AA12,AD10:AD12,AG10:AG12)","v":0}]
[null,null,null,null,null,null,null,null,null,null,null,null,null,null,0,null,null,0,null,null,0,null,null,0,null,null,0,null,null,0,null,null,0]
[null,null,null,null,null,null,null,null,null,null,null,null,null,null,0,null,null,0,null,null,0,null,null,0,null,null,0,null,null,0,null,null,0]
[null,"Je",null,0,0,0,0,0,null,null,null,null,null,null,0,null,null,{"$f":"P13*Q13","v":0},null,null,0,null,null,0,null,null,0,null,null,0,null,null,0,{"$f":"IF(SUM(M13:AG15)>0,1,0)","v":"00:00:00"},null,null,{"$f":"SUM(O13:O15,R13:R15,U13:U15,X13:X15,AA13:AA15,AD13:AD15,AG13:AG15)","v":0}]
[null,null,null,null,null,null,null,null,null,null,null,null,null,null,0,null,null,0,null,null,0,null,null,0,null,null,0,null,null,0,null,null,0]
[null,null,null,null,null,null,null,null,null,null,null,null,null,null,0,null,null,0,null,null,0,null,null,0,null,null,0,null,null,0,null,null,0]
[null,"Ve",null,0,0,0,0,0,null,null,null,null,null,null,0,null,null,{"$f":"P16*Q16","v":0},null,null,0,null,null,0,null,null,0,null,null,0,null,null,0,{"$f":"IF(SUM(M16:AG18)>0,1,0)","v":"00:00:00"},null,null,{"$f":"SUM(O16:O18,R16:R18,U16:U18,X16:X18,AA16:AA18,AD16:AD18,AG16:AG18)","v":0}]
[null,null,null,null,null,null,null,null,null,null,null,null,null,null,0,null,null,0,null,null,0,null,null,0,null,null,0,null,null,0,null,null,0]
[null,null,null,null,null,null,null,null,null,null,null,null,null,null,0,null,null,0,null,null,0,null,null,0,null,null,0,null,null,0,null,null,0]
[null,"Sa",null,0,0,0,0,0,null,null,null,null,null,null,{"$f":"M19*N19","v":0},null,null,{"$f":"P19*Q19","v":0},null,null,{"$f":"S19*T19","v":0},null,null,{"$f":"V19*W19","v":0},null,null,{"$f":"Y19*Z19","v":0},null,null,{"$f":"AB19*AC19","v":0},null,null,{"$f":"AE19*AF19","v":0},{"$f":"IF(SUM(M19:AG21)>0,1,0)","v":"00:00:00"},null,null,{"$f":"SUM(O19:O21,R19:R21,U19:U21,X19:X21,AA19:AA21,AD19:AD21,AG19:AG21)","v":0}]
[null,null,null,null,null,null,null,null,null,null,null,null,null,null,{"$f":"M20*N20","v":0},null,null,0,null,null,{"$f":"S20*T20","v":0},null,null,{"$f":"V20*W20","v":0},null,null,{"$f":"Y20*Z20","v":0},null,null,{"$f":"AB20*AC20","v":0},null,null,{"$f":"AE20*AF20","v":0}]
[null,null,null,null,null,null,null,null,null,null,null,null,null,null,0,null,null,0,null,null,0,null,null,0,null,null,0,null,null,0,null,null,0]
[null,"Di",null,0,0,0,0,0,null,null,null,null,null,null,0,null,null,{"$f":"P22*Q22","v":0},null,null,0,null,null,0,null,null,0,null,null,0,null,null,0,{"$f":"IF(SUM(M22:AG24)>0,1,0)","v":"00:00:00"},null,null,{"$f":"SUM(O22:O24,R22:R24,U22:U24,X22:X24,AA22:AA24,AD22:AD24,AG22:AG24)","v":0}]
[null,null,null,null,null,null,null,null,null,null,null,null,null,null,0,null,null,0,null,null,0,null,null,0,null,null,0,null,null,0,null,null,0]
[null,null,null,null,null,null,null,null,null,null,null,null,null,null,0,null,null,0,null,null,0,null,null,0,null,null,0,null,null,0,null,null,0]
[null,null,null,null,null,null,null,null,null,null,"Total",null,{"$f":"SUM(M4:M24)","v":0},null,{"$f":"SUM(O4:O24)","v":0},{"$f":"SUM(P4:P24)","v":0},null,{"$f":"SUM(R4:R24)","v":0},{"$f":"SUM(S4:S24)","v":0},null,{"$f":"SUM(U4:U24)","v":0},{"$f":"SUM(V4:V24)","v":0},null,{"$f":"SUM(X4:X24)","v":0},{"$f":"SUM(Y4:Y24)","v":0},null,{"$f":"SUM(AA4:AA24)","v":0},{"$f":"SUM(AB4:AB24)","v":0},null,{"$f":"SUM(AD4:AD24)","v":0},{"$f":"SUM(AE4:AE24)","v":0},null,{"$f":"SUM(AG4:AG24)","v":0},null,"Charge totale",null,{"$f":"SUM(AK4:AK24)","v":0}]
[null,"avg.",null,{"$f":"IF(COUNTA(D4:D24)=0,\"\",AVERAGE(D4:D24))","v":0},{"$f":"IF(COUNTA(E4:E24)=0,\"\",AVERAGE(E4:E24))","v":0},{"$f":"IF(COUNTA(F4:F24)=0,\"\",AVERAGE(F4:F24))","v":0},{"$f":"IF(COUNTA(G4:G24)=0,\"\",AVERAGE(G4:G24))","v":0},{"$f":"IF(COUNTA(H4:H24)=0,\"\",COUNTIF(H4:H24,\"x\"))","v":0},null,null,"Zone",null,1,2,3,1,2,3,1,2,3,1,2,3,1,2,3,1,2,3,1,2,3,null,"Moyenne",null,{"$f":"AVERAGE(AK4:AK24)","v":0}]
[null,null,null,null,null,{"$f":"IF(COUNTA(F4:F24)=0,\"\",VAR(F4:F24))","v":0},{"$f":"IF(COUNTA(G4:G24)=0,\"\",STDEV(G4:G24))","v":0},"Divergence - durée du sommeil",null,null,"Unité par zone (RPE) ",null,{"$f":"IF('Répartition des intensités'!$AR$25=\"x\",COUNTIF(N4:N24,\"<3,5\"),COUNTIF(N4:N24,\"<4,5\"))","v":0},{"$f":"COUNT(N4:N24)-(M27+O27)","v":0},{"$f":"IF('Répartition des intensités'!$AR$25=\"x\",COUNTIF(N4:N24,\">5,5\"),COUNTIF(N4:N24,\">6,5\"))","v":0},{"$f":"IF('Répartition des intensités'!$AR$25=\"x\",COUNTIF(Q4:Q24,\"<3,5\"),COUNTIF(Q4:Q24,\"<4,5\"))","v":0},{"$f":"COUNT(Q4:Q24)-(P27+R27)","v":0},{"$f":"IF('Répartition des intensités'!$AR$25=\"x\",COUNTIF(Q4:Q24,\">5,5\"),COUNTIF(Q4:Q24,\">6,5\"))","v":0},{"$f":"IF('Répartition des intensités'!$AR$25=\"x\",COUNTIF(T4:T24,\"<3,5\"),COUNTIF(T4:T24,\"<4,5\"))","v":0},{"$f":"COUNT(T4:T24)-(S27+U27)","v":0},{"$f":"IF('Répartition des intensités'!$AR$25=\"x\",COUNTIF(T4:T24,\">5,5\"),COUNTIF(T4:T24,\">6,5\"))","v":0},{"$f":"IF('Répartition des intensités'!$AR$25=\"x\",COUNTIF(W4:W24,\"<3,5\"),COUNTIF(W4:W24,\"<4,5\"))","v":0},{"$f":"COUNT(W4:W24)-(V27+X27)","v":0},{"$f":"IF('Répartition des intensités'!$AR$25=\"x\",COUNTIF(W4:W24,\">5,5\"),COUNTIF(W4:W24,\">6,5\"))","v":0},{"$f":"IF('Répartition des intensités'!$AR$25=\"x\",COUNTIF(Z4:Z24,\"<3,5\"),COUNTIF(Z4:Z24,\"<4,5\"))","v":0},{"$f":"COUNT(Z4:Z24)-(Y27+AA27)","v":0},{"$f":"IF('Répartition des intensités'!$AR$25=\"x\",COUNTIF(Z4:Z24,\">5,5\"),COUNTIF(Z4:Z24,\">6,5\"))","v":0},{"$f":"IF('Répartition des intensités'!$AR$25=\"x\",COUNTIF(AC4:AC24,\"<3,5\"),COUNTIF(AC4:AC24,\"<4,5\"))","v":0},{"$f":"COUNT(AC4:AC24)-(AB27+AD27)","v":0},{"$f":"IF('Répartition des intensités'!$AR$25=\"x\",COUNTIF(AC4:AC24,\">5,5\"),COUNTIF(AC4:AC24,\">6,5\"))","v":0},{"$f":"IF('Répartition des intensités'!$AR$25=\"x\",COUNTIF(AF4:AF24,\"<3,5\"),COUNTIF(AF4:AF24,\"<4,5\"))","v":0},{"$f":"COUNT(AF4:AF24)-(AE27+AG27)","v":0},{"$f":"IF('Répartition des intensités'!$AR$25=\"x\",COUNTIF(AF4:AF24,\">5,5\"),COUNTIF(AF4:AF24,\">6,5\"))","v":0},null,"Divergence",null,{"$f":"STDEVP(AK4:AK24)","v":0}]
[null,null,null,"échelle de Foster",null,null,null,"RPE",null,null,"Temps par zone (RPE)",null,{"$f":"IF('Répartition des intensités'!$AR$25=\"x\",SUMIF(N4:N24,\"<3,5\",M4:M24),SUMIF(N4:N24,\"<4,5\",M4:M24))","v":0},{"$f":"IF(N27=0,0,SUM((M25)-(M28+O28)))","v":0},{"$f":"IF('Répartition des intensités'!$AR$25=\"x\",SUMIF(N4:N24,\">5,5\",M4:M24),SUMIF(N4:N24,\">6,5\",M4:M24))","v":0},{"$f":"IF('Répartition des intensités'!$AR$25=\"x\",SUMIF(Q4:Q24,\"<3,5\",P4:P24),SUMIF(Q4:Q24,\"<4,5\",P4:P24))","v":0},{"$f":"IF(Q27=0,0,SUM((P25)-(P28+R28)))","v":0},{"$f":"IF('Répartition des intensités'!$AR$25=\"x\",SUMIF(Q4:Q24,\">5,5\",P4:P24),SUMIF(Q4:Q24,\">6,5\",P4:P24))","v":0},{"$f":"IF('Répartition des intensités'!$AR$25=\"x\",SUMIF(T4:T24,\"<3,5\",S4:S24),SUMIF(T4:T24,\"<4,5\",S4:S24))","v":0},{"$f":"IF(T27=0,0,SUM((S25)-(S28+U28)))","v":0},{"$f":"IF('Répartition des intensités'!$AR$25=\"x\",SUMIF(T4:T24,\">5,5\",S4:S24),SUMIF(T4:T24,\">6,5\",S4:S24))","v":0},{"$f":"IF('Répartition des intensités'!$AR$25=\"x\",SUMIF(W4:W24,\"<3,5\",V4:V24),SUMIF(W4:W24,\"<4,5\",V4:V24))","v":0},{"$f":"IF(W27=0,0,SUM((V25)-(V28+X28)))","v":0},{"$f":"IF('Répartition des intensités'!$AR$25=\"x\",SUMIF(W4:W24,\">5,5\",V4:V24),SUMIF(W4:W24,\">6,5\",V4:V24))","v":0},{"$f":"IF('Répartition des intensités'!$AR$25=\"x\",SUMIF(Z4:Z24,\"<3,5\",Y4:Y24),SUMIF(Z4:Z24,\"<4,5\",Y4:Y24))","v":0},{"$f":"IF(Z27=0,0,SUM((Y25)-(Y28+AA28)))","v":0},{"$f":"IF('Répartition des intensités'!$AR$25=\"x\",SUMIF(Z4:Z24,\">5,5\",Y4:Y24),SUMIF(Z4:Z24,\">6,5\",Y4:Y24))","v":0},{"$f":"IF('Répartition des intensités'!$AR$25=\"x\",SUMIF(AC4:AC24,\"<3,5\",AB4:AB24),SUMIF(AC4:AC24,\"<4,5\",AB4:AB24))","v":0},{"$f":"IF(AC27=0,0,SUM((AB25)-(AB28+AD28)))","v":0},{"$f":"IF('Répartition des intensités'!$AR$25=\"x\",SUMIF(AC4:AC24,\">5,5\",AB4:AB24),SUMIF(AC4:AC24,\">6,5\",AB4:AB24))","v":0},{"$f":"IF('Répartition des intensités'!$AR$25=\"x\",SUMIF(AF4:AF24,\"<3,5\",AE4:AE24),SUMIF(AF4:AF24,\"<4,5\",AE4:AE24))","v":0},{"$f":"IF(AF27=0,0,SUM((AE25)-(AE28+AG28)))","v":0},{"$f":"IF('Répartition des intensités'!$AR$25=\"x\",SUMIF(AF4:AF24,\">5,5\",AE4:AE24),SUMIF(AF4:AF24,\">6,5\",AE4:AE24))","v":0}]
[null,null,null,"Comme au repos",null,null,null,0,null,"REG","Est-ce que j'ai l'impression d'avoir récupéré en me levant?"]
[null,null,null,"très facile",null,null,null,1]
[null,null,null,"facile",null,null,null,2,null,1,"… pas du tout récupéré",null,null,null,null,null,null,null,null,null,null,null,null,null,null,null,null,null,null,null,null,null,null,null,"Entrainements",null,null,null,"Rapport de santé"]
[null,null,null,null,null,null,null,3,null,2,"… un peu récupéré",null,null,null,null,null,null,null,null,null,null,null,null,null,null,null,null,null,null,null,null,null,null,null,"Jours d'entrainement",null,{"$f":"IF(SUM(AH4:AH24)=0,\"\",SUM(AH4:AH24))","v":""}]
[null,null,null,"Assez dur",null,null,null,4,null,3,"… récupéré",null,null,null,null,null,null,null,null,null,null,{"$f":"B4","v":"Lu"},{"$f":"AK4","v":0},null,null,null,null,null,null,null,null,null,null,null,"Entrainements",null,{"$f":"IF(AK32=\"\",\"\",SUM(M27:AG27))","v":""}]
[null,null,null,"dur",null,null,null,5,null,4,"…  en forme",null,null,null,null,null,null,null,null,null,null,{"$f":"B7","v":"Ma"},{"$f":"AK7","v":0},null,null,null,null,null,null,null,null,null,null,null,"Heures d'entrainement",null,{"$f":"IF(AK32=\"\",\"\",SUM(M25,P25,S25,Y25,AB25,V25,AE25)/60)","v":""},null,{"$f":"IF($AK$32=\"\",\"\",AK32-AM36-AM44-AM52)","v":""},"Aucune limitation",null,null,null,0]
[null,null,null,null,null,null,null,6,null,5,"… très en forme",null,null,null,null,null,null,null,null,null,null,{"$f":"B10","v":"Me"},{"$f":"AK10","v":0},null,null,null,null,null,null,null,null,null,null,null,"Charge de l'entrainement",null,{"$f":"IF(AK32=\"\",\"\",SUM(AK25))","v":""}]
[null,null,null,"très dur",null,null,null,7,null,null,null,null,null,null,null,null,null,null,null,null,null,{"$f":"B13","v":"Je"},{"$f":"AK13","v":0},null,null,null,null,null,null,null,null,null,null,null,"Monotonie",null,{"$f":"IF(AK27=0,0,(AVERAGE(AK4:AK24))/AK27)","v":0},null,{"$f":"SUM(AM37:AM42)","v":0},"Limitation pour cause de douleurs"]
[null,null,null,null,null,null,null,8,null,"Nombre de matchs",null,null,null,null,null,null,null,null,null,null,null,{"$f":"B16","v":"Ve"},{"$f":"AK16","v":0},null,null,null,null,null,null,null,null,null,null,null,"Efforts à l'entrainement",null,{"$f":"IF(AK32=\"\",\"\",AK35*AK36)","v":""},null,{"$f":"COUNTIF($H$4:$H$24,$AR37)","v":0},"Doigt",null,null,null,1]
[null,null,null,"extrèmement dur",null,null,null,9,null,null,null,null,null,null,null,null,null,null,null,null,null,{"$f":"B19","v":"Sa"},{"$f":"AK19","v":0},null,null,null,null,null,null,null,null,null,null,null,null,null,null,null,0,"Épaule",null,null,null,2]
[null,null,null,"Comme mon entrainement le plus dur",null,null,null,10,null,1,"… 3 sets et plus",null,null,null,null,null,null,null,null,null,null,{"$f":"B22","v":"Di"},{"$f":"AK22","v":0},null,null,null,null,null,null,null,null,null,null,null,"Compétition",null,null,null,0,"Dos",null,null,null,3]
[null,null,null,null,null,null,null,null,null,0.5,"… moins de 3 sets",null,null,null,null,null,null,null,null,null,null,null,null,null,null,null,null,null,null,null,null,null,null,null,"Matchs de volleyball",null,{"$f":"IF(AK32=\"\",\"\",SUM(AM4:AM24))","v":""},null,0,"Genou",null,null,null,4]
[null,null,null,null,null,null,null,null,null,null,null,null,null,null,null,null,null,null,null,null,null,null,null,null,null,null,null,null,null,null,null,null,null,null,"Sets de volleyball",null,{"$f":"IF(AK32=\"\",\"\",SUM(AN4:AN24))","v":""},null,0,"Cheville",null,null,null,5]
[null,null,null,null,null,null,null,null,null,"Sets joués",null,null,null,null,null,null,null,null,null,null,null,null,null,null,null,null,null,null,null,null,null,null,null,null,"Matchs de beach volley",null,{"$f":"IF(AK35=\"\",\"\",SUM(AO4:AO24))","v":""},null,0,"Autre",null,null,null,6]
[null,null,null,null,null,null,null,null,null,1,"… depuis le début et durant tout le set",null,null,null,null,null,null,null,null,null,null,null,null,null,null,null,null,null,null,null,null,null,null,null,"Sets de beach volley",null,{"$f":"IF(AK35=\"\",\"\",SUM(AP4:AP24))","v":""}]
[null,null,null,null,null,null,null,null,null,0.5,"… entré/sorti en cours, beaucoup joué",null,null,null,null,null,null,null,null,null,null,null,null,null,null,null,null,null,null,null,null,null,null,null,null,null,null,null,{"$f":"SUM(AM45:AM50)","v":0},"Absence pour cause de blessure"]
[null,null,null,null,null,null,null,null,null,0.1,"… entré/sorti en cours, peu joué",null,null,null,null,null,null,null,null,null,null,null,null,null,null,null,null,null,null,null,null,null,null,null,"Satisfaction",null,null,null,{"$f":"COUNTIF($H$4:$H$24,$AR45)","v":0},"Doigt",null,null,null,11]
[null,null,null,null,null,null,null,null,null,null,null,null,null,null,null,null,null,null,null,null,null,null,null,null,null,null,null,null,null,null,null,null,null,null,"Satisfaction de l'entrainement/match J",null,{"$f":"IF(AK32=\"\",\"\",SUM(AQ4:AQ24)/AK32)","v":""},null,0,"Épaule",null,null,null,12]
[null,null,null,null,null,null,null,null,null,"J","Es-tu content de la qualité de ton",null,null,null,null,null,null,null,null,null,null,null,null,null,null,null,null,null,null,null,null,null,null,null,null,null,null,null,0,"Dos",null,null,null,13]
[null,null,null,null,null,null,null,null,null,null,"entrainement/compétition?",null,null,null,null,null,null,null,null,null,null,null,null,null,null,null,null,null,null,null,null,null,null,null,"Santé",null,null,null,0,"Genou",null,null,null,14]
[null,null,null,null,null,null,null,null,null,1,"… pas content",null,null,null,null,null,null,null,null,null,null,null,null,null,null,null,null,null,null,null,null,null,null,null,"Limitation pour cause de douleurs",null,{"$f":"AM36","v":0},null,0,"Cheville",null,null,null,15]
[null,null,null,null,null,null,null,null,null,2,"… plutôt pas content",null,null,null,null,null,null,null,null,null,null,null,null,null,null,null,null,null,null,null,null,null,null,null,"Absence pour cause de blessure",null,{"$f":"AM44","v":0},null,0,"Autre",null,null,null,16]
[null,null,null,null,null,null,null,null,null,3,"… moyen",null,null,null,null,null,null,null,null,null,null,null,null,null,null,null,null,null,null,null,null,null,null,null,"Absence pour cause de maladie",null,{"$f":"AM52","v":0}]
[null,null,null,null,null,null,null,null,null,4,"… content",null,null,null,null,null,null,null,null,null,null,null,null,null,null,null,null,null,null,null,null,null,null,null,null,null,null,null,{"$f":"SUM(AM53:AM59)","v":0},"Absence pour cause de maladie"]
[null,null,null,null,null,null,null,null,null,5,"… très content!",null,null,null,null,null,null,null,null,null,null,null,null,null,null,null,null,null,null,null,null,null,null,null,null,null,null,null,{"$f":"COUNTIF($H$4:$H$24,$AR53)","v":0},"Maladie",null,null,null,21]
[]
[]
[]
[]
[]
[]
[]
[]
[]
[]
[]
[]
[]
[]
[]
[]
[]
[]
[]
[]
[]
[]
[]
[]
[]
[]
[]
[]
[]
[]
[]
[]
[]
[]
[]
[]
[]
[]
[]
[]
[]
[]
[]
[]
[]
[]
[]
[]
[]
[]
[]
[]
[]
[]
[]
[]
[]
[]
[]
[]
[]
[]
[]
[]
[]
[]
[]
[]
[]
[]
[]
[]
[]
[]
[]
[]
[]
[]
[]
[]
[null,null,null,null,null,null,null,null,null,null,null,null,null,null,null,null,null,null,null,null,null,null,null,null,{"$f":"Z134-1","v":37},38,39,40,41,42,43,{"$f":"D1","v":44}]
[]
[]
[]
[]
[]
[]
[]
[]
[]
[]
[]
[]
[]
[]
[]
[]
[]
[]
[]
[]
[null,null,null,null,null,null,null,null,null,null,null,null,null,null,null,null,null,null,null,null,null,null,null,null,null,null,null,null,null,null,null,null,{"$f":"AF134+1","v":45}]

{"sheet":"45","index":21,"n_rows":155,"n_cols":45,"rows_kept":155,"cut":false,"hidden":false,"merged":[[0,5,0,6],[1,44,2,44],[29,3,29,6],[30,3,30,6],[35,3,35,6],[36,3,36,6],[46,9,47,9],[9,4,11,4],[12,4,14,4],[3,7,5,7],[15,7,17,7],[27,3,27,6],[15,5,17,5],[18,5,20,5],[28,10,29,10],[15,9,15,10],[1,41,2,41],[1,21,1,23],[30,34,30,36],[30,38,31,43],[1,40,2,40],[16,9,16,10],[28,9,29,9],[28,3,28,6],[37,3,37,6],[38,3,38,6],[31,3,31,6],[32,3,32,6],[33,3,33,6],[34,3,34,6],[22,9,22,10],[29,21,29,26],[36,9,37,9],[1,39,2,39],[18,36,20,36],[21,36,23,36],[15,36,17,36],[1,38,2,38],[1,36,2,36],[1,34,2,34],[1,30,1,32],[1,27,1,29],[1,24,1,26],[9,36,11,36],[12,36,14,36],[6,36,8,36],[1,18,1,20],[11,9,11,10],[10,9,10,10],[1,15,1,17],[1,9,2,10],[3,9,3,10],[4,9,4,10],[5,9,5,10],[3,36,5,36],[6,1,8,1],[6,7,8,7],[6,3,8,3],[6,6,8,6],[6,9,6,10],[8,9,8,10],[7,9,7,10],[15,6,17,6],[15,4,17,4],[9,1,11,1],[9,3,11,3],[9,6,11,6],[9,9,9,10],[1,12,1,14],[18,1,20,1],[18,3,20,3],[18,6,20,6],[1,1,2,1],[3,4,5,4],[6,4,8,4],[3,1,5,1],[9,7,11,7],[14,9,14,10],[12,7,14,7],[3,5,5,5],[6,5,8,5],[9,5,11,5],[12,5,14,5],[17,9,17,10],[3,3,5,3],[3,6,5,6],[1,43,2,43],[38,34,38,36],[44,34,44,36],[47,34,47,36],[21,1,23,1],[21,3,23,3],[21,5,23,5],[21,6,23,6],[21,9,21,10],[23,9,23,10],[21,7,23,7],[21,4,23,4],[12,1,14,1],[12,3,14,3],[12,6,14,6],[12,9,12,10],[13,9,13,10],[18,9,18,10],[19,9,19,10],[20,9,20,10],[18,7,20,7],[18,4,20,4],[15,1,17,1],[15,3,17,3]]}
[null,null,"Woche",{"$f":"INT(MOD(INT((F1-2)/7)+0.6,52+5/28))+1","v":45},{"$f":"D1+1000","v":1045},{"$f":"'44'!F1+7","v":"2018-11-05"},null,"-",null,{"$f":"F1+6","v":"2018-11-11"},null,null,null,null,null,null,null,null,null,null,null,null,null,null,null,null,null,null,null,null,null,null,{"$f":"'Aperçu de la charge'!D2","v":"Prénom Nom"},null,{"$f":"'Aperçu de la charge'!N2","v":"2018/2019"}]
[null,"Jour",null,"Poids","REG","qualité sommeil","durée sommeil","Santé",null,"Description de l'entrainement",null,null,"Club - VB",null,null,"TS/ Nati - VB",null,null,"Club - BVB",null,null,"TS/ Nati - BVB",null,null,"Force - fitness",null,null,"Compet. - VB",null,null,"Compet. - BVB",null,null,null,"Réflexion",null,"Charge/\njour",null,"matchs VB","Sets VB","Matchs BVB","Sets BVB","J","Autre\n (Rég, mentale)","Mental- oder Sonstiges Training"]
[null,null,null,"[kg]","[1 - 5]","[1-5]","[Std]","Nr.",null,null,null,null,"Durée","RPE","Charge","Durée","RPE","Charge","Durée","RPE","Charge","Durée","RPE","Charge","Durée","RPE","Charge","Durée","RPE","Charge","Durée","RPE","Charge",null,null,null,null,null,null,null,null,null,"[1-5]"]
[null,"Lu",null,0,0,0,0,0,null,null,null,null,null,null,{"$f":"M4*N4","v":0},null,null,{"$f":"P4*Q4","v":0},null,null,{"$f":"S4*T4","v":0},null,null,{"$f":"V4*W4","v":0},null,null,{"$f":"Y4*Z4","v":0},null,null,{"$f":"AB4*AC4","v":0},null,null,{"$f":"AE4*AF4","v":0},{"$f":"IF(SUM(M4:AG6)>0,1,0)","v":"00:00:00"},null,null,{"$f":"SUM(O4:O6,R4:R6,U4:U6,X4:X6,AA4:AA6,AD4:AD6,AG4:AG6)","v":0}]
[null,null,null,null,null,null,null,null,null,null,null,null,null,null,{"$f":"M5*N5","v":0},null,null,{"$f":"P5*Q5","v":0},null,null,{"$f":"S5*T5","v":0},null,null,{"$f":"V5*W5","v":0},null,null,{"$f":"Y5*Z5","v":0},null,null,{"$f":"AB5*AC5","v":0},null,null,{"$f":"AE5*AF5","v":0}]
[null,null,null,null,null,null,null,null,null,null,null,null,null,null,0,null,null,0,null,null,0,null,null,0,null,null,0,null,null,0,null,null,0]
[null,"Ma",null,0,0,0,0,0,null,null,null,null,null,null,0,null,null,{"$f":"P7*Q7","v":0},null,null,0,null,null,0,null,null,0,null,null,0,null,null,0,{"$f":"IF(SUM(M7:AG9)>0,1,0)","v":"00:00:00"},null,null,{"$f":"SUM(O7:O9,R7:R9,U7:U9,X7:X9,AA7:AA9,AD7:AD9,AG7:AG9)","v":0}]
[null,null,null,null,null,null,null,null,null,null,null,null,null,null,0,null,null,0,null,null,0,null,null,0,null,null,0,null,null,0,null,null,0]
[null,null,null,null,null,null,null,null,null,null,null,null,null,null,0,null,null,0,null,null,0,null,null,0,null,null,0,null,null,0,null,null,0]
[null,"Me",null,0,0,0,0,0,null,null,null,null,null,null,0,null,null,{"$f":"P10*Q10","v":0},null,null,0,null,null,0,null,null,0,null,null,0,null,null,0,{"$f":"IF(SUM(M10:AG12)>0,1,0)","v":"00:00:00"},null,null,{"$f":"SUM(O10:O12,R10:R12,U10:U12,X10:X12,AA10:AA12,AD10:AD12,AG10:AG12)","v":0}]
[null,null,null,null,null,null,null,null,null,null,null,null,null,null,0,null,null,0,null,null,0,null,null,0,null,null,0,null,null,0,null,null,0]
[null,null,null,null,null,null,null,null,null,null,null,null,null,null,0,null,null,0,null,null,0,null,null,0,null,null,0,null,null,0,null,null,0]
[null,"Je",null,0,0,0,0,0,null,null,null,null,null,null,0,null,null,{"$f":"P13*Q13","v":0},null,null,0,null,null,0,null,null,0,null,null,0,null,null,0,{"$f":"IF(SUM(M13:AG15)>0,1,0)","v":"00:00:00"},null,null,{"$f":"SUM(O13:O15,R13:R15,U13:U15,X13:X15,AA13:AA15,AD13:AD15,AG13:AG15)","v":0}]
[null,null,null,null,null,null,null,null,null,null,null,null,null,null,0,null,null,0,null,null,0,null,null,0,null,null,0,null,null,0,null,null,0]
[null,null,null,null,null,null,null,null,null,null,null,null,null,null,0,null,null,0,null,null,0,null,null,0,null,null,0,null,null,0,null,null,0]
[null,"Ve",null,0,0,0,0,0,null,null,null,null,null,null,0,null,null,{"$f":"P16*Q16","v":0},null,null,0,null,null,0,null,null,0,null,null,0,null,null,0,{"$f":"IF(SUM(M16:AG18)>0,1,0)","v":"00:00:00"},null,null,{"$f":"SUM(O16:O18,R16:R18,U16:U18,X16:X18,AA16:AA18,AD16:AD18,AG16:AG18)","v":0}]
[null,null,null,null,null,null,null,null,null,null,null,null,null,null,0,null,null,0,null,null,0,null,null,0,null,null,0,null,null,0,null,null,0]
[null,null,null,null,null,null,null,null,null,null,null,null,null,null,0,null,null,0,null,null,0,null,null,0,null,null,0,null,null,0,null,null,0]
[null,"Sa",null,0,0,0,0,0,null,null,null,null,null,null,{"$f":"M19*N19","v":0},null,null,{"$f":"P19*Q19","v":0},null,null,{"$f":"S19*T19","v":0},null,null,{"$f":"V19*W19","v":0},null,null,{"$f":"Y19*Z19","v":0},null,null,{"$f":"AB19*AC19","v":0},null,null,{"$f":"AE19*AF19","v":0},{"$f":"IF(SUM(M19:AG21)>0,1,0)","v":"00:00:00"},null,null,{"$f":"SUM(O19:O21,R19:R21,U19:U21,X19:X21,AA19:AA21,AD19:AD21,AG19:AG21)","v":0}]
[null,null,null,null,null,null,null,null,null,null,null,null,null,null,{"$f":"M20*N20","v":0},null,null,0,null,null,{"$f":"S20*T20","v":0},null,null,{"$f":"V20*W20","v":0},null,null,{"$f":"Y20*Z20","v":0},null,null,{"$f":"AB20*AC20","v":0},null,null,{"$f":"AE20*AF20","v":0}]
[null,null,null,null,null,null,null,null,null,null,null,null,null,null,0,null,null,0,null,null,0,null,null,0,null,null,0,null,null,0,null,null,0]
[null,"Di",null,0,0,0,0,0,null,null,null,null,null,null,0,null,null,{"$f":"P22*Q22","v":0},null,null,0,null,null,0,null,null,0,null,null,0,null,null,0,{"$f":"IF(SUM(M22:AG24)>0,1,0)","v":"00:00:00"},null,null,{"$f":"SUM(O22:O24,R22:R24,U22:U24,X22:X24,AA22:AA24,AD22:AD24,AG22:AG24)","v":0}]
[null,null,null,null,null,null,null,null,null,null,null,null,null,null,0,null,null,0,null,null,0,null,null,0,null,null,0,null,null,0,null,null,0]
[null,null,null,null,null,null,null,null,null,null,null,null,null,null,0,null,null,0,null,null,0,null,null,0,null,null,0,null,null,0,null,null,0]
[null,null,null,null,null,null,null,null,null,null,"Total",null,{"$f":"SUM(M4:M24)","v":0},null,{"$f":"SUM(O4:O24)","v":0},{"$f":"SUM(P4:P24)","v":0},null,{"$f":"SUM(R4:R24)","v":0},{"$f":"SUM(S4:S24)","v":0},null,{"$f":"SUM(U4:U24)","v":0},{"$f":"SUM(V4:V24)","v":0},null,{"$f":"SUM(X4:X24)","v":0},{"$f":"SUM(Y4:Y24)","v":0},null,{"$f":"SUM(AA4:AA24)","v":0},{"$f":"SUM(AB4:AB24)","v":0},null,{"$f":"SUM(AD4:AD24)","v":0},{"$f":"SUM(AE4:AE24)","v":0},null,{"$f":"SUM(AG4:AG24)","v":0},null,"Charge totale",null,{"$f":"SUM(AK4:AK24)","v":0}]
[null,"avg.",null,{"$f":"IF(COUNTA(D4:D24)=0,\"\",AVERAGE(D4:D24))","v":0},{"$f":"IF(COUNTA(E4:E24)=0,\"\",AVERAGE(E4:E24))","v":0},{"$f":"IF(COUNTA(F4:F24)=0,\"\",AVERAGE(F4:F24))","v":0},{"$f":"IF(COUNTA(G4:G24)=0,\"\",AVERAGE(G4:G24))","v":0},{"$f":"IF(COUNTA(H4:H24)=0,\"\",COUNTIF(H4:H24,\"x\"))","v":0},null,null,"Zone",null,1,2,3,1,2,3,1,2,3,1,2,3,1,2,3,1,2,3,1,2,3,null,"Moyenne",null,{"$f":"AVERAGE(AK4:AK24)","v":0}]
[null,null,null,null,null,{"$f":"IF(COUNTA(F4:F24)=0,\"\",VAR(F4:F24))","v":0},{"$f":"IF(COUNTA(G4:G24)=0,\"\",STDEV(G4:G24))","v":0},"Divergence - durée du sommeil",null,null,"Unité par zone (RPE) ",null,{"$f":"IF('Répartition des intensités'!$AR$25=\"x\",COUNTIF(N4:N24,\"<3,5\"),COUNTIF(N4:N24,\"<4,5\"))","v":0},{"$f":"COUNT(N4:N24)-(M27+O27)","v":0},{"$f":"IF('Répartition des intensités'!$AR$25=\"x\",COUNTIF(N4:N24,\">5,5\"),COUNTIF(N4:N24,\">6,5\"))","v":0},{"$f":"IF('Répartition des intensités'!$AR$25=\"x\",COUNTIF(Q4:Q24,\"<3,5\"),COUNTIF(Q4:Q24,\"<4,5\"))","v":0},{"$f":"COUNT(Q4:Q24)-(P27+R27)","v":0},{"$f":"IF('Répartition des intensités'!$AR$25=\"x\",COUNTIF(Q4:Q24,\">5,5\"),COUNTIF(Q4:Q24,\">6,5\"))","v":0},{"$f":"IF('Répartition des intensités'!$AR$25=\"x\",COUNTIF(T4:T24,\"<3,5\"),COUNTIF(T4:T24,\"<4,5\"))","v":0},{"$f":"COUNT(T4:T24)-(S27+U27)","v":0},{"$f":"IF('Répartition des intensités'!$AR$25=\"x\",COUNTIF(T4:T24,\">5,5\"),COUNTIF(T4:T24,\">6,5\"))","v":0},{"$f":"IF('Répartition des intensités'!$AR$25=\"x\",COUNTIF(W4:W24,\"<3,5\"),COUNTIF(W4:W24,\"<4,5\"))","v":0},{"$f":"COUNT(W4:W24)-(V27+X27)","v":0},{"$f":"IF('Répartition des intensités'!$AR$25=\"x\",COUNTIF(W4:W24,\">5,5\"),COUNTIF(W4:W24,\">6,5\"))","v":0},{"$f":"IF('Répartition des intensités'!$AR$25=\"x\",COUNTIF(Z4:Z24,\"<3,5\"),COUNTIF(Z4:Z24,\"<4,5\"))","v":0},{"$f":"COUNT(Z4:Z24)-(Y27+AA27)","v":0},{"$f":"IF('Répartition des intensités'!$AR$25=\"x\",COUNTIF(Z4:Z24,\">5,5\"),COUNTIF(Z4:Z24,\">6,5\"))","v":0},{"$f":"IF('Répartition des intensités'!$AR$25=\"x\",COUNTIF(AC4:AC24,\"<3,5\"),COUNTIF(AC4:AC24,\"<4,5\"))","v":0},{"$f":"COUNT(AC4:AC24)-(AB27+AD27)","v":0},{"$f":"IF('Répartition des intensités'!$AR$25=\"x\",COUNTIF(AC4:AC24,\">5,5\"),COUNTIF(AC4:AC24,\">6,5\"))","v":0},{"$f":"IF('Répartition des intensités'!$AR$25=\"x\",COUNTIF(AF4:AF24,\"<3,5\"),COUNTIF(AF4:AF24,\"<4,5\"))","v":0},{"$f":"COUNT(AF4:AF24)-(AE27+AG27)","v":0},{"$f":"IF('Répartition des intensités'!$AR$25=\"x\",COUNTIF(AF4:AF24,\">5,5\"),COUNTIF(AF4:AF24,\">6,5\"))","v":0},null,"Divergence",null,{"$f":"STDEVP(AK4:AK24)","v":0}]
[null,null,null,"échelle de Foster",null,null,null,"RPE",null,null,"Temps par zone (RPE)",null,{"$f":"IF('Répartition des intensités'!$AR$25=\"x\",SUMIF(N4:N24,\"<3,5\",M4:M24),SUMIF(N4:N24,\"<4,5\",M4:M24))","v":0},{"$f":"IF(N27=0,0,SUM((M25)-(M28+O28)))","v":0},{"$f":"IF('Répartition des intensités'!$AR$25=\"x\",SUMIF(N4:N24,\">5,5\",M4:M24),SUMIF(N4:N24,\">6,5\",M4:M24))","v":0},{"$f":"IF('Répartition des intensités'!$AR$25=\"x\",SUMIF(Q4:Q24,\"<3,5\",P4:P24),SUMIF(Q4:Q24,\"<4,5\",P4:P24))","v":0},{"$f":"IF(Q27=0,0,SUM((P25)-(P28+R28)))","v":0},{"$f":"IF('Répartition des intensités'!$AR$25=\"x\",SUMIF(Q4:Q24,\">5,5\",P4:P24),SUMIF(Q4:Q24,\">6,5\",P4:P24))","v":0},{"$f":"IF('Répartition des intensités'!$AR$25=\"x\",SUMIF(T4:T24,\"<3,5\",S4:S24),SUMIF(T4:T24,\"<4,5\",S4:S24))","v":0},{"$f":"IF(T27=0,0,SUM((S25)-(S28+U28)))","v":0},{"$f":"IF('Répartition des intensités'!$AR$25=\"x\",SUMIF(T4:T24,\">5,5\",S4:S24),SUMIF(T4:T24,\">6,5\",S4:S24))","v":0},{"$f":"IF('Répartition des intensités'!$AR$25=\"x\",SUMIF(W4:W24,\"<3,5\",V4:V24),SUMIF(W4:W24,\"<4,5\",V4:V24))","v":0},{"$f":"IF(W27=0,0,SUM((V25)-(V28+X28)))","v":0},{"$f":"IF('Répartition des intensités'!$AR$25=\"x\",SUMIF(W4:W24,\">5,5\",V4:V24),SUMIF(W4:W24,\">6,5\",V4:V24))","v":0},{"$f":"IF('Répartition des intensités'!$AR$25=\"x\",SUMIF(Z4:Z24,\"<3,5\",Y4:Y24),SUMIF(Z4:Z24,\"<4,5\",Y4:Y24))","v":0},{"$f":"IF(Z27=0,0,SUM((Y25)-(Y28+AA28)))","v":0},{"$f":"IF('Répartition des intensités'!$AR$25=\"x\",SUMIF(Z4:Z24,\">5,5\",Y4:Y24),SUMIF(Z4:Z24,\">6,5\",Y4:Y24))","v":0},{"$f":"IF('Répartition des intensités'!$AR$25=\"x\",SUMIF(AC4:AC24,\"<3,5\",AB4:AB24),SUMIF(AC4:AC24,\"<4,5\",AB4:AB24))","v":0},{"$f":"IF(AC27=0,0,SUM((AB25)-(AB28+AD28)))","v":0},{"$f":"IF('Répartition des intensités'!$AR$25=\"x\",SUMIF(AC4:AC24,\">5,5\",AB4:AB24),SUMIF(AC4:AC24,\">6,5\",AB4:AB24))","v":0},{"$f":"IF('Répartition des intensités'!$AR$25=\"x\",SUMIF(AF4:AF24,\"<3,5\",AE4:AE24),SUMIF(AF4:AF24,\"<4,5\",AE4:AE24))","v":0},{"$f":"IF(AF27=0,0,SUM((AE25)-(AE28+AG28)))","v":0},{"$f":"IF('Répartition des intensités'!$AR$25=\"x\",SUMIF(AF4:AF24,\">5,5\",AE4:AE24),SUMIF(AF4:AF24,\">6,5\",AE4:AE24))","v":0}]
[null,null,null,"Comme au repos",null,null,null,0,null,"REG","Est-ce que j'ai l'impression d'avoir récupéré en me levant?"]
[null,null,null,"très facile",null,null,null,1]
[null,null,null,"facile",null,null,null,2,null,1,"… pas du tout récupéré",null,null,null,null,null,null,null,null,null,null,null,null,null,null,null,null,null,null,null,null,null,null,null,"Entrainements",null,null,null,"Rapport de santé"]
[null,null,null,null,null,null,null,3,null,2,"… un peu récupéré",null,null,null,null,null,null,null,null,null,null,null,null,null,null,null,null,null,null,null,null,null,null,null,"Jours d'entrainement",null,{"$f":"IF(SUM(AH4:AH24)=0,\"\",SUM(AH4:AH24))","v":""}]
[null,null,null,"Assez dur",null,null,null,4,null,3,"… récupéré",null,null,null,null,null,null,null,null,null,null,{"$f":"B4","v":"Lu"},{"$f":"AK4","v":0},null,null,null,null,null,null,null,null,null,null,null,"Entrainements",null,{"$f":"IF(AK32=\"\",\"\",SUM(M27:AG27))","v":""}]
[null,null,null,"dur",null,null,null,5,null,4,"…  en forme",null,null,null,null,null,null,null,null,null,null,{"$f":"B7","v":"Ma"},{"$f":"AK7","v":0},null,null,null,null,null,null,null,null,null,null,null,"Heures d'entrainement",null,{"$f":"IF(AK32=\"\",\"\",SUM(M25,P25,S25,Y25,AB25,V25,AE25)/60)","v":""},null,{"$f":"IF($AK$32=\"\",\"\",AK32-AM36-AM44-AM52)","v":""},"Aucune limitation",null,null,null,0]
[null,null,null,null,null,null,null,6,null,5,"… très en forme",null,null,null,null,null,null,null,null,null,null,{"$f":"B10","v":"Me"},{"$f":"AK10","v":0},null,null,null,null,null,null,null,null,null,null,null,"Charge de l'entrainement",null,{"$f":"IF(AK32=\"\",\"\",SUM(AK25))","v":""}]
[null,null,null,"très dur",null,null,null,7,null,null,null,null,null,null,null,null,null,null,null,null,null,{"$f":"B13","v":"Je"},{"$f":"AK13","v":0},null,null,null,null,null,null,null,null,null,null,null,"Monotonie",null,{"$f":"IF(AK27=0,0,(AVERAGE(AK4:AK24))/AK27)","v":0},null,{"$f":"SUM(AM37:AM42)","v":0},"Limitation pour cause de douleurs"]
[null,null,null,null,null,null,null,8,null,"Nombre de matchs",null,null,null,null,null,null,null,null,null,null,null,{"$f":"B16","v":"Ve"},{"$f":"AK16","v":0},null,null,null,null,null,null,null,null,null,null,null,"Efforts à l'entrainement",null,{"$f":"IF(AK32=\"\",\"\",AK35*AK36)","v":""},null,{"$f":"COUNTIF($H$4:$H$24,$AR37)","v":0},"Doigt",null,null,null,1]
[null,null,null,"extrèmement dur",null,null,null,9,null,null,null,null,null,null,null,null,null,null,null,null,null,{"$f":"B19","v":"Sa"},{"$f":"AK19","v":0},null,null,null,null,null,null,null,null,null,null,null,null,null,null,null,0,"Épaule",null,null,null,2]
[null,null,null,"Comme mon entrainement le plus dur",null,null,null,10,null,1,"… 3 sets et plus",null,null,null,null,null,null,null,null,null,null,{"$f":"B22","v":"Di"},{"$f":"AK22","v":0},null,null,null,null,null,null,null,null,null,null,null,"Compétition",null,null,null,0,"Dos",null,null,null,3]
[null,null,null,null,null,null,null,null,null,0.5,"… moins de 3 sets",null,null,null,null,null,null,null,null,null,null,null,null,null,null,null,null,null,null,null,null,null,null,null,"Matchs de volleyball",null,{"$f":"IF(AK32=\"\",\"\",SUM(AM4:AM24))","v":""},null,0,"Genou",null,null,null,4]
[null,null,null,null,null,null,null,null,null,null,null,null,null,null,null,null,null,null,null,null,null,null,null,null,null,null,null,null,null,null,null,null,null,null,"Sets de volleyball",null,{"$f":"IF(AK32=\"\",\"\",SUM(AN4:AN24))","v":""},null,0,"Cheville",null,null,null,5]
[null,null,null,null,null,null,null,null,null,"Sets joués",null,null,null,null,null,null,null,null,null,null,null,null,null,null,null,null,null,null,null,null,null,null,null,null,"Matchs de beach volley",null,{"$f":"IF(AK35=\"\",\"\",SUM(AO4:AO24))","v":""},null,0,"Autre",null,null,null,6]
[null,null,null,null,null,null,null,null,null,1,"… depuis le début et durant tout le set",null,null,null,null,null,null,null,null,null,null,null,null,null,null,null,null,null,null,null,null,null,null,null,"Sets de beach volley",null,{"$f":"IF(AK35=\"\",\"\",SUM(AP4:AP24))","v":""}]
[null,null,null,null,null,null,null,null,null,0.5,"… entré/sorti en cours, beaucoup joué",null,null,null,null,null,null,null,null,null,null,null,null,null,null,null,null,null,null,null,null,null,null,null,null,null,null,null,{"$f":"SUM(AM45:AM50)","v":0},"Absence pour cause de blessure"]
[null,null,null,null,null,null,null,null,null,0.1,"… entré/sorti en cours, peu joué",null,null,null,null,null,null,null,null,null,null,null,null,null,null,null,null,null,null,null,null,null,null,null,"Satisfaction",null,null,null,{"$f":"COUNTIF($H$4:$H$24,$AR45)","v":0},"Doigt",null,null,null,11]
[null,null,null,null,null,null,null,null,null,null,null,null,null,null,null,null,null,null,null,null,null,null,null,null,null,null,null,null,null,null,null,null,null,null,"Satisfaction de l'entrainement/match J",null,{"$f":"IF(AK32=\"\",\"\",SUM(AQ4:AQ24)/AK32)","v":""},null,0,"Épaule",null,null,null,12]
[null,null,null,null,null,null,null,null,null,"J","Es-tu content de la qualité de ton",null,null,null,null,null,null,null,null,null,null,null,null,null,null,null,null,null,null,null,null,null,null,null,null,null,null,null,0,"Dos",null,null,null,13]
[null,null,null,null,null,null,null,null,null,null,"entrainement/compétition?",null,null,null,null,null,null,null,null,null,null,null,null,null,null,null,null,null,null,null,null,null,null,null,"Santé",null,null,null,0,"Genou",null,null,null,14]
[null,null,null,null,null,null,null,null,null,1,"… pas content",null,null,null,null,null,null,null,null,null,null,null,null,null,null,null,null,null,null,null,null,null,null,null,"Limitation pour cause de douleurs",null,{"$f":"AM36","v":0},null,0,"Cheville",null,null,null,15]
[null,null,null,null,null,null,null,null,null,2,"… plutôt pas content",null,null,null,null,null,null,null,null,null,null,null,null,null,null,null,null,null,null,null,null,null,null,null,"Absence pour cause de blessure",null,{"$f":"AM44","v":0},null,0,"Autre",null,null,null,16]
[null,null,null,null,null,null,null,null,null,3,"… moyen",null,null,null,null,null,null,null,null,null,null,null,null,null,null,null,null,null,null,null,null,null,null,null,"Absence pour cause de maladie",null,{"$f":"AM52","v":0}]
[null,null,null,null,null,null,null,null,null,4,"… content",null,null,null,null,null,null,null,null,null,null,null,null,null,null,null,null,null,null,null,null,null,null,null,null,null,null,null,{"$f":"SUM(AM53:AM59)","v":0},"Absence pour cause de maladie"]
[null,null,null,null,null,null,null,null,null,5,"… très content!",null,null,null,null,null,null,null,null,null,null,null,null,null,null,null,null,null,null,null,null,null,null,null,null,null,null,null,{"$f":"COUNTIF($H$4:$H$24,$AR53)","v":0},"Maladie",null,null,null,21]
[]
[]
[]
[]
[]
[]
[]
[]
[]
[]
[]
[]
[]
[]
[]
[]
[]
[]
[]
[]
[]
[]
[]
[]
[]
[]
[]
[]
[]
[]
[]
[]
[]
[]
[]
[]
[]
[]
[]
[]
[]
[]
[]
[]
[]
[]
[]
[]
[]
[]
[]
[]
[]
[]
[]
[]
[]
[]
[]
[]
[]
[]
[]
[]
[]
[]
[]
[]
[]
[]
[]
[]
[]
[]
[]
[]
[]
[]
[]
[]
[null,null,null,null,null,null,null,null,null,null,null,null,null,null,null,null,null,null,null,null,null,null,null,null,{"$f":"Z134-1","v":38},39,40,41,42,43,44,{"$f":"D1","v":45}]
[]
[]
[]
[]
[]
[]
[]
[]
[]
[]
[]
[]
[]
[]
[]
[]
[]
[]
[]
[]
[null,null,null,null,null,null,null,null,null,null,null,null,null,null,null,null,null,null,null,null,null,null,null,null,null,null,null,null,null,null,null,null,{"$f":"AF134+1","v":46}]

{"sheet":"46","index":22,"n_rows":155,"n_cols":45,"rows_kept":155,"cut":false,"hidden":false,"merged":[[30,34,30,36],[30,38,31,43],[0,5,0,6],[1,44,2,44],[1,15,1,17],[28,10,29,10],[29,21,29,26],[36,9,37,9],[21,6,23,6],[21,9,21,10],[23,9,23,10],[21,7,23,7],[1,12,1,14],[7,9,7,10],[1,38,2,38],[1,24,1,26],[1,18,1,20],[1,30,1,32],[1,27,1,29],[27,3,27,6],[28,3,28,6],[37,3,37,6],[30,3,30,6],[31,3,31,6],[32,3,32,6],[33,3,33,6],[34,3,34,6],[35,3,35,6],[36,3,36,6],[38,3,38,6],[46,9,47,9],[18,36,20,36],[1,41,2,41],[3,36,5,36],[1,36,2,36],[20,9,20,10],[5,9,5,10],[1,39,2,39],[21,36,23,36],[9,36,11,36],[12,36,14,36],[15,36,17,36],[28,9,29,9],[16,9,16,10],[15,9,15,10],[10,9,10,10],[29,3,29,6],[15,5,17,5],[12,4,14,4],[6,36,8,36],[3,3,5,3],[3,6,5,6],[3,9,3,10],[4,9,4,10],[17,9,17,10],[22,9,22,10],[18,9,18,10],[19,9,19,10],[9,6,11,6],[9,9,9,10],[6,4,8,4],[9,7,11,7],[9,4,11,4],[11,9,11,10],[3,4,5,4],[3,7,5,7],[13,9,13,10],[14,9,14,10],[12,7,14,7],[9,5,11,5],[12,5,14,5],[21,1,23,1],[15,7,17,7],[15,1,17,1],[15,3,17,3],[15,6,17,6],[15,4,17,4],[18,5,20,5],[18,1,20,1],[18,3,20,3],[21,5,23,5],[21,3,23,3],[21,4,23,4],[18,7,20,7],[18,4,20,4],[18,6,20,6],[1,1,2,1],[9,1,11,1],[9,3,11,3],[1,40,2,40],[1,43,2,43],[38,34,38,36],[44,34,44,36],[47,34,47,36],[12,1,14,1],[6,3,8,3],[6,6,8,6],[6,9,6,10],[8,9,8,10],[6,5,8,5],[6,1,8,1],[6,7,8,7],[1,34,2,34],[1,21,1,23],[1,9,2,10],[3,1,5,1],[3,5,5,5],[12,3,14,3],[12,6,14,6],[12,9,12,10]]}
[null,null,"Woche",{"$f":"INT(MOD(INT((F1-2)/7)+0.6,52+5/28))+1","v":46},{"$f":"D1+1000","v":1046},{"$f":"'45'!F1+7","v":"2018-11-12"},null,"-",null,{"$f":"F1+6","v":"2018-11-18"},null,null,null,null,null,null,null,null,null,null,null,null,null,null,null,null,null,null,null,null,null,null,{"$f":"'Aperçu de la charge'!D2","v":"Prénom Nom"},null,{"$f":"'Aperçu de la charge'!N2","v":"2018/2019"}]
[null,"Jour",null,"Poids","REG","qualité sommeil","durée sommeil","Santé",null,"Description de l'entrainement",null,null,"Club - VB",null,null,"TS/ Nati - VB",null,null,"Club - BVB",null,null,"TS/ Nati - BVB",null,null,"Force - fitness",null,null,"Compet. - VB",null,null,"Compet. - BVB",null,null,null,"Réflexion",null,"Charge/\njour",null,"matchs VB","Sets VB","Matchs BVB","Sets BVB","J","Autre\n (Rég, mentale)","Mental- oder Sonstiges Training"]
[null,null,null,"[kg]","[1 - 5]","[1-5]","[Std]","Nr.",null,null,null,null,"Durée","RPE","Charge","Durée","RPE","Charge","Durée","RPE","Charge","Durée","RPE","Charge","Durée","RPE","Charge","Durée","RPE","Charge","Durée","RPE","Charge",null,null,null,null,null,null,null,null,null,"[1-5]"]
[null,"Lu",null,0,0,0,0,0,null,null,null,null,null,null,{"$f":"M4*N4","v":0},null,null,{"$f":"P4*Q4","v":0},null,null,{"$f":"S4*T4","v":0},null,null,{"$f":"V4*W4","v":0},null,null,{"$f":"Y4*Z4","v":0},null,null,{"$f":"AB4*AC4","v":0},null,null,{"$f":"AE4*AF4","v":0},{"$f":"IF(SUM(M4:AG6)>0,1,0)","v":"00:00:00"},null,null,{"$f":"SUM(O4:O6,R4:R6,U4:U6,X4:X6,AA4:AA6,AD4:AD6,AG4:AG6)","v":0}]
[null,null,null,null,null,null,null,null,null,null,null,null,null,null,{"$f":"M5*N5","v":0},null,null,{"$f":"P5*Q5","v":0},null,null,{"$f":"S5*T5","v":0},null,null,{"$f":"V5*W5","v":0},null,null,{"$f":"Y5*Z5","v":0},null,null,{"$f":"AB5*AC5","v":0},null,null,{"$f":"AE5*AF5","v":0}]
[null,null,null,null,null,null,null,null,null,null,null,null,null,null,0,null,null,0,null,null,0,null,null,0,null,null,0,null,null,0,null,null,0]
[null,"Ma",null,0,0,0,0,0,null,null,null,null,null,null,0,null,null,{"$f":"P7*Q7","v":0},null,null,0,null,null,0,null,null,0,null,null,0,null,null,0,{"$f":"IF(SUM(M7:AG9)>0,1,0)","v":"00:00:00"},null,null,{"$f":"SUM(O7:O9,R7:R9,U7:U9,X7:X9,AA7:AA9,AD7:AD9,AG7:AG9)","v":0}]
[null,null,null,null,null,null,null,null,null,null,null,null,null,null,0,null,null,0,null,null,0,null,null,0,null,null,0,null,null,0,null,null,0]
[null,null,null,null,null,null,null,null,null,null,null,null,null,null,0,null,null,0,null,null,0,null,null,0,null,null,0,null,null,0,null,null,0]
[null,"Me",null,0,0,0,0,0,null,null,null,null,null,null,0,null,null,{"$f":"P10*Q10","v":0},null,null,0,null,null,0,null,null,0,null,null,0,null,null,0,{"$f":"IF(SUM(M10:AG12)>0,1,0)","v":"00:00:00"},null,null,{"$f":"SUM(O10:O12,R10:R12,U10:U12,X10:X12,AA10:AA12,AD10:AD12,AG10:AG12)","v":0}]
[null,null,null,null,null,null,null,null,null,null,null,null,null,null,0,null,null,0,null,null,0,null,null,0,null,null,0,null,null,0,null,null,0]
[null,null,null,null,null,null,null,null,null,null,null,null,null,null,0,null,null,0,null,null,0,null,null,0,null,null,0,null,null,0,null,null,0]
[null,"Je",null,0,0,0,0,0,null,null,null,null,null,null,0,null,null,{"$f":"P13*Q13","v":0},null,null,0,null,null,0,null,null,0,null,null,0,null,null,0,{"$f":"IF(SUM(M13:AG15)>0,1,0)","v":"00:00:00"},null,null,{"$f":"SUM(O13:O15,R13:R15,U13:U15,X13:X15,AA13:AA15,AD13:AD15,AG13:AG15)","v":0}]
[null,null,null,null,null,null,null,null,null,null,null,null,null,null,0,null,null,0,null,null,0,null,null,0,null,null,0,null,null,0,null,null,0]
[null,null,null,null,null,null,null,null,null,null,null,null,null,null,0,null,null,0,null,null,0,null,null,0,null,null,0,null,null,0,null,null,0]
[null,"Ve",null,0,0,0,0,0,null,null,null,null,null,null,0,null,null,{"$f":"P16*Q16","v":0},null,null,0,null,null,0,null,null,0,null,null,0,null,null,0,{"$f":"IF(SUM(M16:AG18)>0,1,0)","v":"00:00:00"},null,null,{"$f":"SUM(O16:O18,R16:R18,U16:U18,X16:X18,AA16:AA18,AD16:AD18,AG16:AG18)","v":0}]
[null,null,null,null,null,null,null,null,null,null,null,null,null,null,0,null,null,0,null,null,0,null,null,0,null,null,0,null,null,0,null,null,0]
[null,null,null,null,null,null,null,null,null,null,null,null,null,null,0,null,null,0,null,null,0,null,null,0,null,null,0,null,null,0,null,null,0]
[null,"Sa",null,0,0,0,0,0,null,null,null,null,null,null,{"$f":"M19*N19","v":0},null,null,{"$f":"P19*Q19","v":0},null,null,{"$f":"S19*T19","v":0},null,null,{"$f":"V19*W19","v":0},null,null,{"$f":"Y19*Z19","v":0},null,null,{"$f":"AB19*AC19","v":0},null,null,{"$f":"AE19*AF19","v":0},{"$f":"IF(SUM(M19:AG21)>0,1,0)","v":"00:00:00"},null,null,{"$f":"SUM(O19:O21,R19:R21,U19:U21,X19:X21,AA19:AA21,AD19:AD21,AG19:AG21)","v":0}]
[null,null,null,null,null,null,null,null,null,null,null,null,null,null,{"$f":"M20*N20","v":0},null,null,0,null,null,{"$f":"S20*T20","v":0},null,null,{"$f":"V20*W20","v":0},null,null,{"$f":"Y20*Z20","v":0},null,null,{"$f":"AB20*AC20","v":0},null,null,{"$f":"AE20*AF20","v":0}]
[null,null,null,null,null,null,null,null,null,null,null,null,null,null,0,null,null,0,null,null,0,null,null,0,null,null,0,null,null,0,null,null,0]
[null,"Di",null,0,0,0,0,0,null,null,null,null,null,null,0,null,null,{"$f":"P22*Q22","v":0},null,null,0,null,null,0,null,null,0,null,null,0,null,null,0,{"$f":"IF(SUM(M22:AG24)>0,1,0)","v":"00:00:00"},null,null,{"$f":"SUM(O22:O24,R22:R24,U22:U24,X22:X24,AA22:AA24,AD22:AD24,AG22:AG24)","v":0}]
[null,null,null,null,null,null,null,null,null,null,null,null,null,null,0,null,null,0,null,null,0,null,null,0,null,null,0,null,null,0,null,null,0]
[null,null,null,null,null,null,null,null,null,null,null,null,null,null,0,null,null,0,null,null,0,null,null,0,null,null,0,null,null,0,null,null,0]
[null,null,null,null,null,null,null,null,null,null,"Total",null,{"$f":"SUM(M4:M24)","v":0},null,{"$f":"SUM(O4:O24)","v":0},{"$f":"SUM(P4:P24)","v":0},null,{"$f":"SUM(R4:R24)","v":0},{"$f":"SUM(S4:S24)","v":0},null,{"$f":"SUM(U4:U24)","v":0},{"$f":"SUM(V4:V24)","v":0},null,{"$f":"SUM(X4:X24)","v":0},{"$f":"SUM(Y4:Y24)","v":0},null,{"$f":"SUM(AA4:AA24)","v":0},{"$f":"SUM(AB4:AB24)","v":0},null,{"$f":"SUM(AD4:AD24)","v":0},{"$f":"SUM(AE4:AE24)","v":0},null,{"$f":"SUM(AG4:AG24)","v":0},null,"Charge totale",null,{"$f":"SUM(AK4:AK24)","v":0}]
[null,"avg.",null,{"$f":"IF(COUNTA(D4:D24)=0,\"\",AVERAGE(D4:D24))","v":0},{"$f":"IF(COUNTA(E4:E24)=0,\"\",AVERAGE(E4:E24))","v":0},{"$f":"IF(COUNTA(F4:F24)=0,\"\",AVERAGE(F4:F24))","v":0},{"$f":"IF(COUNTA(G4:G24)=0,\"\",AVERAGE(G4:G24))","v":0},{"$f":"IF(COUNTA(H4:H24)=0,\"\",COUNTIF(H4:H24,\"x\"))","v":0},null,null,"Zone",null,1,2,3,1,2,3,1,2,3,1,2,3,1,2,3,1,2,3,1,2,3,null,"Moyenne",null,{"$f":"AVERAGE(AK4:AK24)","v":0}]
[null,null,null,null,null,{"$f":"IF(COUNTA(F4:F24)=0,\"\",VAR(F4:F24))","v":0},{"$f":"IF(COUNTA(G4:G24)=0,\"\",STDEV(G4:G24))","v":0},"Divergence - durée du sommeil",null,null,"Unité par zone (RPE) ",null,{"$f":"IF('Répartition des intensités'!$AR$25=\"x\",COUNTIF(N4:N24,\"<3,5\"),COUNTIF(N4:N24,\"<4,5\"))","v":0},{"$f":"COUNT(N4:N24)-(M27+O27)","v":0},{"$f":"IF('Répartition des intensités'!$AR$25=\"x\",COUNTIF(N4:N24,\">5,5\"),COUNTIF(N4:N24,\">6,5\"))","v":0},{"$f":"IF('Répartition des intensités'!$AR$25=\"x\",COUNTIF(Q4:Q24,\"<3,5\"),COUNTIF(Q4:Q24,\"<4,5\"))","v":0},{"$f":"COUNT(Q4:Q24)-(P27+R27)","v":0},{"$f":"IF('Répartition des intensités'!$AR$25=\"x\",COUNTIF(Q4:Q24,\">5,5\"),COUNTIF(Q4:Q24,\">6,5\"))","v":0},{"$f":"IF('Répartition des intensités'!$AR$25=\"x\",COUNTIF(T4:T24,\"<3,5\"),COUNTIF(T4:T24,\"<4,5\"))","v":0},{"$f":"COUNT(T4:T24)-(S27+U27)","v":0},{"$f":"IF('Répartition des intensités'!$AR$25=\"x\",COUNTIF(T4:T24,\">5,5\"),COUNTIF(T4:T24,\">6,5\"))","v":0},{"$f":"IF('Répartition des intensités'!$AR$25=\"x\",COUNTIF(W4:W24,\"<3,5\"),COUNTIF(W4:W24,\"<4,5\"))","v":0},{"$f":"COUNT(W4:W24)-(V27+X27)","v":0},{"$f":"IF('Répartition des intensités'!$AR$25=\"x\",COUNTIF(W4:W24,\">5,5\"),COUNTIF(W4:W24,\">6,5\"))","v":0},{"$f":"IF('Répartition des intensités'!$AR$25=\"x\",COUNTIF(Z4:Z24,\"<3,5\"),COUNTIF(Z4:Z24,\"<4,5\"))","v":0},{"$f":"COUNT(Z4:Z24)-(Y27+AA27)","v":0},{"$f":"IF('Répartition des intensités'!$AR$25=\"x\",COUNTIF(Z4:Z24,\">5,5\"),COUNTIF(Z4:Z24,\">6,5\"))","v":0},{"$f":"IF('Répartition des intensités'!$AR$25=\"x\",COUNTIF(AC4:AC24,\"<3,5\"),COUNTIF(AC4:AC24,\"<4,5\"))","v":0},{"$f":"COUNT(AC4:AC24)-(AB27+AD27)","v":0},{"$f":"IF('Répartition des intensités'!$AR$25=\"x\",COUNTIF(AC4:AC24,\">5,5\"),COUNTIF(AC4:AC24,\">6,5\"))","v":0},{"$f":"IF('Répartition des intensités'!$AR$25=\"x\",COUNTIF(AF4:AF24,\"<3,5\"),COUNTIF(AF4:AF24,\"<4,5\"))","v":0},{"$f":"COUNT(AF4:AF24)-(AE27+AG27)","v":0},{"$f":"IF('Répartition des intensités'!$AR$25=\"x\",COUNTIF(AF4:AF24,\">5,5\"),COUNTIF(AF4:AF24,\">6,5\"))","v":0},null,"Divergence",null,{"$f":"STDEVP(AK4:AK24)","v":0}]
[null,null,null,"échelle de Foster",null,null,null,"RPE",null,null,"Temps par zone (RPE)",null,{"$f":"IF('Répartition des intensités'!$AR$25=\"x\",SUMIF(N4:N24,\"<3,5\",M4:M24),SUMIF(N4:N24,\"<4,5\",M4:M24))","v":0},{"$f":"IF(N27=0,0,SUM((M25)-(M28+O28)))","v":0},{"$f":"IF('Répartition des intensités'!$AR$25=\"x\",SUMIF(N4:N24,\">5,5\",M4:M24),SUMIF(N4:N24,\">6,5\",M4:M24))","v":0},{"$f":"IF('Répartition des intensités'!$AR$25=\"x\",SUMIF(Q4:Q24,\"<3,5\",P4:P24),SUMIF(Q4:Q24,\"<4,5\",P4:P24))","v":0},{"$f":"IF(Q27=0,0,SUM((P25)-(P28+R28)))","v":0},{"$f":"IF('Répartition des intensités'!$AR$25=\"x\",SUMIF(Q4:Q24,\">5,5\",P4:P24),SUMIF(Q4:Q24,\">6,5\",P4:P24))","v":0},{"$f":"IF('Répartition des intensités'!$AR$25=\"x\",SUMIF(T4:T24,\"<3,5\",S4:S24),SUMIF(T4:T24,\"<4,5\",S4:S24))","v":0},{"$f":"IF(T27=0,0,SUM((S25)-(S28+U28)))","v":0},{"$f":"IF('Répartition des intensités'!$AR$25=\"x\",SUMIF(T4:T24,\">5,5\",S4:S24),SUMIF(T4:T24,\">6,5\",S4:S24))","v":0},{"$f":"IF('Répartition des intensités'!$AR$25=\"x\",SUMIF(W4:W24,\"<3,5\",V4:V24),SUMIF(W4:W24,\"<4,5\",V4:V24))","v":0},{"$f":"IF(W27=0,0,SUM((V25)-(V28+X28)))","v":0},{"$f":"IF('Répartition des intensités'!$AR$25=\"x\",SUMIF(W4:W24,\">5,5\",V4:V24),SUMIF(W4:W24,\">6,5\",V4:V24))","v":0},{"$f":"IF('Répartition des intensités'!$AR$25=\"x\",SUMIF(Z4:Z24,\"<3,5\",Y4:Y24),SUMIF(Z4:Z24,\"<4,5\",Y4:Y24))","v":0},{"$f":"IF(Z27=0,0,SUM((Y25)-(Y28+AA28)))","v":0},{"$f":"IF('Répartition des intensités'!$AR$25=\"x\",SUMIF(Z4:Z24,\">5,5\",Y4:Y24),SUMIF(Z4:Z24,\">6,5\",Y4:Y24))","v":0},{"$f":"IF('Répartition des intensités'!$AR$25=\"x\",SUMIF(AC4:AC24,\"<3,5\",AB4:AB24),SUMIF(AC4:AC24,\"<4,5\",AB4:AB24))","v":0},{"$f":"IF(AC27=0,0,SUM((AB25)-(AB28+AD28)))","v":0},{"$f":"IF('Répartition des intensités'!$AR$25=\"x\",SUMIF(AC4:AC24,\">5,5\",AB4:AB24),SUMIF(AC4:AC24,\">6,5\",AB4:AB24))","v":0},{"$f":"IF('Répartition des intensités'!$AR$25=\"x\",SUMIF(AF4:AF24,\"<3,5\",AE4:AE24),SUMIF(AF4:AF24,\"<4,5\",AE4:AE24))","v":0},{"$f":"IF(AF27=0,0,SUM((AE25)-(AE28+AG28)))","v":0},{"$f":"IF('Répartition des intensités'!$AR$25=\"x\",SUMIF(AF4:AF24,\">5,5\",AE4:AE24),SUMIF(AF4:AF24,\">6,5\",AE4:AE24))","v":0}]
[null,null,null,"Comme au repos",null,null,null,0,null,"REG","Est-ce que j'ai l'impression d'avoir récupéré en me levant?"]
[null,null,null,"très facile",null,null,null,1]
[null,null,null,"facile",null,null,null,2,null,1,"… pas du tout récupéré",null,null,null,null,null,null,null,null,null,null,null,null,null,null,null,null,null,null,null,null,null,null,null,"Entrainements",null,null,null,"Rapport de santé"]
[null,null,null,null,null,null,null,3,null,2,"… un peu récupéré",null,null,null,null,null,null,null,null,null,null,null,null,null,null,null,null,null,null,null,null,null,null,null,"Jours d'entrainement",null,{"$f":"IF(SUM(AH4:AH24)=0,\"\",SUM(AH4:AH24))","v":""}]
[null,null,null,"Assez dur",null,null,null,4,null,3,"… récupéré",null,null,null,null,null,null,null,null,null,null,{"$f":"B4","v":"Lu"},{"$f":"AK4","v":0},null,null,null,null,null,null,null,null,null,null,null,"Entrainements",null,{"$f":"IF(AK32=\"\",\"\",SUM(M27:AG27))","v":""}]
[null,null,null,"dur",null,null,null,5,null,4,"…  en forme",null,null,null,null,null,null,null,null,null,null,{"$f":"B7","v":"Ma"},{"$f":"AK7","v":0},null,null,null,null,null,null,null,null,null,null,null,"Heures d'entrainement",null,{"$f":"IF(AK32=\"\",\"\",SUM(M25,P25,S25,Y25,AB25,V25,AE25)/60)","v":""},null,{"$f":"IF($AK$32=\"\",\"\",AK32-AM36-AM44-AM52)","v":""},"Aucune limitation",null,null,null,0]
[null,null,null,null,null,null,null,6,null,5,"… très en forme",null,null,null,null,null,null,null,null,null,null,{"$f":"B10","v":"Me"},{"$f":"AK10","v":0},null,null,null,null,null,null,null,null,null,null,null,"Charge de l'entrainement",null,{"$f":"IF(AK32=\"\",\"\",SUM(AK25))","v":""}]
[null,null,null,"très dur",null,null,null,7,null,null,null,null,null,null,null,null,null,null,null,null,null,{"$f":"B13","v":"Je"},{"$f":"AK13","v":0},null,null,null,null,null,null,null,null,null,null,null,"Monotonie",null,{"$f":"IF(AK27=0,0,(AVERAGE(AK4:AK24))/AK27)","v":0},null,{"$f":"SUM(AM37:AM42)","v":0},"Limitation pour cause de douleurs"]
[null,null,null,null,null,null,null,8,null,"Nombre de matchs",null,null,null,null,null,null,null,null,null,null,null,{"$f":"B16","v":"Ve"},{"$f":"AK16","v":0},null,null,null,null,null,null,null,null,null,null,null,"Efforts à l'entrainement",null,{"$f":"IF(AK32=\"\",\"\",AK35*AK36)","v":""},null,{"$f":"COUNTIF($H$4:$H$24,$AR37)","v":0},"Doigt",null,null,null,1]
[null,null,null,"extrèmement dur",null,null,null,9,null,null,null,null,null,null,null,null,null,null,null,null,null,{"$f":"B19","v":"Sa"},{"$f":"AK19","v":0},null,null,null,null,null,null,null,null,null,null,null,null,null,null,null,0,"Épaule",null,null,null,2]
[null,null,null,"Comme mon entrainement le plus dur",null,null,null,10,null,1,"… 3 sets et plus",null,null,null,null,null,null,null,null,null,null,{"$f":"B22","v":"Di"},{"$f":"AK22","v":0},null,null,null,null,null,null,null,null,null,null,null,"Compétition",null,null,null,0,"Dos",null,null,null,3]
[null,null,null,null,null,null,null,null,null,0.5,"… moins de 3 sets",null,null,null,null,null,null,null,null,null,null,null,null,null,null,null,null,null,null,null,null,null,null,null,"Matchs de volleyball",null,{"$f":"IF(AK32=\"\",\"\",SUM(AM4:AM24))","v":""},null,0,"Genou",null,null,null,4]
[null,null,null,null,null,null,null,null,null,null,null,null,null,null,null,null,null,null,null,null,null,null,null,null,null,null,null,null,null,null,null,null,null,null,"Sets de volleyball",null,{"$f":"IF(AK32=\"\",\"\",SUM(AN4:AN24))","v":""},null,0,"Cheville",null,null,null,5]
[null,null,null,null,null,null,null,null,null,"Sets joués",null,null,null,null,null,null,null,null,null,null,null,null,null,null,null,null,null,null,null,null,null,null,null,null,"Matchs de beach volley",null,{"$f":"IF(AK35=\"\",\"\",SUM(AO4:AO24))","v":""},null,0,"Autre",null,null,null,6]
[null,null,null,null,null,null,null,null,null,1,"… depuis le début et durant tout le set",null,null,null,null,null,null,null,null,null,null,null,null,null,null,null,null,null,null,null,null,null,null,null,"Sets de beach volley",null,{"$f":"IF(AK35=\"\",\"\",SUM(AP4:AP24))","v":""}]
[null,null,null,null,null,null,null,null,null,0.5,"… entré/sorti en cours, beaucoup joué",null,null,null,null,null,null,null,null,null,null,null,null,null,null,null,null,null,null,null,null,null,null,null,null,null,null,null,{"$f":"SUM(AM45:AM50)","v":0},"Absence pour cause de blessure"]
[null,null,null,null,null,null,null,null,null,0.1,"… entré/sorti en cours, peu joué",null,null,null,null,null,null,null,null,null,null,null,null,null,null,null,null,null,null,null,null,null,null,null,"Satisfaction",null,null,null,{"$f":"COUNTIF($H$4:$H$24,$AR45)","v":0},"Doigt",null,null,null,11]
[null,null,null,null,null,null,null,null,null,null,null,null,null,null,null,null,null,null,null,null,null,null,null,null,null,null,null,null,null,null,null,null,null,null,"Satisfaction de l'entrainement/match J",null,{"$f":"IF(AK32=\"\",\"\",SUM(AQ4:AQ24)/AK32)","v":""},null,0,"Épaule",null,null,null,12]
[null,null,null,null,null,null,null,null,null,"J","Es-tu content de la qualité de ton",null,null,null,null,null,null,null,null,null,null,null,null,null,null,null,null,null,null,null,null,null,null,null,null,null,null,null,0,"Dos",null,null,null,13]
[null,null,null,null,null,null,null,null,null,null,"entrainement/compétition?",null,null,null,null,null,null,null,null,null,null,null,null,null,null,null,null,null,null,null,null,null,null,null,"Santé",null,null,null,0,"Genou",null,null,null,14]
[null,null,null,null,null,null,null,null,null,1,"… pas content",null,null,null,null,null,null,null,null,null,null,null,null,null,null,null,null,null,null,null,null,null,null,null,"Limitation pour cause de douleurs",null,{"$f":"AM36","v":0},null,0,"Cheville",null,null,null,15]
[null,null,null,null,null,null,null,null,null,2,"… plutôt pas content",null,null,null,null,null,null,null,null,null,null,null,null,null,null,null,null,null,null,null,null,null,null,null,"Absence pour cause de blessure",null,{"$f":"AM44","v":0},null,0,"Autre",null,null,null,16]
[null,null,null,null,null,null,null,null,null,3,"… moyen",null,null,null,null,null,null,null,null,null,null,null,null,null,null,null,null,null,null,null,null,null,null,null,"Absence pour cause de maladie",null,{"$f":"AM52","v":0}]
[null,null,null,null,null,null,null,null,null,4,"… content",null,null,null,null,null,null,null,null,null,null,null,null,null,null,null,null,null,null,null,null,null,null,null,null,null,null,null,{"$f":"SUM(AM53:AM59)","v":0},"Absence pour cause de maladie"]
[null,null,null,null,null,null,null,null,null,5,"… très content!",null,null,null,null,null,null,null,null,null,null,null,null,null,null,null,null,null,null,null,null,null,null,null,null,null,null,null,{"$f":"COUNTIF($H$4:$H$24,$AR53)","v":0},"Maladie",null,null,null,21]
[]
[]
[]
[]
[]
[]
[]
[]
[]
[]
[]
[]
[]
[]
[]
[]
[]
[]
[]
[]
[]
[]
[]
[]
[]
[]
[]
[]
[]
[]
[]
[]
[]
[]
[]
[]
[]
[]
[]
[]
[]
[]
[]
[]
[]
[]
[]
[]
[]
[]
[]
[]
[]
[]
[]
[]
[]
[]
[]
[]
[]
[]
[]
[]
[]
[]
[]
[]
[]
[]
[]
[]
[]
[]
[]
[]
[]
[]
[]
[]
[null,null,null,null,null,null,null,null,null,null,null,null,null,null,null,null,null,null,null,null,null,null,null,null,{"$f":"Z134-1","v":39},40,41,42,43,44,45,{"$f":"D1","v":46}]
[]
[]
[]
[]
[]
[]
[]
[]
[]
[]
[]
[]
[]
[]
[]
[]
[]
[]
[]
[]
[null,null,null,null,null,null,null,null,null,null,null,null,null,null,null,null,null,null,null,null,null,null,null,null,null,null,null,null,null,null,null,null,{"$f":"AF134+1","v":47}]

{"sheet":"47","index":23,"n_rows":155,"n_cols":45,"rows_kept":155,"cut":false,"hidden":false,"merged":[[0,5,0,6],[1,44,2,44],[29,3,29,6],[30,3,30,6],[35,3,35,6],[36,3,36,6],[46,9,47,9],[9,4,11,4],[12,4,14,4],[3,7,5,7],[15,7,17,7],[27,3,27,6],[15,5,17,5],[18,5,20,5],[28,10,29,10],[15,9,15,10],[1,41,2,41],[1,21,1,23],[30,34,30,36],[30,38,31,43],[1,40,2,40],[16,9,16,10],[28,9,29,9],[28,3,28,6],[37,3,37,6],[38,3,38,6],[31,3,31,6],[32,3,32,6],[33,3,33,6],[34,3,34,6],[22,9,22,10],[29,21,29,26],[36,9,37,9],[1,39,2,39],[18,36,20,36],[21,36,23,36],[15,36,17,36],[1,38,2,38],[1,36,2,36],[1,34,2,34],[1,30,1,32],[1,27,1,29],[1,24,1,26],[9,36,11,36],[12,36,14,36],[6,36,8,36],[1,18,1,20],[11,9,11,10],[10,9,10,10],[1,15,1,17],[1,9,2,10],[3,9,3,10],[4,9,4,10],[5,9,5,10],[3,36,5,36],[6,1,8,1],[6,7,8,7],[6,3,8,3],[6,6,8,6],[6,9,6,10],[8,9,8,10],[7,9,7,10],[15,6,17,6],[15,4,17,4],[9,1,11,1],[9,3,11,3],[9,6,11,6],[9,9,9,10],[1,12,1,14],[18,1,20,1],[18,3,20,3],[18,6,20,6],[1,1,2,1],[3,4,5,4],[6,4,8,4],[3,1,5,1],[9,7,11,7],[14,9,14,10],[12,7,14,7],[3,5,5,5],[6,5,8,5],[9,5,11,5],[12,5,14,5],[17,9,17,10],[3,3,5,3],[3,6,5,6],[1,43,2,43],[38,34,38,36],[44,34,44,36],[47,34,47,36],[21,1,23,1],[21,3,23,3],[21,5,23,5],[21,6,23,6],[21,9,21,10],[23,9,23,10],[21,7,23,7],[21,4,23,4],[12,1,14,1],[12,3,14,3],[12,6,14,6],[12,9,12,10],[13,9,13,10],[18,9,18,10],[19,9,19,10],[20,9,20,10],[18,7,20,7],[18,4,20,4],[15,1,17,1],[15,3,17,3]]}
[null,null,"Woche",{"$f":"INT(MOD(INT((F1-2)/7)+0.6,52+5/28))+1","v":47},{"$f":"D1+1000","v":1047},{"$f":"'46'!F1+7","v":"2018-11-19"},null,"-",null,{"$f":"F1+6","v":"2018-11-25"},null,null,null,null,null,null,null,null,null,null,null,null,null,null,null,null,null,null,null,null,null,null,{"$f":"'Aperçu de la charge'!D2","v":"Prénom Nom"},null,{"$f":"'Aperçu de la charge'!N2","v":"2018/2019"}]
[null,"Jour",null,"Poids","REG","qualité sommeil","durée sommeil","Santé",null,"Description de l'entrainement",null,null,"Club - VB",null,null,"TS/ Nati - VB",null,null,"Club - BVB",null,null,"TS/ Nati - BVB",null,null,"Force - fitness",null,null,"Compet. - VB",null,null,"Compet. - BVB",null,null,null,"Réflexion",null,"Charge/\njour",null,"matchs VB","Sets VB","Matchs BVB","Sets BVB","J","Autre\n (Rég, mentale)","Mental- oder Sonstiges Training"]
[null,null,null,"[kg]","[1 - 5]","[1-5]","[Std]","Nr.",null,null,null,null,"Durée","RPE","Charge","Durée","RPE","Charge","Durée","RPE","Charge","Durée","RPE","Charge","Durée","RPE","Charge","Durée","RPE","Charge","Durée","RPE","Charge",null,null,null,null,null,null,null,null,null,"[1-5]"]
[null,"Lu",null,0,0,0,0,0,null,null,null,null,null,null,{"$f":"M4*N4","v":0},null,null,{"$f":"P4*Q4","v":0},null,null,{"$f":"S4*T4","v":0},null,null,{"$f":"V4*W4","v":0},null,null,{"$f":"Y4*Z4","v":0},null,null,{"$f":"AB4*AC4","v":0},null,null,{"$f":"AE4*AF4","v":0},{"$f":"IF(SUM(M4:AG6)>0,1,0)","v":"00:00:00"},null,null,{"$f":"SUM(O4:O6,R4:R6,U4:U6,X4:X6,AA4:AA6,AD4:AD6,AG4:AG6)","v":0}]
[null,null,null,null,null,null,null,null,null,null,null,null,null,null,{"$f":"M5*N5","v":0},null,null,{"$f":"P5*Q5","v":0},null,null,{"$f":"S5*T5","v":0},null,null,{"$f":"V5*W5","v":0},null,null,{"$f":"Y5*Z5","v":0},null,null,{"$f":"AB5*AC5","v":0},null,null,{"$f":"AE5*AF5","v":0}]
[null,null,null,null,null,null,null,null,null,null,null,null,null,null,0,null,null,0,null,null,0,null,null,0,null,null,0,null,null,0,null,null,0]
[null,"Ma",null,0,0,0,0,0,null,null,null,null,null,null,0,null,null,{"$f":"P7*Q7","v":0},null,null,0,null,null,0,null,null,0,null,null,0,null,null,0,{"$f":"IF(SUM(M7:AG9)>0,1,0)","v":"00:00:00"},null,null,{"$f":"SUM(O7:O9,R7:R9,U7:U9,X7:X9,AA7:AA9,AD7:AD9,AG7:AG9)","v":0}]
[null,null,null,null,null,null,null,null,null,null,null,null,null,null,0,null,null,0,null,null,0,null,null,0,null,null,0,null,null,0,null,null,0]
[null,null,null,null,null,null,null,null,null,null,null,null,null,null,0,null,null,0,null,null,0,null,null,0,null,null,0,null,null,0,null,null,0]
[null,"Me",null,0,0,0,0,0,null,null,null,null,null,null,0,null,null,{"$f":"P10*Q10","v":0},null,null,0,null,null,0,null,null,0,null,null,0,null,null,0,{"$f":"IF(SUM(M10:AG12)>0,1,0)","v":"00:00:00"},null,null,{"$f":"SUM(O10:O12,R10:R12,U10:U12,X10:X12,AA10:AA12,AD10:AD12,AG10:AG12)","v":0}]
[null,null,null,null,null,null,null,null,null,null,null,null,null,null,0,null,null,0,null,null,0,null,null,0,null,null,0,null,null,0,null,null,0]
[null,null,null,null,null,null,null,null,null,null,null,null,null,null,0,null,null,0,null,null,0,null,null,0,null,null,0,null,null,0,null,null,0]
[null,"Je",null,0,0,0,0,0,null,null,null,null,null,null,0,null,null,{"$f":"P13*Q13","v":0},null,null,0,null,null,0,null,null,0,null,null,0,null,null,0,{"$f":"IF(SUM(M13:AG15)>0,1,0)","v":"00:00:00"},null,null,{"$f":"SUM(O13:O15,R13:R15,U13:U15,X13:X15,AA13:AA15,AD13:AD15,AG13:AG15)","v":0}]
[null,null,null,null,null,null,null,null,null,null,null,null,null,null,0,null,null,0,null,null,0,null,null,0,null,null,0,null,null,0,null,null,0]
[null,null,null,null,null,null,null,null,null,null,null,null,null,null,0,null,null,0,null,null,0,null,null,0,null,null,0,null,null,0,null,null,0]
[null,"Ve",null,0,0,0,0,0,null,null,null,null,null,null,0,null,null,{"$f":"P16*Q16","v":0},null,null,0,null,null,0,null,null,0,null,null,0,null,null,0,{"$f":"IF(SUM(M16:AG18)>0,1,0)","v":"00:00:00"},null,null,{"$f":"SUM(O16:O18,R16:R18,U16:U18,X16:X18,AA16:AA18,AD16:AD18,AG16:AG18)","v":0}]
[null,null,null,null,null,null,null,null,null,null,null,null,null,null,0,null,null,0,null,null,0,null,null,0,null,null,0,null,null,0,null,null,0]
[null,null,null,null,null,null,null,null,null,null,null,null,null,null,0,null,null,0,null,null,0,null,null,0,null,null,0,null,null,0,null,null,0]
[null,"Sa",null,0,0,0,0,0,null,null,null,null,null,null,{"$f":"M19*N19","v":0},null,null,{"$f":"P19*Q19","v":0},null,null,{"$f":"S19*T19","v":0},null,null,{"$f":"V19*W19","v":0},null,null,{"$f":"Y19*Z19","v":0},null,null,{"$f":"AB19*AC19","v":0},null,null,{"$f":"AE19*AF19","v":0},{"$f":"IF(SUM(M19:AG21)>0,1,0)","v":"00:00:00"},null,null,{"$f":"SUM(O19:O21,R19:R21,U19:U21,X19:X21,AA19:AA21,AD19:AD21,AG19:AG21)","v":0}]
[null,null,null,null,null,null,null,null,null,null,null,null,null,null,{"$f":"M20*N20","v":0},null,null,0,null,null,{"$f":"S20*T20","v":0},null,null,{"$f":"V20*W20","v":0},null,null,{"$f":"Y20*Z20","v":0},null,null,{"$f":"AB20*AC20","v":0},null,null,{"$f":"AE20*AF20","v":0}]
[null,null,null,null,null,null,null,null,null,null,null,null,null,null,0,null,null,0,null,null,0,null,null,0,null,null,0,null,null,0,null,null,0]
[null,"Di",null,0,0,0,0,0,null,null,null,null,null,null,0,null,null,{"$f":"P22*Q22","v":0},null,null,0,null,null,0,null,null,0,null,null,0,null,null,0,{"$f":"IF(SUM(M22:AG24)>0,1,0)","v":"00:00:00"},null,null,{"$f":"SUM(O22:O24,R22:R24,U22:U24,X22:X24,AA22:AA24,AD22:AD24,AG22:AG24)","v":0}]
[null,null,null,null,null,null,null,null,null,null,null,null,null,null,0,null,null,0,null,null,0,null,null,0,null,null,0,null,null,0,null,null,0]
[null,null,null,null,null,null,null,null,null,null,null,null,null,null,0,null,null,0,null,null,0,null,null,0,null,null,0,null,null,0,null,null,0]
[null,null,null,null,null,null,null,null,null,null,"Total",null,{"$f":"SUM(M4:M24)","v":0},null,{"$f":"SUM(O4:O24)","v":0},{"$f":"SUM(P4:P24)","v":0},null,{"$f":"SUM(R4:R24)","v":0},{"$f":"SUM(S4:S24)","v":0},null,{"$f":"SUM(U4:U24)","v":0},{"$f":"SUM(V4:V24)","v":0},null,{"$f":"SUM(X4:X24)","v":0},{"$f":"SUM(Y4:Y24)","v":0},null,{"$f":"SUM(AA4:AA24)","v":0},{"$f":"SUM(AB4:AB24)","v":0},null,{"$f":"SUM(AD4:AD24)","v":0},{"$f":"SUM(AE4:AE24)","v":0},null,{"$f":"SUM(AG4:AG24)","v":0},null,"Charge totale",null,{"$f":"SUM(AK4:AK24)","v":0}]
[null,"avg.",null,{"$f":"IF(COUNTA(D4:D24)=0,\"\",AVERAGE(D4:D24))","v":0},{"$f":"IF(COUNTA(E4:E24)=0,\"\",AVERAGE(E4:E24))","v":0},{"$f":"IF(COUNTA(F4:F24)=0,\"\",AVERAGE(F4:F24))","v":0},{"$f":"IF(COUNTA(G4:G24)=0,\"\",AVERAGE(G4:G24))","v":0},{"$f":"IF(COUNTA(H4:H24)=0,\"\",COUNTIF(H4:H24,\"x\"))","v":0},null,null,"Zone",null,1,2,3,1,2,3,1,2,3,1,2,3,1,2,3,1,2,3,1,2,3,null,"Moyenne",null,{"$f":"AVERAGE(AK4:AK24)","v":0}]
[null,null,null,null,null,{"$f":"IF(COUNTA(F4:F24)=0,\"\",VAR(F4:F24))","v":0},{"$f":"IF(COUNTA(G4:G24)=0,\"\",STDEV(G4:G24))","v":0},"Divergence - durée du sommeil",null,null,"Unité par zone (RPE) ",null,{"$f":"IF('Répartition des intensités'!$AR$25=\"x\",COUNTIF(N4:N24,\"<3,5\"),COUNTIF(N4:N24,\"<4,5\"))","v":0},{"$f":"COUNT(N4:N24)-(M27+O27)","v":0},{"$f":"IF('Répartition des intensités'!$AR$25=\"x\",COUNTIF(N4:N24,\">5,5\"),COUNTIF(N4:N24,\">6,5\"))","v":0},{"$f":"IF('Répartition des intensités'!$AR$25=\"x\",COUNTIF(Q4:Q24,\"<3,5\"),COUNTIF(Q4:Q24,\"<4,5\"))","v":0},{"$f":"COUNT(Q4:Q24)-(P27+R27)","v":0},{"$f":"IF('Répartition des intensités'!$AR$25=\"x\",COUNTIF(Q4:Q24,\">5,5\"),COUNTIF(Q4:Q24,\">6,5\"))","v":0},{"$f":"IF('Répartition des intensités'!$AR$25=\"x\",COUNTIF(T4:T24,\"<3,5\"),COUNTIF(T4:T24,\"<4,5\"))","v":0},{"$f":"COUNT(T4:T24)-(S27+U27)","v":0},{"$f":"IF('Répartition des intensités'!$AR$25=\"x\",COUNTIF(T4:T24,\">5,5\"),COUNTIF(T4:T24,\">6,5\"))","v":0},{"$f":"IF('Répartition des intensités'!$AR$25=\"x\",COUNTIF(W4:W24,\"<3,5\"),COUNTIF(W4:W24,\"<4,5\"))","v":0},{"$f":"COUNT(W4:W24)-(V27+X27)","v":0},{"$f":"IF('Répartition des intensités'!$AR$25=\"x\",COUNTIF(W4:W24,\">5,5\"),COUNTIF(W4:W24,\">6,5\"))","v":0},{"$f":"IF('Répartition des intensités'!$AR$25=\"x\",COUNTIF(Z4:Z24,\"<3,5\"),COUNTIF(Z4:Z24,\"<4,5\"))","v":0},{"$f":"COUNT(Z4:Z24)-(Y27+AA27)","v":0},{"$f":"IF('Répartition des intensités'!$AR$25=\"x\",COUNTIF(Z4:Z24,\">5,5\"),COUNTIF(Z4:Z24,\">6,5\"))","v":0},{"$f":"IF('Répartition des intensités'!$AR$25=\"x\",COUNTIF(AC4:AC24,\"<3,5\"),COUNTIF(AC4:AC24,\"<4,5\"))","v":0},{"$f":"COUNT(AC4:AC24)-(AB27+AD27)","v":0},{"$f":"IF('Répartition des intensités'!$AR$25=\"x\",COUNTIF(AC4:AC24,\">5,5\"),COUNTIF(AC4:AC24,\">6,5\"))","v":0},{"$f":"IF('Répartition des intensités'!$AR$25=\"x\",COUNTIF(AF4:AF24,\"<3,5\"),COUNTIF(AF4:AF24,\"<4,5\"))","v":0},{"$f":"COUNT(AF4:AF24)-(AE27+AG27)","v":0},{"$f":"IF('Répartition des intensités'!$AR$25=\"x\",COUNTIF(AF4:AF24,\">5,5\"),COUNTIF(AF4:AF24,\">6,5\"))","v":0},null,"Divergence",null,{"$f":"STDEVP(AK4:AK24)","v":0}]
[null,null,null,"échelle de Foster",null,null,null,"RPE",null,null,"Temps par zone (RPE)",null,{"$f":"IF('Répartition des intensités'!$AR$25=\"x\",SUMIF(N4:N24,\"<3,5\",M4:M24),SUMIF(N4:N24,\"<4,5\",M4:M24))","v":0},{"$f":"IF(N27=0,0,SUM((M25)-(M28+O28)))","v":0},{"$f":"IF('Répartition des intensités'!$AR$25=\"x\",SUMIF(N4:N24,\">5,5\",M4:M24),SUMIF(N4:N24,\">6,5\",M4:M24))","v":0},{"$f":"IF('Répartition des intensités'!$AR$25=\"x\",SUMIF(Q4:Q24,\"<3,5\",P4:P24),SUMIF(Q4:Q24,\"<4,5\",P4:P24))","v":0},{"$f":"IF(Q27=0,0,SUM((P25)-(P28+R28)))","v":0},{"$f":"IF('Répartition des intensités'!$AR$25=\"x\",SUMIF(Q4:Q24,\">5,5\",P4:P24),SUMIF(Q4:Q24,\">6,5\",P4:P24))","v":0},{"$f":"IF('Répartition des intensités'!$AR$25=\"x\",SUMIF(T4:T24,\"<3,5\",S4:S24),SUMIF(T4:T24,\"<4,5\",S4:S24))","v":0},{"$f":"IF(T27=0,0,SUM((S25)-(S28+U28)))","v":0},{"$f":"IF('Répartition des intensités'!$AR$25=\"x\",SUMIF(T4:T24,\">5,5\",S4:S24),SUMIF(T4:T24,\">6,5\",S4:S24))","v":0},{"$f":"IF('Répartition des intensités'!$AR$25=\"x\",SUMIF(W4:W24,\"<3,5\",V4:V24),SUMIF(W4:W24,\"<4,5\",V4:V24))","v":0},{"$f":"IF(W27=0,0,SUM((V25)-(V28+X28)))","v":0},{"$f":"IF('Répartition des intensités'!$AR$25=\"x\",SUMIF(W4:W24,\">5,5\",V4:V24),SUMIF(W4:W24,\">6,5\",V4:V24))","v":0},{"$f":"IF('Répartition des intensités'!$AR$25=\"x\",SUMIF(Z4:Z24,\"<3,5\",Y4:Y24),SUMIF(Z4:Z24,\"<4,5\",Y4:Y24))","v":0},{"$f":"IF(Z27=0,0,SUM((Y25)-(Y28+AA28)))","v":0},{"$f":"IF('Répartition des intensités'!$AR$25=\"x\",SUMIF(Z4:Z24,\">5,5\",Y4:Y24),SUMIF(Z4:Z24,\">6,5\",Y4:Y24))","v":0},{"$f":"IF('Répartition des intensités'!$AR$25=\"x\",SUMIF(AC4:AC24,\"<3,5\",AB4:AB24),SUMIF(AC4:AC24,\"<4,5\",AB4:AB24))","v":0},{"$f":"IF(AC27=0,0,SUM((AB25)-(AB28+AD28)))","v":0},{"$f":"IF('Répartition des intensités'!$AR$25=\"x\",SUMIF(AC4:AC24,\">5,5\",AB4:AB24),SUMIF(AC4:AC24,\">6,5\",AB4:AB24))","v":0},{"$f":"IF('Répartition des intensités'!$AR$25=\"x\",SUMIF(AF4:AF24,\"<3,5\",AE4:AE24),SUMIF(AF4:AF24,\"<4,5\",AE4:AE24))","v":0},{"$f":"IF(AF27=0,0,SUM((AE25)-(AE28+AG28)))","v":0},{"$f":"IF('Répartition des intensités'!$AR$25=\"x\",SUMIF(AF4:AF24,\">5,5\",AE4:AE24),SUMIF(AF4:AF24,\">6,5\",AE4:AE24))","v":0}]
[null,null,null,"Comme au repos",null,null,null,0,null,"REG","Est-ce que j'ai l'impression d'avoir récupéré en me levant?"]
[null,null,null,"très facile",null,null,null,1]
[null,null,null,"facile",null,null,null,2,null,1,"… pas du tout récupéré",null,null,null,null,null,null,null,null,null,null,null,null,null,null,null,null,null,null,null,null,null,null,null,"Entrainements",null,null,null,"Rapport de santé"]
[null,null,null,null,null,null,null,3,null,2,"… un peu récupéré",null,null,null,null,null,null,null,null,null,null,null,null,null,null,null,null,null,null,null,null,null,null,null,"Jours d'entrainement",null,{"$f":"IF(SUM(AH4:AH24)=0,\"\",SUM(AH4:AH24))","v":""}]
[null,null,null,"Assez dur",null,null,null,4,null,3,"… récupéré",null,null,null,null,null,null,null,null,null,null,{"$f":"B4","v":"Lu"},{"$f":"AK4","v":0},null,null,null,null,null,null,null,null,null,null,null,"Entrainements",null,{"$f":"IF(AK32=\"\",\"\",SUM(M27:AG27))","v":""}]
[null,null,null,"dur",null,null,null,5,null,4,"…  en forme",null,null,null,null,null,null,null,null,null,null,{"$f":"B7","v":"Ma"},{"$f":"AK7","v":0},null,null,null,null,null,null,null,null,null,null,null,"Heures d'entrainement",null,{"$f":"IF(AK32=\"\",\"\",SUM(M25,P25,S25,Y25,AB25,V25,AE25)/60)","v":""},null,{"$f":"IF($AK$32=\"\",\"\",AK32-AM36-AM44-AM52)","v":""},"Aucune limitation",null,null,null,0]
[null,null,null,null,null,null,null,6,null,5,"… très en forme",null,null,null,null,null,null,null,null,null,null,{"$f":"B10","v":"Me"},{"$f":"AK10","v":0},null,null,null,null,null,null,null,null,null,null,null,"Charge de l'entrainement",null,{"$f":"IF(AK32=\"\",\"\",SUM(AK25))","v":""}]
[null,null,null,"très dur",null,null,null,7,null,null,null,null,null,null,null,null,null,null,null,null,null,{"$f":"B13","v":"Je"},{"$f":"AK13","v":0},null,null,null,null,null,null,null,null,null,null,null,"Monotonie",null,{"$f":"IF(AK27=0,0,(AVERAGE(AK4:AK24))/AK27)","v":0},null,{"$f":"SUM(AM37:AM42)","v":0},"Limitation pour cause de douleurs"]
[null,null,null,null,null,null,null,8,null,"Nombre de matchs",null,null,null,null,null,null,null,null,null,null,null,{"$f":"B16","v":"Ve"},{"$f":"AK16","v":0},null,null,null,null,null,null,null,null,null,null,null,"Efforts à l'entrainement",null,{"$f":"IF(AK32=\"\",\"\",AK35*AK36)","v":""},null,{"$f":"COUNTIF($H$4:$H$24,$AR37)","v":0},"Doigt",null,null,null,1]
[null,null,null,"extrèmement dur",null,null,null,9,null,null,null,null,null,null,null,null,null,null,null,null,null,{"$f":"B19","v":"Sa"},{"$f":"AK19","v":0},null,null,null,null,null,null,null,null,null,null,null,null,null,null,null,0,"Épaule",null,null,null,2]
[null,null,null,"Comme mon entrainement le plus dur",null,null,null,10,null,1,"… 3 sets et plus",null,null,null,null,null,null,null,null,null,null,{"$f":"B22","v":"Di"},{"$f":"AK22","v":0},null,null,null,null,null,null,null,null,null,null,null,"Compétition",null,null,null,0,"Dos",null,null,null,3]
[null,null,null,null,null,null,null,null,null,0.5,"… moins de 3 sets",null,null,null,null,null,null,null,null,null,null,null,null,null,null,null,null,null,null,null,null,null,null,null,"Matchs de volleyball",null,{"$f":"IF(AK32=\"\",\"\",SUM(AM4:AM24))","v":""},null,0,"Genou",null,null,null,4]
[null,null,null,null,null,null,null,null,null,null,null,null,null,null,null,null,null,null,null,null,null,null,null,null,null,null,null,null,null,null,null,null,null,null,"Sets de volleyball",null,{"$f":"IF(AK32=\"\",\"\",SUM(AN4:AN24))","v":""},null,0,"Cheville",null,null,null,5]
[null,null,null,null,null,null,null,null,null,"Sets joués",null,null,null,null,null,null,null,null,null,null,null,null,null,null,null,null,null,null,null,null,null,null,null,null,"Matchs de beach volley",null,{"$f":"IF(AK35=\"\",\"\",SUM(AO4:AO24))","v":""},null,0,"Autre",null,null,null,6]
[null,null,null,null,null,null,null,null,null,1,"… depuis le début et durant tout le set",null,null,null,null,null,null,null,null,null,null,null,null,null,null,null,null,null,null,null,null,null,null,null,"Sets de beach volley",null,{"$f":"IF(AK35=\"\",\"\",SUM(AP4:AP24))","v":""}]
[null,null,null,null,null,null,null,null,null,0.5,"… entré/sorti en cours, beaucoup joué",null,null,null,null,null,null,null,null,null,null,null,null,null,null,null,null,null,null,null,null,null,null,null,null,null,null,null,{"$f":"SUM(AM45:AM50)","v":0},"Absence pour cause de blessure"]
[null,null,null,null,null,null,null,null,null,0.1,"… entré/sorti en cours, peu joué",null,null,null,null,null,null,null,null,null,null,null,null,null,null,null,null,null,null,null,null,null,null,null,"Satisfaction",null,null,null,{"$f":"COUNTIF($H$4:$H$24,$AR45)","v":0},"Doigt",null,null,null,11]
[null,null,null,null,null,null,null,null,null,null,null,null,null,null,null,null,null,null,null,null,null,null,null,null,null,null,null,null,null,null,null,null,null,null,"Satisfaction de l'entrainement/match J",null,{"$f":"IF(AK32=\"\",\"\",SUM(AQ4:AQ24)/AK32)","v":""},null,0,"Épaule",null,null,null,12]
[null,null,null,null,null,null,null,null,null,"J","Es-tu content de la qualité de ton",null,null,null,null,null,null,null,null,null,null,null,null,null,null,null,null,null,null,null,null,null,null,null,null,null,null,null,0,"Dos",null,null,null,13]
[null,null,null,null,null,null,null,null,null,null,"entrainement/compétition?",null,null,null,null,null,null,null,null,null,null,null,null,null,null,null,null,null,null,null,null,null,null,null,"Santé",null,null,null,0,"Genou",null,null,null,14]
[null,null,null,null,null,null,null,null,null,1,"… pas content",null,null,null,null,null,null,null,null,null,null,null,null,null,null,null,null,null,null,null,null,null,null,null,"Limitation pour cause de douleurs",null,{"$f":"AM36","v":0},null,0,"Cheville",null,null,null,15]
[null,null,null,null,null,null,null,null,null,2,"… plutôt pas content",null,null,null,null,null,null,null,null,null,null,null,null,null,null,null,null,null,null,null,null,null,null,null,"Absence pour cause de blessure",null,{"$f":"AM44","v":0},null,0,"Autre",null,null,null,16]
[null,null,null,null,null,null,null,null,null,3,"… moyen",null,null,null,null,null,null,null,null,null,null,null,null,null,null,null,null,null,null,null,null,null,null,null,"Absence pour cause de maladie",null,{"$f":"AM52","v":0}]
[null,null,null,null,null,null,null,null,null,4,"… content",null,null,null,null,null,null,null,null,null,null,null,null,null,null,null,null,null,null,null,null,null,null,null,null,null,null,null,{"$f":"SUM(AM53:AM59)","v":0},"Absence pour cause de maladie"]
[null,null,null,null,null,null,null,null,null,5,"… très content!",null,null,null,null,null,null,null,null,null,null,null,null,null,null,null,null,null,null,null,null,null,null,null,null,null,null,null,{"$f":"COUNTIF($H$4:$H$24,$AR53)","v":0},"Maladie",null,null,null,21]
[]
[]
[]
[]
[]
[]
[]
[]
[]
[]
[]
[]
[]
[]
[]
[]
[]
[]
[]
[]
[]
[]
[]
[]
[]
[]
[]
[]
[]
[]
[]
[]
[]
[]
[]
[]
[]
[]
[]
[]
[]
[]
[]
[]
[]
[]
[]
[]
[]
[]
[]
[]
[]
[]
[]
[]
[]
[]
[]
[]
[]
[]
[]
[]
[]
[]
[]
[]
[]
[]
[]
[]
[]
[]
[]
[]
[]
[]
[]
[]
[null,null,null,null,null,null,null,null,null,null,null,null,null,null,null,null,null,null,null,null,null,null,null,null,{"$f":"Z134-1","v":40},41,42,43,44,45,46,{"$f":"D1","v":47}]
[]
[]
[]
[]
[]
[]
[]
[]
[]
[]
[]
[]
[]
[]
[]
[]
[]
[]
[]
[]
[null,null,null,null,null,null,null,null,null,null,null,null,null,null,null,null,null,null,null,null,null,null,null,null,null,null,null,null,null,null,null,null,{"$f":"AF134+1","v":48}]

{"sheet":"48","index":24,"n_rows":155,"n_cols":45,"rows_kept":155,"cut":false,"hidden":false,"merged":[[30,34,30,36],[30,38,31,43],[0,5,0,6],[1,44,2,44],[1,15,1,17],[28,10,29,10],[29,21,29,26],[36,9,37,9],[21,6,23,6],[21,9,21,10],[23,9,23,10],[21,7,23,7],[1,12,1,14],[7,9,7,10],[1,38,2,38],[1,24,1,26],[1,18,1,20],[1,30,1,32],[1,27,1,29],[27,3,27,6],[28,3,28,6],[37,3,37,6],[30,3,30,6],[31,3,31,6],[32,3,32,6],[33,3,33,6],[34,3,34,6],[35,3,35,6],[36,3,36,6],[38,3,38,6],[46,9,47,9],[18,36,20,36],[1,41,2,41],[3,36,5,36],[1,36,2,36],[20,9,20,10],[5,9,5,10],[1,39,2,39],[21,36,23,36],[9,36,11,36],[12,36,14,36],[15,36,17,36],[28,9,29,9],[16,9,16,10],[15,9,15,10],[10,9,10,10],[29,3,29,6],[15,5,17,5],[12,4,14,4],[6,36,8,36],[3,3,5,3],[3,6,5,6],[3,9,3,10],[4,9,4,10],[17,9,17,10],[22,9,22,10],[18,9,18,10],[19,9,19,10],[9,6,11,6],[9,9,9,10],[6,4,8,4],[9,7,11,7],[9,4,11,4],[11,9,11,10],[3,4,5,4],[3,7,5,7],[13,9,13,10],[14,9,14,10],[12,7,14,7],[9,5,11,5],[12,5,14,5],[21,1,23,1],[15,7,17,7],[15,1,17,1],[15,3,17,3],[15,6,17,6],[15,4,17,4],[18,5,20,5],[18,1,20,1],[18,3,20,3],[21,5,23,5],[21,3,23,3],[21,4,23,4],[18,7,20,7],[18,4,20,4],[18,6,20,6],[1,1,2,1],[9,1,11,1],[9,3,11,3],[1,40,2,40],[1,43,2,43],[38,34,38,36],[44,34,44,36],[47,34,47,36],[12,1,14,1],[6,3,8,3],[6,6,8,6],[6,9,6,10],[8,9,8,10],[6,5,8,5],[6,1,8,1],[6,7,8,7],[1,34,2,34],[1,21,1,23],[1,9,2,10],[3,1,5,1],[3,5,5,5],[12,3,14,3],[12,6,14,6],[12,9,12,10]]}
[null,null,"Woche",{"$f":"INT(MOD(INT((F1-2)/7)+0.6,52+5/28))+1","v":48},{"$f":"D1+1000","v":1048},{"$f":"'47'!F1+7","v":"2018-11-26"},null,"-",null,{"$f":"F1+6","v":"2018-12-02"},null,null,null,null,null,null,null,null,null,null,null,null,null,null,null,null,null,null,null,null,null,null,{"$f":"'Aperçu de la charge'!D2","v":"Prénom Nom"},null,{"$f":"'Aperçu de la charge'!N2","v":"2018/2019"}]
[null,"Jour",null,"Poids","REG","qualité sommeil","durée sommeil","Santé",null,"Description de l'entrainement",null,null,"Club - VB",null,null,"TS/ Nati - VB",null,null,"Club - BVB",null,null,"TS/ Nati - BVB",null,null,"Force - fitness",null,null,"Compet. - VB",null,null,"Compet. - BVB",null,null,null,"Réflexion",null,"Charge/\njour",null,"matchs VB","Sets VB","Matchs BVB","Sets BVB","J","Autre\n (Rég, mentale)","Mental- oder Sonstiges Training"]
[null,null,null,"[kg]","[1 - 5]","[1-5]","[Std]","Nr.",null,null,null,null,"Durée","RPE","Charge","Durée","RPE","Charge","Durée","RPE","Charge","Durée","RPE","Charge","Durée","RPE","Charge","Durée","RPE","Charge","Durée","RPE","Charge",null,null,null,null,null,null,null,null,null,"[1-5]"]
[null,"Lu",null,0,0,0,0,0,null,null,null,null,null,null,{"$f":"M4*N4","v":0},null,null,{"$f":"P4*Q4","v":0},null,null,{"$f":"S4*T4","v":0},null,null,{"$f":"V4*W4","v":0},null,null,{"$f":"Y4*Z4","v":0},null,null,{"$f":"AB4*AC4","v":0},null,null,{"$f":"AE4*AF4","v":0},{"$f":"IF(SUM(M4:AG6)>0,1,0)","v":"00:00:00"},null,null,{"$f":"SUM(O4:O6,R4:R6,U4:U6,X4:X6,AA4:AA6,AD4:AD6,AG4:AG6)","v":0}]
[null,null,null,null,null,null,null,null,null,null,null,null,null,null,{"$f":"M5*N5","v":0},null,null,{"$f":"P5*Q5","v":0},null,null,{"$f":"S5*T5","v":0},null,null,{"$f":"V5*W5","v":0},null,null,{"$f":"Y5*Z5","v":0},null,null,{"$f":"AB5*AC5","v":0},null,null,{"$f":"AE5*AF5","v":0}]
[null,null,null,null,null,null,null,null,null,null,null,null,null,null,0,null,null,0,null,null,0,null,null,0,null,null,0,null,null,0,null,null,0]
[null,"Ma",null,0,0,0,0,0,null,null,null,null,null,null,0,null,null,{"$f":"P7*Q7","v":0},null,null,0,null,null,0,null,null,0,null,null,0,null,null,0,{"$f":"IF(SUM(M7:AG9)>0,1,0)","v":"00:00:00"},null,null,{"$f":"SUM(O7:O9,R7:R9,U7:U9,X7:X9,AA7:AA9,AD7:AD9,AG7:AG9)","v":0}]
[null,null,null,null,null,null,null,null,null,null,null,null,null,null,0,null,null,0,null,null,0,null,null,0,null,null,0,null,null,0,null,null,0]
[null,null,null,null,null,null,null,null,null,null,null,null,null,null,0,null,null,0,null,null,0,null,null,0,null,null,0,null,null,0,null,null,0]
[null,"Me",null,0,0,0,0,0,null,null,null,null,null,null,0,null,null,{"$f":"P10*Q10","v":0},null,null,0,null,null,0,null,null,0,null,null,0,null,null,0,{"$f":"IF(SUM(M10:AG12)>0,1,0)","v":"00:00:00"},null,null,{"$f":"SUM(O10:O12,R10:R12,U10:U12,X10:X12,AA10:AA12,AD10:AD12,AG10:AG12)","v":0}]
[null,null,null,null,null,null,null,null,null,null,null,null,null,null,0,null,null,0,null,null,0,null,null,0,null,null,0,null,null,0,null,null,0]
[null,null,null,null,null,null,null,null,null,null,null,null,null,null,0,null,null,0,null,null,0,null,null,0,null,null,0,null,null,0,null,null,0]
[null,"Je",null,0,0,0,0,0,null,null,null,null,null,null,0,null,null,{"$f":"P13*Q13","v":0},null,null,0,null,null,0,null,null,0,null,null,0,null,null,0,{"$f":"IF(SUM(M13:AG15)>0,1,0)","v":"00:00:00"},null,null,{"$f":"SUM(O13:O15,R13:R15,U13:U15,X13:X15,AA13:AA15,AD13:AD15,AG13:AG15)","v":0}]
[null,null,null,null,null,null,null,null,null,null,null,null,null,null,0,null,null,0,null,null,0,null,null,0,null,null,0,null,null,0,null,null,0]
[null,null,null,null,null,null,null,null,null,null,null,null,null,null,0,null,null,0,null,null,0,null,null,0,null,null,0,null,null,0,null,null,0]
[null,"Ve",null,0,0,0,0,0,null,null,null,null,null,null,0,null,null,{"$f":"P16*Q16","v":0},null,null,0,null,null,0,null,null,0,null,null,0,null,null,0,{"$f":"IF(SUM(M16:AG18)>0,1,0)","v":"00:00:00"},null,null,{"$f":"SUM(O16:O18,R16:R18,U16:U18,X16:X18,AA16:AA18,AD16:AD18,AG16:AG18)","v":0}]
[null,null,null,null,null,null,null,null,null,null,null,null,null,null,0,null,null,0,null,null,0,null,null,0,null,null,0,null,null,0,null,null,0]
[null,null,null,null,null,null,null,null,null,null,null,null,null,null,0,null,null,0,null,null,0,null,null,0,null,null,0,null,null,0,null,null,0]
[null,"Sa",null,0,0,0,0,0,null,null,null,null,null,null,{"$f":"M19*N19","v":0},null,null,{"$f":"P19*Q19","v":0},null,null,{"$f":"S19*T19","v":0},null,null,{"$f":"V19*W19","v":0},null,null,{"$f":"Y19*Z19","v":0},null,null,{"$f":"AB19*AC19","v":0},null,null,{"$f":"AE19*AF19","v":0},{"$f":"IF(SUM(M19:AG21)>0,1,0)","v":"00:00:00"},null,null,{"$f":"SUM(O19:O21,R19:R21,U19:U21,X19:X21,AA19:AA21,AD19:AD21,AG19:AG21)","v":0}]
[null,null,null,null,null,null,null,null,null,null,null,null,null,null,{"$f":"M20*N20","v":0},null,null,0,null,null,{"$f":"S20*T20","v":0},null,null,{"$f":"V20*W20","v":0},null,null,{"$f":"Y20*Z20","v":0},null,null,{"$f":"AB20*AC20","v":0},null,null,{"$f":"AE20*AF20","v":0}]
[null,null,null,null,null,null,null,null,null,null,null,null,null,null,0,null,null,0,null,null,0,null,null,0,null,null,0,null,null,0,null,null,0]
[null,"Di",null,0,0,0,0,0,null,null,null,null,null,null,0,null,null,{"$f":"P22*Q22","v":0},null,null,0,null,null,0,null,null,0,null,null,0,null,null,0,{"$f":"IF(SUM(M22:AG24)>0,1,0)","v":"00:00:00"},null,null,{"$f":"SUM(O22:O24,R22:R24,U22:U24,X22:X24,AA22:AA24,AD22:AD24,AG22:AG24)","v":0}]
[null,null,null,null,null,null,null,null,null,null,null,null,null,null,0,null,null,0,null,null,0,null,null,0,null,null,0,null,null,0,null,null,0]
[null,null,null,null,null,null,null,null,null,null,null,null,null,null,0,null,null,0,null,null,0,null,null,0,null,null,0,null,null,0,null,null,0]
[null,null,null,null,null,null,null,null,null,null,"Total",null,{"$f":"SUM(M4:M24)","v":0},null,{"$f":"SUM(O4:O24)","v":0},{"$f":"SUM(P4:P24)","v":0},null,{"$f":"SUM(R4:R24)","v":0},{"$f":"SUM(S4:S24)","v":0},null,{"$f":"SUM(U4:U24)","v":0},{"$f":"SUM(V4:V24)","v":0},null,{"$f":"SUM(X4:X24)","v":0},{"$f":"SUM(Y4:Y24)","v":0},null,{"$f":"SUM(AA4:AA24)","v":0},{"$f":"SUM(AB4:AB24)","v":0},null,{"$f":"SUM(AD4:AD24)","v":0},{"$f":"SUM(AE4:AE24)","v":0},null,{"$f":"SUM(AG4:AG24)","v":0},null,"Charge totale",null,{"$f":"SUM(AK4:AK24)","v":0}]
[null,"avg.",null,{"$f":"IF(COUNTA(D4:D24)=0,\"\",AVERAGE(D4:D24))","v":0},{"$f":"IF(COUNTA(E4:E24)=0,\"\",AVERAGE(E4:E24))","v":0},{"$f":"IF(COUNTA(F4:F24)=0,\"\",AVERAGE(F4:F24))","v":0},{"$f":"IF(COUNTA(G4:G24)=0,\"\",AVERAGE(G4:G24))","v":0},{"$f":"IF(COUNTA(H4:H24)=0,\"\",COUNTIF(H4:H24,\"x\"))","v":0},null,null,"Zone",null,1,2,3,1,2,3,1,2,3,1,2,3,1,2,3,1,2,3,1,2,3,null,"Moyenne",null,{"$f":"AVERAGE(AK4:AK24)","v":0}]
[null,null,null,null,null,{"$f":"IF(COUNTA(F4:F24)=0,\"\",VAR(F4:F24))","v":0},{"$f":"IF(COUNTA(G4:G24)=0,\"\",STDEV(G4:G24))","v":0},"Divergence - durée du sommeil",null,null,"Unité par zone (RPE) ",null,{"$f":"IF('Répartition des intensités'!$AR$25=\"x\",COUNTIF(N4:N24,\"<3,5\"),COUNTIF(N4:N24,\"<4,5\"))","v":0},{"$f":"COUNT(N4:N24)-(M27+O27)","v":0},{"$f":"IF('Répartition des intensités'!$AR$25=\"x\",COUNTIF(N4:N24,\">5,5\"),COUNTIF(N4:N24,\">6,5\"))","v":0},{"$f":"IF('Répartition des intensités'!$AR$25=\"x\",COUNTIF(Q4:Q24,\"<3,5\"),COUNTIF(Q4:Q24,\"<4,5\"))","v":0},{"$f":"COUNT(Q4:Q24)-(P27+R27)","v":0},{"$f":"IF('Répartition des intensités'!$AR$25=\"x\",COUNTIF(Q4:Q24,\">5,5\"),COUNTIF(Q4:Q24,\">6,5\"))","v":0},{"$f":"IF('Répartition des intensités'!$AR$25=\"x\",COUNTIF(T4:T24,\"<3,5\"),COUNTIF(T4:T24,\"<4,5\"))","v":0},{"$f":"COUNT(T4:T24)-(S27+U27)","v":0},{"$f":"IF('Répartition des intensités'!$AR$25=\"x\",COUNTIF(T4:T24,\">5,5\"),COUNTIF(T4:T24,\">6,5\"))","v":0},{"$f":"IF('Répartition des intensités'!$AR$25=\"x\",COUNTIF(W4:W24,\"<3,5\"),COUNTIF(W4:W24,\"<4,5\"))","v":0},{"$f":"COUNT(W4:W24)-(V27+X27)","v":0},{"$f":"IF('Répartition des intensités'!$AR$25=\"x\",COUNTIF(W4:W24,\">5,5\"),COUNTIF(W4:W24,\">6,5\"))","v":0},{"$f":"IF('Répartition des intensités'!$AR$25=\"x\",COUNTIF(Z4:Z24,\"<3,5\"),COUNTIF(Z4:Z24,\"<4,5\"))","v":0},{"$f":"COUNT(Z4:Z24)-(Y27+AA27)","v":0},{"$f":"IF('Répartition des intensités'!$AR$25=\"x\",COUNTIF(Z4:Z24,\">5,5\"),COUNTIF(Z4:Z24,\">6,5\"))","v":0},{"$f":"IF('Répartition des intensités'!$AR$25=\"x\",COUNTIF(AC4:AC24,\"<3,5\"),COUNTIF(AC4:AC24,\"<4,5\"))","v":0},{"$f":"COUNT(AC4:AC24)-(AB27+AD27)","v":0},{"$f":"IF('Répartition des intensités'!$AR$25=\"x\",COUNTIF(AC4:AC24,\">5,5\"),COUNTIF(AC4:AC24,\">6,5\"))","v":0},{"$f":"IF('Répartition des intensités'!$AR$25=\"x\",COUNTIF(AF4:AF24,\"<3,5\"),COUNTIF(AF4:AF24,\"<4,5\"))","v":0},{"$f":"COUNT(AF4:AF24)-(AE27+AG27)","v":0},{"$f":"IF('Répartition des intensités'!$AR$25=\"x\",COUNTIF(AF4:AF24,\">5,5\"),COUNTIF(AF4:AF24,\">6,5\"))","v":0},null,"Divergence",null,{"$f":"STDEVP(AK4:AK24)","v":0}]
[null,null,null,"échelle de Foster",null,null,null,"RPE",null,null,"Temps par zone (RPE)",null,{"$f":"IF('Répartition des intensités'!$AR$25=\"x\",SUMIF(N4:N24,\"<3,5\",M4:M24),SUMIF(N4:N24,\"<4,5\",M4:M24))","v":0},{"$f":"IF(N27=0,0,SUM((M25)-(M28+O28)))","v":0},{"$f":"IF('Répartition des intensités'!$AR$25=\"x\",SUMIF(N4:N24,\">5,5\",M4:M24),SUMIF(N4:N24,\">6,5\",M4:M24))","v":0},{"$f":"IF('Répartition des intensités'!$AR$25=\"x\",SUMIF(Q4:Q24,\"<3,5\",P4:P24),SUMIF(Q4:Q24,\"<4,5\",P4:P24))","v":0},{"$f":"IF(Q27=0,0,SUM((P25)-(P28+R28)))","v":0},{"$f":"IF('Répartition des intensités'!$AR$25=\"x\",SUMIF(Q4:Q24,\">5,5\",P4:P24),SUMIF(Q4:Q24,\">6,5\",P4:P24))","v":0},{"$f":"IF('Répartition des intensités'!$AR$25=\"x\",SUMIF(T4:T24,\"<3,5\",S4:S24),SUMIF(T4:T24,\"<4,5\",S4:S24))","v":0},{"$f":"IF(T27=0,0,SUM((S25)-(S28+U28)))","v":0},{"$f":"IF('Répartition des intensités'!$AR$25=\"x\",SUMIF(T4:T24,\">5,5\",S4:S24),SUMIF(T4:T24,\">6,5\",S4:S24))","v":0},{"$f":"IF('Répartition des intensités'!$AR$25=\"x\",SUMIF(W4:W24,\"<3,5\",V4:V24),SUMIF(W4:W24,\"<4,5\",V4:V24))","v":0},{"$f":"IF(W27=0,0,SUM((V25)-(V28+X28)))","v":0},{"$f":"IF('Répartition des intensités'!$AR$25=\"x\",SUMIF(W4:W24,\">5,5\",V4:V24),SUMIF(W4:W24,\">6,5\",V4:V24))","v":0},{"$f":"IF('Répartition des intensités'!$AR$25=\"x\",SUMIF(Z4:Z24,\"<3,5\",Y4:Y24),SUMIF(Z4:Z24,\"<4,5\",Y4:Y24))","v":0},{"$f":"IF(Z27=0,0,SUM((Y25)-(Y28+AA28)))","v":0},{"$f":"IF('Répartition des intensités'!$AR$25=\"x\",SUMIF(Z4:Z24,\">5,5\",Y4:Y24),SUMIF(Z4:Z24,\">6,5\",Y4:Y24))","v":0},{"$f":"IF('Répartition des intensités'!$AR$25=\"x\",SUMIF(AC4:AC24,\"<3,5\",AB4:AB24),SUMIF(AC4:AC24,\"<4,5\",AB4:AB24))","v":0},{"$f":"IF(AC27=0,0,SUM((AB25)-(AB28+AD28)))","v":0},{"$f":"IF('Répartition des intensités'!$AR$25=\"x\",SUMIF(AC4:AC24,\">5,5\",AB4:AB24),SUMIF(AC4:AC24,\">6,5\",AB4:AB24))","v":0},{"$f":"IF('Répartition des intensités'!$AR$25=\"x\",SUMIF(AF4:AF24,\"<3,5\",AE4:AE24),SUMIF(AF4:AF24,\"<4,5\",AE4:AE24))","v":0},{"$f":"IF(AF27=0,0,SUM((AE25)-(AE28+AG28)))","v":0},{"$f":"IF('Répartition des intensités'!$AR$25=\"x\",SUMIF(AF4:AF24,\">5,5\",AE4:AE24),SUMIF(AF4:AF24,\">6,5\",AE4:AE24))","v":0}]
[null,null,null,"Comme au repos",null,null,null,0,null,"REG","Est-ce que j'ai l'impression d'avoir récupéré en me levant?"]
[null,null,null,"très facile",null,null,null,1]
[null,null,null,"facile",null,null,null,2,null,1,"… pas du tout récupéré",null,null,null,null,null,null,null,null,null,null,null,null,null,null,null,null,null,null,null,null,null,null,null,"Entrainements",null,null,null,"Rapport de santé"]
[null,null,null,null,null,null,null,3,null,2,"… un peu récupéré",null,null,null,null,null,null,null,null,null,null,null,null,null,null,null,null,null,null,null,null,null,null,null,"Jours d'entrainement",null,{"$f":"IF(SUM(AH4:AH24)=0,\"\",SUM(AH4:AH24))","v":""}]
[null,null,null,"Assez dur",null,null,null,4,null,3,"… récupéré",null,null,null,null,null,null,null,null,null,null,{"$f":"B4","v":"Lu"},{"$f":"AK4","v":0},null,null,null,null,null,null,null,null,null,null,null,"Entrainements",null,{"$f":"IF(AK32=\"\",\"\",SUM(M27:AG27))","v":""}]
[null,null,null,"dur",null,null,null,5,null,4,"…  en forme",null,null,null,null,null,null,null,null,null,null,{"$f":"B7","v":"Ma"},{"$f":"AK7","v":0},null,null,null,null,null,null,null,null,null,null,null,"Heures d'entrainement",null,{"$f":"IF(AK32=\"\",\"\",SUM(M25,P25,S25,Y25,AB25,V25,AE25)/60)","v":""},null,{"$f":"IF($AK$32=\"\",\"\",AK32-AM36-AM44-AM52)","v":""},"Aucune limitation",null,null,null,0]
[null,null,null,null,null,null,null,6,null,5,"… très en forme",null,null,null,null,null,null,null,null,null,null,{"$f":"B10","v":"Me"},{"$f":"AK10","v":0},null,null,null,null,null,null,null,null,null,null,null,"Charge de l'entrainement",null,{"$f":"IF(AK32=\"\",\"\",SUM(AK25))","v":""}]
[null,null,null,"très dur",null,null,null,7,null,null,null,null,null,null,null,null,null,null,null,null,null,{"$f":"B13","v":"Je"},{"$f":"AK13","v":0},null,null,null,null,null,null,null,null,null,null,null,"Monotonie",null,{"$f":"IF(AK27=0,0,(AVERAGE(AK4:AK24))/AK27)","v":0},null,{"$f":"SUM(AM37:AM42)","v":0},"Limitation pour cause de douleurs"]
[null,null,null,null,null,null,null,8,null,"Nombre de matchs",null,null,null,null,null,null,null,null,null,null,null,{"$f":"B16","v":"Ve"},{"$f":"AK16","v":0},null,null,null,null,null,null,null,null,null,null,null,"Efforts à l'entrainement",null,{"$f":"IF(AK32=\"\",\"\",AK35*AK36)","v":""},null,{"$f":"COUNTIF($H$4:$H$24,$AR37)","v":0},"Doigt",null,null,null,1]
[null,null,null,"extrèmement dur",null,null,null,9,null,null,null,null,null,null,null,null,null,null,null,null,null,{"$f":"B19","v":"Sa"},{"$f":"AK19","v":0},null,null,null,null,null,null,null,null,null,null,null,null,null,null,null,0,"Épaule",null,null,null,2]
[null,null,null,"Comme mon entrainement le plus dur",null,null,null,10,null,1,"… 3 sets et plus",null,null,null,null,null,null,null,null,null,null,{"$f":"B22","v":"Di"},{"$f":"AK22","v":0},null,null,null,null,null,null,null,null,null,null,null,"Compétition",null,null,null,0,"Dos",null,null,null,3]
[null,null,null,null,null,null,null,null,null,0.5,"… moins de 3 sets",null,null,null,null,null,null,null,null,null,null,null,null,null,null,null,null,null,null,null,null,null,null,null,"Matchs de volleyball",null,{"$f":"IF(AK32=\"\",\"\",SUM(AM4:AM24))","v":""},null,0,"Genou",null,null,null,4]
[null,null,null,null,null,null,null,null,null,null,null,null,null,null,null,null,null,null,null,null,null,null,null,null,null,null,null,null,null,null,null,null,null,null,"Sets de volleyball",null,{"$f":"IF(AK32=\"\",\"\",SUM(AN4:AN24))","v":""},null,0,"Cheville",null,null,null,5]
[null,null,null,null,null,null,null,null,null,"Sets joués",null,null,null,null,null,null,null,null,null,null,null,null,null,null,null,null,null,null,null,null,null,null,null,null,"Matchs de beach volley",null,{"$f":"IF(AK35=\"\",\"\",SUM(AO4:AO24))","v":""},null,0,"Autre",null,null,null,6]
[null,null,null,null,null,null,null,null,null,1,"… depuis le début et durant tout le set",null,null,null,null,null,null,null,null,null,null,null,null,null,null,null,null,null,null,null,null,null,null,null,"Sets de beach volley",null,{"$f":"IF(AK35=\"\",\"\",SUM(AP4:AP24))","v":""}]
[null,null,null,null,null,null,null,null,null,0.5,"… entré/sorti en cours, beaucoup joué",null,null,null,null,null,null,null,null,null,null,null,null,null,null,null,null,null,null,null,null,null,null,null,null,null,null,null,{"$f":"SUM(AM45:AM50)","v":0},"Absence pour cause de blessure"]
[null,null,null,null,null,null,null,null,null,0.1,"… entré/sorti en cours, peu joué",null,null,null,null,null,null,null,null,null,null,null,null,null,null,null,null,null,null,null,null,null,null,null,"Satisfaction",null,null,null,{"$f":"COUNTIF($H$4:$H$24,$AR45)","v":0},"Doigt",null,null,null,11]
[null,null,null,null,null,null,null,null,null,null,null,null,null,null,null,null,null,null,null,null,null,null,null,null,null,null,null,null,null,null,null,null,null,null,"Satisfaction de l'entrainement/match J",null,{"$f":"IF(AK32=\"\",\"\",SUM(AQ4:AQ24)/AK32)","v":""},null,0,"Épaule",null,null,null,12]
[null,null,null,null,null,null,null,null,null,"J","Es-tu content de la qualité de ton",null,null,null,null,null,null,null,null,null,null,null,null,null,null,null,null,null,null,null,null,null,null,null,null,null,null,null,0,"Dos",null,null,null,13]
[null,null,null,null,null,null,null,null,null,null,"entrainement/compétition?",null,null,null,null,null,null,null,null,null,null,null,null,null,null,null,null,null,null,null,null,null,null,null,"Santé",null,null,null,0,"Genou",null,null,null,14]
[null,null,null,null,null,null,null,null,null,1,"… pas content",null,null,null,null,null,null,null,null,null,null,null,null,null,null,null,null,null,null,null,null,null,null,null,"Limitation pour cause de douleurs",null,{"$f":"AM36","v":0},null,0,"Cheville",null,null,null,15]
[null,null,null,null,null,null,null,null,null,2,"… plutôt pas content",null,null,null,null,null,null,null,null,null,null,null,null,null,null,null,null,null,null,null,null,null,null,null,"Absence pour cause de blessure",null,{"$f":"AM44","v":0},null,0,"Autre",null,null,null,16]
[null,null,null,null,null,null,null,null,null,3,"… moyen",null,null,null,null,null,null,null,null,null,null,null,null,null,null,null,null,null,null,null,null,null,null,null,"Absence pour cause de maladie",null,{"$f":"AM52","v":0}]
[null,null,null,null,null,null,null,null,null,4,"… content",null,null,null,null,null,null,null,null,null,null,null,null,null,null,null,null,null,null,null,null,null,null,null,null,null,null,null,{"$f":"SUM(AM53:AM59)","v":0},"Absence pour cause de maladie"]
[null,null,null,null,null,null,null,null,null,5,"… très content!",null,null,null,null,null,null,null,null,null,null,null,null,null,null,null,null,null,null,null,null,null,null,null,null,null,null,null,{"$f":"COUNTIF($H$4:$H$24,$AR53)","v":0},"Maladie",null,null,null,21]
[]
[]
[]
[]
[]
[]
[]
[]
[]
[]
[]
[]
[]
[]
[]
[]
[]
[]
[]
[]
[]
[]
[]
[]
[]
[]
[]
[]
[]
[]
[]
[]
[]
[]
[]
[]
[]
[]
[]
[]
[]
[]
[]
[]
[]
[]
[]
[]
[]
[]
[]
[]
[]
[]
[]
[]
[]
[]
[]
[]
[]
[]
[]
[]
[]
[]
[]
[]
[]
[]
[]
[]
[]
[]
[]
[]
[]
[]
[]
[]
[null,null,null,null,null,null,null,null,null,null,null,null,null,null,null,null,null,null,null,null,null,null,null,null,{"$f":"Z134-1","v":41},42,43,44,45,46,47,{"$f":"D1","v":48}]
[]
[]
[]
[]
[]
[]
[]
[]
[]
[]
[]
[]
[]
[]
[]
[]
[]
[]
[]
[]
[null,null,null,null,null,null,null,null,null,null,null,null,null,null,null,null,null,null,null,null,null,null,null,null,null,null,null,null,null,null,null,null,{"$f":"AF134+1","v":49}]

{"sheet":"49","index":25,"n_rows":155,"n_cols":45,"rows_kept":155,"cut":false,"hidden":false,"merged":[[30,34,30,36],[30,38,31,43],[0,5,0,6],[1,44,2,44],[1,15,1,17],[28,10,29,10],[29,21,29,26],[36,9,37,9],[21,6,23,6],[21,9,21,10],[23,9,23,10],[21,7,23,7],[1,12,1,14],[7,9,7,10],[1,38,2,38],[1,24,1,26],[1,18,1,20],[1,30,1,32],[1,27,1,29],[27,3,27,6],[28,3,28,6],[37,3,37,6],[30,3,30,6],[31,3,31,6],[32,3,32,6],[33,3,33,6],[34,3,34,6],[35,3,35,6],[36,3,36,6],[38,3,38,6],[46,9,47,9],[18,36,20,36],[1,41,2,41],[3,36,5,36],[1,36,2,36],[20,9,20,10],[5,9,5,10],[1,39,2,39],[21,36,23,36],[9,36,11,36],[12,36,14,36],[15,36,17,36],[28,9,29,9],[16,9,16,10],[15,9,15,10],[10,9,10,10],[29,3,29,6],[15,5,17,5],[12,4,14,4],[6,36,8,36],[3,3,5,3],[3,6,5,6],[3,9,3,10],[4,9,4,10],[17,9,17,10],[22,9,22,10],[18,9,18,10],[19,9,19,10],[9,6,11,6],[9,9,9,10],[6,4,8,4],[9,7,11,7],[9,4,11,4],[11,9,11,10],[3,4,5,4],[3,7,5,7],[13,9,13,10],[14,9,14,10],[12,7,14,7],[9,5,11,5],[12,5,14,5],[21,1,23,1],[15,7,17,7],[15,1,17,1],[15,3,17,3],[15,6,17,6],[15,4,17,4],[18,5,20,5],[18,1,20,1],[18,3,20,3],[21,5,23,5],[21,3,23,3],[21,4,23,4],[18,7,20,7],[18,4,20,4],[18,6,20,6],[1,1,2,1],[9,1,11,1],[9,3,11,3],[1,40,2,40],[1,43,2,43],[38,34,38,36],[44,34,44,36],[47,34,47,36],[12,1,14,1],[6,3,8,3],[6,6,8,6],[6,9,6,10],[8,9,8,10],[6,5,8,5],[6,1,8,1],[6,7,8,7],[1,34,2,34],[1,21,1,23],[1,9,2,10],[3,1,5,1],[3,5,5,5],[12,3,14,3],[12,6,14,6],[12,9,12,10]]}
[null,null,"Woche",{"$f":"INT(MOD(INT((F1-2)/7)+0.6,52+5/28))+1","v":49},{"$f":"D1+1000","v":1049},{"$f":"'48'!F1+7","v":"2018-12-03"},null,"-",null,{"$f":"F1+6","v":"2018-12-09"},null,null,null,null,null,null,null,null,null,null,null,null,null,null,null,null,null,null,null,null,null,null,{"$f":"'Aperçu de la charge'!D2","v":"Prénom Nom"},null,{"$f":"'Aperçu de la charge'!N2","v":"2018/2019"}]
[null,"Jour",null,"Poids","REG","qualité sommeil","durée sommeil","Santé",null,"Description de l'entrainement",null,null,"Club - VB",null,null,"TS/ Nati - VB",null,null,"Club - BVB",null,null,"TS/ Nati - BVB",null,null,"Force - fitness",null,null,"Compet. - VB",null,null,"Compet. - BVB",null,null,null,"Réflexion",null,"Charge/\njour",null,"matchs VB","Sets VB","Matchs BVB","Sets BVB","J","Autre\n (Rég, mentale)","Mental- oder Sonstiges Training"]
[null,null,null,"[kg]","[1 - 5]","[1-5]","[Std]","Nr.",null,null,null,null,"Durée","RPE","Charge","Durée","RPE","Charge","Durée","RPE","Charge","Durée","RPE","Charge","Durée","RPE","Charge","Durée","RPE","Charge","Durée","RPE","Charge",null,null,null,null,null,null,null,null,null,"[1-5]"]
[null,"Lu",null,0,0,0,0,0,null,null,null,null,null,null,{"$f":"M4*N4","v":0},null,null,{"$f":"P4*Q4","v":0},null,null,{"$f":"S4*T4","v":0},null,null,{"$f":"V4*W4","v":0},null,null,{"$f":"Y4*Z4","v":0},null,null,{"$f":"AB4*AC4","v":0},null,null,{"$f":"AE4*AF4","v":0},{"$f":"IF(SUM(M4:AG6)>0,1,0)","v":"00:00:00"},null,null,{"$f":"SUM(O4:O6,R4:R6,U4:U6,X4:X6,AA4:AA6,AD4:AD6,AG4:AG6)","v":0}]
[null,null,null,null,null,null,null,null,null,null,null,null,null,null,{"$f":"M5*N5","v":0},null,null,{"$f":"P5*Q5","v":0},null,null,{"$f":"S5*T5","v":0},null,null,{"$f":"V5*W5","v":0},null,null,{"$f":"Y5*Z5","v":0},null,null,{"$f":"AB5*AC5","v":0},null,null,{"$f":"AE5*AF5","v":0}]
[null,null,null,null,null,null,null,null,null,null,null,null,null,null,0,null,null,0,null,null,0,null,null,0,null,null,0,null,null,0,null,null,0]
[null,"Ma",null,0,0,0,0,0,null,null,null,null,null,null,0,null,null,{"$f":"P7*Q7","v":0},null,null,0,null,null,0,null,null,0,null,null,0,null,null,0,{"$f":"IF(SUM(M7:AG9)>0,1,0)","v":"00:00:00"},null,null,{"$f":"SUM(O7:O9,R7:R9,U7:U9,X7:X9,AA7:AA9,AD7:AD9,AG7:AG9)","v":0}]
[null,null,null,null,null,null,null,null,null,null,null,null,null,null,0,null,null,0,null,null,0,null,null,0,null,null,0,null,null,0,null,null,0]
[null,null,null,null,null,null,null,null,null,null,null,null,null,null,0,null,null,0,null,null,0,null,null,0,null,null,0,null,null,0,null,null,0]
[null,"Me",null,0,0,0,0,0,null,null,null,null,null,null,0,null,null,{"$f":"P10*Q10","v":0},null,null,0,null,null,0,null,null,0,null,null,0,null,null,0,{"$f":"IF(SUM(M10:AG12)>0,1,0)","v":"00:00:00"},null,null,{"$f":"SUM(O10:O12,R10:R12,U10:U12,X10:X12,AA10:AA12,AD10:AD12,AG10:AG12)","v":0}]
[null,null,null,null,null,null,null,null,null,null,null,null,null,null,0,null,null,0,null,null,0,null,null,0,null,null,0,null,null,0,null,null,0]
[null,null,null,null,null,null,null,null,null,null,null,null,null,null,0,null,null,0,null,null,0,null,null,0,null,null,0,null,null,0,null,null,0]
[null,"Je",null,0,0,0,0,0,null,null,null,null,null,null,0,null,null,{"$f":"P13*Q13","v":0},null,null,0,null,null,0,null,null,0,null,null,0,null,null,0,{"$f":"IF(SUM(M13:AG15)>0,1,0)","v":"00:00:00"},null,null,{"$f":"SUM(O13:O15,R13:R15,U13:U15,X13:X15,AA13:AA15,AD13:AD15,AG13:AG15)","v":0}]
[null,null,null,null,null,null,null,null,null,null,null,null,null,null,0,null,null,0,null,null,0,null,null,0,null,null,0,null,null,0,null,null,0]
[null,null,null,null,null,null,null,null,null,null,null,null,null,null,0,null,null,0,null,null,0,null,null,0,null,null,0,null,null,0,null,null,0]
[null,"Ve",null,0,0,0,0,0,null,null,null,null,null,null,0,null,null,{"$f":"P16*Q16","v":0},null,null,0,null,null,0,null,null,0,null,null,0,null,null,0,{"$f":"IF(SUM(M16:AG18)>0,1,0)","v":"00:00:00"},null,null,{"$f":"SUM(O16:O18,R16:R18,U16:U18,X16:X18,AA16:AA18,AD16:AD18,AG16:AG18)","v":0}]
[null,null,null,null,null,null,null,null,null,null,null,null,null,null,0,null,null,0,null,null,0,null,null,0,null,null,0,null,null,0,null,null,0]
[null,null,null,null,null,null,null,null,null,null,null,null,null,null,0,null,null,0,null,null,0,null,null,0,null,null,0,null,null,0,null,null,0]
[null,"Sa",null,0,0,0,0,0,null,null,null,null,null,null,{"$f":"M19*N19","v":0},null,null,{"$f":"P19*Q19","v":0},null,null,{"$f":"S19*T19","v":0},null,null,{"$f":"V19*W19","v":0},null,null,{"$f":"Y19*Z19","v":0},null,null,{"$f":"AB19*AC19","v":0},null,null,{"$f":"AE19*AF19","v":0},{"$f":"IF(SUM(M19:AG21)>0,1,0)","v":"00:00:00"},null,null,{"$f":"SUM(O19:O21,R19:R21,U19:U21,X19:X21,AA19:AA21,AD19:AD21,AG19:AG21)","v":0}]
[null,null,null,null,null,null,null,null,null,null,null,null,null,null,{"$f":"M20*N20","v":0},null,null,0,null,null,{"$f":"S20*T20","v":0},null,null,{"$f":"V20*W20","v":0},null,null,{"$f":"Y20*Z20","v":0},null,null,{"$f":"AB20*AC20","v":0},null,null,{"$f":"AE20*AF20","v":0}]
[null,null,null,null,null,null,null,null,null,null,null,null,null,null,0,null,null,0,null,null,0,null,null,0,null,null,0,null,null,0,null,null,0]
[null,"Di",null,0,0,0,0,0,null,null,null,null,null,null,0,null,null,{"$f":"P22*Q22","v":0},null,null,0,null,null,0,null,null,0,null,null,0,null,null,0,{"$f":"IF(SUM(M22:AG24)>0,1,0)","v":"00:00:00"},null,null,{"$f":"SUM(O22:O24,R22:R24,U22:U24,X22:X24,AA22:AA24,AD22:AD24,AG22:AG24)","v":0}]
[null,null,null,null,null,null,null,null,null,null,null,null,null,null,0,null,null,0,null,null,0,null,null,0,null,null,0,null,null,0,null,null,0]
[null,null,null,null,null,null,null,null,null,null,null,null,null,null,0,null,null,0,null,null,0,null,null,0,null,null,0,null,null,0,null,null,0]
[null,null,null,null,null,null,null,null,null,null,"Total",null,{"$f":"SUM(M4:M24)","v":0},null,{"$f":"SUM(O4:O24)","v":0},{"$f":"SUM(P4:P24)","v":0},null,{"$f":"SUM(R4:R24)","v":0},{"$f":"SUM(S4:S24)","v":0},null,{"$f":"SUM(U4:U24)","v":0},{"$f":"SUM(V4:V24)","v":0},null,{"$f":"SUM(X4:X24)","v":0},{"$f":"SUM(Y4:Y24)","v":0},null,{"$f":"SUM(AA4:AA24)","v":0},{"$f":"SUM(AB4:AB24)","v":0},null,{"$f":"SUM(AD4:AD24)","v":0},{"$f":"SUM(AE4:AE24)","v":0},null,{"$f":"SUM(AG4:AG24)","v":0},null,"Charge totale",null,{"$f":"SUM(AK4:AK24)","v":0}]
[null,"avg.",null,{"$f":"IF(COUNTA(D4:D24)=0,\"\",AVERAGE(D4:D24))","v":0},{"$f":"IF(COUNTA(E4:E24)=0,\"\",AVERAGE(E4:E24))","v":0},{"$f":"IF(COUNTA(F4:F24)=0,\"\",AVERAGE(F4:F24))","v":0},{"$f":"IF(COUNTA(G4:G24)=0,\"\",AVERAGE(G4:G24))","v":0},{"$f":"IF(COUNTA(H4:H24)=0,\"\",COUNTIF(H4:H24,\"x\"))","v":0},null,null,"Zone",null,1,2,3,1,2,3,1,2,3,1,2,3,1,2,3,1,2,3,1,2,3,null,"Moyenne",null,{"$f":"AVERAGE(AK4:AK24)","v":0}]
[null,null,null,null,null,{"$f":"IF(COUNTA(F4:F24)=0,\"\",VAR(F4:F24))","v":0},{"$f":"IF(COUNTA(G4:G24)=0,\"\",STDEV(G4:G24))","v":0},"Divergence - durée du sommeil",null,null,"Unité par zone (RPE) ",null,{"$f":"IF('Répartition des intensités'!$AR$25=\"x\",COUNTIF(N4:N24,\"<3,5\"),COUNTIF(N4:N24,\"<4,5\"))","v":0},{"$f":"COUNT(N4:N24)-(M27+O27)","v":0},{"$f":"IF('Répartition des intensités'!$AR$25=\"x\",COUNTIF(N4:N24,\">5,5\"),COUNTIF(N4:N24,\">6,5\"))","v":0},{"$f":"IF('Répartition des intensités'!$AR$25=\"x\",COUNTIF(Q4:Q24,\"<3,5\"),COUNTIF(Q4:Q24,\"<4,5\"))","v":0},{"$f":"COUNT(Q4:Q24)-(P27+R27)","v":0},{"$f":"IF('Répartition des intensités'!$AR$25=\"x\",COUNTIF(Q4:Q24,\">5,5\"),COUNTIF(Q4:Q24,\">6,5\"))","v":0},{"$f":"IF('Répartition des intensités'!$AR$25=\"x\",COUNTIF(T4:T24,\"<3,5\"),COUNTIF(T4:T24,\"<4,5\"))","v":0},{"$f":"COUNT(T4:T24)-(S27+U27)","v":0},{"$f":"IF('Répartition des intensités'!$AR$25=\"x\",COUNTIF(T4:T24,\">5,5\"),COUNTIF(T4:T24,\">6,5\"))","v":0},{"$f":"IF('Répartition des intensités'!$AR$25=\"x\",COUNTIF(W4:W24,\"<3,5\"),COUNTIF(W4:W24,\"<4,5\"))","v":0},{"$f":"COUNT(W4:W24)-(V27+X27)","v":0},{"$f":"IF('Répartition des intensités'!$AR$25=\"x\",COUNTIF(W4:W24,\">5,5\"),COUNTIF(W4:W24,\">6,5\"))","v":0},{"$f":"IF('Répartition des intensités'!$AR$25=\"x\",COUNTIF(Z4:Z24,\"<3,5\"),COUNTIF(Z4:Z24,\"<4,5\"))","v":0},{"$f":"COUNT(Z4:Z24)-(Y27+AA27)","v":0},{"$f":"IF('Répartition des intensités'!$AR$25=\"x\",COUNTIF(Z4:Z24,\">5,5\"),COUNTIF(Z4:Z24,\">6,5\"))","v":0},{"$f":"IF('Répartition des intensités'!$AR$25=\"x\",COUNTIF(AC4:AC24,\"<3,5\"),COUNTIF(AC4:AC24,\"<4,5\"))","v":0},{"$f":"COUNT(AC4:AC24)-(AB27+AD27)","v":0},{"$f":"IF('Répartition des intensités'!$AR$25=\"x\",COUNTIF(AC4:AC24,\">5,5\"),COUNTIF(AC4:AC24,\">6,5\"))","v":0},{"$f":"IF('Répartition des intensités'!$AR$25=\"x\",COUNTIF(AF4:AF24,\"<3,5\"),COUNTIF(AF4:AF24,\"<4,5\"))","v":0},{"$f":"COUNT(AF4:AF24)-(AE27+AG27)","v":0},{"$f":"IF('Répartition des intensités'!$AR$25=\"x\",COUNTIF(AF4:AF24,\">5,5\"),COUNTIF(AF4:AF24,\">6,5\"))","v":0},null,"Divergence",null,{"$f":"STDEVP(AK4:AK24)","v":0}]
[null,null,null,"échelle de Foster",null,null,null,"RPE",null,null,"Temps par zone (RPE)",null,{"$f":"IF('Répartition des intensités'!$AR$25=\"x\",SUMIF(N4:N24,\"<3,5\",M4:M24),SUMIF(N4:N24,\"<4,5\",M4:M24))","v":0},{"$f":"IF(N27=0,0,SUM((M25)-(M28+O28)))","v":0},{"$f":"IF('Répartition des intensités'!$AR$25=\"x\",SUMIF(N4:N24,\">5,5\",M4:M24),SUMIF(N4:N24,\">6,5\",M4:M24))","v":0},{"$f":"IF('Répartition des intensités'!$AR$25=\"x\",SUMIF(Q4:Q24,\"<3,5\",P4:P24),SUMIF(Q4:Q24,\"<4,5\",P4:P24))","v":0},{"$f":"IF(Q27=0,0,SUM((P25)-(P28+R28)))","v":0},{"$f":"IF('Répartition des intensités'!$AR$25=\"x\",SUMIF(Q4:Q24,\">5,5\",P4:P24),SUMIF(Q4:Q24,\">6,5\",P4:P24))","v":0},{"$f":"IF('Répartition des intensités'!$AR$25=\"x\",SUMIF(T4:T24,\"<3,5\",S4:S24),SUMIF(T4:T24,\"<4,5\",S4:S24))","v":0},{"$f":"IF(T27=0,0,SUM((S25)-(S28+U28)))","v":0},{"$f":"IF('Répartition des intensités'!$AR$25=\"x\",SUMIF(T4:T24,\">5,5\",S4:S24),SUMIF(T4:T24,\">6,5\",S4:S24))","v":0},{"$f":"IF('Répartition des intensités'!$AR$25=\"x\",SUMIF(W4:W24,\"<3,5\",V4:V24),SUMIF(W4:W24,\"<4,5\",V4:V24))","v":0},{"$f":"IF(W27=0,0,SUM((V25)-(V28+X28)))","v":0},{"$f":"IF('Répartition des intensités'!$AR$25=\"x\",SUMIF(W4:W24,\">5,5\",V4:V24),SUMIF(W4:W24,\">6,5\",V4:V24))","v":0},{"$f":"IF('Répartition des intensités'!$AR$25=\"x\",SUMIF(Z4:Z24,\"<3,5\",Y4:Y24),SUMIF(Z4:Z24,\"<4,5\",Y4:Y24))","v":0},{"$f":"IF(Z27=0,0,SUM((Y25)-(Y28+AA28)))","v":0},{"$f":"IF('Répartition des intensités'!$AR$25=\"x\",SUMIF(Z4:Z24,\">5,5\",Y4:Y24),SUMIF(Z4:Z24,\">6,5\",Y4:Y24))","v":0},{"$f":"IF('Répartition des intensités'!$AR$25=\"x\",SUMIF(AC4:AC24,\"<3,5\",AB4:AB24),SUMIF(AC4:AC24,\"<4,5\",AB4:AB24))","v":0},{"$f":"IF(AC27=0,0,SUM((AB25)-(AB28+AD28)))","v":0},{"$f":"IF('Répartition des intensités'!$AR$25=\"x\",SUMIF(AC4:AC24,\">5,5\",AB4:AB24),SUMIF(AC4:AC24,\">6,5\",AB4:AB24))","v":0},{"$f":"IF('Répartition des intensités'!$AR$25=\"x\",SUMIF(AF4:AF24,\"<3,5\",AE4:AE24),SUMIF(AF4:AF24,\"<4,5\",AE4:AE24))","v":0},{"$f":"IF(AF27=0,0,SUM((AE25)-(AE28+AG28)))","v":0},{"$f":"IF('Répartition des intensités'!$AR$25=\"x\",SUMIF(AF4:AF24,\">5,5\",AE4:AE24),SUMIF(AF4:AF24,\">6,5\",AE4:AE24))","v":0}]
[null,null,null,"Comme au repos",null,null,null,0,null,"REG","Est-ce que j'ai l'impression d'avoir récupéré en me levant?"]
[null,null,null,"très facile",null,null,null,1]
[null,null,null,"facile",null,null,null,2,null,1,"… pas du tout récupéré",null,null,null,null,null,null,null,null,null,null,null,null,null,null,null,null,null,null,null,null,null,null,null,"Entrainements",null,null,null,"Rapport de santé"]
[null,null,null,null,null,null,null,3,null,2,"… un peu récupéré",null,null,null,null,null,null,null,null,null,null,null,null,null,null,null,null,null,null,null,null,null,null,null,"Jours d'entrainement",null,{"$f":"IF(SUM(AH4:AH24)=0,\"\",SUM(AH4:AH24))","v":""}]
[null,null,null,"Assez dur",null,null,null,4,null,3,"… récupéré",null,null,null,null,null,null,null,null,null,null,{"$f":"B4","v":"Lu"},{"$f":"AK4","v":0},null,null,null,null,null,null,null,null,null,null,null,"Entrainements",null,{"$f":"IF(AK32=\"\",\"\",SUM(M27:AG27))","v":""}]
[null,null,null,"dur",null,null,null,5,null,4,"…  en forme",null,null,null,null,null,null,null,null,null,null,{"$f":"B7","v":"Ma"},{"$f":"AK7","v":0},null,null,null,null,null,null,null,null,null,null,null,"Heures d'entrainement",null,{"$f":"IF(AK32=\"\",\"\",SUM(M25,P25,S25,Y25,AB25,V25,AE25)/60)","v":""},null,{"$f":"IF($AK$32=\"\",\"\",AK32-AM36-AM44-AM52)","v":""},"Aucune limitation",null,null,null,0]
[null,null,null,null,null,null,null,6,null,5,"… très en forme",null,null,null,null,null,null,null,null,null,null,{"$f":"B10","v":"Me"},{"$f":"AK10","v":0},null,null,null,null,null,null,null,null,null,null,null,"Charge de l'entrainement",null,{"$f":"IF(AK32=\"\",\"\",SUM(AK25))","v":""}]
[null,null,null,"très dur",null,null,null,7,null,null,null,null,null,null,null,null,null,null,null,null,null,{"$f":"B13","v":"Je"},{"$f":"AK13","v":0},null,null,null,null,null,null,null,null,null,null,null,"Monotonie",null,{"$f":"IF(AK27=0,0,(AVERAGE(AK4:AK24))/AK27)","v":0},null,{"$f":"SUM(AM37:AM42)","v":0},"Limitation pour cause de douleurs"]
[null,null,null,null,null,null,null,8,null,"Nombre de matchs",null,null,null,null,null,null,null,null,null,null,null,{"$f":"B16","v":"Ve"},{"$f":"AK16","v":0},null,null,null,null,null,null,null,null,null,null,null,"Efforts à l'entrainement",null,{"$f":"IF(AK32=\"\",\"\",AK35*AK36)","v":""},null,{"$f":"COUNTIF($H$4:$H$24,$AR37)","v":0},"Doigt",null,null,null,1]
[null,null,null,"extrèmement dur",null,null,null,9,null,null,null,null,null,null,null,null,null,null,null,null,null,{"$f":"B19","v":"Sa"},{"$f":"AK19","v":0},null,null,null,null,null,null,null,null,null,null,null,null,null,null,null,0,"Épaule",null,null,null,2]
[null,null,null,"Comme mon entrainement le plus dur",null,null,null,10,null,1,"… 3 sets et plus",null,null,null,null,null,null,null,null,null,null,{"$f":"B22","v":"Di"},{"$f":"AK22","v":0},null,null,null,null,null,null,null,null,null,null,null,"Compétition",null,null,null,0,"Dos",null,null,null,3]
[null,null,null,null,null,null,null,null,null,0.5,"… moins de 3 sets",null,null,null,null,null,null,null,null,null,null,null,null,null,null,null,null,null,null,null,null,null,null,null,"Matchs de volleyball",null,{"$f":"IF(AK32=\"\",\"\",SUM(AM4:AM24))","v":""},null,0,"Genou",null,null,null,4]
[null,null,null,null,null,null,null,null,null,null,null,null,null,null,null,null,null,null,null,null,null,null,null,null,null,null,null,null,null,null,null,null,null,null,"Sets de volleyball",null,{"$f":"IF(AK32=\"\",\"\",SUM(AN4:AN24))","v":""},null,0,"Cheville",null,null,null,5]
[null,null,null,null,null,null,null,null,null,"Sets joués",null,null,null,null,null,null,null,null,null,null,null,null,null,null,null,null,null,null,null,null,null,null,null,null,"Matchs de beach volley",null,{"$f":"IF(AK35=\"\",\"\",SUM(AO4:AO24))","v":""},null,0,"Autre",null,null,null,6]
[null,null,null,null,null,null,null,null,null,1,"… depuis le début et durant tout le set",null,null,null,null,null,null,null,null,null,null,null,null,null,null,null,null,null,null,null,null,null,null,null,"Sets de beach volley",null,{"$f":"IF(AK35=\"\",\"\",SUM(AP4:AP24))","v":""}]
[null,null,null,null,null,null,null,null,null,0.5,"… entré/sorti en cours, beaucoup joué",null,null,null,null,null,null,null,null,null,null,null,null,null,null,null,null,null,null,null,null,null,null,null,null,null,null,null,{"$f":"SUM(AM45:AM50)","v":0},"Absence pour cause de blessure"]
[null,null,null,null,null,null,null,null,null,0.1,"… entré/sorti en cours, peu joué",null,null,null,null,null,null,null,null,null,null,null,null,null,null,null,null,null,null,null,null,null,null,null,"Satisfaction",null,null,null,{"$f":"COUNTIF($H$4:$H$24,$AR45)","v":0},"Doigt",null,null,null,11]
[null,null,null,null,null,null,null,null,null,null,null,null,null,null,null,null,null,null,null,null,null,null,null,null,null,null,null,null,null,null,null,null,null,null,"Satisfaction de l'entrainement/match J",null,{"$f":"IF(AK32=\"\",\"\",SUM(AQ4:AQ24)/AK32)","v":""},null,0,"Épaule",null,null,null,12]
[null,null,null,null,null,null,null,null,null,"J","Es-tu content de la qualité de ton",null,null,null,null,null,null,null,null,null,null,null,null,null,null,null,null,null,null,null,null,null,null,null,null,null,null,null,0,"Dos",null,null,null,13]
[null,null,null,null,null,null,null,null,null,null,"entrainement/compétition?",null,null,null,null,null,null,null,null,null,null,null,null,null,null,null,null,null,null,null,null,null,null,null,"Santé",null,null,null,0,"Genou",null,null,null,14]
[null,null,null,null,null,null,null,null,null,1,"… pas content",null,null,null,null,null,null,null,null,null,null,null,null,null,null,null,null,null,null,null,null,null,null,null,"Limitation pour cause de douleurs",null,{"$f":"AM36","v":0},null,0,"Cheville",null,null,null,15]
[null,null,null,null,null,null,null,null,null,2,"… plutôt pas content",null,null,null,null,null,null,null,null,null,null,null,null,null,null,null,null,null,null,null,null,null,null,null,"Absence pour cause de blessure",null,{"$f":"AM44","v":0},null,0,"Autre",null,null,null,16]
[null,null,null,null,null,null,null,null,null,3,"… moyen",null,null,null,null,null,null,null,null,null,null,null,null,null,null,null,null,null,null,null,null,null,null,null,"Absence pour cause de maladie",null,{"$f":"AM52","v":0}]
[null,null,null,null,null,null,null,null,null,4,"… content",null,null,null,null,null,null,null,null,null,null,null,null,null,null,null,null,null,null,null,null,null,null,null,null,null,null,null,{"$f":"SUM(AM53:AM59)","v":0},"Absence pour cause de maladie"]
[null,null,null,null,null,null,null,null,null,5,"… très content!",null,null,null,null,null,null,null,null,null,null,null,null,null,null,null,null,null,null,null,null,null,null,null,null,null,null,null,{"$f":"COUNTIF($H$4:$H$24,$AR53)","v":0},"Maladie",null,null,null,21]
[]
[]
[]
[]
[]
[]
[]
[]
[]
[]
[]
[]
[]
[]
[]
[]
[]
[]
[]
[]
[]
[]
[]
[]
[]
[]
[]
[]
[]
[]
[]
[]
[]
[]
[]
[]
[]
[]
[]
[]
[]
[]
[]
[]
[]
[]
[]
[]
[]
[]
[]
[]
[]
[]
[]
[]
[]
[]
[]
[]
[]
[]
[]
[]
[]
[]
[]
[]
[]
[]
[]
[]
[]
[]
[]
[]
[]
[]
[]
[]
[null,null,null,null,null,null,null,null,null,null,null,null,null,null,null,null,null,null,null,null,null,null,null,null,{"$f":"Z134-1","v":42},43,44,45,46,47,48,{"$f":"D1","v":49}]
[]
[]
[]
[]
[]
[]
[]
[]
[]
[]
[]
[]
[]
[]
[]
[]
[]
[]
[]
[]
[null,null,null,null,null,null,null,null,null,null,null,null,null,null,null,null,null,null,null,null,null,null,null,null,null,null,null,null,null,null,null,null,{"$f":"AF134+1","v":50}]

{"sheet":"50","index":26,"n_rows":155,"n_cols":45,"rows_kept":155,"cut":false,"hidden":false,"merged":[[0,5,0,6],[1,44,2,44],[29,3,29,6],[30,3,30,6],[35,3,35,6],[36,3,36,6],[46,9,47,9],[9,4,11,4],[12,4,14,4],[3,7,5,7],[15,7,17,7],[27,3,27,6],[15,5,17,5],[18,5,20,5],[28,10,29,10],[15,9,15,10],[1,41,2,41],[1,21,1,23],[30,34,30,36],[30,38,31,43],[1,40,2,40],[16,9,16,10],[28,9,29,9],[28,3,28,6],[37,3,37,6],[38,3,38,6],[31,3,31,6],[32,3,32,6],[33,3,33,6],[34,3,34,6],[22,9,22,10],[29,21,29,26],[36,9,37,9],[1,39,2,39],[18,36,20,36],[21,36,23,36],[15,36,17,36],[1,38,2,38],[1,36,2,36],[1,34,2,34],[1,30,1,32],[1,27,1,29],[1,24,1,26],[9,36,11,36],[12,36,14,36],[6,36,8,36],[1,18,1,20],[11,9,11,10],[10,9,10,10],[1,15,1,17],[1,9,2,10],[3,9,3,10],[4,9,4,10],[5,9,5,10],[3,36,5,36],[6,1,8,1],[6,7,8,7],[6,3,8,3],[6,6,8,6],[6,9,6,10],[8,9,8,10],[7,9,7,10],[15,6,17,6],[15,4,17,4],[9,1,11,1],[9,3,11,3],[9,6,11,6],[9,9,9,10],[1,12,1,14],[18,1,20,1],[18,3,20,3],[18,6,20,6],[1,1,2,1],[3,4,5,4],[6,4,8,4],[3,1,5,1],[9,7,11,7],[14,9,14,10],[12,7,14,7],[3,5,5,5],[6,5,8,5],[9,5,11,5],[12,5,14,5],[17,9,17,10],[3,3,5,3],[3,6,5,6],[1,43,2,43],[38,34,38,36],[44,34,44,36],[47,34,47,36],[21,1,23,1],[21,3,23,3],[21,5,23,5],[21,6,23,6],[21,9,21,10],[23,9,23,10],[21,7,23,7],[21,4,23,4],[12,1,14,1],[12,3,14,3],[12,6,14,6],[12,9,12,10],[13,9,13,10],[18,9,18,10],[19,9,19,10],[20,9,20,10],[18,7,20,7],[18,4,20,4],[15,1,17,1],[15,3,17,3]]}
[null,null,"Woche",{"$f":"INT(MOD(INT((F1-2)/7)+0.6,52+5/28))+1","v":50},{"$f":"D1+1000","v":1050},{"$f":"'49'!F1+7","v":"2018-12-10"},null,"-",null,{"$f":"F1+6","v":"2018-12-16"},null,null,null,null,null,null,null,null,null,null,null,null,null,null,null,null,null,null,null,null,null,null,{"$f":"'Aperçu de la charge'!D2","v":"Prénom Nom"},null,{"$f":"'Aperçu de la charge'!N2","v":"2018/2019"}]
[null,"Jour",null,"Poids","REG","qualité sommeil","durée sommeil","Santé",null,"Description de l'entrainement",null,null,"Club - VB",null,null,"TS/ Nati - VB",null,null,"Club - BVB",null,null,"TS/ Nati - BVB",null,null,"Force - fitness",null,null,"Compet. - VB",null,null,"Compet. - BVB",null,null,null,"Réflexion",null,"Charge/\njour",null,"matchs VB","Sets VB","Matchs BVB","Sets BVB","J","Autre\n (Rég, mentale)","Mental- oder Sonstiges Training"]
[null,null,null,"[kg]","[1 - 5]","[1-5]","[Std]","Nr.",null,null,null,null,"Durée","RPE","Charge","Durée","RPE","Charge","Durée","RPE","Charge","Durée","RPE","Charge","Durée","RPE","Charge","Durée","RPE","Charge","Durée","RPE","Charge",null,null,null,null,null,null,null,null,null,"[1-5]"]
[null,"Lu",null,0,0,0,0,0,null,null,null,null,null,null,{"$f":"M4*N4","v":0},null,null,{"$f":"P4*Q4","v":0},null,null,{"$f":"S4*T4","v":0},null,null,{"$f":"V4*W4","v":0},null,null,{"$f":"Y4*Z4","v":0},null,null,{"$f":"AB4*AC4","v":0},null,null,{"$f":"AE4*AF4","v":0},{"$f":"IF(SUM(M4:AG6)>0,1,0)","v":"00:00:00"},null,null,{"$f":"SUM(O4:O6,R4:R6,U4:U6,X4:X6,AA4:AA6,AD4:AD6,AG4:AG6)","v":0}]
[null,null,null,null,null,null,null,null,null,null,null,null,null,null,{"$f":"M5*N5","v":0},null,null,{"$f":"P5*Q5","v":0},null,null,{"$f":"S5*T5","v":0},null,null,{"$f":"V5*W5","v":0},null,null,{"$f":"Y5*Z5","v":0},null,null,{"$f":"AB5*AC5","v":0},null,null,{"$f":"AE5*AF5","v":0}]
[null,null,null,null,null,null,null,null,null,null,null,null,null,null,0,null,null,0,null,null,0,null,null,0,null,null,0,null,null,0,null,null,0]
[null,"Ma",null,0,0,0,0,0,null,null,null,null,null,null,0,null,null,{"$f":"P7*Q7","v":0},null,null,0,null,null,0,null,null,0,null,null,0,null,null,0,{"$f":"IF(SUM(M7:AG9)>0,1,0)","v":"00:00:00"},null,null,{"$f":"SUM(O7:O9,R7:R9,U7:U9,X7:X9,AA7:AA9,AD7:AD9,AG7:AG9)","v":0}]
[null,null,null,null,null,null,null,null,null,null,null,null,null,null,0,null,null,0,null,null,0,null,null,0,null,null,0,null,null,0,null,null,0]
[null,null,null,null,null,null,null,null,null,null,null,null,null,null,0,null,null,0,null,null,0,null,null,0,null,null,0,null,null,0,null,null,0]
[null,"Me",null,0,0,0,0,0,null,null,null,null,null,null,0,null,null,{"$f":"P10*Q10","v":0},null,null,0,null,null,0,null,null,0,null,null,0,null,null,0,{"$f":"IF(SUM(M10:AG12)>0,1,0)","v":"00:00:00"},null,null,{"$f":"SUM(O10:O12,R10:R12,U10:U12,X10:X12,AA10:AA12,AD10:AD12,AG10:AG12)","v":0}]
[null,null,null,null,null,null,null,null,null,null,null,null,null,null,0,null,null,0,null,null,0,null,null,0,null,null,0,null,null,0,null,null,0]
[null,null,null,null,null,null,null,null,null,null,null,null,null,null,0,null,null,0,null,null,0,null,null,0,null,null,0,null,null,0,null,null,0]
[null,"Je",null,0,0,0,0,0,null,null,null,null,null,null,0,null,null,{"$f":"P13*Q13","v":0},null,null,0,null,null,0,null,null,0,null,null,0,null,null,0,{"$f":"IF(SUM(M13:AG15)>0,1,0)","v":"00:00:00"},null,null,{"$f":"SUM(O13:O15,R13:R15,U13:U15,X13:X15,AA13:AA15,AD13:AD15,AG13:AG15)","v":0}]
[null,null,null,null,null,null,null,null,null,null,null,null,null,null,0,null,null,0,null,null,0,null,null,0,null,null,0,null,null,0,null,null,0]
[null,null,null,null,null,null,null,null,null,null,null,null,null,null,0,null,null,0,null,null,0,null,null,0,null,null,0,null,null,0,null,null,0]
[null,"Ve",null,0,0,0,0,0,null,null,null,null,null,null,0,null,null,{"$f":"P16*Q16","v":0},null,null,0,null,null,0,null,null,0,null,null,0,null,null,0,{"$f":"IF(SUM(M16:AG18)>0,1,0)","v":"00:00:00"},null,null,{"$f":"SUM(O16:O18,R16:R18,U16:U18,X16:X18,AA16:AA18,AD16:AD18,AG16:AG18)","v":0}]
[null,null,null,null,null,null,null,null,null,null,null,null,null,null,0,null,null,0,null,null,0,null,null,0,null,null,0,null,null,0,null,null,0]
[null,null,null,null,null,null,null,null,null,null,null,null,null,null,0,null,null,0,null,null,0,null,null,0,null,null,0,null,null,0,null,null,0]
[null,"Sa",null,0,0,0,0,0,null,null,null,null,null,null,{"$f":"M19*N19","v":0},null,null,{"$f":"P19*Q19","v":0},null,null,{"$f":"S19*T19","v":0},null,null,{"$f":"V19*W19","v":0},null,null,{"$f":"Y19*Z19","v":0},null,null,{"$f":"AB19*AC19","v":0},null,null,{"$f":"AE19*AF19","v":0},{"$f":"IF(SUM(M19:AG21)>0,1,0)","v":"00:00:00"},null,null,{"$f":"SUM(O19:O21,R19:R21,U19:U21,X19:X21,AA19:AA21,AD19:AD21,AG19:AG21)","v":0}]
[null,null,null,null,null,null,null,null,null,null,null,null,null,null,{"$f":"M20*N20","v":0},null,null,0,null,null,{"$f":"S20*T20","v":0},null,null,{"$f":"V20*W20","v":0},null,null,{"$f":"Y20*Z20","v":0},null,null,{"$f":"AB20*AC20","v":0},null,null,{"$f":"AE20*AF20","v":0}]
[null,null,null,null,null,null,null,null,null,null,null,null,null,null,0,null,null,0,null,null,0,null,null,0,null,null,0,null,null,0,null,null,0]
[null,"Di",null,0,0,0,0,0,null,null,null,null,null,null,0,null,null,{"$f":"P22*Q22","v":0},null,null,0,null,null,0,null,null,0,null,null,0,null,null,0,{"$f":"IF(SUM(M22:AG24)>0,1,0)","v":"00:00:00"},null,null,{"$f":"SUM(O22:O24,R22:R24,U22:U24,X22:X24,AA22:AA24,AD22:AD24,AG22:AG24)","v":0}]
[null,null,null,null,null,null,null,null,null,null,null,null,null,null,0,null,null,0,null,null,0,null,null,0,null,null,0,null,null,0,null,null,0]
[null,null,null,null,null,null,null,null,null,null,null,null,null,null,0,null,null,0,null,null,0,null,null,0,null,null,0,null,null,0,null,null,0]
[null,null,null,null,null,null,null,null,null,null,"Total",null,{"$f":"SUM(M4:M24)","v":0},null,{"$f":"SUM(O4:O24)","v":0},{"$f":"SUM(P4:P24)","v":0},null,{"$f":"SUM(R4:R24)","v":0},{"$f":"SUM(S4:S24)","v":0},null,{"$f":"SUM(U4:U24)","v":0},{"$f":"SUM(V4:V24)","v":0},null,{"$f":"SUM(X4:X24)","v":0},{"$f":"SUM(Y4:Y24)","v":0},null,{"$f":"SUM(AA4:AA24)","v":0},{"$f":"SUM(AB4:AB24)","v":0},null,{"$f":"SUM(AD4:AD24)","v":0},{"$f":"SUM(AE4:AE24)","v":0},null,{"$f":"SUM(AG4:AG24)","v":0},null,"Charge totale",null,{"$f":"SUM(AK4:AK24)","v":0}]
[null,"avg.",null,{"$f":"IF(COUNTA(D4:D24)=0,\"\",AVERAGE(D4:D24))","v":0},{"$f":"IF(COUNTA(E4:E24)=0,\"\",AVERAGE(E4:E24))","v":0},{"$f":"IF(COUNTA(F4:F24)=0,\"\",AVERAGE(F4:F24))","v":0},{"$f":"IF(COUNTA(G4:G24)=0,\"\",AVERAGE(G4:G24))","v":0},{"$f":"IF(COUNTA(H4:H24)=0,\"\",COUNTIF(H4:H24,\"x\"))","v":0},null,null,"Zone",null,1,2,3,1,2,3,1,2,3,1,2,3,1,2,3,1,2,3,1,2,3,null,"Moyenne",null,{"$f":"AVERAGE(AK4:AK24)","v":0}]
[null,null,null,null,null,{"$f":"IF(COUNTA(F4:F24)=0,\"\",VAR(F4:F24))","v":0},{"$f":"IF(COUNTA(G4:G24)=0,\"\",STDEV(G4:G24))","v":0},"Divergence - durée du sommeil",null,null,"Unité par zone (RPE) ",null,{"$f":"IF('Répartition des intensités'!$AR$25=\"x\",COUNTIF(N4:N24,\"<3,5\"),COUNTIF(N4:N24,\"<4,5\"))","v":0},{"$f":"COUNT(N4:N24)-(M27+O27)","v":0},{"$f":"IF('Répartition des intensités'!$AR$25=\"x\",COUNTIF(N4:N24,\">5,5\"),COUNTIF(N4:N24,\">6,5\"))","v":0},{"$f":"IF('Répartition des intensités'!$AR$25=\"x\",COUNTIF(Q4:Q24,\"<3,5\"),COUNTIF(Q4:Q24,\"<4,5\"))","v":0},{"$f":"COUNT(Q4:Q24)-(P27+R27)","v":0},{"$f":"IF('Répartition des intensités'!$AR$25=\"x\",COUNTIF(Q4:Q24,\">5,5\"),COUNTIF(Q4:Q24,\">6,5\"))","v":0},{"$f":"IF('Répartition des intensités'!$AR$25=\"x\",COUNTIF(T4:T24,\"<3,5\"),COUNTIF(T4:T24,\"<4,5\"))","v":0},{"$f":"COUNT(T4:T24)-(S27+U27)","v":0},{"$f":"IF('Répartition des intensités'!$AR$25=\"x\",COUNTIF(T4:T24,\">5,5\"),COUNTIF(T4:T24,\">6,5\"))","v":0},{"$f":"IF('Répartition des intensités'!$AR$25=\"x\",COUNTIF(W4:W24,\"<3,5\"),COUNTIF(W4:W24,\"<4,5\"))","v":0},{"$f":"COUNT(W4:W24)-(V27+X27)","v":0},{"$f":"IF('Répartition des intensités'!$AR$25=\"x\",COUNTIF(W4:W24,\">5,5\"),COUNTIF(W4:W24,\">6,5\"))","v":0},{"$f":"IF('Répartition des intensités'!$AR$25=\"x\",COUNTIF(Z4:Z24,\"<3,5\"),COUNTIF(Z4:Z24,\"<4,5\"))","v":0},{"$f":"COUNT(Z4:Z24)-(Y27+AA27)","v":0},{"$f":"IF('Répartition des intensités'!$AR$25=\"x\",COUNTIF(Z4:Z24,\">5,5\"),COUNTIF(Z4:Z24,\">6,5\"))","v":0},{"$f":"IF('Répartition des intensités'!$AR$25=\"x\",COUNTIF(AC4:AC24,\"<3,5\"),COUNTIF(AC4:AC24,\"<4,5\"))","v":0},{"$f":"COUNT(AC4:AC24)-(AB27+AD27)","v":0},{"$f":"IF('Répartition des intensités'!$AR$25=\"x\",COUNTIF(AC4:AC24,\">5,5\"),COUNTIF(AC4:AC24,\">6,5\"))","v":0},{"$f":"IF('Répartition des intensités'!$AR$25=\"x\",COUNTIF(AF4:AF24,\"<3,5\"),COUNTIF(AF4:AF24,\"<4,5\"))","v":0},{"$f":"COUNT(AF4:AF24)-(AE27+AG27)","v":0},{"$f":"IF('Répartition des intensités'!$AR$25=\"x\",COUNTIF(AF4:AF24,\">5,5\"),COUNTIF(AF4:AF24,\">6,5\"))","v":0},null,"Divergence",null,{"$f":"STDEVP(AK4:AK24)","v":0}]
[null,null,null,"échelle de Foster",null,null,null,"RPE",null,null,"Temps par zone (RPE)",null,{"$f":"IF('Répartition des intensités'!$AR$25=\"x\",SUMIF(N4:N24,\"<3,5\",M4:M24),SUMIF(N4:N24,\"<4,5\",M4:M24))","v":0},{"$f":"IF(N27=0,0,SUM((M25)-(M28+O28)))","v":0},{"$f":"IF('Répartition des intensités'!$AR$25=\"x\",SUMIF(N4:N24,\">5,5\",M4:M24),SUMIF(N4:N24,\">6,5\",M4:M24))","v":0},{"$f":"IF('Répartition des intensités'!$AR$25=\"x\",SUMIF(Q4:Q24,\"<3,5\",P4:P24),SUMIF(Q4:Q24,\"<4,5\",P4:P24))","v":0},{"$f":"IF(Q27=0,0,SUM((P25)-(P28+R28)))","v":0},{"$f":"IF('Répartition des intensités'!$AR$25=\"x\",SUMIF(Q4:Q24,\">5,5\",P4:P24),SUMIF(Q4:Q24,\">6,5\",P4:P24))","v":0},{"$f":"IF('Répartition des intensités'!$AR$25=\"x\",SUMIF(T4:T24,\"<3,5\",S4:S24),SUMIF(T4:T24,\"<4,5\",S4:S24))","v":0},{"$f":"IF(T27=0,0,SUM((S25)-(S28+U28)))","v":0},{"$f":"IF('Répartition des intensités'!$AR$25=\"x\",SUMIF(T4:T24,\">5,5\",S4:S24),SUMIF(T4:T24,\">6,5\",S4:S24))","v":0},{"$f":"IF('Répartition des intensités'!$AR$25=\"x\",SUMIF(W4:W24,\"<3,5\",V4:V24),SUMIF(W4:W24,\"<4,5\",V4:V24))","v":0},{"$f":"IF(W27=0,0,SUM((V25)-(V28+X28)))","v":0},{"$f":"IF('Répartition des intensités'!$AR$25=\"x\",SUMIF(W4:W24,\">5,5\",V4:V24),SUMIF(W4:W24,\">6,5\",V4:V24))","v":0},{"$f":"IF('Répartition des intensités'!$AR$25=\"x\",SUMIF(Z4:Z24,\"<3,5\",Y4:Y24),SUMIF(Z4:Z24,\"<4,5\",Y4:Y24))","v":0},{"$f":"IF(Z27=0,0,SUM((Y25)-(Y28+AA28)))","v":0},{"$f":"IF('Répartition des intensités'!$AR$25=\"x\",SUMIF(Z4:Z24,\">5,5\",Y4:Y24),SUMIF(Z4:Z24,\">6,5\",Y4:Y24))","v":0},{"$f":"IF('Répartition des intensités'!$AR$25=\"x\",SUMIF(AC4:AC24,\"<3,5\",AB4:AB24),SUMIF(AC4:AC24,\"<4,5\",AB4:AB24))","v":0},{"$f":"IF(AC27=0,0,SUM((AB25)-(AB28+AD28)))","v":0},{"$f":"IF('Répartition des intensités'!$AR$25=\"x\",SUMIF(AC4:AC24,\">5,5\",AB4:AB24),SUMIF(AC4:AC24,\">6,5\",AB4:AB24))","v":0},{"$f":"IF('Répartition des intensités'!$AR$25=\"x\",SUMIF(AF4:AF24,\"<3,5\",AE4:AE24),SUMIF(AF4:AF24,\"<4,5\",AE4:AE24))","v":0},{"$f":"IF(AF27=0,0,SUM((AE25)-(AE28+AG28)))","v":0},{"$f":"IF('Répartition des intensités'!$AR$25=\"x\",SUMIF(AF4:AF24,\">5,5\",AE4:AE24),SUMIF(AF4:AF24,\">6,5\",AE4:AE24))","v":0}]
[null,null,null,"Comme au repos",null,null,null,0,null,"REG","Est-ce que j'ai l'impression d'avoir récupéré en me levant?"]
[null,null,null,"très facile",null,null,null,1]
[null,null,null,"facile",null,null,null,2,null,1,"… pas du tout récupéré",null,null,null,null,null,null,null,null,null,null,null,null,null,null,null,null,null,null,null,null,null,null,null,"Entrainements",null,null,null,"Rapport de santé"]
[null,null,null,null,null,null,null,3,null,2,"… un peu récupéré",null,null,null,null,null,null,null,null,null,null,null,null,null,null,null,null,null,null,null,null,null,null,null,"Jours d'entrainement",null,{"$f":"IF(SUM(AH4:AH24)=0,\"\",SUM(AH4:AH24))","v":""}]
[null,null,null,"Assez dur",null,null,null,4,null,3,"… récupéré",null,null,null,null,null,null,null,null,null,null,{"$f":"B4","v":"Lu"},{"$f":"AK4","v":0},null,null,null,null,null,null,null,null,null,null,null,"Entrainements",null,{"$f":"IF(AK32=\"\",\"\",SUM(M27:AG27))","v":""}]
[null,null,null,"dur",null,null,null,5,null,4,"…  en forme",null,null,null,null,null,null,null,null,null,null,{"$f":"B7","v":"Ma"},{"$f":"AK7","v":0},null,null,null,null,null,null,null,null,null,null,null,"Heures d'entrainement",null,{"$f":"IF(AK32=\"\",\"\",SUM(M25,P25,S25,Y25,AB25,V25,AE25)/60)","v":""},null,{"$f":"IF($AK$32=\"\",\"\",AK32-AM36-AM44-AM52)","v":""},"Aucune limitation",null,null,null,0]
[null,null,null,null,null,null,null,6,null,5,"… très en forme",null,null,null,null,null,null,null,null,null,null,{"$f":"B10","v":"Me"},{"$f":"AK10","v":0},null,null,null,null,null,null,null,null,null,null,null,"Charge de l'entrainement",null,{"$f":"IF(AK32=\"\",\"\",SUM(AK25))","v":""}]
[null,null,null,"très dur",null,null,null,7,null,null,null,null,null,null,null,null,null,null,null,null,null,{"$f":"B13","v":"Je"},{"$f":"AK13","v":0},null,null,null,null,null,null,null,null,null,null,null,"Monotonie",null,{"$f":"IF(AK27=0,0,(AVERAGE(AK4:AK24))/AK27)","v":0},null,{"$f":"SUM(AM37:AM42)","v":0},"Limitation pour cause de douleurs"]
[null,null,null,null,null,null,null,8,null,"Nombre de matchs",null,null,null,null,null,null,null,null,null,null,null,{"$f":"B16","v":"Ve"},{"$f":"AK16","v":0},null,null,null,null,null,null,null,null,null,null,null,"Efforts à l'entrainement",null,{"$f":"IF(AK32=\"\",\"\",AK35*AK36)","v":""},null,{"$f":"COUNTIF($H$4:$H$24,$AR37)","v":0},"Doigt",null,null,null,1]
[null,null,null,"extrèmement dur",null,null,null,9,null,null,null,null,null,null,null,null,null,null,null,null,null,{"$f":"B19","v":"Sa"},{"$f":"AK19","v":0},null,null,null,null,null,null,null,null,null,null,null,null,null,null,null,0,"Épaule",null,null,null,2]
[null,null,null,"Comme mon entrainement le plus dur",null,null,null,10,null,1,"… 3 sets et plus",null,null,null,null,null,null,null,null,null,null,{"$f":"B22","v":"Di"},{"$f":"AK22","v":0},null,null,null,null,null,null,null,null,null,null,null,"Compétition",null,null,null,0,"Dos",null,null,null,3]
[null,null,null,null,null,null,null,null,null,0.5,"… moins de 3 sets",null,null,null,null,null,null,null,null,null,null,null,null,null,null,null,null,null,null,null,null,null,null,null,"Matchs de volleyball",null,{"$f":"IF(AK32=\"\",\"\",SUM(AM4:AM24))","v":""},null,0,"Genou",null,null,null,4]
[null,null,null,null,null,null,null,null,null,null,null,null,null,null,null,null,null,null,null,null,null,null,null,null,null,null,null,null,null,null,null,null,null,null,"Sets de volleyball",null,{"$f":"IF(AK32=\"\",\"\",SUM(AN4:AN24))","v":""},null,0,"Cheville",null,null,null,5]
[null,null,null,null,null,null,null,null,null,"Sets joués",null,null,null,null,null,null,null,null,null,null,null,null,null,null,null,null,null,null,null,null,null,null,null,null,"Matchs de beach volley",null,{"$f":"IF(AK35=\"\",\"\",SUM(AO4:AO24))","v":""},null,0,"Autre",null,null,null,6]
[null,null,null,null,null,null,null,null,null,1,"… depuis le début et durant tout le set",null,null,null,null,null,null,null,null,null,null,null,null,null,null,null,null,null,null,null,null,null,null,null,"Sets de beach volley",null,{"$f":"IF(AK35=\"\",\"\",SUM(AP4:AP24))","v":""}]
[null,null,null,null,null,null,null,null,null,0.5,"… entré/sorti en cours, beaucoup joué",null,null,null,null,null,null,null,null,null,null,null,null,null,null,null,null,null,null,null,null,null,null,null,null,null,null,null,{"$f":"SUM(AM45:AM50)","v":0},"Absence pour cause de blessure"]
[null,null,null,null,null,null,null,null,null,0.1,"… entré/sorti en cours, peu joué",null,null,null,null,null,null,null,null,null,null,null,null,null,null,null,null,null,null,null,null,null,null,null,"Satisfaction",null,null,null,{"$f":"COUNTIF($H$4:$H$24,$AR45)","v":0},"Doigt",null,null,null,11]
[null,null,null,null,null,null,null,null,null,null,null,null,null,null,null,null,null,null,null,null,null,null,null,null,null,null,null,null,null,null,null,null,null,null,"Satisfaction de l'entrainement/match J",null,{"$f":"IF(AK32=\"\",\"\",SUM(AQ4:AQ24)/AK32)","v":""},null,0,"Épaule",null,null,null,12]
[null,null,null,null,null,null,null,null,null,"J","Es-tu content de la qualité de ton",null,null,null,null,null,null,null,null,null,null,null,null,null,null,null,null,null,null,null,null,null,null,null,null,null,null,null,0,"Dos",null,null,null,13]
[null,null,null,null,null,null,null,null,null,null,"entrainement/compétition?",null,null,null,null,null,null,null,null,null,null,null,null,null,null,null,null,null,null,null,null,null,null,null,"Santé",null,null,null,0,"Genou",null,null,null,14]
[null,null,null,null,null,null,null,null,null,1,"… pas content",null,null,null,null,null,null,null,null,null,null,null,null,null,null,null,null,null,null,null,null,null,null,null,"Limitation pour cause de douleurs",null,{"$f":"AM36","v":0},null,0,"Cheville",null,null,null,15]
[null,null,null,null,null,null,null,null,null,2,"… plutôt pas content",null,null,null,null,null,null,null,null,null,null,null,null,null,null,null,null,null,null,null,null,null,null,null,"Absence pour cause de blessure",null,{"$f":"AM44","v":0},null,0,"Autre",null,null,null,16]
[null,null,null,null,null,null,null,null,null,3,"… moyen",null,null,null,null,null,null,null,null,null,null,null,null,null,null,null,null,null,null,null,null,null,null,null,"Absence pour cause de maladie",null,{"$f":"AM52","v":0}]
[null,null,null,null,null,null,null,null,null,4,"… content",null,null,null,null,null,null,null,null,null,null,null,null,null,null,null,null,null,null,null,null,null,null,null,null,null,null,null,{"$f":"SUM(AM53:AM59)","v":0},"Absence pour cause de maladie"]
[null,null,null,null,null,null,null,null,null,5,"… très content!",null,null,null,null,null,null,null,null,null,null,null,null,null,null,null,null,null,null,null,null,null,null,null,null,null,null,null,{"$f":"COUNTIF($H$4:$H$24,$AR53)","v":0},"Maladie",null,null,null,21]
[]
[]
[]
[]
[]
[]
[]
[]
[]
[]
[]
[]
[]
[]
[]
[]
[]
[]
[]
[]
[]
[]
[]
[]
[]
[]
[]
[]
[]
[]
[]
[]
[]
[]
[]
[]
[]
[]
[]
[]
[]
[]
[]
[]
[]
[]
[]
[]
[]
[]
[]
[]
[]
[]
[]
[]
[]
[]
[]
[]
[]
[]
[]
[]
[]
[]
[]
[]
[]
[]
[]
[]
[]
[]
[]
[]
[]
[]
[]
[]
[null,null,null,null,null,null,null,null,null,null,null,null,null,null,null,null,null,null,null,null,null,null,null,null,{"$f":"Z134-1","v":43},44,45,46,47,48,49,{"$f":"D1","v":50}]
[]
[]
[]
[]
[]
[]
[]
[]
[]
[]
[]
[]
[]
[]
[]
[]
[]
[]
[]
[]
[null,null,null,null,null,null,null,null,null,null,null,null,null,null,null,null,null,null,null,null,null,null,null,null,null,null,null,null,null,null,null,null,{"$f":"AF134+1","v":51}]

{"sheet":"51","index":27,"n_rows":155,"n_cols":45,"rows_kept":155,"cut":false,"hidden":false,"merged":[[1,44,2,44],[1,15,1,17],[28,10,29,10],[29,21,29,26],[36,9,37,9],[1,41,2,41],[21,6,23,6],[21,9,21,10],[23,9,23,10],[21,7,23,7],[1,12,1,14],[7,9,7,10],[32,3,32,6],[33,3,33,6],[34,3,34,6],[35,3,35,6],[36,3,36,6],[9,6,11,6],[9,9,9,10],[6,4,8,4],[9,7,11,7],[9,4,11,4],[11,9,11,10],[1,24,1,26],[38,3,38,6],[30,34,30,36],[30,38,31,43],[0,5,0,6],[1,39,2,39],[21,36,23,36],[9,36,11,36],[12,36,14,36],[15,36,17,36],[28,9,29,9],[16,9,16,10],[15,9,15,10],[10,9,10,10],[1,38,2,38],[12,4,14,4],[6,36,8,36],[3,3,5,3],[3,6,5,6],[3,9,3,10],[4,9,4,10],[17,9,17,10],[22,9,22,10],[18,9,18,10],[19,9,19,10],[46,9,47,9],[18,36,20,36],[3,36,5,36],[20,9,20,10],[5,9,5,10],[29,3,29,6],[15,5,17,5],[27,3,27,6],[28,3,28,6],[37,3,37,6],[30,3,30,6],[31,3,31,6],[3,4,5,4],[3,7,5,7],[1,36,2,36],[13,9,13,10],[14,9,14,10],[12,7,14,7],[9,5,11,5],[12,5,14,5],[1,18,1,20],[1,30,1,32],[1,27,1,29],[21,1,23,1],[15,7,17,7],[15,1,17,1],[15,3,17,3],[15,6,17,6],[15,4,17,4],[18,5,20,5],[18,1,20,1],[18,3,20,3],[21,5,23,5],[21,3,23,3],[21,4,23,4],[18,7,20,7],[18,4,20,4],[18,6,20,6],[1,1,2,1],[9,1,11,1],[9,3,11,3],[1,40,2,40],[1,43,2,43],[38,34,38,36],[44,34,44,36],[47,34,47,36],[12,1,14,1],[6,3,8,3],[6,6,8,6],[6,9,6,10],[8,9,8,10],[6,5,8,5],[6,1,8,1],[6,7,8,7],[1,34,2,34],[1,21,1,23],[1,9,2,10],[3,1,5,1],[3,5,5,5],[12,3,14,3],[12,6,14,6],[12,9,12,10]]}
[null,null,"Woche",{"$f":"INT(MOD(INT((F1-2)/7)+0.6,52+5/28))+1","v":51},{"$f":"D1+1000","v":1051},{"$f":"'50'!F1+7","v":"2018-12-17"},null,"-",null,{"$f":"F1+6","v":"2018-12-23"},null,null,null,null,null,null,null,null,null,null,null,null,null,null,null,null,null,null,null,null,null,null,{"$f":"'Aperçu de la charge'!D2","v":"Prénom Nom"},null,{"$f":"'Aperçu de la charge'!N2","v":"2018/2019"}]
[null,"Jour",null,"Poids","REG","qualité sommeil","durée sommeil","Santé",null,"Description de l'entrainement",null,null,"Club - VB",null,null,"TS/ Nati - VB",null,null,"Club - BVB",null,null,"TS/ Nati - BVB",null,null,"Force - fitness",null,null,"Compet. - VB",null,null,"Compet. - BVB",null,null,null,"Réflexion",null,"Charge/\njour",null,"matchs VB","Sets VB","Matchs BVB","Sets BVB","J","Autre\n (Rég, mentale)","Mental- oder Sonstiges Training"]
[null,null,null,"[kg]","[1 - 5]","[1-5]","[Std]","Nr.",null,null,null,null,"Durée","RPE","Charge","Durée","RPE","Charge","Durée","RPE","Charge","Durée","RPE","Charge","Durée","RPE","Charge","Durée","RPE","Charge","Durée","RPE","Charge",null,null,null,null,null,null,null,null,null,"[1-5]"]
[null,"Lu",null,0,0,0,0,0,null,null,null,null,null,null,{"$f":"M4*N4","v":0},null,null,{"$f":"P4*Q4","v":0},null,null,{"$f":"S4*T4","v":0},null,null,{"$f":"V4*W4","v":0},null,null,{"$f":"Y4*Z4","v":0},null,null,{"$f":"AB4*AC4","v":0},null,null,{"$f":"AE4*AF4","v":0},{"$f":"IF(SUM(M4:AG6)>0,1,0)","v":"00:00:00"},null,null,{"$f":"SUM(O4:O6,R4:R6,U4:U6,X4:X6,AA4:AA6,AD4:AD6,AG4:AG6)","v":0}]
[null,null,null,null,null,null,null,null,null,null,null,null,null,null,{"$f":"M5*N5","v":0},null,null,{"$f":"P5*Q5","v":0},null,null,{"$f":"S5*T5","v":0},null,null,{"$f":"V5*W5","v":0},null,null,{"$f":"Y5*Z5","v":0},null,null,{"$f":"AB5*AC5","v":0},null,null,{"$f":"AE5*AF5","v":0}]
[null,null,null,null,null,null,null,null,null,null,null,null,null,null,0,null,null,0,null,null,0,null,null,0,null,null,0,null,null,0,null,null,0]
[null,"Ma",null,0,0,0,0,0,null,null,null,null,null,null,0,null,null,{"$f":"P7*Q7","v":0},null,null,0,null,null,0,null,null,0,null,null,0,null,null,0,{"$f":"IF(SUM(M7:AG9)>0,1,0)","v":"00:00:00"},null,null,{"$f":"SUM(O7:O9,R7:R9,U7:U9,X7:X9,AA7:AA9,AD7:AD9,AG7:AG9)","v":0}]
[null,null,null,null,null,null,null,null,null,null,null,null,null,null,0,null,null,0,null,null,0,null,null,0,null,null,0,null,null,0,null,null,0]
[null,null,null,null,null,null,null,null,null,null,null,null,null,null,0,null,null,0,null,null,0,null,null,0,null,null,0,null,null,0,null,null,0]
[null,"Me",null,0,0,0,0,0,null,null,null,null,null,null,0,null,null,{"$f":"P10*Q10","v":0},null,null,0,null,null,0,null,null,0,null,null,0,null,null,0,{"$f":"IF(SUM(M10:AG12)>0,1,0)","v":"00:00:00"},null,null,{"$f":"SUM(O10:O12,R10:R12,U10:U12,X10:X12,AA10:AA12,AD10:AD12,AG10:AG12)","v":0}]
[null,null,null,null,null,null,null,null,null,null,null,null,null,null,0,null,null,0,null,null,0,null,null,0,null,null,0,null,null,0,null,null,0]
[null,null,null,null,null,null,null,null,null,null,null,null,null,null,0,null,null,0,null,null,0,null,null,0,null,null,0,null,null,0,null,null,0]
[null,"Je",null,0,0,0,0,0,null,null,null,null,null,null,0,null,null,{"$f":"P13*Q13","v":0},null,null,0,null,null,0,null,null,0,null,null,0,null,null,0,{"$f":"IF(SUM(M13:AG15)>0,1,0)","v":"00:00:00"},null,null,{"$f":"SUM(O13:O15,R13:R15,U13:U15,X13:X15,AA13:AA15,AD13:AD15,AG13:AG15)","v":0}]
[null,null,null,null,null,null,null,null,null,null,null,null,null,null,0,null,null,0,null,null,0,null,null,0,null,null,0,null,null,0,null,null,0]
[null,null,null,null,null,null,null,null,null,null,null,null,null,null,0,null,null,0,null,null,0,null,null,0,null,null,0,null,null,0,null,null,0]
[null,"Ve",null,0,0,0,0,0,null,null,null,null,null,null,0,null,null,{"$f":"P16*Q16","v":0},null,null,0,null,null,0,null,null,0,null,null,0,null,null,0,{"$f":"IF(SUM(M16:AG18)>0,1,0)","v":"00:00:00"},null,null,{"$f":"SUM(O16:O18,R16:R18,U16:U18,X16:X18,AA16:AA18,AD16:AD18,AG16:AG18)","v":0}]
[null,null,null,null,null,null,null,null,null,null,null,null,null,null,0,null,null,0,null,null,0,null,null,0,null,null,0,null,null,0,null,null,0]
[null,null,null,null,null,null,null,null,null,null,null,null,null,null,0,null,null,0,null,null,0,null,null,0,null,null,0,null,null,0,null,null,0]
[null,"Sa",null,0,0,0,0,0,null,null,null,null,null,null,{"$f":"M19*N19","v":0},null,null,{"$f":"P19*Q19","v":0},null,null,{"$f":"S19*T19","v":0},null,null,{"$f":"V19*W19","v":0},null,null,{"$f":"Y19*Z19","v":0},null,null,{"$f":"AB19*AC19","v":0},null,null,{"$f":"AE19*AF19","v":0},{"$f":"IF(SUM(M19:AG21)>0,1,0)","v":"00:00:00"},null,null,{"$f":"SUM(O19:O21,R19:R21,U19:U21,X19:X21,AA19:AA21,AD19:AD21,AG19:AG21)","v":0}]
[null,null,null,null,null,null,null,null,null,null,null,null,null,null,{"$f":"M20*N20","v":0},null,null,0,null,null,{"$f":"S20*T20","v":0},null,null,{"$f":"V20*W20","v":0},null,null,{"$f":"Y20*Z20","v":0},null,null,{"$f":"AB20*AC20","v":0},null,null,{"$f":"AE20*AF20","v":0}]
[null,null,null,null,null,null,null,null,null,null,null,null,null,null,0,null,null,0,null,null,0,null,null,0,null,null,0,null,null,0,null,null,0]
[null,"Di",null,0,0,0,0,0,null,null,null,null,null,null,0,null,null,{"$f":"P22*Q22","v":0},null,null,0,null,null,0,null,null,0,null,null,0,null,null,0,{"$f":"IF(SUM(M22:AG24)>0,1,0)","v":"00:00:00"},null,null,{"$f":"SUM(O22:O24,R22:R24,U22:U24,X22:X24,AA22:AA24,AD22:AD24,AG22:AG24)","v":0}]
[null,null,null,null,null,null,null,null,null,null,null,null,null,null,0,null,null,0,null,null,0,null,null,0,null,null,0,null,null,0,null,null,0]
[null,null,null,null,null,null,null,null,null,null,null,null,null,null,0,null,null,0,null,null,0,null,null,0,null,null,0,null,null,0,null,null,0]
[null,null,null,null,null,null,null,null,null,null,"Total",null,{"$f":"SUM(M4:M24)","v":0},null,{"$f":"SUM(O4:O24)","v":0},{"$f":"SUM(P4:P24)","v":0},null,{"$f":"SUM(R4:R24)","v":0},{"$f":"SUM(S4:S24)","v":0},null,{"$f":"SUM(U4:U24)","v":0},{"$f":"SUM(V4:V24)","v":0},null,{"$f":"SUM(X4:X24)","v":0},{"$f":"SUM(Y4:Y24)","v":0},null,{"$f":"SUM(AA4:AA24)","v":0},{"$f":"SUM(AB4:AB24)","v":0},null,{"$f":"SUM(AD4:AD24)","v":0},{"$f":"SUM(AE4:AE24)","v":0},null,{"$f":"SUM(AG4:AG24)","v":0},null,"Charge totale",null,{"$f":"SUM(AK4:AK24)","v":0}]
[null,"avg.",null,{"$f":"IF(COUNTA(D4:D24)=0,\"\",AVERAGE(D4:D24))","v":0},{"$f":"IF(COUNTA(E4:E24)=0,\"\",AVERAGE(E4:E24))","v":0},{"$f":"IF(COUNTA(F4:F24)=0,\"\",AVERAGE(F4:F24))","v":0},{"$f":"IF(COUNTA(G4:G24)=0,\"\",AVERAGE(G4:G24))","v":0},{"$f":"IF(COUNTA(H4:H24)=0,\"\",COUNTIF(H4:H24,\"x\"))","v":0},null,null,"Zone",null,1,2,3,1,2,3,1,2,3,1,2,3,1,2,3,1,2,3,1,2,3,null,"Moyenne",null,{"$f":"AVERAGE(AK4:AK24)","v":0}]
[null,null,null,null,null,{"$f":"IF(COUNTA(F4:F24)=0,\"\",VAR(F4:F24))","v":0},{"$f":"IF(COUNTA(G4:G24)=0,\"\",STDEV(G4:G24))","v":0},"Divergence - durée du sommeil",null,null,"Unité par zone (RPE) ",null,{"$f":"IF('Répartition des intensités'!$AR$25=\"x\",COUNTIF(N4:N24,\"<3,5\"),COUNTIF(N4:N24,\"<4,5\"))","v":0},{"$f":"COUNT(N4:N24)-(M27+O27)","v":0},{"$f":"IF('Répartition des intensités'!$AR$25=\"x\",COUNTIF(N4:N24,\">5,5\"),COUNTIF(N4:N24,\">6,5\"))","v":0},{"$f":"IF('Répartition des intensités'!$AR$25=\"x\",COUNTIF(Q4:Q24,\"<3,5\"),COUNTIF(Q4:Q24,\"<4,5\"))","v":0},{"$f":"COUNT(Q4:Q24)-(P27+R27)","v":0},{"$f":"IF('Répartition des intensités'!$AR$25=\"x\",COUNTIF(Q4:Q24,\">5,5\"),COUNTIF(Q4:Q24,\">6,5\"))","v":0},{"$f":"IF('Répartition des intensités'!$AR$25=\"x\",COUNTIF(T4:T24,\"<3,5\"),COUNTIF(T4:T24,\"<4,5\"))","v":0},{"$f":"COUNT(T4:T24)-(S27+U27)","v":0},{"$f":"IF('Répartition des intensités'!$AR$25=\"x\",COUNTIF(T4:T24,\">5,5\"),COUNTIF(T4:T24,\">6,5\"))","v":0},{"$f":"IF('Répartition des intensités'!$AR$25=\"x\",COUNTIF(W4:W24,\"<3,5\"),COUNTIF(W4:W24,\"<4,5\"))","v":0},{"$f":"COUNT(W4:W24)-(V27+X27)","v":0},{"$f":"IF('Répartition des intensités'!$AR$25=\"x\",COUNTIF(W4:W24,\">5,5\"),COUNTIF(W4:W24,\">6,5\"))","v":0},{"$f":"IF('Répartition des intensités'!$AR$25=\"x\",COUNTIF(Z4:Z24,\"<3,5\"),COUNTIF(Z4:Z24,\"<4,5\"))","v":0},{"$f":"COUNT(Z4:Z24)-(Y27+AA27)","v":0},{"$f":"IF('Répartition des intensités'!$AR$25=\"x\",COUNTIF(Z4:Z24,\">5,5\"),COUNTIF(Z4:Z24,\">6,5\"))","v":0},{"$f":"IF('Répartition des intensités'!$AR$25=\"x\",COUNTIF(AC4:AC24,\"<3,5\"),COUNTIF(AC4:AC24,\"<4,5\"))","v":0},{"$f":"COUNT(AC4:AC24)-(AB27+AD27)","v":0},{"$f":"IF('Répartition des intensités'!$AR$25=\"x\",COUNTIF(AC4:AC24,\">5,5\"),COUNTIF(AC4:AC24,\">6,5\"))","v":0},{"$f":"IF('Répartition des intensités'!$AR$25=\"x\",COUNTIF(AF4:AF24,\"<3,5\"),COUNTIF(AF4:AF24,\"<4,5\"))","v":0},{"$f":"COUNT(AF4:AF24)-(AE27+AG27)","v":0},{"$f":"IF('Répartition des intensités'!$AR$25=\"x\",COUNTIF(AF4:AF24,\">5,5\"),COUNTIF(AF4:AF24,\">6,5\"))","v":0},null,"Divergence",null,{"$f":"STDEVP(AK4:AK24)","v":0}]
[null,null,null,"échelle de Foster",null,null,null,"RPE",null,null,"Temps par zone (RPE)",null,{"$f":"IF('Répartition des intensités'!$AR$25=\"x\",SUMIF(N4:N24,\"<3,5\",M4:M24),SUMIF(N4:N24,\"<4,5\",M4:M24))","v":0},{"$f":"IF(N27=0,0,SUM((M25)-(M28+O28)))","v":0},{"$f":"IF('Répartition des intensités'!$AR$25=\"x\",SUMIF(N4:N24,\">5,5\",M4:M24),SUMIF(N4:N24,\">6,5\",M4:M24))","v":0},{"$f":"IF('Répartition des intensités'!$AR$25=\"x\",SUMIF(Q4:Q24,\"<3,5\",P4:P24),SUMIF(Q4:Q24,\"<4,5\",P4:P24))","v":0},{"$f":"IF(Q27=0,0,SUM((P25)-(P28+R28)))","v":0},{"$f":"IF('Répartition des intensités'!$AR$25=\"x\",SUMIF(Q4:Q24,\">5,5\",P4:P24),SUMIF(Q4:Q24,\">6,5\",P4:P24))","v":0},{"$f":"IF('Répartition des intensités'!$AR$25=\"x\",SUMIF(T4:T24,\"<3,5\",S4:S24),SUMIF(T4:T24,\"<4,5\",S4:S24))","v":0},{"$f":"IF(T27=0,0,SUM((S25)-(S28+U28)))","v":0},{"$f":"IF('Répartition des intensités'!$AR$25=\"x\",SUMIF(T4:T24,\">5,5\",S4:S24),SUMIF(T4:T24,\">6,5\",S4:S24))","v":0},{"$f":"IF('Répartition des intensités'!$AR$25=\"x\",SUMIF(W4:W24,\"<3,5\",V4:V24),SUMIF(W4:W24,\"<4,5\",V4:V24))","v":0},{"$f":"IF(W27=0,0,SUM((V25)-(V28+X28)))","v":0},{"$f":"IF('Répartition des intensités'!$AR$25=\"x\",SUMIF(W4:W24,\">5,5\",V4:V24),SUMIF(W4:W24,\">6,5\",V4:V24))","v":0},{"$f":"IF('Répartition des intensités'!$AR$25=\"x\",SUMIF(Z4:Z24,\"<3,5\",Y4:Y24),SUMIF(Z4:Z24,\"<4,5\",Y4:Y24))","v":0},{"$f":"IF(Z27=0,0,SUM((Y25)-(Y28+AA28)))","v":0},{"$f":"IF('Répartition des intensités'!$AR$25=\"x\",SUMIF(Z4:Z24,\">5,5\",Y4:Y24),SUMIF(Z4:Z24,\">6,5\",Y4:Y24))","v":0},{"$f":"IF('Répartition des intensités'!$AR$25=\"x\",SUMIF(AC4:AC24,\"<3,5\",AB4:AB24),SUMIF(AC4:AC24,\"<4,5\",AB4:AB24))","v":0},{"$f":"IF(AC27=0,0,SUM((AB25)-(AB28+AD28)))","v":0},{"$f":"IF('Répartition des intensités'!$AR$25=\"x\",SUMIF(AC4:AC24,\">5,5\",AB4:AB24),SUMIF(AC4:AC24,\">6,5\",AB4:AB24))","v":0},{"$f":"IF('Répartition des intensités'!$AR$25=\"x\",SUMIF(AF4:AF24,\"<3,5\",AE4:AE24),SUMIF(AF4:AF24,\"<4,5\",AE4:AE24))","v":0},{"$f":"IF(AF27=0,0,SUM((AE25)-(AE28+AG28)))","v":0},{"$f":"IF('Répartition des intensités'!$AR$25=\"x\",SUMIF(AF4:AF24,\">5,5\",AE4:AE24),SUMIF(AF4:AF24,\">6,5\",AE4:AE24))","v":0}]
[null,null,null,"Comme au repos",null,null,null,0,null,"REG","Est-ce que j'ai l'impression d'avoir récupéré en me levant?"]
[null,null,null,"très facile",null,null,null,1]
[null,null,null,"facile",null,null,null,2,null,1,"… pas du tout récupéré",null,null,null,null,null,null,null,null,null,null,null,null,null,null,null,null,null,null,null,null,null,null,null,"Entrainements",null,null,null,"Rapport de santé"]
[null,null,null,null,null,null,null,3,null,2,"… un peu récupéré",null,null,null,null,null,null,null,null,null,null,null,null,null,null,null,null,null,null,null,null,null,null,null,"Jours d'entrainement",null,{"$f":"IF(SUM(AH4:AH24)=0,\"\",SUM(AH4:AH24))","v":""}]
[null,null,null,"Assez dur",null,null,null,4,null,3,"… récupéré",null,null,null,null,null,null,null,null,null,null,{"$f":"B4","v":"Lu"},{"$f":"AK4","v":0},null,null,null,null,null,null,null,null,null,null,null,"Entrainements",null,{"$f":"IF(AK32=\"\",\"\",SUM(M27:AG27))","v":""}]
[null,null,null,"dur",null,null,null,5,null,4,"…  en forme",null,null,null,null,null,null,null,null,null,null,{"$f":"B7","v":"Ma"},{"$f":"AK7","v":0},null,null,null,null,null,null,null,null,null,null,null,"Heures d'entrainement",null,{"$f":"IF(AK32=\"\",\"\",SUM(M25,P25,S25,Y25,AB25,V25,AE25)/60)","v":""},null,{"$f":"IF($AK$32=\"\",\"\",AK32-AM36-AM44-AM52)","v":""},"Aucune limitation",null,null,null,0]
[null,null,null,null,null,null,null,6,null,5,"… très en forme",null,null,null,null,null,null,null,null,null,null,{"$f":"B10","v":"Me"},{"$f":"AK10","v":0},null,null,null,null,null,null,null,null,null,null,null,"Charge de l'entrainement",null,{"$f":"IF(AK32=\"\",\"\",SUM(AK25))","v":""}]
[null,null,null,"très dur",null,null,null,7,null,null,null,null,null,null,null,null,null,null,null,null,null,{"$f":"B13","v":"Je"},{"$f":"AK13","v":0},null,null,null,null,null,null,null,null,null,null,null,"Monotonie",null,{"$f":"IF(AK27=0,0,(AVERAGE(AK4:AK24))/AK27)","v":0},null,{"$f":"SUM(AM37:AM42)","v":0},"Limitation pour cause de douleurs"]
[null,null,null,null,null,null,null,8,null,"Nombre de matchs",null,null,null,null,null,null,null,null,null,null,null,{"$f":"B16","v":"Ve"},{"$f":"AK16","v":0},null,null,null,null,null,null,null,null,null,null,null,"Efforts à l'entrainement",null,{"$f":"IF(AK32=\"\",\"\",AK35*AK36)","v":""},null,{"$f":"COUNTIF($H$4:$H$24,$AR37)","v":0},"Doigt",null,null,null,1]
[null,null,null,"extrèmement dur",null,null,null,9,null,null,null,null,null,null,null,null,null,null,null,null,null,{"$f":"B19","v":"Sa"},{"$f":"AK19","v":0},null,null,null,null,null,null,null,null,null,null,null,null,null,null,null,0,"Épaule",null,null,null,2]
[null,null,null,"Comme mon entrainement le plus dur",null,null,null,10,null,1,"… 3 sets et plus",null,null,null,null,null,null,null,null,null,null,{"$f":"B22","v":"Di"},{"$f":"AK22","v":0},null,null,null,null,null,null,null,null,null,null,null,"Compétition",null,null,null,0,"Dos",null,null,null,3]
[null,null,null,null,null,null,null,null,null,0.5,"… moins de 3 sets",null,null,null,null,null,null,null,null,null,null,null,null,null,null,null,null,null,null,null,null,null,null,null,"Matchs de volleyball",null,{"$f":"IF(AK32=\"\",\"\",SUM(AM4:AM24))","v":""},null,0,"Genou",null,null,null,4]
[null,null,null,null,null,null,null,null,null,null,null,null,null,null,null,null,null,null,null,null,null,null,null,null,null,null,null,null,null,null,null,null,null,null,"Sets de volleyball",null,{"$f":"IF(AK32=\"\",\"\",SUM(AN4:AN24))","v":""},null,0,"Cheville",null,null,null,5]
[null,null,null,null,null,null,null,null,null,"Sets joués",null,null,null,null,null,null,null,null,null,null,null,null,null,null,null,null,null,null,null,null,null,null,null,null,"Matchs de beach volley",null,{"$f":"IF(AK35=\"\",\"\",SUM(AO4:AO24))","v":""},null,0,"Autre",null,null,null,6]
[null,null,null,null,null,null,null,null,null,1,"… depuis le début et durant tout le set",null,null,null,null,null,null,null,null,null,null,null,null,null,null,null,null,null,null,null,null,null,null,null,"Sets de beach volley",null,{"$f":"IF(AK35=\"\",\"\",SUM(AP4:AP24))","v":""}]
[null,null,null,null,null,null,null,null,null,0.5,"… entré/sorti en cours, beaucoup joué",null,null,null,null,null,null,null,null,null,null,null,null,null,null,null,null,null,null,null,null,null,null,null,null,null,null,null,{"$f":"SUM(AM45:AM50)","v":0},"Absence pour cause de blessure"]
[null,null,null,null,null,null,null,null,null,0.1,"… entré/sorti en cours, peu joué",null,null,null,null,null,null,null,null,null,null,null,null,null,null,null,null,null,null,null,null,null,null,null,"Satisfaction",null,null,null,{"$f":"COUNTIF($H$4:$H$24,$AR45)","v":0},"Doigt",null,null,null,11]
[null,null,null,null,null,null,null,null,null,null,null,null,null,null,null,null,null,null,null,null,null,null,null,null,null,null,null,null,null,null,null,null,null,null,"Satisfaction de l'entrainement/match J",null,{"$f":"IF(AK32=\"\",\"\",SUM(AQ4:AQ24)/AK32)","v":""},null,0,"Épaule",null,null,null,12]
[null,null,null,null,null,null,null,null,null,"J","Es-tu content de la qualité de ton",null,null,null,null,null,null,null,null,null,null,null,null,null,null,null,null,null,null,null,null,null,null,null,null,null,null,null,0,"Dos",null,null,null,13]
[null,null,null,null,null,null,null,null,null,null,"entrainement/compétition?",null,null,null,null,null,null,null,null,null,null,null,null,null,null,null,null,null,null,null,null,null,null,null,"Santé",null,null,null,0,"Genou",null,null,null,14]
[null,null,null,null,null,null,null,null,null,1,"… pas content",null,null,null,null,null,null,null,null,null,null,null,null,null,null,null,null,null,null,null,null,null,null,null,"Limitation pour cause de douleurs",null,{"$f":"AM36","v":0},null,0,"Cheville",null,null,null,15]
[null,null,null,null,null,null,null,null,null,2,"… plutôt pas content",null,null,null,null,null,null,null,null,null,null,null,null,null,null,null,null,null,null,null,null,null,null,null,"Absence pour cause de blessure",null,{"$f":"AM44","v":0},null,0,"Autre",null,null,null,16]
[null,null,null,null,null,null,null,null,null,3,"… moyen",null,null,null,null,null,null,null,null,null,null,null,null,null,null,null,null,null,null,null,null,null,null,null,"Absence pour cause de maladie",null,{"$f":"AM52","v":0}]
[null,null,null,null,null,null,null,null,null,4,"… content",null,null,null,null,null,null,null,null,null,null,null,null,null,null,null,null,null,null,null,null,null,null,null,null,null,null,null,{"$f":"SUM(AM53:AM59)","v":0},"Absence pour cause de maladie"]
[null,null,null,null,null,null,null,null,null,5,"… très content!",null,null,null,null,null,null,null,null,null,null,null,null,null,null,null,null,null,null,null,null,null,null,null,null,null,null,null,{"$f":"COUNTIF($H$4:$H$24,$AR53)","v":0},"Maladie",null,null,null,21]
[]
[]
[]
[]
[]
[]
[]
[]
[]
[]
[]
[]
[]
[]
[]
[]
[]
[]
[]
[]
[]
[]
[]
[]
[]
[]
[]
[]
[]
[]
[]
[]
[]
[]
[]
[]
[]
[]
[]
[]
[]
[]
[]
[]
[]
[]
[]
[]
[]
[]
[]
[]
[]
[]
[]
[]
[]
[]
[]
[]
[]
[]
[]
[]
[]
[]
[]
[]
[]
[]
[]
[]
[]
[]
[]
[]
[]
[]
[]
[]
[null,null,null,null,null,null,null,null,null,null,null,null,null,null,null,null,null,null,null,null,null,null,null,null,{"$f":"Z134-1","v":44},45,46,47,48,49,50,{"$f":"D1","v":51}]
[]
[]
[]
[]
[]
[]
[]
[]
[]
[]
[]
[]
[]
[]
[]
[]
[]
[]
[]
[]
[null,null,null,null,null,null,null,null,null,null,null,null,null,null,null,null,null,null,null,null,null,null,null,null,null,null,null,null,null,null,null,null,{"$f":"AF134+1","v":52}]

{"sheet":"52","index":28,"n_rows":155,"n_cols":45,"rows_kept":155,"cut":false,"hidden":false,"merged":[[0,5,0,6],[1,44,2,44],[29,3,29,6],[30,3,30,6],[35,3,35,6],[36,3,36,6],[46,9,47,9],[9,4,11,4],[12,4,14,4],[3,7,5,7],[15,7,17,7],[27,3,27,6],[15,5,17,5],[18,5,20,5],[28,10,29,10],[15,9,15,10],[22,9,22,10],[29,21,29,26],[1,39,2,39],[18,36,20,36],[21,36,23,36],[1,21,1,23],[28,9,29,9],[28,3,28,6],[37,3,37,6],[38,3,38,6],[31,3,31,6],[32,3,32,6],[33,3,33,6],[34,3,34,6],[36,9,37,9],[1,41,2,41],[15,36,17,36],[1,38,2,38],[1,36,2,36],[1,34,2,34],[1,30,1,32],[1,27,1,29],[1,43,2,43],[12,36,14,36],[1,40,2,40],[6,36,8,36],[3,36,5,36],[14,9,14,10],[12,7,14,7],[12,5,14,5],[6,3,8,3],[6,6,8,6],[6,9,6,10],[8,9,8,10],[30,38,31,43],[30,34,30,36],[10,9,10,10],[9,7,11,7],[3,5,5,5],[1,15,1,17],[1,9,2,10],[9,1,11,1],[9,3,11,3],[9,6,11,6],[9,9,9,10],[1,12,1,14],[3,3,5,3],[3,6,5,6],[3,9,3,10],[4,9,4,10],[5,9,5,10],[1,24,1,26],[9,36,11,36],[1,1,2,1],[3,4,5,4],[6,4,8,4],[3,1,5,1],[16,9,16,10],[17,9,17,10],[12,1,14,1],[12,3,14,3],[12,6,14,6],[12,9,12,10],[13,9,13,10],[6,1,8,1],[6,7,8,7],[15,1,17,1],[15,3,17,3],[15,6,17,6],[6,5,8,5],[9,5,11,5],[15,4,17,4],[1,18,1,20],[11,9,11,10],[7,9,7,10],[44,34,44,36],[47,34,47,36],[21,1,23,1],[21,3,23,3],[21,5,23,5],[21,6,23,6],[21,9,21,10],[23,9,23,10],[21,7,23,7],[21,4,23,4],[18,1,20,1],[18,3,20,3],[18,6,20,6],[18,9,18,10],[19,9,19,10],[20,9,20,10],[18,7,20,7],[18,4,20,4],[38,34,38,36]]}
[null,null,"Woche",{"$f":"INT(MOD(INT((F1-2)/7)+0.6,52+5/28))+1","v":52},{"$f":"D1+1000","v":1052},{"$f":"'51'!F1+7","v":"2018-12-24"},null,"-",null,{"$f":"F1+6","v":"2018-12-30"},null,null,null,null,null,null,null,null,null,null,null,null,null,null,null,null,null,null,null,null,null,null,{"$f":"'Aperçu de la charge'!D2","v":"Prénom Nom"},null,{"$f":"'Aperçu de la charge'!N2","v":"2018/2019"}]
[null,"Jour",null,"Poids","REG","qualité sommeil","durée sommeil","Santé",null,"Description de l'entrainement",null,null,"Club - VB",null,null,"TS/ Nati - VB",null,null,"Club - BVB",null,null,"TS/ Nati - BVB",null,null,"Force - fitness",null,null,"Compet. - VB",null,null,"Compet. - BVB",null,null,null,"Réflexion",null,"Charge/\njour",null,"matchs VB","Sets VB","Matchs BVB","Sets BVB","J","Autre\n (Rég, mentale)","Mental- oder Sonstiges Training"]
[null,null,null,"[kg]","[1 - 5]","[1-5]","[Std]","Nr.",null,null,null,null,"Durée","RPE","Charge","Durée","RPE","Charge","Durée","RPE","Charge","Durée","RPE","Charge","Durée","RPE","Charge","Durée","RPE","Charge","Durée","RPE","Charge",null,null,null,null,null,null,null,null,null,"[1-5]"]
[null,"Lu",null,0,0,0,0,0,null,null,null,null,null,null,{"$f":"M4*N4","v":0},null,null,{"$f":"P4*Q4","v":0},null,null,{"$f":"S4*T4","v":0},null,null,{"$f":"V4*W4","v":0},null,null,{"$f":"Y4*Z4","v":0},null,null,{"$f":"AB4*AC4","v":0},null,null,{"$f":"AE4*AF4","v":0},{"$f":"IF(SUM(M4:AG6)>0,1,0)","v":"00:00:00"},null,null,{"$f":"SUM(O4:O6,R4:R6,U4:U6,X4:X6,AA4:AA6,AD4:AD6,AG4:AG6)","v":0}]
[null,null,null,null,null,null,null,null,null,null,null,null,null,null,{"$f":"M5*N5","v":0},null,null,{"$f":"P5*Q5","v":0},null,null,{"$f":"S5*T5","v":0},null,null,{"$f":"V5*W5","v":0},null,null,{"$f":"Y5*Z5","v":0},null,null,{"$f":"AB5*AC5","v":0},null,null,{"$f":"AE5*AF5","v":0}]
[null,null,null,null,null,null,null,null,null,null,null,null,null,null,0,null,null,0,null,null,0,null,null,0,null,null,0,null,null,0,null,null,0]
[null,"Ma",null,0,0,0,0,0,null,null,null,null,null,null,0,null,null,{"$f":"P7*Q7","v":0},null,null,0,null,null,0,null,null,0,null,null,0,null,null,0,{"$f":"IF(SUM(M7:AG9)>0,1,0)","v":"00:00:00"},null,null,{"$f":"SUM(O7:O9,R7:R9,U7:U9,X7:X9,AA7:AA9,AD7:AD9,AG7:AG9)","v":0}]
[null,null,null,null,null,null,null,null,null,null,null,null,null,null,0,null,null,0,null,null,0,null,null,0,null,null,0,null,null,0,null,null,0]
[null,null,null,null,null,null,null,null,null,null,null,null,null,null,0,null,null,0,null,null,0,null,null,0,null,null,0,null,null,0,null,null,0]
[null,"Me",null,0,0,0,0,0,null,null,null,null,null,null,0,null,null,{"$f":"P10*Q10","v":0},null,null,0,null,null,0,null,null,0,null,null,0,null,null,0,{"$f":"IF(SUM(M10:AG12)>0,1,0)","v":"00:00:00"},null,null,{"$f":"SUM(O10:O12,R10:R12,U10:U12,X10:X12,AA10:AA12,AD10:AD12,AG10:AG12)","v":0}]
[null,null,null,null,null,null,null,null,null,null,null,null,null,null,0,null,null,0,null,null,0,null,null,0,null,null,0,null,null,0,null,null,0]
[null,null,null,null,null,null,null,null,null,null,null,null,null,null,0,null,null,0,null,null,0,null,null,0,null,null,0,null,null,0,null,null,0]
[null,"Je",null,0,0,0,0,0,null,null,null,null,null,null,0,null,null,{"$f":"P13*Q13","v":0},null,null,0,null,null,0,null,null,0,null,null,0,null,null,0,{"$f":"IF(SUM(M13:AG15)>0,1,0)","v":"00:00:00"},null,null,{"$f":"SUM(O13:O15,R13:R15,U13:U15,X13:X15,AA13:AA15,AD13:AD15,AG13:AG15)","v":0}]
[null,null,null,null,null,null,null,null,null,null,null,null,null,null,0,null,null,0,null,null,0,null,null,0,null,null,0,null,null,0,null,null,0]
[null,null,null,null,null,null,null,null,null,null,null,null,null,null,0,null,null,0,null,null,0,null,null,0,null,null,0,null,null,0,null,null,0]
[null,"Ve",null,0,0,0,0,0,null,null,null,null,null,null,0,null,null,{"$f":"P16*Q16","v":0},null,null,0,null,null,0,null,null,0,null,null,0,null,null,0,{"$f":"IF(SUM(M16:AG18)>0,1,0)","v":"00:00:00"},null,null,{"$f":"SUM(O16:O18,R16:R18,U16:U18,X16:X18,AA16:AA18,AD16:AD18,AG16:AG18)","v":0}]
[null,null,null,null,null,null,null,null,null,null,null,null,null,null,0,null,null,0,null,null,0,null,null,0,null,null,0,null,null,0,null,null,0]
[null,null,null,null,null,null,null,null,null,null,null,null,null,null,0,null,null,0,null,null,0,null,null,0,null,null,0,null,null,0,null,null,0]
[null,"Sa",null,0,0,0,0,0,null,null,null,null,null,null,{"$f":"M19*N19","v":0},null,null,{"$f":"P19*Q19","v":0},null,null,{"$f":"S19*T19","v":0},null,null,{"$f":"V19*W19","v":0},null,null,{"$f":"Y19*Z19","v":0},null,null,{"$f":"AB19*AC19","v":0},null,null,{"$f":"AE19*AF19","v":0},{"$f":"IF(SUM(M19:AG21)>0,1,0)","v":"00:00:00"},null,null,{"$f":"SUM(O19:O21,R19:R21,U19:U21,X19:X21,AA19:AA21,AD19:AD21,AG19:AG21)","v":0}]
[null,null,null,null,null,null,null,null,null,null,null,null,null,null,{"$f":"M20*N20","v":0},null,null,0,null,null,{"$f":"S20*T20","v":0},null,null,{"$f":"V20*W20","v":0},null,null,{"$f":"Y20*Z20","v":0},null,null,{"$f":"AB20*AC20","v":0},null,null,{"$f":"AE20*AF20","v":0}]
[null,null,null,null,null,null,null,null,null,null,null,null,null,null,0,null,null,0,null,null,0,null,null,0,null,null,0,null,null,0,null,null,0]
[null,"Di",null,0,0,0,0,0,null,null,null,null,null,null,0,null,null,{"$f":"P22*Q22","v":0},null,null,0,null,null,0,null,null,0,null,null,0,null,null,0,{"$f":"IF(SUM(M22:AG24)>0,1,0)","v":"00:00:00"},null,null,{"$f":"SUM(O22:O24,R22:R24,U22:U24,X22:X24,AA22:AA24,AD22:AD24,AG22:AG24)","v":0}]
[null,null,null,null,null,null,null,null,null,null,null,null,null,null,0,null,null,0,null,null,0,null,null,0,null,null,0,null,null,0,null,null,0]
[null,null,null,null,null,null,null,null,null,null,null,null,null,null,0,null,null,0,null,null,0,null,null,0,null,null,0,null,null,0,null,null,0]
[null,null,null,null,null,null,null,null,null,null,"Total",null,{"$f":"SUM(M4:M24)","v":0},null,{"$f":"SUM(O4:O24)","v":0},{"$f":"SUM(P4:P24)","v":0},null,{"$f":"SUM(R4:R24)","v":0},{"$f":"SUM(S4:S24)","v":0},null,{"$f":"SUM(U4:U24)","v":0},{"$f":"SUM(V4:V24)","v":0},null,{"$f":"SUM(X4:X24)","v":0},{"$f":"SUM(Y4:Y24)","v":0},null,{"$f":"SUM(AA4:AA24)","v":0},{"$f":"SUM(AB4:AB24)","v":0},null,{"$f":"SUM(AD4:AD24)","v":0},{"$f":"SUM(AE4:AE24)","v":0},null,{"$f":"SUM(AG4:AG24)","v":0},null,"Charge totale",null,{"$f":"SUM(AK4:AK24)","v":0}]
[null,"avg.",null,{"$f":"IF(COUNTA(D4:D24)=0,\"\",AVERAGE(D4:D24))","v":0},{"$f":"IF(COUNTA(E4:E24)=0,\"\",AVERAGE(E4:E24))","v":0},{"$f":"IF(COUNTA(F4:F24)=0,\"\",AVERAGE(F4:F24))","v":0},{"$f":"IF(COUNTA(G4:G24)=0,\"\",AVERAGE(G4:G24))","v":0},{"$f":"IF(COUNTA(H4:H24)=0,\"\",COUNTIF(H4:H24,\"x\"))","v":0},null,null,"Zone",null,1,2,3,1,2,3,1,2,3,1,2,3,1,2,3,1,2,3,1,2,3,null,"Moyenne",null,{"$f":"AVERAGE(AK4:AK24)","v":0}]
[null,null,null,null,null,{"$f":"IF(COUNTA(F4:F24)=0,\"\",VAR(F4:F24))","v":0},{"$f":"IF(COUNTA(G4:G24)=0,\"\",STDEV(G4:G24))","v":0},"Divergence - durée du sommeil",null,null,"Unité par zone (RPE) ",null,{"$f":"IF('Répartition des intensités'!$AR$25=\"x\",COUNTIF(N4:N24,\"<3,5\"),COUNTIF(N4:N24,\"<4,5\"))","v":0},{"$f":"COUNT(N4:N24)-(M27+O27)","v":0},{"$f":"IF('Répartition des intensités'!$AR$25=\"x\",COUNTIF(N4:N24,\">5,5\"),COUNTIF(N4:N24,\">6,5\"))","v":0},{"$f":"IF('Répartition des intensités'!$AR$25=\"x\",COUNTIF(Q4:Q24,\"<3,5\"),COUNTIF(Q4:Q24,\"<4,5\"))","v":0},{"$f":"COUNT(Q4:Q24)-(P27+R27)","v":0},{"$f":"IF('Répartition des intensités'!$AR$25=\"x\",COUNTIF(Q4:Q24,\">5,5\"),COUNTIF(Q4:Q24,\">6,5\"))","v":0},{"$f":"IF('Répartition des intensités'!$AR$25=\"x\",COUNTIF(T4:T24,\"<3,5\"),COUNTIF(T4:T24,\"<4,5\"))","v":0},{"$f":"COUNT(T4:T24)-(S27+U27)","v":0},{"$f":"IF('Répartition des intensités'!$AR$25=\"x\",COUNTIF(T4:T24,\">5,5\"),COUNTIF(T4:T24,\">6,5\"))","v":0},{"$f":"IF('Répartition des intensités'!$AR$25=\"x\",COUNTIF(W4:W24,\"<3,5\"),COUNTIF(W4:W24,\"<4,5\"))","v":0},{"$f":"COUNT(W4:W24)-(V27+X27)","v":0},{"$f":"IF('Répartition des intensités'!$AR$25=\"x\",COUNTIF(W4:W24,\">5,5\"),COUNTIF(W4:W24,\">6,5\"))","v":0},{"$f":"IF('Répartition des intensités'!$AR$25=\"x\",COUNTIF(Z4:Z24,\"<3,5\"),COUNTIF(Z4:Z24,\"<4,5\"))","v":0},{"$f":"COUNT(Z4:Z24)-(Y27+AA27)","v":0},{"$f":"IF('Répartition des intensités'!$AR$25=\"x\",COUNTIF(Z4:Z24,\">5,5\"),COUNTIF(Z4:Z24,\">6,5\"))","v":0},{"$f":"IF('Répartition des intensités'!$AR$25=\"x\",COUNTIF(AC4:AC24,\"<3,5\"),COUNTIF(AC4:AC24,\"<4,5\"))","v":0},{"$f":"COUNT(AC4:AC24)-(AB27+AD27)","v":0},{"$f":"IF('Répartition des intensités'!$AR$25=\"x\",COUNTIF(AC4:AC24,\">5,5\"),COUNTIF(AC4:AC24,\">6,5\"))","v":0},{"$f":"IF('Répartition des intensités'!$AR$25=\"x\",COUNTIF(AF4:AF24,\"<3,5\"),COUNTIF(AF4:AF24,\"<4,5\"))","v":0},{"$f":"COUNT(AF4:AF24)-(AE27+AG27)","v":0},{"$f":"IF('Répartition des intensités'!$AR$25=\"x\",COUNTIF(AF4:AF24,\">5,5\"),COUNTIF(AF4:AF24,\">6,5\"))","v":0},null,"Divergence",null,{"$f":"STDEVP(AK4:AK24)","v":0}]
[null,null,null,"échelle de Foster",null,null,null,"RPE",null,null,"Temps par zone (RPE)",null,{"$f":"IF('Répartition des intensités'!$AR$25=\"x\",SUMIF(N4:N24,\"<3,5\",M4:M24),SUMIF(N4:N24,\"<4,5\",M4:M24))","v":0},{"$f":"IF(N27=0,0,SUM((M25)-(M28+O28)))","v":0},{"$f":"IF('Répartition des intensités'!$AR$25=\"x\",SUMIF(N4:N24,\">5,5\",M4:M24),SUMIF(N4:N24,\">6,5\",M4:M24))","v":0},{"$f":"IF('Répartition des intensités'!$AR$25=\"x\",SUMIF(Q4:Q24,\"<3,5\",P4:P24),SUMIF(Q4:Q24,\"<4,5\",P4:P24))","v":0},{"$f":"IF(Q27=0,0,SUM((P25)-(P28+R28)))","v":0},{"$f":"IF('Répartition des intensités'!$AR$25=\"x\",SUMIF(Q4:Q24,\">5,5\",P4:P24),SUMIF(Q4:Q24,\">6,5\",P4:P24))","v":0},{"$f":"IF('Répartition des intensités'!$AR$25=\"x\",SUMIF(T4:T24,\"<3,5\",S4:S24),SUMIF(T4:T24,\"<4,5\",S4:S24))","v":0},{"$f":"IF(T27=0,0,SUM((S25)-(S28+U28)))","v":0},{"$f":"IF('Répartition des intensités'!$AR$25=\"x\",SUMIF(T4:T24,\">5,5\",S4:S24),SUMIF(T4:T24,\">6,5\",S4:S24))","v":0},{"$f":"IF('Répartition des intensités'!$AR$25=\"x\",SUMIF(W4:W24,\"<3,5\",V4:V24),SUMIF(W4:W24,\"<4,5\",V4:V24))","v":0},{"$f":"IF(W27=0,0,SUM((V25)-(V28+X28)))","v":0},{"$f":"IF('Répartition des intensités'!$AR$25=\"x\",SUMIF(W4:W24,\">5,5\",V4:V24),SUMIF(W4:W24,\">6,5\",V4:V24))","v":0},{"$f":"IF('Répartition des intensités'!$AR$25=\"x\",SUMIF(Z4:Z24,\"<3,5\",Y4:Y24),SUMIF(Z4:Z24,\"<4,5\",Y4:Y24))","v":0},{"$f":"IF(Z27=0,0,SUM((Y25)-(Y28+AA28)))","v":0},{"$f":"IF('Répartition des intensités'!$AR$25=\"x\",SUMIF(Z4:Z24,\">5,5\",Y4:Y24),SUMIF(Z4:Z24,\">6,5\",Y4:Y24))","v":0},{"$f":"IF('Répartition des intensités'!$AR$25=\"x\",SUMIF(AC4:AC24,\"<3,5\",AB4:AB24),SUMIF(AC4:AC24,\"<4,5\",AB4:AB24))","v":0},{"$f":"IF(AC27=0,0,SUM((AB25)-(AB28+AD28)))","v":0},{"$f":"IF('Répartition des intensités'!$AR$25=\"x\",SUMIF(AC4:AC24,\">5,5\",AB4:AB24),SUMIF(AC4:AC24,\">6,5\",AB4:AB24))","v":0},{"$f":"IF('Répartition des intensités'!$AR$25=\"x\",SUMIF(AF4:AF24,\"<3,5\",AE4:AE24),SUMIF(AF4:AF24,\"<4,5\",AE4:AE24))","v":0},{"$f":"IF(AF27=0,0,SUM((AE25)-(AE28+AG28)))","v":0},{"$f":"IF('Répartition des intensités'!$AR$25=\"x\",SUMIF(AF4:AF24,\">5,5\",AE4:AE24),SUMIF(AF4:AF24,\">6,5\",AE4:AE24))","v":0}]
[null,null,null,"Comme au repos",null,null,null,0,null,"REG","Est-ce que j'ai l'impression d'avoir récupéré en me levant?"]
[null,null,null,"très facile",null,null,null,1]
[null,null,null,"facile",null,null,null,2,null,1,"… pas du tout récupéré",null,null,null,null,null,null,null,null,null,null,null,null,null,null,null,null,null,null,null,null,null,null,null,"Entrainements",null,null,null,"Rapport de santé"]
[null,null,null,null,null,null,null,3,null,2,"… un peu récupéré",null,null,null,null,null,null,null,null,null,null,null,null,null,null,null,null,null,null,null,null,null,null,null,"Jours d'entrainement",null,{"$f":"IF(SUM(AH4:AH24)=0,\"\",SUM(AH4:AH24))","v":""}]
[null,null,null,"Assez dur",null,null,null,4,null,3,"… récupéré",null,null,null,null,null,null,null,null,null,null,{"$f":"B4","v":"Lu"},{"$f":"AK4","v":0},null,null,null,null,null,null,null,null,null,null,null,"Entrainements",null,{"$f":"IF(AK32=\"\",\"\",SUM(M27:AG27))","v":""}]
[null,null,null,"dur",null,null,null,5,null,4,"…  en forme",null,null,null,null,null,null,null,null,null,null,{"$f":"B7","v":"Ma"},{"$f":"AK7","v":0},null,null,null,null,null,null,null,null,null,null,null,"Heures d'entrainement",null,{"$f":"IF(AK32=\"\",\"\",SUM(M25,P25,S25,Y25,AB25,V25,AE25)/60)","v":""},null,{"$f":"IF($AK$32=\"\",\"\",AK32-AM36-AM44-AM52)","v":""},"Aucune limitation",null,null,null,0]
[null,null,null,null,null,null,null,6,null,5,"… très en forme",null,null,null,null,null,null,null,null,null,null,{"$f":"B10","v":"Me"},{"$f":"AK10","v":0},null,null,null,null,null,null,null,null,null,null,null,"Charge de l'entrainement",null,{"$f":"IF(AK32=\"\",\"\",SUM(AK25))","v":""}]
[null,null,null,"très dur",null,null,null,7,null,null,null,null,null,null,null,null,null,null,null,null,null,{"$f":"B13","v":"Je"},{"$f":"AK13","v":0},null,null,null,null,null,null,null,null,null,null,null,"Monotonie",null,{"$f":"IF(AK27=0,0,(AVERAGE(AK4:AK24))/AK27)","v":0},null,{"$f":"SUM(AM37:AM42)","v":0},"Limitation pour cause de douleurs"]
[null,null,null,null,null,null,null,8,null,"Nombre de matchs",null,null,null,null,null,null,null,null,null,null,null,{"$f":"B16","v":"Ve"},{"$f":"AK16","v":0},null,null,null,null,null,null,null,null,null,null,null,"Efforts à l'entrainement",null,{"$f":"IF(AK32=\"\",\"\",AK35*AK36)","v":""},null,{"$f":"COUNTIF($H$4:$H$24,$AR37)","v":0},"Doigt",null,null,null,1]
[null,null,null,"extrèmement dur",null,null,null,9,null,null,null,null,null,null,null,null,null,null,null,null,null,{"$f":"B19","v":"Sa"},{"$f":"AK19","v":0},null,null,null,null,null,null,null,null,null,null,null,null,null,null,null,0,"Épaule",null,null,null,2]
[null,null,null,"Comme mon entrainement le plus dur",null,null,null,10,null,1,"… 3 sets et plus",null,null,null,null,null,null,null,null,null,null,{"$f":"B22","v":"Di"},{"$f":"AK22","v":0},null,null,null,null,null,null,null,null,null,null,null,"Compétition",null,null,null,0,"Dos",null,null,null,3]
[null,null,null,null,null,null,null,null,null,0.5,"… moins de 3 sets",null,null,null,null,null,null,null,null,null,null,null,null,null,null,null,null,null,null,null,null,null,null,null,"Matchs de volleyball",null,{"$f":"IF(AK32=\"\",\"\",SUM(AM4:AM24))","v":""},null,0,"Genou",null,null,null,4]
[null,null,null,null,null,null,null,null,null,null,null,null,null,null,null,null,null,null,null,null,null,null,null,null,null,null,null,null,null,null,null,null,null,null,"Sets de volleyball",null,{"$f":"IF(AK32=\"\",\"\",SUM(AN4:AN24))","v":""},null,0,"Cheville",null,null,null,5]
[null,null,null,null,null,null,null,null,null,"Sets joués",null,null,null,null,null,null,null,null,null,null,null,null,null,null,null,null,null,null,null,null,null,null,null,null,"Matchs de beach volley",null,{"$f":"IF(AK35=\"\",\"\",SUM(AO4:AO24))","v":""},null,0,"Autre",null,null,null,6]
[null,null,null,null,null,null,null,null,null,1,"… depuis le début et durant tout le set",null,null,null,null,null,null,null,null,null,null,null,null,null,null,null,null,null,null,null,null,null,null,null,"Sets de beach volley",null,{"$f":"IF(AK35=\"\",\"\",SUM(AP4:AP24))","v":""}]
[null,null,null,null,null,null,null,null,null,0.5,"… entré/sorti en cours, beaucoup joué",null,null,null,null,null,null,null,null,null,null,null,null,null,null,null,null,null,null,null,null,null,null,null,null,null,null,null,{"$f":"SUM(AM45:AM50)","v":0},"Absence pour cause de blessure"]
[null,null,null,null,null,null,null,null,null,0.1,"… entré/sorti en cours, peu joué",null,null,null,null,null,null,null,null,null,null,null,null,null,null,null,null,null,null,null,null,null,null,null,"Satisfaction",null,null,null,{"$f":"COUNTIF($H$4:$H$24,$AR45)","v":0},"Doigt",null,null,null,11]
[null,null,null,null,null,null,null,null,null,null,null,null,null,null,null,null,null,null,null,null,null,null,null,null,null,null,null,null,null,null,null,null,null,null,"Satisfaction de l'entrainement/match J",null,{"$f":"IF(AK32=\"\",\"\",SUM(AQ4:AQ24)/AK32)","v":""},null,0,"Épaule",null,null,null,12]
[null,null,null,null,null,null,null,null,null,"J","Es-tu content de la qualité de ton",null,null,null,null,null,null,null,null,null,null,null,null,null,null,null,null,null,null,null,null,null,null,null,null,null,null,null,0,"Dos",null,null,null,13]
[null,null,null,null,null,null,null,null,null,null,"entrainement/compétition?",null,null,null,null,null,null,null,null,null,null,null,null,null,null,null,null,null,null,null,null,null,null,null,"Santé",null,null,null,0,"Genou",null,null,null,14]
[null,null,null,null,null,null,null,null,null,1,"… pas content",null,null,null,null,null,null,null,null,null,null,null,null,null,null,null,null,null,null,null,null,null,null,null,"Limitation pour cause de douleurs",null,{"$f":"AM36","v":0},null,0,"Cheville",null,null,null,15]
[null,null,null,null,null,null,null,null,null,2,"… plutôt pas content",null,null,null,null,null,null,null,null,null,null,null,null,null,null,null,null,null,null,null,null,null,null,null,"Absence pour cause de blessure",null,{"$f":"AM44","v":0},null,0,"Autre",null,null,null,16]
[null,null,null,null,null,null,null,null,null,3,"… moyen",null,null,null,null,null,null,null,null,null,null,null,null,null,null,null,null,null,null,null,null,null,null,null,"Absence pour cause de maladie",null,{"$f":"AM52","v":0}]
[null,null,null,null,null,null,null,null,null,4,"… content",null,null,null,null,null,null,null,null,null,null,null,null,null,null,null,null,null,null,null,null,null,null,null,null,null,null,null,{"$f":"SUM(AM53:AM59)","v":0},"Absence pour cause de maladie"]
[null,null,null,null,null,null,null,null,null,5,"… très content!",null,null,null,null,null,null,null,null,null,null,null,null,null,null,null,null,null,null,null,null,null,null,null,null,null,null,null,{"$f":"COUNTIF($H$4:$H$24,$AR53)","v":0},"Maladie",null,null,null,21]
[]
[]
[]
[]
[]
[]
[]
[]
[]
[]
[]
[]
[]
[]
[]
[]
[]
[]
[]
[]
[]
[]
[]
[]
[]
[]
[]
[]
[]
[]
[]
[]
[]
[]
[]
[]
[]
[]
[]
[]
[]
[]
[]
[]
[]
[]
[]
[]
[]
[]
[]
[]
[]
[]
[]
[]
[]
[]
[]
[]
[]
[]
[]
[]
[]
[]
[]
[]
[]
[]
[]
[]
[]
[]
[]
[]
[]
[]
[]
[]
[null,null,null,null,null,null,null,null,null,null,null,null,null,null,null,null,null,null,null,null,null,null,null,null,{"$f":"Z134-1","v":45},46,47,48,49,50,51,{"$f":"D1","v":52}]
[]
[]
[]
[]
[]
[]
[]
[]
[]
[]
[]
[]
[]
[]
[]
[]
[]
[]
[]
[]
[null,null,null,null,null,null,null,null,null,null,null,null,null,null,null,null,null,null,null,null,null,null,null,null,null,null,null,null,null,null,null,null,{"$f":"AF134+1","v":53}]

{"sheet":"1","index":29,"n_rows":155,"n_cols":45,"rows_kept":155,"cut":false,"hidden":false,"merged":[[9,4,11,4],[12,4,14,4],[3,7,5,7],[15,7,17,7],[27,3,27,6],[15,5,17,5],[18,5,20,5],[28,10,29,10],[15,9,15,10],[1,43,2,43],[30,34,30,36],[30,38,31,43],[0,5,0,6],[1,44,2,44],[29,3,29,6],[30,3,30,6],[35,3,35,6],[36,3,36,6],[18,36,20,36],[21,36,23,36],[1,40,2,40],[1,21,1,23],[1,41,2,41],[15,36,17,36],[1,38,2,38],[1,36,2,36],[1,34,2,34],[1,30,1,32],[1,27,1,29],[1,24,1,26],[9,36,11,36],[12,36,14,36],[1,39,2,39],[28,9,29,9],[28,3,28,6],[37,3,37,6],[38,3,38,6],[31,3,31,6],[32,3,32,6],[33,3,33,6],[34,3,34,6],[46,9,47,9],[3,1,5,1],[6,36,8,36],[3,3,5,3],[3,6,5,6],[3,9,3,10],[4,9,4,10],[5,9,5,10],[3,36,5,36],[6,1,8,1],[6,7,8,7],[6,3,8,3],[6,6,8,6],[6,9,6,10],[8,9,8,10],[9,1,11,1],[9,3,11,3],[9,6,11,6],[9,9,9,10],[1,12,1,14],[18,1,20,1],[18,3,20,3],[18,6,20,6],[1,18,1,20],[11,9,11,10],[7,9,7,10],[10,9,10,10],[9,7,11,7],[14,9,14,10],[12,7,14,7],[3,5,5,5],[6,5,8,5],[9,5,11,5],[12,5,14,5],[1,1,2,1],[1,15,1,17],[3,4,5,4],[6,4,8,4],[1,9,2,10],[12,1,14,1],[12,3,14,3],[12,6,14,6],[12,9,12,10],[13,9,13,10],[18,9,18,10],[19,9,19,10],[20,9,20,10],[18,7,20,7],[18,4,20,4],[15,1,17,1],[15,3,17,3],[15,6,17,6],[15,4,17,4],[16,9,16,10],[17,9,17,10],[38,34,38,36],[44,34,44,36],[47,34,47,36],[21,1,23,1],[21,3,23,3],[21,5,23,5],[21,6,23,6],[21,9,21,10],[23,9,23,10],[21,7,23,7],[21,4,23,4],[22,9,22,10],[29,21,29,26],[36,9,37,9]]}
[null,null,"Woche",{"$f":"INT(MOD(INT((F1-2)/7)+0.6,52+5/28))+1","v":1},{"$f":"D1+1000","v":1001},{"$f":"'52'!F1+7","v":"2018-12-31"},null,"-",null,{"$f":"F1+6","v":"2019-01-06"},null,null,null,null,null,null,null,null,null,null,null,null,null,null,null,null,null,null,null,null,null,null,{"$f":"'Aperçu de la charge'!D2","v":"Prénom Nom"},null,{"$f":"'Aperçu de la charge'!N2","v":"2018/2019"}]
[null,"Jour",null,"Poids","REG","qualité sommeil","durée sommeil","Santé",null,"Description de l'entrainement",null,null,"Club - VB",null,null,"TS/ Nati - VB",null,null,"Club - BVB",null,null,"TS/ Nati - BVB",null,null,"Force - fitness",null,null,"Compet. - VB",null,null,"Compet. - BVB",null,null,null,"Réflexion",null,"Charge/\njour",null,"matchs VB","Sets VB","Matchs BVB","Sets BVB","J","Autre\n (Rég, mentale)","Mental- oder Sonstiges Training"]
[null,null,null,"[kg]","[1 - 5]","[1-5]","[Std]","Nr.",null,null,null,null,"Durée","RPE","Charge","Durée","RPE","Charge","Durée","RPE","Charge","Durée","RPE","Charge","Durée","RPE","Charge","Durée","RPE","Charge","Durée","RPE","Charge",null,null,null,null,null,null,null,null,null,"[1-5]"]
[null,"Lu",null,0,0,0,0,0,null,null,null,null,null,null,{"$f":"M4*N4","v":0},null,null,{"$f":"P4*Q4","v":0},null,null,{"$f":"S4*T4","v":0},null,null,{"$f":"V4*W4","v":0},null,null,{"$f":"Y4*Z4","v":0},null,null,{"$f":"AB4*AC4","v":0},null,null,{"$f":"AE4*AF4","v":0},{"$f":"IF(SUM(M4:AG6)>0,1,0)","v":"00:00:00"},null,null,{"$f":"SUM(O4:O6,R4:R6,U4:U6,X4:X6,AA4:AA6,AD4:AD6,AG4:AG6)","v":0}]
[null,null,null,null,null,null,null,null,null,null,null,null,null,null,{"$f":"M5*N5","v":0},null,null,{"$f":"P5*Q5","v":0},null,null,{"$f":"S5*T5","v":0},null,null,{"$f":"V5*W5","v":0},null,null,{"$f":"Y5*Z5","v":0},null,null,{"$f":"AB5*AC5","v":0},null,null,{"$f":"AE5*AF5","v":0}]
[null,null,null,null,null,null,null,null,null,null,null,null,null,null,0,null,null,0,null,null,0,null,null,0,null,null,0,null,null,0,null,null,0]
[null,"Ma",null,0,0,0,0,0,null,null,null,null,null,null,0,null,null,{"$f":"P7*Q7","v":0},null,null,0,null,null,0,null,null,0,null,null,0,null,null,0,{"$f":"IF(SUM(M7:AG9)>0,1,0)","v":"00:00:00"},null,null,{"$f":"SUM(O7:O9,R7:R9,U7:U9,X7:X9,AA7:AA9,AD7:AD9,AG7:AG9)","v":0}]
[null,null,null,null,null,null,null,null,null,null,null,null,null,null,0,null,null,0,null,null,0,null,null,0,null,null,0,null,null,0,null,null,0]
[null,null,null,null,null,null,null,null,null,null,null,null,null,null,0,null,null,0,null,null,0,null,null,0,null,null,0,null,null,0,null,null,0]
[null,"Me",null,0,0,0,0,0,null,null,null,null,null,null,0,null,null,{"$f":"P10*Q10","v":0},null,null,0,null,null,0,null,null,0,null,null,0,null,null,0,{"$f":"IF(SUM(M10:AG12)>0,1,0)","v":"00:00:00"},null,null,{"$f":"SUM(O10:O12,R10:R12,U10:U12,X10:X12,AA10:AA12,AD10:AD12,AG10:AG12)","v":0}]
[null,null,null,null,null,null,null,null,null,null,null,null,null,null,0,null,null,0,null,null,0,null,null,0,null,null,0,null,null,0,null,null,0]
[null,null,null,null,null,null,null,null,null,null,null,null,null,null,0,null,null,0,null,null,0,null,null,0,null,null,0,null,null,0,null,null,0]
[null,"Je",null,0,0,0,0,0,null,null,null,null,null,null,0,null,null,{"$f":"P13*Q13","v":0},null,null,0,null,null,0,null,null,0,null,null,0,null,null,0,{"$f":"IF(SUM(M13:AG15)>0,1,0)","v":"00:00:00"},null,null,{"$f":"SUM(O13:O15,R13:R15,U13:U15,X13:X15,AA13:AA15,AD13:AD15,AG13:AG15)","v":0}]
[null,null,null,null,null,null,null,null,null,null,null,null,null,null,0,null,null,0,null,null,0,null,null,0,null,null,0,null,null,0,null,null,0]
[null,null,null,null,null,null,null,null,null,null,null,null,null,null,0,null,null,0,null,null,0,null,null,0,null,null,0,null,null,0,null,null,0]
[null,"Ve",null,0,0,0,0,0,null,null,null,null,null,null,0,null,null,{"$f":"P16*Q16","v":0},null,null,0,null,null,0,null,null,0,null,null,0,null,null,0,{"$f":"IF(SUM(M16:AG18)>0,1,0)","v":"00:00:00"},null,null,{"$f":"SUM(O16:O18,R16:R18,U16:U18,X16:X18,AA16:AA18,AD16:AD18,AG16:AG18)","v":0}]
[null,null,null,null,null,null,null,null,null,null,null,null,null,null,0,null,null,0,null,null,0,null,null,0,null,null,0,null,null,0,null,null,0]
[null,null,null,null,null,null,null,null,null,null,null,null,null,null,0,null,null,0,null,null,0,null,null,0,null,null,0,null,null,0,null,null,0]
[null,"Sa",null,0,0,0,0,0,null,null,null,null,null,null,{"$f":"M19*N19","v":0},null,null,{"$f":"P19*Q19","v":0},null,null,{"$f":"S19*T19","v":0},null,null,{"$f":"V19*W19","v":0},null,null,{"$f":"Y19*Z19","v":0},null,null,{"$f":"AB19*AC19","v":0},null,null,{"$f":"AE19*AF19","v":0},{"$f":"IF(SUM(M19:AG21)>0,1,0)","v":"00:00:00"},null,null,{"$f":"SUM(O19:O21,R19:R21,U19:U21,X19:X21,AA19:AA21,AD19:AD21,AG19:AG21)","v":0}]
[null,null,null,null,null,null,null,null,null,null,null,null,null,null,{"$f":"M20*N20","v":0},null,null,0,null,null,{"$f":"S20*T20","v":0},null,null,{"$f":"V20*W20","v":0},null,null,{"$f":"Y20*Z20","v":0},null,null,{"$f":"AB20*AC20","v":0},null,null,{"$f":"AE20*AF20","v":0}]
[null,null,null,null,null,null,null,null,null,null,null,null,null,null,0,null,null,0,null,null,0,null,null,0,null,null,0,null,null,0,null,null,0]
[null,"Di",null,0,0,0,0,0,null,null,null,null,null,null,0,null,null,{"$f":"P22*Q22","v":0},null,null,0,null,null,0,null,null,0,null,null,0,null,null,0,{"$f":"IF(SUM(M22:AG24)>0,1,0)","v":"00:00:00"},null,null,{"$f":"SUM(O22:O24,R22:R24,U22:U24,X22:X24,AA22:AA24,AD22:AD24,AG22:AG24)","v":0}]
[null,null,null,null,null,null,null,null,null,null,null,null,null,null,0,null,null,0,null,null,0,null,null,0,null,null,0,null,null,0,null,null,0]
[null,null,null,null,null,null,null,null,null,null,null,null,null,null,0,null,null,0,null,null,0,null,null,0,null,null,0,null,null,0,null,null,0]
[null,null,null,null,null,null,null,null,null,null,"Total",null,{"$f":"SUM(M4:M24)","v":0},null,{"$f":"SUM(O4:O24)","v":0},{"$f":"SUM(P4:P24)","v":0},null,{"$f":"SUM(R4:R24)","v":0},{"$f":"SUM(S4:S24)","v":0},null,{"$f":"SUM(U4:U24)","v":0},{"$f":"SUM(V4:V24)","v":0},null,{"$f":"SUM(X4:X24)","v":0},{"$f":"SUM(Y4:Y24)","v":0},null,{"$f":"SUM(AA4:AA24)","v":0},{"$f":"SUM(AB4:AB24)","v":0},null,{"$f":"SUM(AD4:AD24)","v":0},{"$f":"SUM(AE4:AE24)","v":0},null,{"$f":"SUM(AG4:AG24)","v":0},null,"Charge totale",null,{"$f":"SUM(AK4:AK24)","v":0}]
[null,"avg.",null,{"$f":"IF(COUNTA(D4:D24)=0,\"\",AVERAGE(D4:D24))","v":0},{"$f":"IF(COUNTA(E4:E24)=0,\"\",AVERAGE(E4:E24))","v":0},{"$f":"IF(COUNTA(F4:F24)=0,\"\",AVERAGE(F4:F24))","v":0},{"$f":"IF(COUNTA(G4:G24)=0,\"\",AVERAGE(G4:G24))","v":0},{"$f":"IF(COUNTA(H4:H24)=0,\"\",COUNTIF(H4:H24,\"x\"))","v":0},null,null,"Zone",null,1,2,3,1,2,3,1,2,3,1,2,3,1,2,3,1,2,3,1,2,3,null,"Moyenne",null,{"$f":"AVERAGE(AK4:AK24)","v":0}]
[null,null,null,null,null,{"$f":"IF(COUNTA(F4:F24)=0,\"\",VAR(F4:F24))","v":0},{"$f":"IF(COUNTA(G4:G24)=0,\"\",STDEV(G4:G24))","v":0},"Divergence - durée du sommeil",null,null,"Unité par zone (RPE) ",null,{"$f":"IF('Répartition des intensités'!$AR$25=\"x\",COUNTIF(N4:N24,\"<3,5\"),COUNTIF(N4:N24,\"<4,5\"))","v":0},{"$f":"COUNT(N4:N24)-(M27+O27)","v":0},{"$f":"IF('Répartition des intensités'!$AR$25=\"x\",COUNTIF(N4:N24,\">5,5\"),COUNTIF(N4:N24,\">6,5\"))","v":0},{"$f":"IF('Répartition des intensités'!$AR$25=\"x\",COUNTIF(Q4:Q24,\"<3,5\"),COUNTIF(Q4:Q24,\"<4,5\"))","v":0},{"$f":"COUNT(Q4:Q24)-(P27+R27)","v":0},{"$f":"IF('Répartition des intensités'!$AR$25=\"x\",COUNTIF(Q4:Q24,\">5,5\"),COUNTIF(Q4:Q24,\">6,5\"))","v":0},{"$f":"IF('Répartition des intensités'!$AR$25=\"x\",COUNTIF(T4:T24,\"<3,5\"),COUNTIF(T4:T24,\"<4,5\"))","v":0},{"$f":"COUNT(T4:T24)-(S27+U27)","v":0},{"$f":"IF('Répartition des intensités'!$AR$25=\"x\",COUNTIF(T4:T24,\">5,5\"),COUNTIF(T4:T24,\">6,5\"))","v":0},{"$f":"IF('Répartition des intensités'!$AR$25=\"x\",COUNTIF(W4:W24,\"<3,5\"),COUNTIF(W4:W24,\"<4,5\"))","v":0},{"$f":"COUNT(W4:W24)-(V27+X27)","v":0},{"$f":"IF('Répartition des intensités'!$AR$25=\"x\",COUNTIF(W4:W24,\">5,5\"),COUNTIF(W4:W24,\">6,5\"))","v":0},{"$f":"IF('Répartition des intensités'!$AR$25=\"x\",COUNTIF(Z4:Z24,\"<3,5\"),COUNTIF(Z4:Z24,\"<4,5\"))","v":0},{"$f":"COUNT(Z4:Z24)-(Y27+AA27)","v":0},{"$f":"IF('Répartition des intensités'!$AR$25=\"x\",COUNTIF(Z4:Z24,\">5,5\"),COUNTIF(Z4:Z24,\">6,5\"))","v":0},{"$f":"IF('Répartition des intensités'!$AR$25=\"x\",COUNTIF(AC4:AC24,\"<3,5\"),COUNTIF(AC4:AC24,\"<4,5\"))","v":0},{"$f":"COUNT(AC4:AC24)-(AB27+AD27)","v":0},{"$f":"IF('Répartition des intensités'!$AR$25=\"x\",COUNTIF(AC4:AC24,\">5,5\"),COUNTIF(AC4:AC24,\">6,5\"))","v":0},{"$f":"IF('Répartition des intensités'!$AR$25=\"x\",COUNTIF(AF4:AF24,\"<3,5\"),COUNTIF(AF4:AF24,\"<4,5\"))","v":0},{"$f":"COUNT(AF4:AF24)-(AE27+AG27)","v":0},{"$f":"IF('Répartition des intensités'!$AR$25=\"x\",COUNTIF(AF4:AF24,\">5,5\"),COUNTIF(AF4:AF24,\">6,5\"))","v":0},null,"Divergence",null,{"$f":"STDEVP(AK4:AK24)","v":0}]
[null,null,null,"échelle de Foster",null,null,null,"RPE",null,null,"Temps par zone (RPE)",null,{"$f":"IF('Répartition des intensités'!$AR$25=\"x\",SUMIF(N4:N24,\"<3,5\",M4:M24),SUMIF(N4:N24,\"<4,5\",M4:M24))","v":0},{"$f":"IF(N27=0,0,SUM((M25)-(M28+O28)))","v":0},{"$f":"IF('Répartition des intensités'!$AR$25=\"x\",SUMIF(N4:N24,\">5,5\",M4:M24),SUMIF(N4:N24,\">6,5\",M4:M24))","v":0},{"$f":"IF('Répartition des intensités'!$AR$25=\"x\",SUMIF(Q4:Q24,\"<3,5\",P4:P24),SUMIF(Q4:Q24,\"<4,5\",P4:P24))","v":0},{"$f":"IF(Q27=0,0,SUM((P25)-(P28+R28)))","v":0},{"$f":"IF('Répartition des intensités'!$AR$25=\"x\",SUMIF(Q4:Q24,\">5,5\",P4:P24),SUMIF(Q4:Q24,\">6,5\",P4:P24))","v":0},{"$f":"IF('Répartition des intensités'!$AR$25=\"x\",SUMIF(T4:T24,\"<3,5\",S4:S24),SUMIF(T4:T24,\"<4,5\",S4:S24))","v":0},{"$f":"IF(T27=0,0,SUM((S25)-(S28+U28)))","v":0},{"$f":"IF('Répartition des intensités'!$AR$25=\"x\",SUMIF(T4:T24,\">5,5\",S4:S24),SUMIF(T4:T24,\">6,5\",S4:S24))","v":0},{"$f":"IF('Répartition des intensités'!$AR$25=\"x\",SUMIF(W4:W24,\"<3,5\",V4:V24),SUMIF(W4:W24,\"<4,5\",V4:V24))","v":0},{"$f":"IF(W27=0,0,SUM((V25)-(V28+X28)))","v":0},{"$f":"IF('Répartition des intensités'!$AR$25=\"x\",SUMIF(W4:W24,\">5,5\",V4:V24),SUMIF(W4:W24,\">6,5\",V4:V24))","v":0},{"$f":"IF('Répartition des intensités'!$AR$25=\"x\",SUMIF(Z4:Z24,\"<3,5\",Y4:Y24),SUMIF(Z4:Z24,\"<4,5\",Y4:Y24))","v":0},{"$f":"IF(Z27=0,0,SUM((Y25)-(Y28+AA28)))","v":0},{"$f":"IF('Répartition des intensités'!$AR$25=\"x\",SUMIF(Z4:Z24,\">5,5\",Y4:Y24),SUMIF(Z4:Z24,\">6,5\",Y4:Y24))","v":0},{"$f":"IF('Répartition des intensités'!$AR$25=\"x\",SUMIF(AC4:AC24,\"<3,5\",AB4:AB24),SUMIF(AC4:AC24,\"<4,5\",AB4:AB24))","v":0},{"$f":"IF(AC27=0,0,SUM((AB25)-(AB28+AD28)))","v":0},{"$f":"IF('Répartition des intensités'!$AR$25=\"x\",SUMIF(AC4:AC24,\">5,5\",AB4:AB24),SUMIF(AC4:AC24,\">6,5\",AB4:AB24))","v":0},{"$f":"IF('Répartition des intensités'!$AR$25=\"x\",SUMIF(AF4:AF24,\"<3,5\",AE4:AE24),SUMIF(AF4:AF24,\"<4,5\",AE4:AE24))","v":0},{"$f":"IF(AF27=0,0,SUM((AE25)-(AE28+AG28)))","v":0},{"$f":"IF('Répartition des intensités'!$AR$25=\"x\",SUMIF(AF4:AF24,\">5,5\",AE4:AE24),SUMIF(AF4:AF24,\">6,5\",AE4:AE24))","v":0}]
[null,null,null,"Comme au repos",null,null,null,0,null,"REG","Est-ce que j'ai l'impression d'avoir récupéré en me levant?"]
[null,null,null,"très facile",null,null,null,1]
[null,null,null,"facile",null,null,null,2,null,1,"… pas du tout récupéré",null,null,null,null,null,null,null,null,null,null,null,null,null,null,null,null,null,null,null,null,null,null,null,"Entrainements",null,null,null,"Rapport de santé"]
[null,null,null,null,null,null,null,3,null,2,"… un peu récupéré",null,null,null,null,null,null,null,null,null,null,null,null,null,null,null,null,null,null,null,null,null,null,null,"Jours d'entrainement",null,{"$f":"IF(SUM(AH4:AH24)=0,\"\",SUM(AH4:AH24))","v":""}]
[null,null,null,"Assez dur",null,null,null,4,null,3,"… récupéré",null,null,null,null,null,null,null,null,null,null,{"$f":"B4","v":"Lu"},{"$f":"AK4","v":0},null,null,null,null,null,null,null,null,null,null,null,"Entrainements",null,{"$f":"IF(AK32=\"\",\"\",SUM(M27:AG27))","v":""}]
[null,null,null,"dur",null,null,null,5,null,4,"…  en forme",null,null,null,null,null,null,null,null,null,null,{"$f":"B7","v":"Ma"},{"$f":"AK7","v":0},null,null,null,null,null,null,null,null,null,null,null,"Heures d'entrainement",null,{"$f":"IF(AK32=\"\",\"\",SUM(M25,P25,S25,Y25,AB25,V25,AE25)/60)","v":""},null,{"$f":"IF($AK$32=\"\",\"\",AK32-AM36-AM44-AM52)","v":""},"Aucune limitation",null,null,null,0]
[null,null,null,null,null,null,null,6,null,5,"… très en forme",null,null,null,null,null,null,null,null,null,null,{"$f":"B10","v":"Me"},{"$f":"AK10","v":0},null,null,null,null,null,null,null,null,null,null,null,"Charge de l'entrainement",null,{"$f":"IF(AK32=\"\",\"\",SUM(AK25))","v":""}]
[null,null,null,"très dur",null,null,null,7,null,null,null,null,null,null,null,null,null,null,null,null,null,{"$f":"B13","v":"Je"},{"$f":"AK13","v":0},null,null,null,null,null,null,null,null,null,null,null,"Monotonie",null,{"$f":"IF(AK27=0,0,(AVERAGE(AK4:AK24))/AK27)","v":0},null,{"$f":"SUM(AM37:AM42)","v":0},"Limitation pour cause de douleurs"]
[null,null,null,null,null,null,null,8,null,"Nombre de matchs",null,null,null,null,null,null,null,null,null,null,null,{"$f":"B16","v":"Ve"},{"$f":"AK16","v":0},null,null,null,null,null,null,null,null,null,null,null,"Efforts à l'entrainement",null,{"$f":"IF(AK32=\"\",\"\",AK35*AK36)","v":""},null,{"$f":"COUNTIF($H$4:$H$24,$AR37)","v":0},"Doigt",null,null,null,1]
[null,null,null,"extrèmement dur",null,null,null,9,null,null,null,null,null,null,null,null,null,null,null,null,null,{"$f":"B19","v":"Sa"},{"$f":"AK19","v":0},null,null,null,null,null,null,null,null,null,null,null,null,null,null,null,0,"Épaule",null,null,null,2]
[null,null,null,"Comme mon entrainement le plus dur",null,null,null,10,null,1,"… 3 sets et plus",null,null,null,null,null,null,null,null,null,null,{"$f":"B22","v":"Di"},{"$f":"AK22","v":0},null,null,null,null,null,null,null,null,null,null,null,"Compétition",null,null,null,0,"Dos",null,null,null,3]
[null,null,null,null,null,null,null,null,null,0.5,"… moins de 3 sets",null,null,null,null,null,null,null,null,null,null,null,null,null,null,null,null,null,null,null,null,null,null,null,"Matchs de volleyball",null,{"$f":"IF(AK32=\"\",\"\",SUM(AM4:AM24))","v":""},null,0,"Genou",null,null,null,4]
[null,null,null,null,null,null,null,null,null,null,null,null,null,null,null,null,null,null,null,null,null,null,null,null,null,null,null,null,null,null,null,null,null,null,"Sets de volleyball",null,{"$f":"IF(AK32=\"\",\"\",SUM(AN4:AN24))","v":""},null,0,"Cheville",null,null,null,5]
[null,null,null,null,null,null,null,null,null,"Sets joués",null,null,null,null,null,null,null,null,null,null,null,null,null,null,null,null,null,null,null,null,null,null,null,null,"Matchs de beach volley",null,{"$f":"IF(AK35=\"\",\"\",SUM(AO4:AO24))","v":""},null,0,"Autre",null,null,null,6]
[null,null,null,null,null,null,null,null,null,1,"… depuis le début et durant tout le set",null,null,null,null,null,null,null,null,null,null,null,null,null,null,null,null,null,null,null,null,null,null,null,"Sets de beach volley",null,{"$f":"IF(AK35=\"\",\"\",SUM(AP4:AP24))","v":""}]
[null,null,null,null,null,null,null,null,null,0.5,"… entré/sorti en cours, beaucoup joué",null,null,null,null,null,null,null,null,null,null,null,null,null,null,null,null,null,null,null,null,null,null,null,null,null,null,null,{"$f":"SUM(AM45:AM50)","v":0},"Absence pour cause de blessure"]
[null,null,null,null,null,null,null,null,null,0.1,"… entré/sorti en cours, peu joué",null,null,null,null,null,null,null,null,null,null,null,null,null,null,null,null,null,null,null,null,null,null,null,"Satisfaction",null,null,null,{"$f":"COUNTIF($H$4:$H$24,$AR45)","v":0},"Doigt",null,null,null,11]
[null,null,null,null,null,null,null,null,null,null,null,null,null,null,null,null,null,null,null,null,null,null,null,null,null,null,null,null,null,null,null,null,null,null,"Satisfaction de l'entrainement/match J",null,{"$f":"IF(AK32=\"\",\"\",SUM(AQ4:AQ24)/AK32)","v":""},null,0,"Épaule",null,null,null,12]
[null,null,null,null,null,null,null,null,null,"J","Es-tu content de la qualité de ton",null,null,null,null,null,null,null,null,null,null,null,null,null,null,null,null,null,null,null,null,null,null,null,null,null,null,null,0,"Dos",null,null,null,13]
[null,null,null,null,null,null,null,null,null,null,"entrainement/compétition?",null,null,null,null,null,null,null,null,null,null,null,null,null,null,null,null,null,null,null,null,null,null,null,"Santé",null,null,null,0,"Genou",null,null,null,14]
[null,null,null,null,null,null,null,null,null,1,"… pas content",null,null,null,null,null,null,null,null,null,null,null,null,null,null,null,null,null,null,null,null,null,null,null,"Limitation pour cause de douleurs",null,{"$f":"AM36","v":0},null,0,"Cheville",null,null,null,15]
[null,null,null,null,null,null,null,null,null,2,"… plutôt pas content",null,null,null,null,null,null,null,null,null,null,null,null,null,null,null,null,null,null,null,null,null,null,null,"Absence pour cause de blessure",null,{"$f":"AM44","v":0},null,0,"Autre",null,null,null,16]
[null,null,null,null,null,null,null,null,null,3,"… moyen",null,null,null,null,null,null,null,null,null,null,null,null,null,null,null,null,null,null,null,null,null,null,null,"Absence pour cause de maladie",null,{"$f":"AM52","v":0}]
[null,null,null,null,null,null,null,null,null,4,"… content",null,null,null,null,null,null,null,null,null,null,null,null,null,null,null,null,null,null,null,null,null,null,null,null,null,null,null,{"$f":"SUM(AM53:AM59)","v":0},"Absence pour cause de maladie"]
[null,null,null,null,null,null,null,null,null,5,"… très content!",null,null,null,null,null,null,null,null,null,null,null,null,null,null,null,null,null,null,null,null,null,null,null,null,null,null,null,{"$f":"COUNTIF($H$4:$H$24,$AR53)","v":0},"Maladie",null,null,null,21]
[]
[]
[]
[]
[]
[]
[]
[]
[]
[]
[]
[]
[]
[]
[]
[]
[]
[]
[]
[]
[]
[]
[]
[]
[]
[]
[]
[]
[]
[]
[]
[]
[]
[]
[]
[]
[]
[]
[]
[]
[]
[]
[]
[]
[]
[]
[]
[]
[]
[]
[]
[]
[]
[]
[]
[]
[]
[]
[]
[]
[]
[]
[]
[]
[]
[]
[]
[]
[]
[]
[]
[]
[]
[]
[]
[]
[]
[]
[]
[]
[null,null,null,null,null,null,null,null,null,null,null,null,null,null,null,null,null,null,null,null,null,null,null,null,{"$f":"Z134-1","v":-6},-5,-4,-3,-2,-1,0,{"$f":"D1","v":1}]
[]
[]
[]
[]
[]
[]
[]
[]
[]
[]
[]
[]
[]
[]
[]
[]
[]
[]
[]
[]
[null,null,null,null,null,null,null,null,null,null,null,null,null,null,null,null,null,null,null,null,null,null,null,null,null,null,null,null,null,null,null,null,{"$f":"AF134+1","v":2}]

{"sheet":"2","index":30,"n_rows":155,"n_cols":45,"rows_kept":155,"cut":false,"hidden":false,"merged":[[1,43,2,43],[30,34,30,36],[30,38,31,43],[0,5,0,6],[1,44,2,44],[1,15,1,17],[28,10,29,10],[29,21,29,26],[36,9,37,9],[1,41,2,41],[21,6,23,6],[21,9,21,10],[23,9,23,10],[21,7,23,7],[1,12,1,14],[7,9,7,10],[1,38,2,38],[1,24,1,26],[1,18,1,20],[1,30,1,32],[1,27,1,29],[27,3,27,6],[28,3,28,6],[37,3,37,6],[30,3,30,6],[31,3,31,6],[32,3,32,6],[33,3,33,6],[34,3,34,6],[35,3,35,6],[36,3,36,6],[38,3,38,6],[46,9,47,9],[18,36,20,36],[1,40,2,40],[3,36,5,36],[1,36,2,36],[20,9,20,10],[5,9,5,10],[1,39,2,39],[21,36,23,36],[9,36,11,36],[12,36,14,36],[15,36,17,36],[28,9,29,9],[16,9,16,10],[15,9,15,10],[10,9,10,10],[29,3,29,6],[15,5,17,5],[12,4,14,4],[6,36,8,36],[3,3,5,3],[3,6,5,6],[3,9,3,10],[4,9,4,10],[17,9,17,10],[22,9,22,10],[18,9,18,10],[19,9,19,10],[9,6,11,6],[9,9,9,10],[6,4,8,4],[9,7,11,7],[9,4,11,4],[11,9,11,10],[3,4,5,4],[3,7,5,7],[12,7,14,7],[9,5,11,5],[12,5,14,5],[21,1,23,1],[15,7,17,7],[15,1,17,1],[15,3,17,3],[15,6,17,6],[15,4,17,4],[18,5,20,5],[18,1,20,1],[18,3,20,3],[21,5,23,5],[21,3,23,3],[21,4,23,4],[18,7,20,7],[18,4,20,4],[18,6,20,6],[1,1,2,1],[9,1,11,1],[9,3,11,3],[38,34,38,36],[44,34,44,36],[47,34,47,36],[12,1,14,1],[6,3,8,3],[6,6,8,6],[6,9,6,10],[8,9,8,10],[6,5,8,5],[6,1,8,1],[6,7,8,7],[1,34,2,34],[1,21,1,23],[1,9,2,10],[3,1,5,1],[3,5,5,5],[12,3,14,3],[12,6,14,6],[12,9,12,10],[13,9,13,10],[14,9,14,10]]}
[null,null,"Woche",{"$f":"INT(MOD(INT((F1-2)/7)+0.6,52+5/28))+1","v":2},{"$f":"D1+1000","v":1002},{"$f":"'1'!F1+7","v":"2019-01-07"},null,"-",null,{"$f":"F1+6","v":"2019-01-13"},null,null,null,null,null,null,null,null,null,null,null,null,null,null,null,null,null,null,null,null,null,null,{"$f":"'Aperçu de la charge'!D2","v":"Prénom Nom"},null,{"$f":"'Aperçu de la charge'!N2","v":"2018/2019"}]
[null,"Jour",null,"Poids","REG","qualité sommeil","durée sommeil","Santé",null,"Description de l'entrainement",null,null,"Club - VB",null,null,"TS/ Nati - VB",null,null,"Club - BVB",null,null,"TS/ Nati - BVB",null,null,"Force - fitness",null,null,"Compet. - VB",null,null,"Compet. - BVB",null,null,null,"Réflexion",null,"Charge/\njour",null,"matchs VB","Sets VB","Matchs BVB","Sets BVB","J","Autre\n (Rég, mentale)","Mental- oder Sonstiges Training"]
[null,null,null,"[kg]","[1 - 5]","[1-5]","[Std]","Nr.",null,null,null,null,"Durée","RPE","Charge","Durée","RPE","Charge","Durée","RPE","Charge","Durée","RPE","Charge","Durée","RPE","Charge","Durée","RPE","Charge","Durée","RPE","Charge",null,null,null,null,null,null,null,null,null,"[1-5]"]
[null,"Lu",null,0,0,0,0,0,null,null,null,null,null,null,{"$f":"M4*N4","v":0},null,null,{"$f":"P4*Q4","v":0},null,null,{"$f":"S4*T4","v":0},null,null,{"$f":"V4*W4","v":0},null,null,{"$f":"Y4*Z4","v":0},null,null,{"$f":"AB4*AC4","v":0},null,null,{"$f":"AE4*AF4","v":0},{"$f":"IF(SUM(M4:AG6)>0,1,0)","v":"00:00:00"},null,null,{"$f":"SUM(O4:O6,R4:R6,U4:U6,X4:X6,AA4:AA6,AD4:AD6,AG4:AG6)","v":0}]
[null,null,null,null,null,null,null,null,null,null,null,null,null,null,{"$f":"M5*N5","v":0},null,null,{"$f":"P5*Q5","v":0},null,null,{"$f":"S5*T5","v":0},null,null,{"$f":"V5*W5","v":0},null,null,{"$f":"Y5*Z5","v":0},null,null,{"$f":"AB5*AC5","v":0},null,null,{"$f":"AE5*AF5","v":0}]
[null,null,null,null,null,null,null,null,null,null,null,null,null,null,0,null,null,0,null,null,0,null,null,0,null,null,0,null,null,0,null,null,0]
[null,"Ma",null,0,0,0,0,0,null,null,null,null,null,null,0,null,null,{"$f":"P7*Q7","v":0},null,null,0,null,null,0,null,null,0,null,null,0,null,null,0,{"$f":"IF(SUM(M7:AG9)>0,1,0)","v":"00:00:00"},null,null,{"$f":"SUM(O7:O9,R7:R9,U7:U9,X7:X9,AA7:AA9,AD7:AD9,AG7:AG9)","v":0}]
[null,null,null,null,null,null,null,null,null,null,null,null,null,null,0,null,null,0,null,null,0,null,null,0,null,null,0,null,null,0,null,null,0]
[null,null,null,null,null,null,null,null,null,null,null,null,null,null,0,null,null,0,null,null,0,null,null,0,null,null,0,null,null,0,null,null,0]
[null,"Me",null,0,0,0,0,0,null,null,null,null,null,null,0,null,null,{"$f":"P10*Q10","v":0},null,null,0,null,null,0,null,null,0,null,null,0,null,null,0,{"$f":"IF(SUM(M10:AG12)>0,1,0)","v":"00:00:00"},null,null,{"$f":"SUM(O10:O12,R10:R12,U10:U12,X10:X12,AA10:AA12,AD10:AD12,AG10:AG12)","v":0}]
[null,null,null,null,null,null,null,null,null,null,null,null,null,null,0,null,null,0,null,null,0,null,null,0,null,null,0,null,null,0,null,null,0]
[null,null,null,null,null,null,null,null,null,null,null,null,null,null,0,null,null,0,null,null,0,null,null,0,null,null,0,null,null,0,null,null,0]
[null,"Je",null,0,0,0,0,0,null,null,null,null,null,null,0,null,null,{"$f":"P13*Q13","v":0},null,null,0,null,null,0,null,null,0,null,null,0,null,null,0,{"$f":"IF(SUM(M13:AG15)>0,1,0)","v":"00:00:00"},null,null,{"$f":"SUM(O13:O15,R13:R15,U13:U15,X13:X15,AA13:AA15,AD13:AD15,AG13:AG15)","v":0}]
[null,null,null,null,null,null,null,null,null,null,null,null,null,null,0,null,null,0,null,null,0,null,null,0,null,null,0,null,null,0,null,null,0]
[null,null,null,null,null,null,null,null,null,null,null,null,null,null,0,null,null,0,null,null,0,null,null,0,null,null,0,null,null,0,null,null,0]
[null,"Ve",null,0,0,0,0,0,null,null,null,null,null,null,0,null,null,{"$f":"P16*Q16","v":0},null,null,0,null,null,0,null,null,0,null,null,0,null,null,0,{"$f":"IF(SUM(M16:AG18)>0,1,0)","v":"00:00:00"},null,null,{"$f":"SUM(O16:O18,R16:R18,U16:U18,X16:X18,AA16:AA18,AD16:AD18,AG16:AG18)","v":0}]
[null,null,null,null,null,null,null,null,null,null,null,null,null,null,0,null,null,0,null,null,0,null,null,0,null,null,0,null,null,0,null,null,0]
[null,null,null,null,null,null,null,null,null,null,null,null,null,null,0,null,null,0,null,null,0,null,null,0,null,null,0,null,null,0,null,null,0]
[null,"Sa",null,0,0,0,0,0,null,null,null,null,null,null,{"$f":"M19*N19","v":0},null,null,{"$f":"P19*Q19","v":0},null,null,{"$f":"S19*T19","v":0},null,null,{"$f":"V19*W19","v":0},null,null,{"$f":"Y19*Z19","v":0},null,null,{"$f":"AB19*AC19","v":0},null,null,{"$f":"AE19*AF19","v":0},{"$f":"IF(SUM(M19:AG21)>0,1,0)","v":"00:00:00"},null,null,{"$f":"SUM(O19:O21,R19:R21,U19:U21,X19:X21,AA19:AA21,AD19:AD21,AG19:AG21)","v":0}]
[null,null,null,null,null,null,null,null,null,null,null,null,null,null,{"$f":"M20*N20","v":0},null,null,0,null,null,{"$f":"S20*T20","v":0},null,null,{"$f":"V20*W20","v":0},null,null,{"$f":"Y20*Z20","v":0},null,null,{"$f":"AB20*AC20","v":0},null,null,{"$f":"AE20*AF20","v":0}]
[null,null,null,null,null,null,null,null,null,null,null,null,null,null,0,null,null,0,null,null,0,null,null,0,null,null,0,null,null,0,null,null,0]
[null,"Di",null,0,0,0,0,0,null,null,null,null,null,null,0,null,null,{"$f":"P22*Q22","v":0},null,null,0,null,null,0,null,null,0,null,null,0,null,null,0,{"$f":"IF(SUM(M22:AG24)>0,1,0)","v":"00:00:00"},null,null,{"$f":"SUM(O22:O24,R22:R24,U22:U24,X22:X24,AA22:AA24,AD22:AD24,AG22:AG24)","v":0}]
[null,null,null,null,null,null,null,null,null,null,null,null,null,null,0,null,null,0,null,null,0,null,null,0,null,null,0,null,null,0,null,null,0]
[null,null,null,null,null,null,null,null,null,null,null,null,null,null,0,null,null,0,null,null,0,null,null,0,null,null,0,null,null,0,null,null,0]
[null,null,null,null,null,null,null,null,null,null,"Total",null,{"$f":"SUM(M4:M24)","v":0},null,{"$f":"SUM(O4:O24)","v":0},{"$f":"SUM(P4:P24)","v":0},null,{"$f":"SUM(R4:R24)","v":0},{"$f":"SUM(S4:S24)","v":0},null,{"$f":"SUM(U4:U24)","v":0},{"$f":"SUM(V4:V24)","v":0},null,{"$f":"SUM(X4:X24)","v":0},{"$f":"SUM(Y4:Y24)","v":0},null,{"$f":"SUM(AA4:AA24)","v":0},{"$f":"SUM(AB4:AB24)","v":0},null,{"$f":"SUM(AD4:AD24)","v":0},{"$f":"SUM(AE4:AE24)","v":0},null,{"$f":"SUM(AG4:AG24)","v":0},null,"Charge totale",null,{"$f":"SUM(AK4:AK24)","v":0}]
[null,"avg.",null,{"$f":"IF(COUNTA(D4:D24)=0,\"\",AVERAGE(D4:D24))","v":0},{"$f":"IF(COUNTA(E4:E24)=0,\"\",AVERAGE(E4:E24))","v":0},{"$f":"IF(COUNTA(F4:F24)=0,\"\",AVERAGE(F4:F24))","v":0},{"$f":"IF(COUNTA(G4:G24)=0,\"\",AVERAGE(G4:G24))","v":0},{"$f":"IF(COUNTA(H4:H24)=0,\"\",COUNTIF(H4:H24,\"x\"))","v":0},null,null,"Zone",null,1,2,3,1,2,3,1,2,3,1,2,3,1,2,3,1,2,3,1,2,3,null,"Moyenne",null,{"$f":"AVERAGE(AK4:AK24)","v":0}]
[null,null,null,null,null,{"$f":"IF(COUNTA(F4:F24)=0,\"\",VAR(F4:F24))","v":0},{"$f":"IF(COUNTA(G4:G24)=0,\"\",STDEV(G4:G24))","v":0},"Divergence - durée du sommeil",null,null,"Unité par zone (RPE) ",null,{"$f":"IF('Répartition des intensités'!$AR$25=\"x\",COUNTIF(N4:N24,\"<3,5\"),COUNTIF(N4:N24,\"<4,5\"))","v":0},{"$f":"COUNT(N4:N24)-(M27+O27)","v":0},{"$f":"IF('Répartition des intensités'!$AR$25=\"x\",COUNTIF(N4:N24,\">5,5\"),COUNTIF(N4:N24,\">6,5\"))","v":0},{"$f":"IF('Répartition des intensités'!$AR$25=\"x\",COUNTIF(Q4:Q24,\"<3,5\"),COUNTIF(Q4:Q24,\"<4,5\"))","v":0},{"$f":"COUNT(Q4:Q24)-(P27+R27)","v":0},{"$f":"IF('Répartition des intensités'!$AR$25=\"x\",COUNTIF(Q4:Q24,\">5,5\"),COUNTIF(Q4:Q24,\">6,5\"))","v":0},{"$f":"IF('Répartition des intensités'!$AR$25=\"x\",COUNTIF(T4:T24,\"<3,5\"),COUNTIF(T4:T24,\"<4,5\"))","v":0},{"$f":"COUNT(T4:T24)-(S27+U27)","v":0},{"$f":"IF('Répartition des intensités'!$AR$25=\"x\",COUNTIF(T4:T24,\">5,5\"),COUNTIF(T4:T24,\">6,5\"))","v":0},{"$f":"IF('Répartition des intensités'!$AR$25=\"x\",COUNTIF(W4:W24,\"<3,5\"),COUNTIF(W4:W24,\"<4,5\"))","v":0},{"$f":"COUNT(W4:W24)-(V27+X27)","v":0},{"$f":"IF('Répartition des intensités'!$AR$25=\"x\",COUNTIF(W4:W24,\">5,5\"),COUNTIF(W4:W24,\">6,5\"))","v":0},{"$f":"IF('Répartition des intensités'!$AR$25=\"x\",COUNTIF(Z4:Z24,\"<3,5\"),COUNTIF(Z4:Z24,\"<4,5\"))","v":0},{"$f":"COUNT(Z4:Z24)-(Y27+AA27)","v":0},{"$f":"IF('Répartition des intensités'!$AR$25=\"x\",COUNTIF(Z4:Z24,\">5,5\"),COUNTIF(Z4:Z24,\">6,5\"))","v":0},{"$f":"IF('Répartition des intensités'!$AR$25=\"x\",COUNTIF(AC4:AC24,\"<3,5\"),COUNTIF(AC4:AC24,\"<4,5\"))","v":0},{"$f":"COUNT(AC4:AC24)-(AB27+AD27)","v":0},{"$f":"IF('Répartition des intensités'!$AR$25=\"x\",COUNTIF(AC4:AC24,\">5,5\"),COUNTIF(AC4:AC24,\">6,5\"))","v":0},{"$f":"IF('Répartition des intensités'!$AR$25=\"x\",COUNTIF(AF4:AF24,\"<3,5\"),COUNTIF(AF4:AF24,\"<4,5\"))","v":0},{"$f":"COUNT(AF4:AF24)-(AE27+AG27)","v":0},{"$f":"IF('Répartition des intensités'!$AR$25=\"x\",COUNTIF(AF4:AF24,\">5,5\"),COUNTIF(AF4:AF24,\">6,5\"))","v":0},null,"Divergence",null,{"$f":"STDEVP(AK4:AK24)","v":0}]
[null,null,null,"échelle de Foster",null,null,null,"RPE",null,null,"Temps par zone (RPE)",null,{"$f":"IF('Répartition des intensités'!$AR$25=\"x\",SUMIF(N4:N24,\"<3,5\",M4:M24),SUMIF(N4:N24,\"<4,5\",M4:M24))","v":0},{"$f":"IF(N27=0,0,SUM((M25)-(M28+O28)))","v":0},{"$f":"IF('Répartition des intensités'!$AR$25=\"x\",SUMIF(N4:N24,\">5,5\",M4:M24),SUMIF(N4:N24,\">6,5\",M4:M24))","v":0},{"$f":"IF('Répartition des intensités'!$AR$25=\"x\",SUMIF(Q4:Q24,\"<3,5\",P4:P24),SUMIF(Q4:Q24,\"<4,5\",P4:P24))","v":0},{"$f":"IF(Q27=0,0,SUM((P25)-(P28+R28)))","v":0},{"$f":"IF('Répartition des intensités'!$AR$25=\"x\",SUMIF(Q4:Q24,\">5,5\",P4:P24),SUMIF(Q4:Q24,\">6,5\",P4:P24))","v":0},{"$f":"IF('Répartition des intensités'!$AR$25=\"x\",SUMIF(T4:T24,\"<3,5\",S4:S24),SUMIF(T4:T24,\"<4,5\",S4:S24))","v":0},{"$f":"IF(T27=0,0,SUM((S25)-(S28+U28)))","v":0},{"$f":"IF('Répartition des intensités'!$AR$25=\"x\",SUMIF(T4:T24,\">5,5\",S4:S24),SUMIF(T4:T24,\">6,5\",S4:S24))","v":0},{"$f":"IF('Répartition des intensités'!$AR$25=\"x\",SUMIF(W4:W24,\"<3,5\",V4:V24),SUMIF(W4:W24,\"<4,5\",V4:V24))","v":0},{"$f":"IF(W27=0,0,SUM((V25)-(V28+X28)))","v":0},{"$f":"IF('Répartition des intensités'!$AR$25=\"x\",SUMIF(W4:W24,\">5,5\",V4:V24),SUMIF(W4:W24,\">6,5\",V4:V24))","v":0},{"$f":"IF('Répartition des intensités'!$AR$25=\"x\",SUMIF(Z4:Z24,\"<3,5\",Y4:Y24),SUMIF(Z4:Z24,\"<4,5\",Y4:Y24))","v":0},{"$f":"IF(Z27=0,0,SUM((Y25)-(Y28+AA28)))","v":0},{"$f":"IF('Répartition des intensités'!$AR$25=\"x\",SUMIF(Z4:Z24,\">5,5\",Y4:Y24),SUMIF(Z4:Z24,\">6,5\",Y4:Y24))","v":0},{"$f":"IF('Répartition des intensités'!$AR$25=\"x\",SUMIF(AC4:AC24,\"<3,5\",AB4:AB24),SUMIF(AC4:AC24,\"<4,5\",AB4:AB24))","v":0},{"$f":"IF(AC27=0,0,SUM((AB25)-(AB28+AD28)))","v":0},{"$f":"IF('Répartition des intensités'!$AR$25=\"x\",SUMIF(AC4:AC24,\">5,5\",AB4:AB24),SUMIF(AC4:AC24,\">6,5\",AB4:AB24))","v":0},{"$f":"IF('Répartition des intensités'!$AR$25=\"x\",SUMIF(AF4:AF24,\"<3,5\",AE4:AE24),SUMIF(AF4:AF24,\"<4,5\",AE4:AE24))","v":0},{"$f":"IF(AF27=0,0,SUM((AE25)-(AE28+AG28)))","v":0},{"$f":"IF('Répartition des intensités'!$AR$25=\"x\",SUMIF(AF4:AF24,\">5,5\",AE4:AE24),SUMIF(AF4:AF24,\">6,5\",AE4:AE24))","v":0}]
[null,null,null,"Comme au repos",null,null,null,0,null,"REG","Est-ce que j'ai l'impression d'avoir récupéré en me levant?"]
[null,null,null,"très facile",null,null,null,1]
[null,null,null,"facile",null,null,null,2,null,1,"… pas du tout récupéré",null,null,null,null,null,null,null,null,null,null,null,null,null,null,null,null,null,null,null,null,null,null,null,"Entrainements",null,null,null,"Rapport de santé"]
[null,null,null,null,null,null,null,3,null,2,"… un peu récupéré",null,null,null,null,null,null,null,null,null,null,null,null,null,null,null,null,null,null,null,null,null,null,null,"Jours d'entrainement",null,{"$f":"IF(SUM(AH4:AH24)=0,\"\",SUM(AH4:AH24))","v":""}]
[null,null,null,"Assez dur",null,null,null,4,null,3,"… récupéré",null,null,null,null,null,null,null,null,null,null,{"$f":"B4","v":"Lu"},{"$f":"AK4","v":0},null,null,null,null,null,null,null,null,null,null,null,"Entrainements",null,{"$f":"IF(AK32=\"\",\"\",SUM(M27:AG27))","v":""}]
[null,null,null,"dur",null,null,null,5,null,4,"…  en forme",null,null,null,null,null,null,null,null,null,null,{"$f":"B7","v":"Ma"},{"$f":"AK7","v":0},null,null,null,null,null,null,null,null,null,null,null,"Heures d'entrainement",null,{"$f":"IF(AK32=\"\",\"\",SUM(M25,P25,S25,Y25,AB25,V25,AE25)/60)","v":""},null,{"$f":"IF($AK$32=\"\",\"\",AK32-AM36-AM44-AM52)","v":""},"Aucune limitation",null,null,null,0]
[null,null,null,null,null,null,null,6,null,5,"… très en forme",null,null,null,null,null,null,null,null,null,null,{"$f":"B10","v":"Me"},{"$f":"AK10","v":0},null,null,null,null,null,null,null,null,null,null,null,"Charge de l'entrainement",null,{"$f":"IF(AK32=\"\",\"\",SUM(AK25))","v":""}]
[null,null,null,"très dur",null,null,null,7,null,null,null,null,null,null,null,null,null,null,null,null,null,{"$f":"B13","v":"Je"},{"$f":"AK13","v":0},null,null,null,null,null,null,null,null,null,null,null,"Monotonie",null,{"$f":"IF(AK27=0,0,(AVERAGE(AK4:AK24))/AK27)","v":0},null,{"$f":"SUM(AM37:AM42)","v":0},"Limitation pour cause de douleurs"]
[null,null,null,null,null,null,null,8,null,"Nombre de matchs",null,null,null,null,null,null,null,null,null,null,null,{"$f":"B16","v":"Ve"},{"$f":"AK16","v":0},null,null,null,null,null,null,null,null,null,null,null,"Efforts à l'entrainement",null,{"$f":"IF(AK32=\"\",\"\",AK35*AK36)","v":""},null,{"$f":"COUNTIF($H$4:$H$24,$AR37)","v":0},"Doigt",null,null,null,1]
[null,null,null,"extrèmement dur",null,null,null,9,null,null,null,null,null,null,null,null,null,null,null,null,null,{"$f":"B19","v":"Sa"},{"$f":"AK19","v":0},null,null,null,null,null,null,null,null,null,null,null,null,null,null,null,0,"Épaule",null,null,null,2]
[null,null,null,"Comme mon entrainement le plus dur",null,null,null,10,null,1,"… 3 sets et plus",null,null,null,null,null,null,null,null,null,null,{"$f":"B22","v":"Di"},{"$f":"AK22","v":0},null,null,null,null,null,null,null,null,null,null,null,"Compétition",null,null,null,0,"Dos",null,null,null,3]
[null,null,null,null,null,null,null,null,null,0.5,"… moins de 3 sets",null,null,null,null,null,null,null,null,null,null,null,null,null,null,null,null,null,null,null,null,null,null,null,"Matchs de volleyball",null,{"$f":"IF(AK32=\"\",\"\",SUM(AM4:AM24))","v":""},null,0,"Genou",null,null,null,4]
[null,null,null,null,null,null,null,null,null,null,null,null,null,null,null,null,null,null,null,null,null,null,null,null,null,null,null,null,null,null,null,null,null,null,"Sets de volleyball",null,{"$f":"IF(AK32=\"\",\"\",SUM(AN4:AN24))","v":""},null,0,"Cheville",null,null,null,5]
[null,null,null,null,null,null,null,null,null,"Sets joués",null,null,null,null,null,null,null,null,null,null,null,null,null,null,null,null,null,null,null,null,null,null,null,null,"Matchs de beach volley",null,{"$f":"IF(AK35=\"\",\"\",SUM(AO4:AO24))","v":""},null,0,"Autre",null,null,null,6]
[null,null,null,null,null,null,null,null,null,1,"… depuis le début et durant tout le set",null,null,null,null,null,null,null,null,null,null,null,null,null,null,null,null,null,null,null,null,null,null,null,"Sets de beach volley",null,{"$f":"IF(AK35=\"\",\"\",SUM(AP4:AP24))","v":""}]
[null,null,null,null,null,null,null,null,null,0.5,"… entré/sorti en cours, beaucoup joué",null,null,null,null,null,null,null,null,null,null,null,null,null,null,null,null,null,null,null,null,null,null,null,null,null,null,null,{"$f":"SUM(AM45:AM50)","v":0},"Absence pour cause de blessure"]
[null,null,null,null,null,null,null,null,null,0.1,"… entré/sorti en cours, peu joué",null,null,null,null,null,null,null,null,null,null,null,null,null,null,null,null,null,null,null,null,null,null,null,"Satisfaction",null,null,null,{"$f":"COUNTIF($H$4:$H$24,$AR45)","v":0},"Doigt",null,null,null,11]
[null,null,null,null,null,null,null,null,null,null,null,null,null,null,null,null,null,null,null,null,null,null,null,null,null,null,null,null,null,null,null,null,null,null,"Satisfaction de l'entrainement/match J",null,{"$f":"IF(AK32=\"\",\"\",SUM(AQ4:AQ24)/AK32)","v":""},null,0,"Épaule",null,null,null,12]
[null,null,null,null,null,null,null,null,null,"J","Es-tu content de la qualité de ton",null,null,null,null,null,null,null,null,null,null,null,null,null,null,null,null,null,null,null,null,null,null,null,null,null,null,null,0,"Dos",null,null,null,13]
[null,null,null,null,null,null,null,null,null,null,"entrainement/compétition?",null,null,null,null,null,null,null,null,null,null,null,null,null,null,null,null,null,null,null,null,null,null,null,"Santé",null,null,null,0,"Genou",null,null,null,14]
[null,null,null,null,null,null,null,null,null,1,"… pas content",null,null,null,null,null,null,null,null,null,null,null,null,null,null,null,null,null,null,null,null,null,null,null,"Limitation pour cause de douleurs",null,{"$f":"AM36","v":0},null,0,"Cheville",null,null,null,15]
[null,null,null,null,null,null,null,null,null,2,"… plutôt pas content",null,null,null,null,null,null,null,null,null,null,null,null,null,null,null,null,null,null,null,null,null,null,null,"Absence pour cause de blessure",null,{"$f":"AM44","v":0},null,0,"Autre",null,null,null,16]
[null,null,null,null,null,null,null,null,null,3,"… moyen",null,null,null,null,null,null,null,null,null,null,null,null,null,null,null,null,null,null,null,null,null,null,null,"Absence pour cause de maladie",null,{"$f":"AM52","v":0}]
[null,null,null,null,null,null,null,null,null,4,"… content",null,null,null,null,null,null,null,null,null,null,null,null,null,null,null,null,null,null,null,null,null,null,null,null,null,null,null,{"$f":"SUM(AM53:AM59)","v":0},"Absence pour cause de maladie"]
[null,null,null,null,null,null,null,null,null,5,"… très content!",null,null,null,null,null,null,null,null,null,null,null,null,null,null,null,null,null,null,null,null,null,null,null,null,null,null,null,{"$f":"COUNTIF($H$4:$H$24,$AR53)","v":0},"Maladie",null,null,null,21]
[]
[]
[]
[]
[]
[]
[]
[]
[]
[]
[]
[]
[]
[]
[]
[]
[]
[]
[]
[]
[]
[]
[]
[]
[]
[]
[]
[]
[]
[]
[]
[]
[]
[]
[]
[]
[]
[]
[]
[]
[]
[]
[]
[]
[]
[]
[]
[]
[]
[]
[]
[]
[]
[]
[]
[]
[]
[]
[]
[]
[]
[]
[]
[]
[]
[]
[]
[]
[]
[]
[]
[]
[]
[]
[]
[]
[]
[]
[]
[]
[null,null,null,null,null,null,null,null,null,null,null,null,null,null,null,null,null,null,null,null,null,null,null,null,{"$f":"Z134-1","v":-5},-4,-3,-2,-1,0,1,{"$f":"D1","v":2}]
[]
[]
[]
[]
[]
[]
[]
[]
[]
[]
[]
[]
[]
[]
[]
[]
[]
[]
[]
[]
[null,null,null,null,null,null,null,null,null,null,null,null,null,null,null,null,null,null,null,null,null,null,null,null,null,null,null,null,null,null,null,null,{"$f":"AF134+1","v":3}]

{"sheet":"3","index":31,"n_rows":155,"n_cols":45,"rows_kept":155,"cut":false,"hidden":false,"merged":[[1,43,2,43],[30,34,30,36],[30,38,31,43],[0,5,0,6],[1,44,2,44],[1,15,1,17],[28,10,29,10],[29,21,29,26],[36,9,37,9],[1,41,2,41],[21,6,23,6],[21,9,21,10],[23,9,23,10],[21,7,23,7],[1,12,1,14],[7,9,7,10],[1,38,2,38],[1,24,1,26],[1,18,1,20],[1,30,1,32],[1,27,1,29],[27,3,27,6],[28,3,28,6],[37,3,37,6],[30,3,30,6],[31,3,31,6],[32,3,32,6],[33,3,33,6],[34,3,34,6],[35,3,35,6],[36,3,36,6],[38,3,38,6],[46,9,47,9],[18,36,20,36],[1,40,2,40],[3,36,5,36],[1,36,2,36],[20,9,20,10],[5,9,5,10],[1,39,2,39],[21,36,23,36],[9,36,11,36],[12,36,14,36],[15,36,17,36],[28,9,29,9],[16,9,16,10],[15,9,15,10],[10,9,10,10],[29,3,29,6],[15,5,17,5],[12,4,14,4],[6,36,8,36],[3,3,5,3],[3,6,5,6],[3,9,3,10],[4,9,4,10],[17,9,17,10],[22,9,22,10],[18,9,18,10],[19,9,19,10],[9,6,11,6],[9,9,9,10],[6,4,8,4],[9,7,11,7],[9,4,11,4],[11,9,11,10],[3,4,5,4],[3,7,5,7],[12,7,14,7],[9,5,11,5],[12,5,14,5],[21,1,23,1],[15,7,17,7],[15,1,17,1],[15,3,17,3],[15,6,17,6],[15,4,17,4],[18,5,20,5],[18,1,20,1],[18,3,20,3],[21,5,23,5],[21,3,23,3],[21,4,23,4],[18,7,20,7],[18,4,20,4],[18,6,20,6],[1,1,2,1],[9,1,11,1],[9,3,11,3],[38,34,38,36],[44,34,44,36],[47,34,47,36],[12,1,14,1],[6,3,8,3],[6,6,8,6],[6,9,6,10],[8,9,8,10],[6,5,8,5],[6,1,8,1],[6,7,8,7],[1,34,2,34],[1,21,1,23],[1,9,2,10],[3,1,5,1],[3,5,5,5],[12,3,14,3],[12,6,14,6],[12,9,12,10],[13,9,13,10],[14,9,14,10]]}
[null,null,"Woche",{"$f":"INT(MOD(INT((F1-2)/7)+0.6,52+5/28))+1","v":3},{"$f":"D1+1000","v":1003},{"$f":"'2'!F1+7","v":"2019-01-14"},null,"-",null,{"$f":"F1+6","v":"2019-01-20"},null,null,null,null,null,null,null,null,null,null,null,null,null,null,null,null,null,null,null,null,null,null,{"$f":"'Aperçu de la charge'!D2","v":"Prénom Nom"},null,{"$f":"'Aperçu de la charge'!N2","v":"2018/2019"}]
[null,"Jour",null,"Poids","REG","qualité sommeil","durée sommeil","Santé",null,"Description de l'entrainement",null,null,"Club - VB",null,null,"TS/ Nati - VB",null,null,"Club - BVB",null,null,"TS/ Nati - BVB",null,null,"Force - fitness",null,null,"Compet. - VB",null,null,"Compet. - BVB",null,null,null,"Réflexion",null,"Charge/\njour",null,"matchs VB","Sets VB","Matchs BVB","Sets BVB","J","Autre\n (Rég, mentale)","Mental- oder Sonstiges Training"]
[null,null,null,"[kg]","[1 - 5]","[1-5]","[Std]","Nr.",null,null,null,null,"Durée","RPE","Charge","Durée","RPE","Charge","Durée","RPE","Charge","Durée","RPE","Charge","Durée","RPE","Charge","Durée","RPE","Charge","Durée","RPE","Charge",null,null,null,null,null,null,null,null,null,"[1-5]"]
[null,"Lu",null,0,0,0,0,0,null,null,null,null,null,null,{"$f":"M4*N4","v":0},null,null,{"$f":"P4*Q4","v":0},null,null,{"$f":"S4*T4","v":0},null,null,{"$f":"V4*W4","v":0},null,null,{"$f":"Y4*Z4","v":0},null,null,{"$f":"AB4*AC4","v":0},null,null,{"$f":"AE4*AF4","v":0},{"$f":"IF(SUM(M4:AG6)>0,1,0)","v":"00:00:00"},null,null,{"$f":"SUM(O4:O6,R4:R6,U4:U6,X4:X6,AA4:AA6,AD4:AD6,AG4:AG6)","v":0}]
[null,null,null,null,null,null,null,null,null,null,null,null,null,null,{"$f":"M5*N5","v":0},null,null,{"$f":"P5*Q5","v":0},null,null,{"$f":"S5*T5","v":0},null,null,{"$f":"V5*W5","v":0},null,null,{"$f":"Y5*Z5","v":0},null,null,{"$f":"AB5*AC5","v":0},null,null,{"$f":"AE5*AF5","v":0}]
[null,null,null,null,null,null,null,null,null,null,null,null,null,null,0,null,null,0,null,null,0,null,null,0,null,null,0,null,null,0,null,null,0]
[null,"Ma",null,0,0,0,0,0,null,null,null,null,null,null,0,null,null,{"$f":"P7*Q7","v":0},null,null,0,null,null,0,null,null,0,null,null,0,null,null,0,{"$f":"IF(SUM(M7:AG9)>0,1,0)","v":"00:00:00"},null,null,{"$f":"SUM(O7:O9,R7:R9,U7:U9,X7:X9,AA7:AA9,AD7:AD9,AG7:AG9)","v":0}]
[null,null,null,null,null,null,null,null,null,null,null,null,null,null,0,null,null,0,null,null,0,null,null,0,null,null,0,null,null,0,null,null,0]
[null,null,null,null,null,null,null,null,null,null,null,null,null,null,0,null,null,0,null,null,0,null,null,0,null,null,0,null,null,0,null,null,0]
[null,"Me",null,0,0,0,0,0,null,null,null,null,null,null,0,null,null,{"$f":"P10*Q10","v":0},null,null,0,null,null,0,null,null,0,null,null,0,null,null,0,{"$f":"IF(SUM(M10:AG12)>0,1,0)","v":"00:00:00"},null,null,{"$f":"SUM(O10:O12,R10:R12,U10:U12,X10:X12,AA10:AA12,AD10:AD12,AG10:AG12)","v":0}]
[null,null,null,null,null,null,null,null,null,null,null,null,null,null,0,null,null,0,null,null,0,null,null,0,null,null,0,null,null,0,null,null,0]
[null,null,null,null,null,null,null,null,null,null,null,null,null,null,0,null,null,0,null,null,0,null,null,0,null,null,0,null,null,0,null,null,0]
[null,"Je",null,0,0,0,0,0,null,null,null,null,null,null,0,null,null,{"$f":"P13*Q13","v":0},null,null,0,null,null,0,null,null,0,null,null,0,null,null,0,{"$f":"IF(SUM(M13:AG15)>0,1,0)","v":"00:00:00"},null,null,{"$f":"SUM(O13:O15,R13:R15,U13:U15,X13:X15,AA13:AA15,AD13:AD15,AG13:AG15)","v":0}]
[null,null,null,null,null,null,null,null,null,null,null,null,null,null,0,null,null,0,null,null,0,null,null,0,null,null,0,null,null,0,null,null,0]
[null,null,null,null,null,null,null,null,null,null,null,null,null,null,0,null,null,0,null,null,0,null,null,0,null,null,0,null,null,0,null,null,0]
[null,"Ve",null,0,0,0,0,0,null,null,null,null,null,null,0,null,null,{"$f":"P16*Q16","v":0},null,null,0,null,null,0,null,null,0,null,null,0,null,null,0,{"$f":"IF(SUM(M16:AG18)>0,1,0)","v":"00:00:00"},null,null,{"$f":"SUM(O16:O18,R16:R18,U16:U18,X16:X18,AA16:AA18,AD16:AD18,AG16:AG18)","v":0}]
[null,null,null,null,null,null,null,null,null,null,null,null,null,null,0,null,null,0,null,null,0,null,null,0,null,null,0,null,null,0,null,null,0]
[null,null,null,null,null,null,null,null,null,null,null,null,null,null,0,null,null,0,null,null,0,null,null,0,null,null,0,null,null,0,null,null,0]
[null,"Sa",null,0,0,0,0,0,null,null,null,null,null,null,{"$f":"M19*N19","v":0},null,null,{"$f":"P19*Q19","v":0},null,null,{"$f":"S19*T19","v":0},null,null,{"$f":"V19*W19","v":0},null,null,{"$f":"Y19*Z19","v":0},null,null,{"$f":"AB19*AC19","v":0},null,null,{"$f":"AE19*AF19","v":0},{"$f":"IF(SUM(M19:AG21)>0,1,0)","v":"00:00:00"},null,null,{"$f":"SUM(O19:O21,R19:R21,U19:U21,X19:X21,AA19:AA21,AD19:AD21,AG19:AG21)","v":0}]
[null,null,null,null,null,null,null,null,null,null,null,null,null,null,{"$f":"M20*N20","v":0},null,null,0,null,null,{"$f":"S20*T20","v":0},null,null,{"$f":"V20*W20","v":0},null,null,{"$f":"Y20*Z20","v":0},null,null,{"$f":"AB20*AC20","v":0},null,null,{"$f":"AE20*AF20","v":0}]
[null,null,null,null,null,null,null,null,null,null,null,null,null,null,0,null,null,0,null,null,0,null,null,0,null,null,0,null,null,0,null,null,0]
[null,"Di",null,0,0,0,0,0,null,null,null,null,null,null,0,null,null,{"$f":"P22*Q22","v":0},null,null,0,null,null,0,null,null,0,null,null,0,null,null,0,{"$f":"IF(SUM(M22:AG24)>0,1,0)","v":"00:00:00"},null,null,{"$f":"SUM(O22:O24,R22:R24,U22:U24,X22:X24,AA22:AA24,AD22:AD24,AG22:AG24)","v":0}]
[null,null,null,null,null,null,null,null,null,null,null,null,null,null,0,null,null,0,null,null,0,null,null,0,null,null,0,null,null,0,null,null,0]
[null,null,null,null,null,null,null,null,null,null,null,null,null,null,0,null,null,0,null,null,0,null,null,0,null,null,0,null,null,0,null,null,0]
[null,null,null,null,null,null,null,null,null,null,"Total",null,{"$f":"SUM(M4:M24)","v":0},null,{"$f":"SUM(O4:O24)","v":0},{"$f":"SUM(P4:P24)","v":0},null,{"$f":"SUM(R4:R24)","v":0},{"$f":"SUM(S4:S24)","v":0},null,{"$f":"SUM(U4:U24)","v":0},{"$f":"SUM(V4:V24)","v":0},null,{"$f":"SUM(X4:X24)","v":0},{"$f":"SUM(Y4:Y24)","v":0},null,{"$f":"SUM(AA4:AA24)","v":0},{"$f":"SUM(AB4:AB24)","v":0},null,{"$f":"SUM(AD4:AD24)","v":0},{"$f":"SUM(AE4:AE24)","v":0},null,{"$f":"SUM(AG4:AG24)","v":0},null,"Charge totale",null,{"$f":"SUM(AK4:AK24)","v":0}]
[null,"avg.",null,{"$f":"IF(COUNTA(D4:D24)=0,\"\",AVERAGE(D4:D24))","v":0},{"$f":"IF(COUNTA(E4:E24)=0,\"\",AVERAGE(E4:E24))","v":0},{"$f":"IF(COUNTA(F4:F24)=0,\"\",AVERAGE(F4:F24))","v":0},{"$f":"IF(COUNTA(G4:G24)=0,\"\",AVERAGE(G4:G24))","v":0},{"$f":"IF(COUNTA(H4:H24)=0,\"\",COUNTIF(H4:H24,\"x\"))","v":0},null,null,"Zone",null,1,2,3,1,2,3,1,2,3,1,2,3,1,2,3,1,2,3,1,2,3,null,"Moyenne",null,{"$f":"AVERAGE(AK4:AK24)","v":0}]
[null,null,null,null,null,{"$f":"IF(COUNTA(F4:F24)=0,\"\",VAR(F4:F24))","v":0},{"$f":"IF(COUNTA(G4:G24)=0,\"\",STDEV(G4:G24))","v":0},"Divergence - durée du sommeil",null,null,"Unité par zone (RPE) ",null,{"$f":"IF('Répartition des intensités'!$AR$25=\"x\",COUNTIF(N4:N24,\"<3,5\"),COUNTIF(N4:N24,\"<4,5\"))","v":0},{"$f":"COUNT(N4:N24)-(M27+O27)","v":0},{"$f":"IF('Répartition des intensités'!$AR$25=\"x\",COUNTIF(N4:N24,\">5,5\"),COUNTIF(N4:N24,\">6,5\"))","v":0},{"$f":"IF('Répartition des intensités'!$AR$25=\"x\",COUNTIF(Q4:Q24,\"<3,5\"),COUNTIF(Q4:Q24,\"<4,5\"))","v":0},{"$f":"COUNT(Q4:Q24)-(P27+R27)","v":0},{"$f":"IF('Répartition des intensités'!$AR$25=\"x\",COUNTIF(Q4:Q24,\">5,5\"),COUNTIF(Q4:Q24,\">6,5\"))","v":0},{"$f":"IF('Répartition des intensités'!$AR$25=\"x\",COUNTIF(T4:T24,\"<3,5\"),COUNTIF(T4:T24,\"<4,5\"))","v":0},{"$f":"COUNT(T4:T24)-(S27+U27)","v":0},{"$f":"IF('Répartition des intensités'!$AR$25=\"x\",COUNTIF(T4:T24,\">5,5\"),COUNTIF(T4:T24,\">6,5\"))","v":0},{"$f":"IF('Répartition des intensités'!$AR$25=\"x\",COUNTIF(W4:W24,\"<3,5\"),COUNTIF(W4:W24,\"<4,5\"))","v":0},{"$f":"COUNT(W4:W24)-(V27+X27)","v":0},{"$f":"IF('Répartition des intensités'!$AR$25=\"x\",COUNTIF(W4:W24,\">5,5\"),COUNTIF(W4:W24,\">6,5\"))","v":0},{"$f":"IF('Répartition des intensités'!$AR$25=\"x\",COUNTIF(Z4:Z24,\"<3,5\"),COUNTIF(Z4:Z24,\"<4,5\"))","v":0},{"$f":"COUNT(Z4:Z24)-(Y27+AA27)","v":0},{"$f":"IF('Répartition des intensités'!$AR$25=\"x\",COUNTIF(Z4:Z24,\">5,5\"),COUNTIF(Z4:Z24,\">6,5\"))","v":0},{"$f":"IF('Répartition des intensités'!$AR$25=\"x\",COUNTIF(AC4:AC24,\"<3,5\"),COUNTIF(AC4:AC24,\"<4,5\"))","v":0},{"$f":"COUNT(AC4:AC24)-(AB27+AD27)","v":0},{"$f":"IF('Répartition des intensités'!$AR$25=\"x\",COUNTIF(AC4:AC24,\">5,5\"),COUNTIF(AC4:AC24,\">6,5\"))","v":0},{"$f":"IF('Répartition des intensités'!$AR$25=\"x\",COUNTIF(AF4:AF24,\"<3,5\"),COUNTIF(AF4:AF24,\"<4,5\"))","v":0},{"$f":"COUNT(AF4:AF24)-(AE27+AG27)","v":0},{"$f":"IF('Répartition des intensités'!$AR$25=\"x\",COUNTIF(AF4:AF24,\">5,5\"),COUNTIF(AF4:AF24,\">6,5\"))","v":0},null,"Divergence",null,{"$f":"STDEVP(AK4:AK24)","v":0}]
[null,null,null,"échelle de Foster",null,null,null,"RPE",null,null,"Temps par zone (RPE)",null,{"$f":"IF('Répartition des intensités'!$AR$25=\"x\",SUMIF(N4:N24,\"<3,5\",M4:M24),SUMIF(N4:N24,\"<4,5\",M4:M24))","v":0},{"$f":"IF(N27=0,0,SUM((M25)-(M28+O28)))","v":0},{"$f":"IF('Répartition des intensités'!$AR$25=\"x\",SUMIF(N4:N24,\">5,5\",M4:M24),SUMIF(N4:N24,\">6,5\",M4:M24))","v":0},{"$f":"IF('Répartition des intensités'!$AR$25=\"x\",SUMIF(Q4:Q24,\"<3,5\",P4:P24),SUMIF(Q4:Q24,\"<4,5\",P4:P24))","v":0},{"$f":"IF(Q27=0,0,SUM((P25)-(P28+R28)))","v":0},{"$f":"IF('Répartition des intensités'!$AR$25=\"x\",SUMIF(Q4:Q24,\">5,5\",P4:P24),SUMIF(Q4:Q24,\">6,5\",P4:P24))","v":0},{"$f":"IF('Répartition des intensités'!$AR$25=\"x\",SUMIF(T4:T24,\"<3,5\",S4:S24),SUMIF(T4:T24,\"<4,5\",S4:S24))","v":0},{"$f":"IF(T27=0,0,SUM((S25)-(S28+U28)))","v":0},{"$f":"IF('Répartition des intensités'!$AR$25=\"x\",SUMIF(T4:T24,\">5,5\",S4:S24),SUMIF(T4:T24,\">6,5\",S4:S24))","v":0},{"$f":"IF('Répartition des intensités'!$AR$25=\"x\",SUMIF(W4:W24,\"<3,5\",V4:V24),SUMIF(W4:W24,\"<4,5\",V4:V24))","v":0},{"$f":"IF(W27=0,0,SUM((V25)-(V28+X28)))","v":0},{"$f":"IF('Répartition des intensités'!$AR$25=\"x\",SUMIF(W4:W24,\">5,5\",V4:V24),SUMIF(W4:W24,\">6,5\",V4:V24))","v":0},{"$f":"IF('Répartition des intensités'!$AR$25=\"x\",SUMIF(Z4:Z24,\"<3,5\",Y4:Y24),SUMIF(Z4:Z24,\"<4,5\",Y4:Y24))","v":0},{"$f":"IF(Z27=0,0,SUM((Y25)-(Y28+AA28)))","v":0},{"$f":"IF('Répartition des intensités'!$AR$25=\"x\",SUMIF(Z4:Z24,\">5,5\",Y4:Y24),SUMIF(Z4:Z24,\">6,5\",Y4:Y24))","v":0},{"$f":"IF('Répartition des intensités'!$AR$25=\"x\",SUMIF(AC4:AC24,\"<3,5\",AB4:AB24),SUMIF(AC4:AC24,\"<4,5\",AB4:AB24))","v":0},{"$f":"IF(AC27=0,0,SUM((AB25)-(AB28+AD28)))","v":0},{"$f":"IF('Répartition des intensités'!$AR$25=\"x\",SUMIF(AC4:AC24,\">5,5\",AB4:AB24),SUMIF(AC4:AC24,\">6,5\",AB4:AB24))","v":0},{"$f":"IF('Répartition des intensités'!$AR$25=\"x\",SUMIF(AF4:AF24,\"<3,5\",AE4:AE24),SUMIF(AF4:AF24,\"<4,5\",AE4:AE24))","v":0},{"$f":"IF(AF27=0,0,SUM((AE25)-(AE28+AG28)))","v":0},{"$f":"IF('Répartition des intensités'!$AR$25=\"x\",SUMIF(AF4:AF24,\">5,5\",AE4:AE24),SUMIF(AF4:AF24,\">6,5\",AE4:AE24))","v":0}]
[null,null,null,"Comme au repos",null,null,null,0,null,"REG","Est-ce que j'ai l'impression d'avoir récupéré en me levant?"]
[null,null,null,"très facile",null,null,null,1]
[null,null,null,"facile",null,null,null,2,null,1,"… pas du tout récupéré",null,null,null,null,null,null,null,null,null,null,null,null,null,null,null,null,null,null,null,null,null,null,null,"Entrainements",null,null,null,"Rapport de santé"]
[null,null,null,null,null,null,null,3,null,2,"… un peu récupéré",null,null,null,null,null,null,null,null,null,null,null,null,null,null,null,null,null,null,null,null,null,null,null,"Jours d'entrainement",null,{"$f":"IF(SUM(AH4:AH24)=0,\"\",SUM(AH4:AH24))","v":""}]
[null,null,null,"Assez dur",null,null,null,4,null,3,"… récupéré",null,null,null,null,null,null,null,null,null,null,{"$f":"B4","v":"Lu"},{"$f":"AK4","v":0},null,null,null,null,null,null,null,null,null,null,null,"Entrainements",null,{"$f":"IF(AK32=\"\",\"\",SUM(M27:AG27))","v":""}]
[null,null,null,"dur",null,null,null,5,null,4,"…  en forme",null,null,null,null,null,null,null,null,null,null,{"$f":"B7","v":"Ma"},{"$f":"AK7","v":0},null,null,null,null,null,null,null,null,null,null,null,"Heures d'entrainement",null,{"$f":"IF(AK32=\"\",\"\",SUM(M25,P25,S25,Y25,AB25,V25,AE25)/60)","v":""},null,{"$f":"IF($AK$32=\"\",\"\",AK32-AM36-AM44-AM52)","v":""},"Aucune limitation",null,null,null,0]
[null,null,null,null,null,null,null,6,null,5,"… très en forme",null,null,null,null,null,null,null,null,null,null,{"$f":"B10","v":"Me"},{"$f":"AK10","v":0},null,null,null,null,null,null,null,null,null,null,null,"Charge de l'entrainement",null,{"$f":"IF(AK32=\"\",\"\",SUM(AK25))","v":""}]
[null,null,null,"très dur",null,null,null,7,null,null,null,null,null,null,null,null,null,null,null,null,null,{"$f":"B13","v":"Je"},{"$f":"AK13","v":0},null,null,null,null,null,null,null,null,null,null,null,"Monotonie",null,{"$f":"IF(AK27=0,0,(AVERAGE(AK4:AK24))/AK27)","v":0},null,{"$f":"SUM(AM37:AM42)","v":0},"Limitation pour cause de douleurs"]
[null,null,null,null,null,null,null,8,null,"Nombre de matchs",null,null,null,null,null,null,null,null,null,null,null,{"$f":"B16","v":"Ve"},{"$f":"AK16","v":0},null,null,null,null,null,null,null,null,null,null,null,"Efforts à l'entrainement",null,{"$f":"IF(AK32=\"\",\"\",AK35*AK36)","v":""},null,{"$f":"COUNTIF($H$4:$H$24,$AR37)","v":0},"Doigt",null,null,null,1]
[null,null,null,"extrèmement dur",null,null,null,9,null,null,null,null,null,null,null,null,null,null,null,null,null,{"$f":"B19","v":"Sa"},{"$f":"AK19","v":0},null,null,null,null,null,null,null,null,null,null,null,null,null,null,null,0,"Épaule",null,null,null,2]
[null,null,null,"Comme mon entrainement le plus dur",null,null,null,10,null,1,"… 3 sets et plus",null,null,null,null,null,null,null,null,null,null,{"$f":"B22","v":"Di"},{"$f":"AK22","v":0},null,null,null,null,null,null,null,null,null,null,null,"Compétition",null,null,null,0,"Dos",null,null,null,3]
[null,null,null,null,null,null,null,null,null,0.5,"… moins de 3 sets",null,null,null,null,null,null,null,null,null,null,null,null,null,null,null,null,null,null,null,null,null,null,null,"Matchs de volleyball",null,{"$f":"IF(AK32=\"\",\"\",SUM(AM4:AM24))","v":""},null,0,"Genou",null,null,null,4]
[null,null,null,null,null,null,null,null,null,null,null,null,null,null,null,null,null,null,null,null,null,null,null,null,null,null,null,null,null,null,null,null,null,null,"Sets de volleyball",null,{"$f":"IF(AK32=\"\",\"\",SUM(AN4:AN24))","v":""},null,0,"Cheville",null,null,null,5]
[null,null,null,null,null,null,null,null,null,"Sets joués",null,null,null,null,null,null,null,null,null,null,null,null,null,null,null,null,null,null,null,null,null,null,null,null,"Matchs de beach volley",null,{"$f":"IF(AK35=\"\",\"\",SUM(AO4:AO24))","v":""},null,0,"Autre",null,null,null,6]
[null,null,null,null,null,null,null,null,null,1,"… depuis le début et durant tout le set",null,null,null,null,null,null,null,null,null,null,null,null,null,null,null,null,null,null,null,null,null,null,null,"Sets de beach volley",null,{"$f":"IF(AK35=\"\",\"\",SUM(AP4:AP24))","v":""}]
[null,null,null,null,null,null,null,null,null,0.5,"… entré/sorti en cours, beaucoup joué",null,null,null,null,null,null,null,null,null,null,null,null,null,null,null,null,null,null,null,null,null,null,null,null,null,null,null,{"$f":"SUM(AM45:AM50)","v":0},"Absence pour cause de blessure"]
[null,null,null,null,null,null,null,null,null,0.1,"… entré/sorti en cours, peu joué",null,null,null,null,null,null,null,null,null,null,null,null,null,null,null,null,null,null,null,null,null,null,null,"Satisfaction",null,null,null,{"$f":"COUNTIF($H$4:$H$24,$AR45)","v":0},"Doigt",null,null,null,11]
[null,null,null,null,null,null,null,null,null,null,null,null,null,null,null,null,null,null,null,null,null,null,null,null,null,null,null,null,null,null,null,null,null,null,"Satisfaction de l'entrainement/match J",null,{"$f":"IF(AK32=\"\",\"\",SUM(AQ4:AQ24)/AK32)","v":""},null,0,"Épaule",null,null,null,12]
[null,null,null,null,null,null,null,null,null,"J","Es-tu content de la qualité de ton",null,null,null,null,null,null,null,null,null,null,null,null,null,null,null,null,null,null,null,null,null,null,null,null,null,null,null,0,"Dos",null,null,null,13]
[null,null,null,null,null,null,null,null,null,null,"entrainement/compétition?",null,null,null,null,null,null,null,null,null,null,null,null,null,null,null,null,null,null,null,null,null,null,null,"Santé",null,null,null,0,"Genou",null,null,null,14]
[null,null,null,null,null,null,null,null,null,1,"… pas content",null,null,null,null,null,null,null,null,null,null,null,null,null,null,null,null,null,null,null,null,null,null,null,"Limitation pour cause de douleurs",null,{"$f":"AM36","v":0},null,0,"Cheville",null,null,null,15]
[null,null,null,null,null,null,null,null,null,2,"… plutôt pas content",null,null,null,null,null,null,null,null,null,null,null,null,null,null,null,null,null,null,null,null,null,null,null,"Absence pour cause de blessure",null,{"$f":"AM44","v":0},null,0,"Autre",null,null,null,16]
[null,null,null,null,null,null,null,null,null,3,"… moyen",null,null,null,null,null,null,null,null,null,null,null,null,null,null,null,null,null,null,null,null,null,null,null,"Absence pour cause de maladie",null,{"$f":"AM52","v":0}]
[null,null,null,null,null,null,null,null,null,4,"… content",null,null,null,null,null,null,null,null,null,null,null,null,null,null,null,null,null,null,null,null,null,null,null,null,null,null,null,{"$f":"SUM(AM53:AM59)","v":0},"Absence pour cause de maladie"]
[null,null,null,null,null,null,null,null,null,5,"… très content!",null,null,null,null,null,null,null,null,null,null,null,null,null,null,null,null,null,null,null,null,null,null,null,null,null,null,null,{"$f":"COUNTIF($H$4:$H$24,$AR53)","v":0},"Maladie",null,null,null,21]
[]
[]
[]
[]
[]
[]
[]
[]
[]
[]
[]
[]
[]
[]
[]
[]
[]
[]
[]
[]
[]
[]
[]
[]
[]
[]
[]
[]
[]
[]
[]
[]
[]
[]
[]
[]
[]
[]
[]
[]
[]
[]
[]
[]
[]
[]
[]
[]
[]
[]
[]
[]
[]
[]
[]
[]
[]
[]
[]
[]
[]
[]
[]
[]
[]
[]
[]
[]
[]
[]
[]
[]
[]
[]
[]
[]
[]
[]
[]
[]
[null,null,null,null,null,null,null,null,null,null,null,null,null,null,null,null,null,null,null,null,null,null,null,null,{"$f":"Z134-1","v":-4},-3,-2,-1,0,1,2,{"$f":"D1","v":3}]
[]
[]
[]
[]
[]
[]
[]
[]
[]
[]
[]
[]
[]
[]
[]
[]
[]
[]
[]
[]
[null,null,null,null,null,null,null,null,null,null,null,null,null,null,null,null,null,null,null,null,null,null,null,null,null,null,null,null,null,null,null,null,{"$f":"AF134+1","v":4}]

{"sheet":"4","index":32,"n_rows":155,"n_cols":45,"rows_kept":155,"cut":false,"hidden":false,"merged":[[9,4,11,4],[12,4,14,4],[3,7,5,7],[15,7,17,7],[27,3,27,6],[15,5,17,5],[18,5,20,5],[28,10,29,10],[15,9,15,10],[1,43,2,43],[30,34,30,36],[30,38,31,43],[0,5,0,6],[1,44,2,44],[29,3,29,6],[30,3,30,6],[35,3,35,6],[36,3,36,6],[18,36,20,36],[21,36,23,36],[1,40,2,40],[1,21,1,23],[1,41,2,41],[15,36,17,36],[1,38,2,38],[1,36,2,36],[1,34,2,34],[1,30,1,32],[1,27,1,29],[1,24,1,26],[9,36,11,36],[12,36,14,36],[1,39,2,39],[28,9,29,9],[28,3,28,6],[37,3,37,6],[38,3,38,6],[31,3,31,6],[32,3,32,6],[33,3,33,6],[34,3,34,6],[46,9,47,9],[3,1,5,1],[6,36,8,36],[3,3,5,3],[3,6,5,6],[3,9,3,10],[4,9,4,10],[5,9,5,10],[3,36,5,36],[6,1,8,1],[6,7,8,7],[6,3,8,3],[6,6,8,6],[6,9,6,10],[8,9,8,10],[9,1,11,1],[9,3,11,3],[9,6,11,6],[9,9,9,10],[1,12,1,14],[18,1,20,1],[18,3,20,3],[18,6,20,6],[1,18,1,20],[11,9,11,10],[7,9,7,10],[10,9,10,10],[9,7,11,7],[14,9,14,10],[12,7,14,7],[3,5,5,5],[6,5,8,5],[9,5,11,5],[12,5,14,5],[1,1,2,1],[1,15,1,17],[3,4,5,4],[6,4,8,4],[1,9,2,10],[12,1,14,1],[12,3,14,3],[12,6,14,6],[12,9,12,10],[13,9,13,10],[18,9,18,10],[19,9,19,10],[20,9,20,10],[18,7,20,7],[18,4,20,4],[15,1,17,1],[15,3,17,3],[15,6,17,6],[15,4,17,4],[16,9,16,10],[17,9,17,10],[38,34,38,36],[44,34,44,36],[47,34,47,36],[21,1,23,1],[21,3,23,3],[21,5,23,5],[21,6,23,6],[21,9,21,10],[23,9,23,10],[21,7,23,7],[21,4,23,4],[22,9,22,10],[29,21,29,26],[36,9,37,9]]}
[null,null,"Woche",{"$f":"INT(MOD(INT((F1-2)/7)+0.6,52+5/28))+1","v":4},{"$f":"D1+1000","v":1004},{"$f":"'3'!F1+7","v":"2019-01-21"},null,"-",null,{"$f":"F1+6","v":"2019-01-27"},null,null,null,null,null,null,null,null,null,null,null,null,null,null,null,null,null,null,null,null,null,null,{"$f":"'Aperçu de la charge'!D2","v":"Prénom Nom"},null,{"$f":"'Aperçu de la charge'!N2","v":"2018/2019"}]
[null,"Jour",null,"Poids","REG","qualité sommeil","durée sommeil","Santé",null,"Description de l'entrainement",null,null,"Club - VB",null,null,"TS/ Nati - VB",null,null,"Club - BVB",null,null,"TS/ Nati - BVB",null,null,"Force - fitness",null,null,"Compet. - VB",null,null,"Compet. - BVB",null,null,null,"Réflexion",null,"Charge/\njour",null,"matchs VB","Sets VB","Matchs BVB","Sets BVB","J","Autre\n (Rég, mentale)","Mental- oder Sonstiges Training"]
[null,null,null,"[kg]","[1 - 5]","[1-5]","[Std]","Nr.",null,null,null,null,"Durée","RPE","Charge","Durée","RPE","Charge","Durée","RPE","Charge","Durée","RPE","Charge","Durée","RPE","Charge","Durée","RPE","Charge","Durée","RPE","Charge",null,null,null,null,null,null,null,null,null,"[1-5]"]
[null,"Lu",null,0,0,0,0,0,null,null,null,null,null,null,{"$f":"M4*N4","v":0},null,null,{"$f":"P4*Q4","v":0},null,null,{"$f":"S4*T4","v":0},null,null,{"$f":"V4*W4","v":0},null,null,{"$f":"Y4*Z4","v":0},null,null,{"$f":"AB4*AC4","v":0},null,null,{"$f":"AE4*AF4","v":0},{"$f":"IF(SUM(M4:AG6)>0,1,0)","v":"00:00:00"},null,null,{"$f":"SUM(O4:O6,R4:R6,U4:U6,X4:X6,AA4:AA6,AD4:AD6,AG4:AG6)","v":0}]
[null,null,null,null,null,null,null,null,null,null,null,null,null,null,{"$f":"M5*N5","v":0},null,null,{"$f":"P5*Q5","v":0},null,null,{"$f":"S5*T5","v":0},null,null,{"$f":"V5*W5","v":0},null,null,{"$f":"Y5*Z5","v":0},null,null,{"$f":"AB5*AC5","v":0},null,null,{"$f":"AE5*AF5","v":0}]
[null,null,null,null,null,null,null,null,null,null,null,null,null,null,0,null,null,0,null,null,0,null,null,0,null,null,0,null,null,0,null,null,0]
[null,"Ma",null,0,0,0,0,0,null,null,null,null,null,null,0,null,null,{"$f":"P7*Q7","v":0},null,null,0,null,null,0,null,null,0,null,null,0,null,null,0,{"$f":"IF(SUM(M7:AG9)>0,1,0)","v":"00:00:00"},null,null,{"$f":"SUM(O7:O9,R7:R9,U7:U9,X7:X9,AA7:AA9,AD7:AD9,AG7:AG9)","v":0}]
[null,null,null,null,null,null,null,null,null,null,null,null,null,null,0,null,null,0,null,null,0,null,null,0,null,null,0,null,null,0,null,null,0]
[null,null,null,null,null,null,null,null,null,null,null,null,null,null,0,null,null,0,null,null,0,null,null,0,null,null,0,null,null,0,null,null,0]
[null,"Me",null,0,0,0,0,0,null,null,null,null,null,null,0,null,null,{"$f":"P10*Q10","v":0},null,null,0,null,null,0,null,null,0,null,null,0,null,null,0,{"$f":"IF(SUM(M10:AG12)>0,1,0)","v":"00:00:00"},null,null,{"$f":"SUM(O10:O12,R10:R12,U10:U12,X10:X12,AA10:AA12,AD10:AD12,AG10:AG12)","v":0}]
[null,null,null,null,null,null,null,null,null,null,null,null,null,null,0,null,null,0,null,null,0,null,null,0,null,null,0,null,null,0,null,null,0]
[null,null,null,null,null,null,null,null,null,null,null,null,null,null,0,null,null,0,null,null,0,null,null,0,null,null,0,null,null,0,null,null,0]
[null,"Je",null,0,0,0,0,0,null,null,null,null,null,null,0,null,null,{"$f":"P13*Q13","v":0},null,null,0,null,null,0,null,null,0,null,null,0,null,null,0,{"$f":"IF(SUM(M13:AG15)>0,1,0)","v":"00:00:00"},null,null,{"$f":"SUM(O13:O15,R13:R15,U13:U15,X13:X15,AA13:AA15,AD13:AD15,AG13:AG15)","v":0}]
[null,null,null,null,null,null,null,null,null,null,null,null,null,null,0,null,null,0,null,null,0,null,null,0,null,null,0,null,null,0,null,null,0]
[null,null,null,null,null,null,null,null,null,null,null,null,null,null,0,null,null,0,null,null,0,null,null,0,null,null,0,null,null,0,null,null,0]
[null,"Ve",null,0,0,0,0,0,null,null,null,null,null,null,0,null,null,{"$f":"P16*Q16","v":0},null,null,0,null,null,0,null,null,0,null,null,0,null,null,0,{"$f":"IF(SUM(M16:AG18)>0,1,0)","v":"00:00:00"},null,null,{"$f":"SUM(O16:O18,R16:R18,U16:U18,X16:X18,AA16:AA18,AD16:AD18,AG16:AG18)","v":0}]
[null,null,null,null,null,null,null,null,null,null,null,null,null,null,0,null,null,0,null,null,0,null,null,0,null,null,0,null,null,0,null,null,0]
[null,null,null,null,null,null,null,null,null,null,null,null,null,null,0,null,null,0,null,null,0,null,null,0,null,null,0,null,null,0,null,null,0]
[null,"Sa",null,0,0,0,0,0,null,null,null,null,null,null,{"$f":"M19*N19","v":0},null,null,{"$f":"P19*Q19","v":0},null,null,{"$f":"S19*T19","v":0},null,null,{"$f":"V19*W19","v":0},null,null,{"$f":"Y19*Z19","v":0},null,null,{"$f":"AB19*AC19","v":0},null,null,{"$f":"AE19*AF19","v":0},{"$f":"IF(SUM(M19:AG21)>0,1,0)","v":"00:00:00"},null,null,{"$f":"SUM(O19:O21,R19:R21,U19:U21,X19:X21,AA19:AA21,AD19:AD21,AG19:AG21)","v":0}]
[null,null,null,null,null,null,null,null,null,null,null,null,null,null,{"$f":"M20*N20","v":0},null,null,0,null,null,{"$f":"S20*T20","v":0},null,null,{"$f":"V20*W20","v":0},null,null,{"$f":"Y20*Z20","v":0},null,null,{"$f":"AB20*AC20","v":0},null,null,{"$f":"AE20*AF20","v":0}]
[null,null,null,null,null,null,null,null,null,null,null,null,null,null,0,null,null,0,null,null,0,null,null,0,null,null,0,null,null,0,null,null,0]
[null,"Di",null,0,0,0,0,0,null,null,null,null,null,null,0,null,null,{"$f":"P22*Q22","v":0},null,null,0,null,null,0,null,null,0,null,null,0,null,null,0,{"$f":"IF(SUM(M22:AG24)>0,1,0)","v":"00:00:00"},null,null,{"$f":"SUM(O22:O24,R22:R24,U22:U24,X22:X24,AA22:AA24,AD22:AD24,AG22:AG24)","v":0}]
[null,null,null,null,null,null,null,null,null,null,null,null,null,null,0,null,null,0,null,null,0,null,null,0,null,null,0,null,null,0,null,null,0]
[null,null,null,null,null,null,null,null,null,null,null,null,null,null,0,null,null,0,null,null,0,null,null,0,null,null,0,null,null,0,null,null,0]
[null,null,null,null,null,null,null,null,null,null,"Total",null,{"$f":"SUM(M4:M24)","v":0},null,{"$f":"SUM(O4:O24)","v":0},{"$f":"SUM(P4:P24)","v":0},null,{"$f":"SUM(R4:R24)","v":0},{"$f":"SUM(S4:S24)","v":0},null,{"$f":"SUM(U4:U24)","v":0},{"$f":"SUM(V4:V24)","v":0},null,{"$f":"SUM(X4:X24)","v":0},{"$f":"SUM(Y4:Y24)","v":0},null,{"$f":"SUM(AA4:AA24)","v":0},{"$f":"SUM(AB4:AB24)","v":0},null,{"$f":"SUM(AD4:AD24)","v":0},{"$f":"SUM(AE4:AE24)","v":0},null,{"$f":"SUM(AG4:AG24)","v":0},null,"Charge totale",null,{"$f":"SUM(AK4:AK24)","v":0}]
[null,"avg.",null,{"$f":"IF(COUNTA(D4:D24)=0,\"\",AVERAGE(D4:D24))","v":0},{"$f":"IF(COUNTA(E4:E24)=0,\"\",AVERAGE(E4:E24))","v":0},{"$f":"IF(COUNTA(F4:F24)=0,\"\",AVERAGE(F4:F24))","v":0},{"$f":"IF(COUNTA(G4:G24)=0,\"\",AVERAGE(G4:G24))","v":0},{"$f":"IF(COUNTA(H4:H24)=0,\"\",COUNTIF(H4:H24,\"x\"))","v":0},null,null,"Zone",null,1,2,3,1,2,3,1,2,3,1,2,3,1,2,3,1,2,3,1,2,3,null,"Moyenne",null,{"$f":"AVERAGE(AK4:AK24)","v":0}]
[null,null,null,null,null,{"$f":"IF(COUNTA(F4:F24)=0,\"\",VAR(F4:F24))","v":0},{"$f":"IF(COUNTA(G4:G24)=0,\"\",STDEV(G4:G24))","v":0},"Divergence - durée du sommeil",null,null,"Unité par zone (RPE) ",null,{"$f":"IF('Répartition des intensités'!$AR$25=\"x\",COUNTIF(N4:N24,\"<3,5\"),COUNTIF(N4:N24,\"<4,5\"))","v":0},{"$f":"COUNT(N4:N24)-(M27+O27)","v":0},{"$f":"IF('Répartition des intensités'!$AR$25=\"x\",COUNTIF(N4:N24,\">5,5\"),COUNTIF(N4:N24,\">6,5\"))","v":0},{"$f":"IF('Répartition des intensités'!$AR$25=\"x\",COUNTIF(Q4:Q24,\"<3,5\"),COUNTIF(Q4:Q24,\"<4,5\"))","v":0},{"$f":"COUNT(Q4:Q24)-(P27+R27)","v":0},{"$f":"IF('Répartition des intensités'!$AR$25=\"x\",COUNTIF(Q4:Q24,\">5,5\"),COUNTIF(Q4:Q24,\">6,5\"))","v":0},{"$f":"IF('Répartition des intensités'!$AR$25=\"x\",COUNTIF(T4:T24,\"<3,5\"),COUNTIF(T4:T24,\"<4,5\"))","v":0},{"$f":"COUNT(T4:T24)-(S27+U27)","v":0},{"$f":"IF('Répartition des intensités'!$AR$25=\"x\",COUNTIF(T4:T24,\">5,5\"),COUNTIF(T4:T24,\">6,5\"))","v":0},{"$f":"IF('Répartition des intensités'!$AR$25=\"x\",COUNTIF(W4:W24,\"<3,5\"),COUNTIF(W4:W24,\"<4,5\"))","v":0},{"$f":"COUNT(W4:W24)-(V27+X27)","v":0},{"$f":"IF('Répartition des intensités'!$AR$25=\"x\",COUNTIF(W4:W24,\">5,5\"),COUNTIF(W4:W24,\">6,5\"))","v":0},{"$f":"IF('Répartition des intensités'!$AR$25=\"x\",COUNTIF(Z4:Z24,\"<3,5\"),COUNTIF(Z4:Z24,\"<4,5\"))","v":0},{"$f":"COUNT(Z4:Z24)-(Y27+AA27)","v":0},{"$f":"IF('Répartition des intensités'!$AR$25=\"x\",COUNTIF(Z4:Z24,\">5,5\"),COUNTIF(Z4:Z24,\">6,5\"))","v":0},{"$f":"IF('Répartition des intensités'!$AR$25=\"x\",COUNTIF(AC4:AC24,\"<3,5\"),COUNTIF(AC4:AC24,\"<4,5\"))","v":0},{"$f":"COUNT(AC4:AC24)-(AB27+AD27)","v":0},{"$f":"IF('Répartition des intensités'!$AR$25=\"x\",COUNTIF(AC4:AC24,\">5,5\"),COUNTIF(AC4:AC24,\">6,5\"))","v":0},{"$f":"IF('Répartition des intensités'!$AR$25=\"x\",COUNTIF(AF4:AF24,\"<3,5\"),COUNTIF(AF4:AF24,\"<4,5\"))","v":0},{"$f":"COUNT(AF4:AF24)-(AE27+AG27)","v":0},{"$f":"IF('Répartition des intensités'!$AR$25=\"x\",COUNTIF(AF4:AF24,\">5,5\"),COUNTIF(AF4:AF24,\">6,5\"))","v":0},null,"Divergence",null,{"$f":"STDEVP(AK4:AK24)","v":0}]
[null,null,null,"échelle de Foster",null,null,null,"RPE",null,null,"Temps par zone (RPE)",null,{"$f":"IF('Répartition des intensités'!$AR$25=\"x\",SUMIF(N4:N24,\"<3,5\",M4:M24),SUMIF(N4:N24,\"<4,5\",M4:M24))","v":0},{"$f":"IF(N27=0,0,SUM((M25)-(M28+O28)))","v":0},{"$f":"IF('Répartition des intensités'!$AR$25=\"x\",SUMIF(N4:N24,\">5,5\",M4:M24),SUMIF(N4:N24,\">6,5\",M4:M24))","v":0},{"$f":"IF('Répartition des intensités'!$AR$25=\"x\",SUMIF(Q4:Q24,\"<3,5\",P4:P24),SUMIF(Q4:Q24,\"<4,5\",P4:P24))","v":0},{"$f":"IF(Q27=0,0,SUM((P25)-(P28+R28)))","v":0},{"$f":"IF('Répartition des intensités'!$AR$25=\"x\",SUMIF(Q4:Q24,\">5,5\",P4:P24),SUMIF(Q4:Q24,\">6,5\",P4:P24))","v":0},{"$f":"IF('Répartition des intensités'!$AR$25=\"x\",SUMIF(T4:T24,\"<3,5\",S4:S24),SUMIF(T4:T24,\"<4,5\",S4:S24))","v":0},{"$f":"IF(T27=0,0,SUM((S25)-(S28+U28)))","v":0},{"$f":"IF('Répartition des intensités'!$AR$25=\"x\",SUMIF(T4:T24,\">5,5\",S4:S24),SUMIF(T4:T24,\">6,5\",S4:S24))","v":0},{"$f":"IF('Répartition des intensités'!$AR$25=\"x\",SUMIF(W4:W24,\"<3,5\",V4:V24),SUMIF(W4:W24,\"<4,5\",V4:V24))","v":0},{"$f":"IF(W27=0,0,SUM((V25)-(V28+X28)))","v":0},{"$f":"IF('Répartition des intensités'!$AR$25=\"x\",SUMIF(W4:W24,\">5,5\",V4:V24),SUMIF(W4:W24,\">6,5\",V4:V24))","v":0},{"$f":"IF('Répartition des intensités'!$AR$25=\"x\",SUMIF(Z4:Z24,\"<3,5\",Y4:Y24),SUMIF(Z4:Z24,\"<4,5\",Y4:Y24))","v":0},{"$f":"IF(Z27=0,0,SUM((Y25)-(Y28+AA28)))","v":0},{"$f":"IF('Répartition des intensités'!$AR$25=\"x\",SUMIF(Z4:Z24,\">5,5\",Y4:Y24),SUMIF(Z4:Z24,\">6,5\",Y4:Y24))","v":0},{"$f":"IF('Répartition des intensités'!$AR$25=\"x\",SUMIF(AC4:AC24,\"<3,5\",AB4:AB24),SUMIF(AC4:AC24,\"<4,5\",AB4:AB24))","v":0},{"$f":"IF(AC27=0,0,SUM((AB25)-(AB28+AD28)))","v":0},{"$f":"IF('Répartition des intensités'!$AR$25=\"x\",SUMIF(AC4:AC24,\">5,5\",AB4:AB24),SUMIF(AC4:AC24,\">6,5\",AB4:AB24))","v":0},{"$f":"IF('Répartition des intensités'!$AR$25=\"x\",SUMIF(AF4:AF24,\"<3,5\",AE4:AE24),SUMIF(AF4:AF24,\"<4,5\",AE4:AE24))","v":0},{"$f":"IF(AF27=0,0,SUM((AE25)-(AE28+AG28)))","v":0},{"$f":"IF('Répartition des intensités'!$AR$25=\"x\",SUMIF(AF4:AF24,\">5,5\",AE4:AE24),SUMIF(AF4:AF24,\">6,5\",AE4:AE24))","v":0}]
[null,null,null,"Comme au repos",null,null,null,0,null,"REG","Est-ce que j'ai l'impression d'avoir récupéré en me levant?"]
[null,null,null,"très facile",null,null,null,1]
[null,null,null,"facile",null,null,null,2,null,1,"… pas du tout récupéré",null,null,null,null,null,null,null,null,null,null,null,null,null,null,null,null,null,null,null,null,null,null,null,"Entrainements",null,null,null,"Rapport de santé"]
[null,null,null,null,null,null,null,3,null,2,"… un peu récupéré",null,null,null,null,null,null,null,null,null,null,null,null,null,null,null,null,null,null,null,null,null,null,null,"Jours d'entrainement",null,{"$f":"IF(SUM(AH4:AH24)=0,\"\",SUM(AH4:AH24))","v":""}]
[null,null,null,"Assez dur",null,null,null,4,null,3,"… récupéré",null,null,null,null,null,null,null,null,null,null,{"$f":"B4","v":"Lu"},{"$f":"AK4","v":0},null,null,null,null,null,null,null,null,null,null,null,"Entrainements",null,{"$f":"IF(AK32=\"\",\"\",SUM(M27:AG27))","v":""}]
[null,null,null,"dur",null,null,null,5,null,4,"…  en forme",null,null,null,null,null,null,null,null,null,null,{"$f":"B7","v":"Ma"},{"$f":"AK7","v":0},null,null,null,null,null,null,null,null,null,null,null,"Heures d'entrainement",null,{"$f":"IF(AK32=\"\",\"\",SUM(M25,P25,S25,Y25,AB25,V25,AE25)/60)","v":""},null,{"$f":"IF($AK$32=\"\",\"\",AK32-AM36-AM44-AM52)","v":""},"Aucune limitation",null,null,null,0]
[null,null,null,null,null,null,null,6,null,5,"… très en forme",null,null,null,null,null,null,null,null,null,null,{"$f":"B10","v":"Me"},{"$f":"AK10","v":0},null,null,null,null,null,null,null,null,null,null,null,"Charge de l'entrainement",null,{"$f":"IF(AK32=\"\",\"\",SUM(AK25))","v":""}]
[null,null,null,"très dur",null,null,null,7,null,null,null,null,null,null,null,null,null,null,null,null,null,{"$f":"B13","v":"Je"},{"$f":"AK13","v":0},null,null,null,null,null,null,null,null,null,null,null,"Monotonie",null,{"$f":"IF(AK27=0,0,(AVERAGE(AK4:AK24))/AK27)","v":0},null,{"$f":"SUM(AM37:AM42)","v":0},"Limitation pour cause de douleurs"]
[null,null,null,null,null,null,null,8,null,"Nombre de matchs",null,null,null,null,null,null,null,null,null,null,null,{"$f":"B16","v":"Ve"},{"$f":"AK16","v":0},null,null,null,null,null,null,null,null,null,null,null,"Efforts à l'entrainement",null,{"$f":"IF(AK32=\"\",\"\",AK35*AK36)","v":""},null,{"$f":"COUNTIF($H$4:$H$24,$AR37)","v":0},"Doigt",null,null,null,1]
[null,null,null,"extrèmement dur",null,null,null,9,null,null,null,null,null,null,null,null,null,null,null,null,null,{"$f":"B19","v":"Sa"},{"$f":"AK19","v":0},null,null,null,null,null,null,null,null,null,null,null,null,null,null,null,0,"Épaule",null,null,null,2]
[null,null,null,"Comme mon entrainement le plus dur",null,null,null,10,null,1,"… 3 sets et plus",null,null,null,null,null,null,null,null,null,null,{"$f":"B22","v":"Di"},{"$f":"AK22","v":0},null,null,null,null,null,null,null,null,null,null,null,"Compétition",null,null,null,0,"Dos",null,null,null,3]
[null,null,null,null,null,null,null,null,null,0.5,"… moins de 3 sets",null,null,null,null,null,null,null,null,null,null,null,null,null,null,null,null,null,null,null,null,null,null,null,"Matchs de volleyball",null,{"$f":"IF(AK32=\"\",\"\",SUM(AM4:AM24))","v":""},null,0,"Genou",null,null,null,4]
[null,null,null,null,null,null,null,null,null,null,null,null,null,null,null,null,null,null,null,null,null,null,null,null,null,null,null,null,null,null,null,null,null,null,"Sets de volleyball",null,{"$f":"IF(AK32=\"\",\"\",SUM(AN4:AN24))","v":""},null,0,"Cheville",null,null,null,5]
[null,null,null,null,null,null,null,null,null,"Sets joués",null,null,null,null,null,null,null,null,null,null,null,null,null,null,null,null,null,null,null,null,null,null,null,null,"Matchs de beach volley",null,{"$f":"IF(AK35=\"\",\"\",SUM(AO4:AO24))","v":""},null,0,"Autre",null,null,null,6]
[null,null,null,null,null,null,null,null,null,1,"… depuis le début et durant tout le set",null,null,null,null,null,null,null,null,null,null,null,null,null,null,null,null,null,null,null,null,null,null,null,"Sets de beach volley",null,{"$f":"IF(AK35=\"\",\"\",SUM(AP4:AP24))","v":""}]
[null,null,null,null,null,null,null,null,null,0.5,"… entré/sorti en cours, beaucoup joué",null,null,null,null,null,null,null,null,null,null,null,null,null,null,null,null,null,null,null,null,null,null,null,null,null,null,null,{"$f":"SUM(AM45:AM50)","v":0},"Absence pour cause de blessure"]
[null,null,null,null,null,null,null,null,null,0.1,"… entré/sorti en cours, peu joué",null,null,null,null,null,null,null,null,null,null,null,null,null,null,null,null,null,null,null,null,null,null,null,"Satisfaction",null,null,null,{"$f":"COUNTIF($H$4:$H$24,$AR45)","v":0},"Doigt",null,null,null,11]
[null,null,null,null,null,null,null,null,null,null,null,null,null,null,null,null,null,null,null,null,null,null,null,null,null,null,null,null,null,null,null,null,null,null,"Satisfaction de l'entrainement/match J",null,{"$f":"IF(AK32=\"\",\"\",SUM(AQ4:AQ24)/AK32)","v":""},null,0,"Épaule",null,null,null,12]
[null,null,null,null,null,null,null,null,null,"J","Es-tu content de la qualité de ton",null,null,null,null,null,null,null,null,null,null,null,null,null,null,null,null,null,null,null,null,null,null,null,null,null,null,null,0,"Dos",null,null,null,13]
[null,null,null,null,null,null,null,null,null,null,"entrainement/compétition?",null,null,null,null,null,null,null,null,null,null,null,null,null,null,null,null,null,null,null,null,null,null,null,"Santé",null,null,null,0,"Genou",null,null,null,14]
[null,null,null,null,null,null,null,null,null,1,"… pas content",null,null,null,null,null,null,null,null,null,null,null,null,null,null,null,null,null,null,null,null,null,null,null,"Limitation pour cause de douleurs",null,{"$f":"AM36","v":0},null,0,"Cheville",null,null,null,15]
[null,null,null,null,null,null,null,null,null,2,"… plutôt pas content",null,null,null,null,null,null,null,null,null,null,null,null,null,null,null,null,null,null,null,null,null,null,null,"Absence pour cause de blessure",null,{"$f":"AM44","v":0},null,0,"Autre",null,null,null,16]
[null,null,null,null,null,null,null,null,null,3,"… moyen",null,null,null,null,null,null,null,null,null,null,null,null,null,null,null,null,null,null,null,null,null,null,null,"Absence pour cause de maladie",null,{"$f":"AM52","v":0}]
[null,null,null,null,null,null,null,null,null,4,"… content",null,null,null,null,null,null,null,null,null,null,null,null,null,null,null,null,null,null,null,null,null,null,null,null,null,null,null,{"$f":"SUM(AM53:AM59)","v":0},"Absence pour cause de maladie"]
[null,null,null,null,null,null,null,null,null,5,"… très content!",null,null,null,null,null,null,null,null,null,null,null,null,null,null,null,null,null,null,null,null,null,null,null,null,null,null,null,{"$f":"COUNTIF($H$4:$H$24,$AR53)","v":0},"Maladie",null,null,null,21]
[]
[]
[]
[]
[]
[]
[]
[]
[]
[]
[]
[]
[]
[]
[]
[]
[]
[]
[]
[]
[]
[]
[]
[]
[]
[]
[]
[]
[]
[]
[]
[]
[]
[]
[]
[]
[]
[]
[]
[]
[]
[]
[]
[]
[]
[]
[]
[]
[]
[]
[]
[]
[]
[]
[]
[]
[]
[]
[]
[]
[]
[]
[]
[]
[]
[]
[]
[]
[]
[]
[]
[]
[]
[]
[]
[]
[]
[]
[]
[]
[null,null,null,null,null,null,null,null,null,null,null,null,null,null,null,null,null,null,null,null,null,null,null,null,{"$f":"Z134-1","v":-3},-2,-1,0,1,2,3,{"$f":"D1","v":4}]
[]
[]
[]
[]
[]
[]
[]
[]
[]
[]
[]
[]
[]
[]
[]
[]
[]
[]
[]
[]
[null,null,null,null,null,null,null,null,null,null,null,null,null,null,null,null,null,null,null,null,null,null,null,null,null,null,null,null,null,null,null,null,{"$f":"AF134+1","v":5}]

{"sheet":"5","index":33,"n_rows":155,"n_cols":45,"rows_kept":155,"cut":false,"hidden":false,"merged":[[9,4,11,4],[12,4,14,4],[3,7,5,7],[15,7,17,7],[27,3,27,6],[15,5,17,5],[18,5,20,5],[28,10,29,10],[15,9,15,10],[1,43,2,43],[30,34,30,36],[30,38,31,43],[0,5,0,6],[1,44,2,44],[29,3,29,6],[30,3,30,6],[35,3,35,6],[36,3,36,6],[18,36,20,36],[21,36,23,36],[1,40,2,40],[1,21,1,23],[1,41,2,41],[15,36,17,36],[1,38,2,38],[1,36,2,36],[1,34,2,34],[1,30,1,32],[1,27,1,29],[1,24,1,26],[9,36,11,36],[12,36,14,36],[1,39,2,39],[28,9,29,9],[28,3,28,6],[37,3,37,6],[38,3,38,6],[31,3,31,6],[32,3,32,6],[33,3,33,6],[34,3,34,6],[46,9,47,9],[3,1,5,1],[6,36,8,36],[3,3,5,3],[3,6,5,6],[3,9,3,10],[4,9,4,10],[5,9,5,10],[3,36,5,36],[6,1,8,1],[6,7,8,7],[6,3,8,3],[6,6,8,6],[6,9,6,10],[8,9,8,10],[9,1,11,1],[9,3,11,3],[9,6,11,6],[9,9,9,10],[1,12,1,14],[18,1,20,1],[18,3,20,3],[18,6,20,6],[1,18,1,20],[11,9,11,10],[7,9,7,10],[10,9,10,10],[9,7,11,7],[14,9,14,10],[12,7,14,7],[3,5,5,5],[6,5,8,5],[9,5,11,5],[12,5,14,5],[1,1,2,1],[1,15,1,17],[3,4,5,4],[6,4,8,4],[1,9,2,10],[12,1,14,1],[12,3,14,3],[12,6,14,6],[12,9,12,10],[13,9,13,10],[18,9,18,10],[19,9,19,10],[20,9,20,10],[18,7,20,7],[18,4,20,4],[15,1,17,1],[15,3,17,3],[15,6,17,6],[15,4,17,4],[16,9,16,10],[17,9,17,10],[38,34,38,36],[44,34,44,36],[47,34,47,36],[21,1,23,1],[21,3,23,3],[21,5,23,5],[21,6,23,6],[21,9,21,10],[23,9,23,10],[21,7,23,7],[21,4,23,4],[22,9,22,10],[29,21,29,26],[36,9,37,9]]}
[null,null,"Woche",{"$f":"INT(MOD(INT((F1-2)/7)+0.6,52+5/28))+1","v":5},{"$f":"D1+1000","v":1005},{"$f":"'4'!F1+7","v":"2019-01-28"},null,"-",null,{"$f":"F1+6","v":"2019-02-03"},null,null,null,null,null,null,null,null,null,null,null,null,null,null,null,null,null,null,null,null,null,null,{"$f":"'Aperçu de la charge'!D2","v":"Prénom Nom"},null,{"$f":"'Aperçu de la charge'!N2","v":"2018/2019"}]
[null,"Jour",null,"Poids","REG","qualité sommeil","durée sommeil","Santé",null,"Description de l'entrainement",null,null,"Club - VB",null,null,"TS/ Nati - VB",null,null,"Club - BVB",null,null,"TS/ Nati - BVB",null,null,"Force - fitness",null,null,"Compet. - VB",null,null,"Compet. - BVB",null,null,null,"Réflexion",null,"Charge/\njour",null,"matchs VB","Sets VB","Matchs BVB","Sets BVB","J","Autre\n (Rég, mentale)","Mental- oder Sonstiges Training"]
[null,null,null,"[kg]","[1 - 5]","[1-5]","[Std]","Nr.",null,null,null,null,"Durée","RPE","Charge","Durée","RPE","Charge","Durée","RPE","Charge","Durée","RPE","Charge","Durée","RPE","Charge","Durée","RPE","Charge","Durée","RPE","Charge",null,null,null,null,null,null,null,null,null,"[1-5]"]
[null,"Lu",null,0,0,0,0,0,null,null,null,null,null,null,{"$f":"M4*N4","v":0},null,null,{"$f":"P4*Q4","v":0},null,null,{"$f":"S4*T4","v":0},null,null,{"$f":"V4*W4","v":0},null,null,{"$f":"Y4*Z4","v":0},null,null,{"$f":"AB4*AC4","v":0},null,null,{"$f":"AE4*AF4","v":0},{"$f":"IF(SUM(M4:AG6)>0,1,0)","v":"00:00:00"},null,null,{"$f":"SUM(O4:O6,R4:R6,U4:U6,X4:X6,AA4:AA6,AD4:AD6,AG4:AG6)","v":0}]
[null,null,null,null,null,null,null,null,null,null,null,null,null,null,{"$f":"M5*N5","v":0},null,null,{"$f":"P5*Q5","v":0},null,null,{"$f":"S5*T5","v":0},null,null,{"$f":"V5*W5","v":0},null,null,{"$f":"Y5*Z5","v":0},null,null,{"$f":"AB5*AC5","v":0},null,null,{"$f":"AE5*AF5","v":0}]
[null,null,null,null,null,null,null,null,null,null,null,null,null,null,0,null,null,0,null,null,0,null,null,0,null,null,0,null,null,0,null,null,0]
[null,"Ma",null,0,0,0,0,0,null,null,null,null,null,null,0,null,null,{"$f":"P7*Q7","v":0},null,null,0,null,null,0,null,null,0,null,null,0,null,null,0,{"$f":"IF(SUM(M7:AG9)>0,1,0)","v":"00:00:00"},null,null,{"$f":"SUM(O7:O9,R7:R9,U7:U9,X7:X9,AA7:AA9,AD7:AD9,AG7:AG9)","v":0}]
[null,null,null,null,null,null,null,null,null,null,null,null,null,null,0,null,null,0,null,null,0,null,null,0,null,null,0,null,null,0,null,null,0]
[null,null,null,null,null,null,null,null,null,null,null,null,null,null,0,null,null,0,null,null,0,null,null,0,null,null,0,null,null,0,null,null,0]
[null,"Me",null,0,0,0,0,0,null,null,null,null,null,null,0,null,null,{"$f":"P10*Q10","v":0},null,null,0,null,null,0,null,null,0,null,null,0,null,null,0,{"$f":"IF(SUM(M10:AG12)>0,1,0)","v":"00:00:00"},null,null,{"$f":"SUM(O10:O12,R10:R12,U10:U12,X10:X12,AA10:AA12,AD10:AD12,AG10:AG12)","v":0}]
[null,null,null,null,null,null,null,null,null,null,null,null,null,null,0,null,null,0,null,null,0,null,null,0,null,null,0,null,null,0,null,null,0]
[null,null,null,null,null,null,null,null,null,null,null,null,null,null,0,null,null,0,null,null,0,null,null,0,null,null,0,null,null,0,null,null,0]
[null,"Je",null,0,0,0,0,0,null,null,null,null,null,null,0,null,null,{"$f":"P13*Q13","v":0},null,null,0,null,null,0,null,null,0,null,null,0,null,null,0,{"$f":"IF(SUM(M13:AG15)>0,1,0)","v":"00:00:00"},null,null,{"$f":"SUM(O13:O15,R13:R15,U13:U15,X13:X15,AA13:AA15,AD13:AD15,AG13:AG15)","v":0}]
[null,null,null,null,null,null,null,null,null,null,null,null,null,null,0,null,null,0,null,null,0,null,null,0,null,null,0,null,null,0,null,null,0]
[null,null,null,null,null,null,null,null,null,null,null,null,null,null,0,null,null,0,null,null,0,null,null,0,null,null,0,null,null,0,null,null,0]
[null,"Ve",null,0,0,0,0,0,null,null,null,null,null,null,0,null,null,{"$f":"P16*Q16","v":0},null,null,0,null,null,0,null,null,0,null,null,0,null,null,0,{"$f":"IF(SUM(M16:AG18)>0,1,0)","v":"00:00:00"},null,null,{"$f":"SUM(O16:O18,R16:R18,U16:U18,X16:X18,AA16:AA18,AD16:AD18,AG16:AG18)","v":0}]
[null,null,null,null,null,null,null,null,null,null,null,null,null,null,0,null,null,0,null,null,0,null,null,0,null,null,0,null,null,0,null,null,0]
[null,null,null,null,null,null,null,null,null,null,null,null,null,null,0,null,null,0,null,null,0,null,null,0,null,null,0,null,null,0,null,null,0]
[null,"Sa",null,0,0,0,0,0,null,null,null,null,null,null,{"$f":"M19*N19","v":0},null,null,{"$f":"P19*Q19","v":0},null,null,{"$f":"S19*T19","v":0},null,null,{"$f":"V19*W19","v":0},null,null,{"$f":"Y19*Z19","v":0},null,null,{"$f":"AB19*AC19","v":0},null,null,{"$f":"AE19*AF19","v":0},{"$f":"IF(SUM(M19:AG21)>0,1,0)","v":"00:00:00"},null,null,{"$f":"SUM(O19:O21,R19:R21,U19:U21,X19:X21,AA19:AA21,AD19:AD21,AG19:AG21)","v":0}]
[null,null,null,null,null,null,null,null,null,null,null,null,null,null,{"$f":"M20*N20","v":0},null,null,0,null,null,{"$f":"S20*T20","v":0},null,null,{"$f":"V20*W20","v":0},null,null,{"$f":"Y20*Z20","v":0},null,null,{"$f":"AB20*AC20","v":0},null,null,{"$f":"AE20*AF20","v":0}]
[null,null,null,null,null,null,null,null,null,null,null,null,null,null,0,null,null,0,null,null,0,null,null,0,null,null,0,null,null,0,null,null,0]
[null,"Di",null,0,0,0,0,0,null,null,null,null,null,null,0,null,null,{"$f":"P22*Q22","v":0},null,null,0,null,null,0,null,null,0,null,null,0,null,null,0,{"$f":"IF(SUM(M22:AG24)>0,1,0)","v":"00:00:00"},null,null,{"$f":"SUM(O22:O24,R22:R24,U22:U24,X22:X24,AA22:AA24,AD22:AD24,AG22:AG24)","v":0}]
[null,null,null,null,null,null,null,null,null,null,null,null,null,null,0,null,null,0,null,null,0,null,null,0,null,null,0,null,null,0,null,null,0]
[null,null,null,null,null,null,null,null,null,null,null,null,null,null,0,null,null,0,null,null,0,null,null,0,null,null,0,null,null,0,null,null,0]
[null,null,null,null,null,null,null,null,null,null,"Total",null,{"$f":"SUM(M4:M24)","v":0},null,{"$f":"SUM(O4:O24)","v":0},{"$f":"SUM(P4:P24)","v":0},null,{"$f":"SUM(R4:R24)","v":0},{"$f":"SUM(S4:S24)","v":0},null,{"$f":"SUM(U4:U24)","v":0},{"$f":"SUM(V4:V24)","v":0},null,{"$f":"SUM(X4:X24)","v":0},{"$f":"SUM(Y4:Y24)","v":0},null,{"$f":"SUM(AA4:AA24)","v":0},{"$f":"SUM(AB4:AB24)","v":0},null,{"$f":"SUM(AD4:AD24)","v":0},{"$f":"SUM(AE4:AE24)","v":0},null,{"$f":"SUM(AG4:AG24)","v":0},null,"Charge totale",null,{"$f":"SUM(AK4:AK24)","v":0}]
[null,"avg.",null,{"$f":"IF(COUNTA(D4:D24)=0,\"\",AVERAGE(D4:D24))","v":0},{"$f":"IF(COUNTA(E4:E24)=0,\"\",AVERAGE(E4:E24))","v":0},{"$f":"IF(COUNTA(F4:F24)=0,\"\",AVERAGE(F4:F24))","v":0},{"$f":"IF(COUNTA(G4:G24)=0,\"\",AVERAGE(G4:G24))","v":0},{"$f":"IF(COUNTA(H4:H24)=0,\"\",COUNTIF(H4:H24,\"x\"))","v":0},null,null,"Zone",null,1,2,3,1,2,3,1,2,3,1,2,3,1,2,3,1,2,3,1,2,3,null,"Moyenne",null,{"$f":"AVERAGE(AK4:AK24)","v":0}]
[null,null,null,null,null,{"$f":"IF(COUNTA(F4:F24)=0,\"\",VAR(F4:F24))","v":0},{"$f":"IF(COUNTA(G4:G24)=0,\"\",STDEV(G4:G24))","v":0},"Divergence - durée du sommeil",null,null,"Unité par zone (RPE) ",null,{"$f":"IF('Répartition des intensités'!$AR$25=\"x\",COUNTIF(N4:N24,\"<3,5\"),COUNTIF(N4:N24,\"<4,5\"))","v":0},{"$f":"COUNT(N4:N24)-(M27+O27)","v":0},{"$f":"IF('Répartition des intensités'!$AR$25=\"x\",COUNTIF(N4:N24,\">5,5\"),COUNTIF(N4:N24,\">6,5\"))","v":0},{"$f":"IF('Répartition des intensités'!$AR$25=\"x\",COUNTIF(Q4:Q24,\"<3,5\"),COUNTIF(Q4:Q24,\"<4,5\"))","v":0},{"$f":"COUNT(Q4:Q24)-(P27+R27)","v":0},{"$f":"IF('Répartition des intensités'!$AR$25=\"x\",COUNTIF(Q4:Q24,\">5,5\"),COUNTIF(Q4:Q24,\">6,5\"))","v":0},{"$f":"IF('Répartition des intensités'!$AR$25=\"x\",COUNTIF(T4:T24,\"<3,5\"),COUNTIF(T4:T24,\"<4,5\"))","v":0},{"$f":"COUNT(T4:T24)-(S27+U27)","v":0},{"$f":"IF('Répartition des intensités'!$AR$25=\"x\",COUNTIF(T4:T24,\">5,5\"),COUNTIF(T4:T24,\">6,5\"))","v":0},{"$f":"IF('Répartition des intensités'!$AR$25=\"x\",COUNTIF(W4:W24,\"<3,5\"),COUNTIF(W4:W24,\"<4,5\"))","v":0},{"$f":"COUNT(W4:W24)-(V27+X27)","v":0},{"$f":"IF('Répartition des intensités'!$AR$25=\"x\",COUNTIF(W4:W24,\">5,5\"),COUNTIF(W4:W24,\">6,5\"))","v":0},{"$f":"IF('Répartition des intensités'!$AR$25=\"x\",COUNTIF(Z4:Z24,\"<3,5\"),COUNTIF(Z4:Z24,\"<4,5\"))","v":0},{"$f":"COUNT(Z4:Z24)-(Y27+AA27)","v":0},{"$f":"IF('Répartition des intensités'!$AR$25=\"x\",COUNTIF(Z4:Z24,\">5,5\"),COUNTIF(Z4:Z24,\">6,5\"))","v":0},{"$f":"IF('Répartition des intensités'!$AR$25=\"x\",COUNTIF(AC4:AC24,\"<3,5\"),COUNTIF(AC4:AC24,\"<4,5\"))","v":0},{"$f":"COUNT(AC4:AC24)-(AB27+AD27)","v":0},{"$f":"IF('Répartition des intensités'!$AR$25=\"x\",COUNTIF(AC4:AC24,\">5,5\"),COUNTIF(AC4:AC24,\">6,5\"))","v":0},{"$f":"IF('Répartition des intensités'!$AR$25=\"x\",COUNTIF(AF4:AF24,\"<3,5\"),COUNTIF(AF4:AF24,\"<4,5\"))","v":0},{"$f":"COUNT(AF4:AF24)-(AE27+AG27)","v":0},{"$f":"IF('Répartition des intensités'!$AR$25=\"x\",COUNTIF(AF4:AF24,\">5,5\"),COUNTIF(AF4:AF24,\">6,5\"))","v":0},null,"Divergence",null,{"$f":"STDEVP(AK4:AK24)","v":0}]
[null,null,null,"échelle de Foster",null,null,null,"RPE",null,null,"Temps par zone (RPE)",null,{"$f":"IF('Répartition des intensités'!$AR$25=\"x\",SUMIF(N4:N24,\"<3,5\",M4:M24),SUMIF(N4:N24,\"<4,5\",M4:M24))","v":0},{"$f":"IF(N27=0,0,SUM((M25)-(M28+O28)))","v":0},{"$f":"IF('Répartition des intensités'!$AR$25=\"x\",SUMIF(N4:N24,\">5,5\",M4:M24),SUMIF(N4:N24,\">6,5\",M4:M24))","v":0},{"$f":"IF('Répartition des intensités'!$AR$25=\"x\",SUMIF(Q4:Q24,\"<3,5\",P4:P24),SUMIF(Q4:Q24,\"<4,5\",P4:P24))","v":0},{"$f":"IF(Q27=0,0,SUM((P25)-(P28+R28)))","v":0},{"$f":"IF('Répartition des intensités'!$AR$25=\"x\",SUMIF(Q4:Q24,\">5,5\",P4:P24),SUMIF(Q4:Q24,\">6,5\",P4:P24))","v":0},{"$f":"IF('Répartition des intensités'!$AR$25=\"x\",SUMIF(T4:T24,\"<3,5\",S4:S24),SUMIF(T4:T24,\"<4,5\",S4:S24))","v":0},{"$f":"IF(T27=0,0,SUM((S25)-(S28+U28)))","v":0},{"$f":"IF('Répartition des intensités'!$AR$25=\"x\",SUMIF(T4:T24,\">5,5\",S4:S24),SUMIF(T4:T24,\">6,5\",S4:S24))","v":0},{"$f":"IF('Répartition des intensités'!$AR$25=\"x\",SUMIF(W4:W24,\"<3,5\",V4:V24),SUMIF(W4:W24,\"<4,5\",V4:V24))","v":0},{"$f":"IF(W27=0,0,SUM((V25)-(V28+X28)))","v":0},{"$f":"IF('Répartition des intensités'!$AR$25=\"x\",SUMIF(W4:W24,\">5,5\",V4:V24),SUMIF(W4:W24,\">6,5\",V4:V24))","v":0},{"$f":"IF('Répartition des intensités'!$AR$25=\"x\",SUMIF(Z4:Z24,\"<3,5\",Y4:Y24),SUMIF(Z4:Z24,\"<4,5\",Y4:Y24))","v":0},{"$f":"IF(Z27=0,0,SUM((Y25)-(Y28+AA28)))","v":0},{"$f":"IF('Répartition des intensités'!$AR$25=\"x\",SUMIF(Z4:Z24,\">5,5\",Y4:Y24),SUMIF(Z4:Z24,\">6,5\",Y4:Y24))","v":0},{"$f":"IF('Répartition des intensités'!$AR$25=\"x\",SUMIF(AC4:AC24,\"<3,5\",AB4:AB24),SUMIF(AC4:AC24,\"<4,5\",AB4:AB24))","v":0},{"$f":"IF(AC27=0,0,SUM((AB25)-(AB28+AD28)))","v":0},{"$f":"IF('Répartition des intensités'!$AR$25=\"x\",SUMIF(AC4:AC24,\">5,5\",AB4:AB24),SUMIF(AC4:AC24,\">6,5\",AB4:AB24))","v":0},{"$f":"IF('Répartition des intensités'!$AR$25=\"x\",SUMIF(AF4:AF24,\"<3,5\",AE4:AE24),SUMIF(AF4:AF24,\"<4,5\",AE4:AE24))","v":0},{"$f":"IF(AF27=0,0,SUM((AE25)-(AE28+AG28)))","v":0},{"$f":"IF('Répartition des intensités'!$AR$25=\"x\",SUMIF(AF4:AF24,\">5,5\",AE4:AE24),SUMIF(AF4:AF24,\">6,5\",AE4:AE24))","v":0}]
[null,null,null,"Comme au repos",null,null,null,0,null,"REG","Est-ce que j'ai l'impression d'avoir récupéré en me levant?"]
[null,null,null,"très facile",null,null,null,1]
[null,null,null,"facile",null,null,null,2,null,1,"… pas du tout récupéré",null,null,null,null,null,null,null,null,null,null,null,null,null,null,null,null,null,null,null,null,null,null,null,"Entrainements",null,null,null,"Rapport de santé"]
[null,null,null,null,null,null,null,3,null,2,"… un peu récupéré",null,null,null,null,null,null,null,null,null,null,null,null,null,null,null,null,null,null,null,null,null,null,null,"Jours d'entrainement",null,{"$f":"IF(SUM(AH4:AH24)=0,\"\",SUM(AH4:AH24))","v":""}]
[null,null,null,"Assez dur",null,null,null,4,null,3,"… récupéré",null,null,null,null,null,null,null,null,null,null,{"$f":"B4","v":"Lu"},{"$f":"AK4","v":0},null,null,null,null,null,null,null,null,null,null,null,"Entrainements",null,{"$f":"IF(AK32=\"\",\"\",SUM(M27:AG27))","v":""}]
[null,null,null,"dur",null,null,null,5,null,4,"…  en forme",null,null,null,null,null,null,null,null,null,null,{"$f":"B7","v":"Ma"},{"$f":"AK7","v":0},null,null,null,null,null,null,null,null,null,null,null,"Heures d'entrainement",null,{"$f":"IF(AK32=\"\",\"\",SUM(M25,P25,S25,Y25,AB25,V25,AE25)/60)","v":""},null,{"$f":"IF($AK$32=\"\",\"\",AK32-AM36-AM44-AM52)","v":""},"Aucune limitation",null,null,null,0]
[null,null,null,null,null,null,null,6,null,5,"… très en forme",null,null,null,null,null,null,null,null,null,null,{"$f":"B10","v":"Me"},{"$f":"AK10","v":0},null,null,null,null,null,null,null,null,null,null,null,"Charge de l'entrainement",null,{"$f":"IF(AK32=\"\",\"\",SUM(AK25))","v":""}]
[null,null,null,"très dur",null,null,null,7,null,null,null,null,null,null,null,null,null,null,null,null,null,{"$f":"B13","v":"Je"},{"$f":"AK13","v":0},null,null,null,null,null,null,null,null,null,null,null,"Monotonie",null,{"$f":"IF(AK27=0,0,(AVERAGE(AK4:AK24))/AK27)","v":0},null,{"$f":"SUM(AM37:AM42)","v":0},"Limitation pour cause de douleurs"]
[null,null,null,null,null,null,null,8,null,"Nombre de matchs",null,null,null,null,null,null,null,null,null,null,null,{"$f":"B16","v":"Ve"},{"$f":"AK16","v":0},null,null,null,null,null,null,null,null,null,null,null,"Efforts à l'entrainement",null,{"$f":"IF(AK32=\"\",\"\",AK35*AK36)","v":""},null,{"$f":"COUNTIF($H$4:$H$24,$AR37)","v":0},"Doigt",null,null,null,1]
[null,null,null,"extrèmement dur",null,null,null,9,null,null,null,null,null,null,null,null,null,null,null,null,null,{"$f":"B19","v":"Sa"},{"$f":"AK19","v":0},null,null,null,null,null,null,null,null,null,null,null,null,null,null,null,0,"Épaule",null,null,null,2]
[null,null,null,"Comme mon entrainement le plus dur",null,null,null,10,null,1,"… 3 sets et plus",null,null,null,null,null,null,null,null,null,null,{"$f":"B22","v":"Di"},{"$f":"AK22","v":0},null,null,null,null,null,null,null,null,null,null,null,"Compétition",null,null,null,0,"Dos",null,null,null,3]
[null,null,null,null,null,null,null,null,null,0.5,"… moins de 3 sets",null,null,null,null,null,null,null,null,null,null,null,null,null,null,null,null,null,null,null,null,null,null,null,"Matchs de volleyball",null,{"$f":"IF(AK32=\"\",\"\",SUM(AM4:AM24))","v":""},null,0,"Genou",null,null,null,4]
[null,null,null,null,null,null,null,null,null,null,null,null,null,null,null,null,null,null,null,null,null,null,null,null,null,null,null,null,null,null,null,null,null,null,"Sets de volleyball",null,{"$f":"IF(AK32=\"\",\"\",SUM(AN4:AN24))","v":""},null,0,"Cheville",null,null,null,5]
[null,null,null,null,null,null,null,null,null,"Sets joués",null,null,null,null,null,null,null,null,null,null,null,null,null,null,null,null,null,null,null,null,null,null,null,null,"Matchs de beach volley",null,{"$f":"IF(AK35=\"\",\"\",SUM(AO4:AO24))","v":""},null,0,"Autre",null,null,null,6]
[null,null,null,null,null,null,null,null,null,1,"… depuis le début et durant tout le set",null,null,null,null,null,null,null,null,null,null,null,null,null,null,null,null,null,null,null,null,null,null,null,"Sets de beach volley",null,{"$f":"IF(AK35=\"\",\"\",SUM(AP4:AP24))","v":""}]
[null,null,null,null,null,null,null,null,null,0.5,"… entré/sorti en cours, beaucoup joué",null,null,null,null,null,null,null,null,null,null,null,null,null,null,null,null,null,null,null,null,null,null,null,null,null,null,null,{"$f":"SUM(AM45:AM50)","v":0},"Absence pour cause de blessure"]
[null,null,null,null,null,null,null,null,null,0.1,"… entré/sorti en cours, peu joué",null,null,null,null,null,null,null,null,null,null,null,null,null,null,null,null,null,null,null,null,null,null,null,"Satisfaction",null,null,null,{"$f":"COUNTIF($H$4:$H$24,$AR45)","v":0},"Doigt",null,null,null,11]
[null,null,null,null,null,null,null,null,null,null,null,null,null,null,null,null,null,null,null,null,null,null,null,null,null,null,null,null,null,null,null,null,null,null,"Satisfaction de l'entrainement/match J",null,{"$f":"IF(AK32=\"\",\"\",SUM(AQ4:AQ24)/AK32)","v":""},null,0,"Épaule",null,null,null,12]
[null,null,null,null,null,null,null,null,null,"J","Es-tu content de la qualité de ton",null,null,null,null,null,null,null,null,null,null,null,null,null,null,null,null,null,null,null,null,null,null,null,null,null,null,null,0,"Dos",null,null,null,13]
[null,null,null,null,null,null,null,null,null,null,"entrainement/compétition?",null,null,null,null,null,null,null,null,null,null,null,null,null,null,null,null,null,null,null,null,null,null,null,"Santé",null,null,null,0,"Genou",null,null,null,14]
[null,null,null,null,null,null,null,null,null,1,"… pas content",null,null,null,null,null,null,null,null,null,null,null,null,null,null,null,null,null,null,null,null,null,null,null,"Limitation pour cause de douleurs",null,{"$f":"AM36","v":0},null,0,"Cheville",null,null,null,15]
[null,null,null,null,null,null,null,null,null,2,"… plutôt pas content",null,null,null,null,null,null,null,null,null,null,null,null,null,null,null,null,null,null,null,null,null,null,null,"Absence pour cause de blessure",null,{"$f":"AM44","v":0},null,0,"Autre",null,null,null,16]
[null,null,null,null,null,null,null,null,null,3,"… moyen",null,null,null,null,null,null,null,null,null,null,null,null,null,null,null,null,null,null,null,null,null,null,null,"Absence pour cause de maladie",null,{"$f":"AM52","v":0}]
[null,null,null,null,null,null,null,null,null,4,"… content",null,null,null,null,null,null,null,null,null,null,null,null,null,null,null,null,null,null,null,null,null,null,null,null,null,null,null,{"$f":"SUM(AM53:AM59)","v":0},"Absence pour cause de maladie"]
[null,null,null,null,null,null,null,null,null,5,"… très content!",null,null,null,null,null,null,null,null,null,null,null,null,null,null,null,null,null,null,null,null,null,null,null,null,null,null,null,{"$f":"COUNTIF($H$4:$H$24,$AR53)","v":0},"Maladie",null,null,null,21]
[]
[]
[]
[]
[]
[]
[]
[]
[]
[]
[]
[]
[]
[]
[]
[]
[]
[]
[]
[]
[]
[]
[]
[]
[]
[]
[]
[]
[]
[]
[]
[]
[]
[]
[]
[]
[]
[]
[]
[]
[]
[]
[]
[]
[]
[]
[]
[]
[]
[]
[]
[]
[]
[]
[]
[]
[]
[]
[]
[]
[]
[]
[]
[]
[]
[]
[]
[]
[]
[]
[]
[]
[]
[]
[]
[]
[]
[]
[]
[]
[null,null,null,null,null,null,null,null,null,null,null,null,null,null,null,null,null,null,null,null,null,null,null,null,{"$f":"Z134-1","v":-2},-1,0,1,2,3,4,{"$f":"D1","v":5}]
[]
[]
[]
[]
[]
[]
[]
[]
[]
[]
[]
[]
[]
[]
[]
[]
[]
[]
[]
[]
[null,null,null,null,null,null,null,null,null,null,null,null,null,null,null,null,null,null,null,null,null,null,null,null,null,null,null,null,null,null,null,null,{"$f":"AF134+1","v":6}]

{"sheet":"6","index":34,"n_rows":155,"n_cols":45,"rows_kept":155,"cut":false,"hidden":false,"merged":[[1,43,2,43],[30,34,30,36],[30,38,31,43],[0,5,0,6],[1,44,2,44],[1,15,1,17],[28,10,29,10],[29,21,29,26],[36,9,37,9],[1,41,2,41],[21,6,23,6],[21,9,21,10],[23,9,23,10],[21,7,23,7],[1,12,1,14],[7,9,7,10],[1,38,2,38],[1,24,1,26],[1,18,1,20],[1,30,1,32],[1,27,1,29],[27,3,27,6],[28,3,28,6],[37,3,37,6],[30,3,30,6],[31,3,31,6],[32,3,32,6],[33,3,33,6],[34,3,34,6],[35,3,35,6],[36,3,36,6],[38,3,38,6],[46,9,47,9],[18,36,20,36],[1,40,2,40],[3,36,5,36],[1,36,2,36],[20,9,20,10],[5,9,5,10],[1,39,2,39],[21,36,23,36],[9,36,11,36],[12,36,14,36],[15,36,17,36],[28,9,29,9],[16,9,16,10],[15,9,15,10],[10,9,10,10],[29,3,29,6],[15,5,17,5],[12,4,14,4],[6,36,8,36],[3,3,5,3],[3,6,5,6],[3,9,3,10],[4,9,4,10],[17,9,17,10],[22,9,22,10],[18,9,18,10],[19,9,19,10],[9,6,11,6],[9,9,9,10],[6,4,8,4],[9,7,11,7],[9,4,11,4],[11,9,11,10],[3,4,5,4],[3,7,5,7],[12,7,14,7],[9,5,11,5],[12,5,14,5],[21,1,23,1],[15,7,17,7],[15,1,17,1],[15,3,17,3],[15,6,17,6],[15,4,17,4],[18,5,20,5],[18,1,20,1],[18,3,20,3],[21,5,23,5],[21,3,23,3],[21,4,23,4],[18,7,20,7],[18,4,20,4],[18,6,20,6],[1,1,2,1],[9,1,11,1],[9,3,11,3],[38,34,38,36],[44,34,44,36],[47,34,47,36],[12,1,14,1],[6,3,8,3],[6,6,8,6],[6,9,6,10],[8,9,8,10],[6,5,8,5],[6,1,8,1],[6,7,8,7],[1,34,2,34],[1,21,1,23],[1,9,2,10],[3,1,5,1],[3,5,5,5],[12,3,14,3],[12,6,14,6],[12,9,12,10],[13,9,13,10],[14,9,14,10]]}
[null,null,"Woche",{"$f":"INT(MOD(INT((F1-2)/7)+0.6,52+5/28))+1","v":6},{"$f":"D1+1000","v":1006},{"$f":"'5'!F1+7","v":"2019-02-04"},null,"-",null,{"$f":"F1+6","v":"2019-02-10"},null,null,null,null,null,null,null,null,null,null,null,null,null,null,null,null,null,null,null,null,null,null,{"$f":"'Aperçu de la charge'!D2","v":"Prénom Nom"},null,{"$f":"'Aperçu de la charge'!N2","v":"2018/2019"}]
[null,"Jour",null,"Poids","REG","qualité sommeil","durée sommeil","Santé",null,"Description de l'entrainement",null,null,"Club - VB",null,null,"TS/ Nati - VB",null,null,"Club - BVB",null,null,"TS/ Nati - BVB",null,null,"Force - fitness",null,null,"Compet. - VB",null,null,"Compet. - BVB",null,null,null,"Réflexion",null,"Charge/\njour",null,"matchs VB","Sets VB","Matchs BVB","Sets BVB","J","Autre\n (Rég, mentale)","Mental- oder Sonstiges Training"]
[null,null,null,"[kg]","[1 - 5]","[1-5]","[Std]","Nr.",null,null,null,null,"Durée","RPE","Charge","Durée","RPE","Charge","Durée","RPE","Charge","Durée","RPE","Charge","Durée","RPE","Charge","Durée","RPE","Charge","Durée","RPE","Charge",null,null,null,null,null,null,null,null,null,"[1-5]"]
[null,"Lu",null,0,0,0,0,0,null,null,null,null,null,null,{"$f":"M4*N4","v":0},null,null,{"$f":"P4*Q4","v":0},null,null,{"$f":"S4*T4","v":0},null,null,{"$f":"V4*W4","v":0},null,null,{"$f":"Y4*Z4","v":0},null,null,{"$f":"AB4*AC4","v":0},null,null,{"$f":"AE4*AF4","v":0},{"$f":"IF(SUM(M4:AG6)>0,1,0)","v":"00:00:00"},null,null,{"$f":"SUM(O4:O6,R4:R6,U4:U6,X4:X6,AA4:AA6,AD4:AD6,AG4:AG6)","v":0}]
[null,null,null,null,null,null,null,null,null,null,null,null,null,null,{"$f":"M5*N5","v":0},null,null,{"$f":"P5*Q5","v":0},null,null,{"$f":"S5*T5","v":0},null,null,{"$f":"V5*W5","v":0},null,null,{"$f":"Y5*Z5","v":0},null,null,{"$f":"AB5*AC5","v":0},null,null,{"$f":"AE5*AF5","v":0}]
[null,null,null,null,null,null,null,null,null,null,null,null,null,null,0,null,null,0,null,null,0,null,null,0,null,null,0,null,null,0,null,null,0]
[null,"Ma",null,0,0,0,0,0,null,null,null,null,null,null,0,null,null,{"$f":"P7*Q7","v":0},null,null,0,null,null,0,null,null,0,null,null,0,null,null,0,{"$f":"IF(SUM(M7:AG9)>0,1,0)","v":"00:00:00"},null,null,{"$f":"SUM(O7:O9,R7:R9,U7:U9,X7:X9,AA7:AA9,AD7:AD9,AG7:AG9)","v":0}]
[null,null,null,null,null,null,null,null,null,null,null,null,null,null,0,null,null,0,null,null,0,null,null,0,null,null,0,null,null,0,null,null,0]
[null,null,null,null,null,null,null,null,null,null,null,null,null,null,0,null,null,0,null,null,0,null,null,0,null,null,0,null,null,0,null,null,0]
[null,"Me",null,0,0,0,0,0,null,null,null,null,null,null,0,null,null,{"$f":"P10*Q10","v":0},null,null,0,null,null,0,null,null,0,null,null,0,null,null,0,{"$f":"IF(SUM(M10:AG12)>0,1,0)","v":"00:00:00"},null,null,{"$f":"SUM(O10:O12,R10:R12,U10:U12,X10:X12,AA10:AA12,AD10:AD12,AG10:AG12)","v":0}]
[null,null,null,null,null,null,null,null,null,null,null,null,null,null,0,null,null,0,null,null,0,null,null,0,null,null,0,null,null,0,null,null,0]
[null,null,null,null,null,null,null,null,null,null,null,null,null,null,0,null,null,0,null,null,0,null,null,0,null,null,0,null,null,0,null,null,0]
[null,"Je",null,0,0,0,0,0,null,null,null,null,null,null,0,null,null,{"$f":"P13*Q13","v":0},null,null,0,null,null,0,null,null,0,null,null,0,null,null,0,{"$f":"IF(SUM(M13:AG15)>0,1,0)","v":"00:00:00"},null,null,{"$f":"SUM(O13:O15,R13:R15,U13:U15,X13:X15,AA13:AA15,AD13:AD15,AG13:AG15)","v":0}]
[null,null,null,null,null,null,null,null,null,null,null,null,null,null,0,null,null,0,null,null,0,null,null,0,null,null,0,null,null,0,null,null,0]
[null,null,null,null,null,null,null,null,null,null,null,null,null,null,0,null,null,0,null,null,0,null,null,0,null,null,0,null,null,0,null,null,0]
[null,"Ve",null,0,0,0,0,0,null,null,null,null,null,null,0,null,null,{"$f":"P16*Q16","v":0},null,null,0,null,null,0,null,null,0,null,null,0,null,null,0,{"$f":"IF(SUM(M16:AG18)>0,1,0)","v":"00:00:00"},null,null,{"$f":"SUM(O16:O18,R16:R18,U16:U18,X16:X18,AA16:AA18,AD16:AD18,AG16:AG18)","v":0}]
[null,null,null,null,null,null,null,null,null,null,null,null,null,null,0,null,null,0,null,null,0,null,null,0,null,null,0,null,null,0,null,null,0]
[null,null,null,null,null,null,null,null,null,null,null,null,null,null,0,null,null,0,null,null,0,null,null,0,null,null,0,null,null,0,null,null,0]
[null,"Sa",null,0,0,0,0,0,null,null,null,null,null,null,{"$f":"M19*N19","v":0},null,null,{"$f":"P19*Q19","v":0},null,null,{"$f":"S19*T19","v":0},null,null,{"$f":"V19*W19","v":0},null,null,{"$f":"Y19*Z19","v":0},null,null,{"$f":"AB19*AC19","v":0},null,null,{"$f":"AE19*AF19","v":0},{"$f":"IF(SUM(M19:AG21)>0,1,0)","v":"00:00:00"},null,null,{"$f":"SUM(O19:O21,R19:R21,U19:U21,X19:X21,AA19:AA21,AD19:AD21,AG19:AG21)","v":0}]
[null,null,null,null,null,null,null,null,null,null,null,null,null,null,{"$f":"M20*N20","v":0},null,null,0,null,null,{"$f":"S20*T20","v":0},null,null,{"$f":"V20*W20","v":0},null,null,{"$f":"Y20*Z20","v":0},null,null,{"$f":"AB20*AC20","v":0},null,null,{"$f":"AE20*AF20","v":0}]
[null,null,null,null,null,null,null,null,null,null,null,null,null,null,0,null,null,0,null,null,0,null,null,0,null,null,0,null,null,0,null,null,0]
[null,"Di",null,0,0,0,0,0,null,null,null,null,null,null,0,null,null,{"$f":"P22*Q22","v":0},null,null,0,null,null,0,null,null,0,null,null,0,null,null,0,{"$f":"IF(SUM(M22:AG24)>0,1,0)","v":"00:00:00"},null,null,{"$f":"SUM(O22:O24,R22:R24,U22:U24,X22:X24,AA22:AA24,AD22:AD24,AG22:AG24)","v":0}]
[null,null,null,null,null,null,null,null,null,null,null,null,null,null,0,null,null,0,null,null,0,null,null,0,null,null,0,null,null,0,null,null,0]
[null,null,null,null,null,null,null,null,null,null,null,null,null,null,0,null,null,0,null,null,0,null,null,0,null,null,0,null,null,0,null,null,0]
[null,null,null,null,null,null,null,null,null,null,"Total",null,{"$f":"SUM(M4:M24)","v":0},null,{"$f":"SUM(O4:O24)","v":0},{"$f":"SUM(P4:P24)","v":0},null,{"$f":"SUM(R4:R24)","v":0},{"$f":"SUM(S4:S24)","v":0},null,{"$f":"SUM(U4:U24)","v":0},{"$f":"SUM(V4:V24)","v":0},null,{"$f":"SUM(X4:X24)","v":0},{"$f":"SUM(Y4:Y24)","v":0},null,{"$f":"SUM(AA4:AA24)","v":0},{"$f":"SUM(AB4:AB24)","v":0},null,{"$f":"SUM(AD4:AD24)","v":0},{"$f":"SUM(AE4:AE24)","v":0},null,{"$f":"SUM(AG4:AG24)","v":0},null,"Charge totale",null,{"$f":"SUM(AK4:AK24)","v":0}]
[null,"avg.",null,{"$f":"IF(COUNTA(D4:D24)=0,\"\",AVERAGE(D4:D24))","v":0},{"$f":"IF(COUNTA(E4:E24)=0,\"\",AVERAGE(E4:E24))","v":0},{"$f":"IF(COUNTA(F4:F24)=0,\"\",AVERAGE(F4:F24))","v":0},{"$f":"IF(COUNTA(G4:G24)=0,\"\",AVERAGE(G4:G24))","v":0},{"$f":"IF(COUNTA(H4:H24)=0,\"\",COUNTIF(H4:H24,\"x\"))","v":0},null,null,"Zone",null,1,2,3,1,2,3,1,2,3,1,2,3,1,2,3,1,2,3,1,2,3,null,"Moyenne",null,{"$f":"AVERAGE(AK4:AK24)","v":0}]
[null,null,null,null,null,{"$f":"IF(COUNTA(F4:F24)=0,\"\",VAR(F4:F24))","v":0},{"$f":"IF(COUNTA(G4:G24)=0,\"\",STDEV(G4:G24))","v":0},"Divergence - durée du sommeil",null,null,"Unité par zone (RPE) ",null,{"$f":"IF('Répartition des intensités'!$AR$25=\"x\",COUNTIF(N4:N24,\"<3,5\"),COUNTIF(N4:N24,\"<4,5\"))","v":0},{"$f":"COUNT(N4:N24)-(M27+O27)","v":0},{"$f":"IF('Répartition des intensités'!$AR$25=\"x\",COUNTIF(N4:N24,\">5,5\"),COUNTIF(N4:N24,\">6,5\"))","v":0},{"$f":"IF('Répartition des intensités'!$AR$25=\"x\",COUNTIF(Q4:Q24,\"<3,5\"),COUNTIF(Q4:Q24,\"<4,5\"))","v":0},{"$f":"COUNT(Q4:Q24)-(P27+R27)","v":0},{"$f":"IF('Répartition des intensités'!$AR$25=\"x\",COUNTIF(Q4:Q24,\">5,5\"),COUNTIF(Q4:Q24,\">6,5\"))","v":0},{"$f":"IF('Répartition des intensités'!$AR$25=\"x\",COUNTIF(T4:T24,\"<3,5\"),COUNTIF(T4:T24,\"<4,5\"))","v":0},{"$f":"COUNT(T4:T24)-(S27+U27)","v":0},{"$f":"IF('Répartition des intensités'!$AR$25=\"x\",COUNTIF(T4:T24,\">5,5\"),COUNTIF(T4:T24,\">6,5\"))","v":0},{"$f":"IF('Répartition des intensités'!$AR$25=\"x\",COUNTIF(W4:W24,\"<3,5\"),COUNTIF(W4:W24,\"<4,5\"))","v":0},{"$f":"COUNT(W4:W24)-(V27+X27)","v":0},{"$f":"IF('Répartition des intensités'!$AR$25=\"x\",COUNTIF(W4:W24,\">5,5\"),COUNTIF(W4:W24,\">6,5\"))","v":0},{"$f":"IF('Répartition des intensités'!$AR$25=\"x\",COUNTIF(Z4:Z24,\"<3,5\"),COUNTIF(Z4:Z24,\"<4,5\"))","v":0},{"$f":"COUNT(Z4:Z24)-(Y27+AA27)","v":0},{"$f":"IF('Répartition des intensités'!$AR$25=\"x\",COUNTIF(Z4:Z24,\">5,5\"),COUNTIF(Z4:Z24,\">6,5\"))","v":0},{"$f":"IF('Répartition des intensités'!$AR$25=\"x\",COUNTIF(AC4:AC24,\"<3,5\"),COUNTIF(AC4:AC24,\"<4,5\"))","v":0},{"$f":"COUNT(AC4:AC24)-(AB27+AD27)","v":0},{"$f":"IF('Répartition des intensités'!$AR$25=\"x\",COUNTIF(AC4:AC24,\">5,5\"),COUNTIF(AC4:AC24,\">6,5\"))","v":0},{"$f":"IF('Répartition des intensités'!$AR$25=\"x\",COUNTIF(AF4:AF24,\"<3,5\"),COUNTIF(AF4:AF24,\"<4,5\"))","v":0},{"$f":"COUNT(AF4:AF24)-(AE27+AG27)","v":0},{"$f":"IF('Répartition des intensités'!$AR$25=\"x\",COUNTIF(AF4:AF24,\">5,5\"),COUNTIF(AF4:AF24,\">6,5\"))","v":0},null,"Divergence",null,{"$f":"STDEVP(AK4:AK24)","v":0}]
[null,null,null,"échelle de Foster",null,null,null,"RPE",null,null,"Temps par zone (RPE)",null,{"$f":"IF('Répartition des intensités'!$AR$25=\"x\",SUMIF(N4:N24,\"<3,5\",M4:M24),SUMIF(N4:N24,\"<4,5\",M4:M24))","v":0},{"$f":"IF(N27=0,0,SUM((M25)-(M28+O28)))","v":0},{"$f":"IF('Répartition des intensités'!$AR$25=\"x\",SUMIF(N4:N24,\">5,5\",M4:M24),SUMIF(N4:N24,\">6,5\",M4:M24))","v":0},{"$f":"IF('Répartition des intensités'!$AR$25=\"x\",SUMIF(Q4:Q24,\"<3,5\",P4:P24),SUMIF(Q4:Q24,\"<4,5\",P4:P24))","v":0},{"$f":"IF(Q27=0,0,SUM((P25)-(P28+R28)))","v":0},{"$f":"IF('Répartition des intensités'!$AR$25=\"x\",SUMIF(Q4:Q24,\">5,5\",P4:P24),SUMIF(Q4:Q24,\">6,5\",P4:P24))","v":0},{"$f":"IF('Répartition des intensités'!$AR$25=\"x\",SUMIF(T4:T24,\"<3,5\",S4:S24),SUMIF(T4:T24,\"<4,5\",S4:S24))","v":0},{"$f":"IF(T27=0,0,SUM((S25)-(S28+U28)))","v":0},{"$f":"IF('Répartition des intensités'!$AR$25=\"x\",SUMIF(T4:T24,\">5,5\",S4:S24),SUMIF(T4:T24,\">6,5\",S4:S24))","v":0},{"$f":"IF('Répartition des intensités'!$AR$25=\"x\",SUMIF(W4:W24,\"<3,5\",V4:V24),SUMIF(W4:W24,\"<4,5\",V4:V24))","v":0},{"$f":"IF(W27=0,0,SUM((V25)-(V28+X28)))","v":0},{"$f":"IF('Répartition des intensités'!$AR$25=\"x\",SUMIF(W4:W24,\">5,5\",V4:V24),SUMIF(W4:W24,\">6,5\",V4:V24))","v":0},{"$f":"IF('Répartition des intensités'!$AR$25=\"x\",SUMIF(Z4:Z24,\"<3,5\",Y4:Y24),SUMIF(Z4:Z24,\"<4,5\",Y4:Y24))","v":0},{"$f":"IF(Z27=0,0,SUM((Y25)-(Y28+AA28)))","v":0},{"$f":"IF('Répartition des intensités'!$AR$25=\"x\",SUMIF(Z4:Z24,\">5,5\",Y4:Y24),SUMIF(Z4:Z24,\">6,5\",Y4:Y24))","v":0},{"$f":"IF('Répartition des intensités'!$AR$25=\"x\",SUMIF(AC4:AC24,\"<3,5\",AB4:AB24),SUMIF(AC4:AC24,\"<4,5\",AB4:AB24))","v":0},{"$f":"IF(AC27=0,0,SUM((AB25)-(AB28+AD28)))","v":0},{"$f":"IF('Répartition des intensités'!$AR$25=\"x\",SUMIF(AC4:AC24,\">5,5\",AB4:AB24),SUMIF(AC4:AC24,\">6,5\",AB4:AB24))","v":0},{"$f":"IF('Répartition des intensités'!$AR$25=\"x\",SUMIF(AF4:AF24,\"<3,5\",AE4:AE24),SUMIF(AF4:AF24,\"<4,5\",AE4:AE24))","v":0},{"$f":"IF(AF27=0,0,SUM((AE25)-(AE28+AG28)))","v":0},{"$f":"IF('Répartition des intensités'!$AR$25=\"x\",SUMIF(AF4:AF24,\">5,5\",AE4:AE24),SUMIF(AF4:AF24,\">6,5\",AE4:AE24))","v":0}]
[null,null,null,"Comme au repos",null,null,null,0,null,"REG","Est-ce que j'ai l'impression d'avoir récupéré en me levant?"]
[null,null,null,"très facile",null,null,null,1]
[null,null,null,"facile",null,null,null,2,null,1,"… pas du tout récupéré",null,null,null,null,null,null,null,null,null,null,null,null,null,null,null,null,null,null,null,null,null,null,null,"Entrainements",null,null,null,"Rapport de santé"]
[null,null,null,null,null,null,null,3,null,2,"… un peu récupéré",null,null,null,null,null,null,null,null,null,null,null,null,null,null,null,null,null,null,null,null,null,null,null,"Jours d'entrainement",null,{"$f":"IF(SUM(AH4:AH24)=0,\"\",SUM(AH4:AH24))","v":""}]
[null,null,null,"Assez dur",null,null,null,4,null,3,"… récupéré",null,null,null,null,null,null,null,null,null,null,{"$f":"B4","v":"Lu"},{"$f":"AK4","v":0},null,null,null,null,null,null,null,null,null,null,null,"Entrainements",null,{"$f":"IF(AK32=\"\",\"\",SUM(M27:AG27))","v":""}]
[null,null,null,"dur",null,null,null,5,null,4,"…  en forme",null,null,null,null,null,null,null,null,null,null,{"$f":"B7","v":"Ma"},{"$f":"AK7","v":0},null,null,null,null,null,null,null,null,null,null,null,"Heures d'entrainement",null,{"$f":"IF(AK32=\"\",\"\",SUM(M25,P25,S25,Y25,AB25,V25,AE25)/60)","v":""},null,{"$f":"IF($AK$32=\"\",\"\",AK32-AM36-AM44-AM52)","v":""},"Aucune limitation",null,null,null,0]
[null,null,null,null,null,null,null,6,null,5,"… très en forme",null,null,null,null,null,null,null,null,null,null,{"$f":"B10","v":"Me"},{"$f":"AK10","v":0},null,null,null,null,null,null,null,null,null,null,null,"Charge de l'entrainement",null,{"$f":"IF(AK32=\"\",\"\",SUM(AK25))","v":""}]
[null,null,null,"très dur",null,null,null,7,null,null,null,null,null,null,null,null,null,null,null,null,null,{"$f":"B13","v":"Je"},{"$f":"AK13","v":0},null,null,null,null,null,null,null,null,null,null,null,"Monotonie",null,{"$f":"IF(AK27=0,0,(AVERAGE(AK4:AK24))/AK27)","v":0},null,{"$f":"SUM(AM37:AM42)","v":0},"Limitation pour cause de douleurs"]
[null,null,null,null,null,null,null,8,null,"Nombre de matchs",null,null,null,null,null,null,null,null,null,null,null,{"$f":"B16","v":"Ve"},{"$f":"AK16","v":0},null,null,null,null,null,null,null,null,null,null,null,"Efforts à l'entrainement",null,{"$f":"IF(AK32=\"\",\"\",AK35*AK36)","v":""},null,{"$f":"COUNTIF($H$4:$H$24,$AR37)","v":0},"Doigt",null,null,null,1]
[null,null,null,"extrèmement dur",null,null,null,9,null,null,null,null,null,null,null,null,null,null,null,null,null,{"$f":"B19","v":"Sa"},{"$f":"AK19","v":0},null,null,null,null,null,null,null,null,null,null,null,null,null,null,null,0,"Épaule",null,null,null,2]
[null,null,null,"Comme mon entrainement le plus dur",null,null,null,10,null,1,"… 3 sets et plus",null,null,null,null,null,null,null,null,null,null,{"$f":"B22","v":"Di"},{"$f":"AK22","v":0},null,null,null,null,null,null,null,null,null,null,null,"Compétition",null,null,null,0,"Dos",null,null,null,3]
[null,null,null,null,null,null,null,null,null,0.5,"… moins de 3 sets",null,null,null,null,null,null,null,null,null,null,null,null,null,null,null,null,null,null,null,null,null,null,null,"Matchs de volleyball",null,{"$f":"IF(AK32=\"\",\"\",SUM(AM4:AM24))","v":""},null,0,"Genou",null,null,null,4]
[null,null,null,null,null,null,null,null,null,null,null,null,null,null,null,null,null,null,null,null,null,null,null,null,null,null,null,null,null,null,null,null,null,null,"Sets de volleyball",null,{"$f":"IF(AK32=\"\",\"\",SUM(AN4:AN24))","v":""},null,0,"Cheville",null,null,null,5]
[null,null,null,null,null,null,null,null,null,"Sets joués",null,null,null,null,null,null,null,null,null,null,null,null,null,null,null,null,null,null,null,null,null,null,null,null,"Matchs de beach volley",null,{"$f":"IF(AK35=\"\",\"\",SUM(AO4:AO24))","v":""},null,0,"Autre",null,null,null,6]
[null,null,null,null,null,null,null,null,null,1,"… depuis le début et durant tout le set",null,null,null,null,null,null,null,null,null,null,null,null,null,null,null,null,null,null,null,null,null,null,null,"Sets de beach volley",null,{"$f":"IF(AK35=\"\",\"\",SUM(AP4:AP24))","v":""}]
[null,null,null,null,null,null,null,null,null,0.5,"… entré/sorti en cours, beaucoup joué",null,null,null,null,null,null,null,null,null,null,null,null,null,null,null,null,null,null,null,null,null,null,null,null,null,null,null,{"$f":"SUM(AM45:AM50)","v":0},"Absence pour cause de blessure"]
[null,null,null,null,null,null,null,null,null,0.1,"… entré/sorti en cours, peu joué",null,null,null,null,null,null,null,null,null,null,null,null,null,null,null,null,null,null,null,null,null,null,null,"Satisfaction",null,null,null,{"$f":"COUNTIF($H$4:$H$24,$AR45)","v":0},"Doigt",null,null,null,11]
[null,null,null,null,null,null,null,null,null,null,null,null,null,null,null,null,null,null,null,null,null,null,null,null,null,null,null,null,null,null,null,null,null,null,"Satisfaction de l'entrainement/match J",null,{"$f":"IF(AK32=\"\",\"\",SUM(AQ4:AQ24)/AK32)","v":""},null,0,"Épaule",null,null,null,12]
[null,null,null,null,null,null,null,null,null,"J","Es-tu content de la qualité de ton",null,null,null,null,null,null,null,null,null,null,null,null,null,null,null,null,null,null,null,null,null,null,null,null,null,null,null,0,"Dos",null,null,null,13]
[null,null,null,null,null,null,null,null,null,null,"entrainement/compétition?",null,null,null,null,null,null,null,null,null,null,null,null,null,null,null,null,null,null,null,null,null,null,null,"Santé",null,null,null,0,"Genou",null,null,null,14]
[null,null,null,null,null,null,null,null,null,1,"… pas content",null,null,null,null,null,null,null,null,null,null,null,null,null,null,null,null,null,null,null,null,null,null,null,"Limitation pour cause de douleurs",null,{"$f":"AM36","v":0},null,0,"Cheville",null,null,null,15]
[null,null,null,null,null,null,null,null,null,2,"… plutôt pas content",null,null,null,null,null,null,null,null,null,null,null,null,null,null,null,null,null,null,null,null,null,null,null,"Absence pour cause de blessure",null,{"$f":"AM44","v":0},null,0,"Autre",null,null,null,16]
[null,null,null,null,null,null,null,null,null,3,"… moyen",null,null,null,null,null,null,null,null,null,null,null,null,null,null,null,null,null,null,null,null,null,null,null,"Absence pour cause de maladie",null,{"$f":"AM52","v":0}]
[null,null,null,null,null,null,null,null,null,4,"… content",null,null,null,null,null,null,null,null,null,null,null,null,null,null,null,null,null,null,null,null,null,null,null,null,null,null,null,{"$f":"SUM(AM53:AM59)","v":0},"Absence pour cause de maladie"]
[null,null,null,null,null,null,null,null,null,5,"… très content!",null,null,null,null,null,null,null,null,null,null,null,null,null,null,null,null,null,null,null,null,null,null,null,null,null,null,null,{"$f":"COUNTIF($H$4:$H$24,$AR53)","v":0},"Maladie",null,null,null,21]
[]
[]
[]
[]
[]
[]
[]
[]
[]
[]
[]
[]
[]
[]
[]
[]
[]
[]
[]
[]
[]
[]
[]
[]
[]
[]
[]
[]
[]
[]
[]
[]
[]
[]
[]
[]
[]
[]
[]
[]
[]
[]
[]
[]
[]
[]
[]
[]
[]
[]
[]
[]
[]
[]
[]
[]
[]
[]
[]
[]
[]
[]
[]
[]
[]
[]
[]
[]
[]
[]
[]
[]
[]
[]
[]
[]
[]
[]
[]
[]
[null,null,null,null,null,null,null,null,null,null,null,null,null,null,null,null,null,null,null,null,null,null,null,null,{"$f":"Z134-1","v":-1},0,1,2,3,4,5,{"$f":"D1","v":6}]
[]
[]
[]
[]
[]
[]
[]
[]
[]
[]
[]
[]
[]
[]
[]
[]
[]
[]
[]
[]
[null,null,null,null,null,null,null,null,null,null,null,null,null,null,null,null,null,null,null,null,null,null,null,null,null,null,null,null,null,null,null,null,{"$f":"AF134+1","v":7}]

{"sheet":"7","index":35,"n_rows":155,"n_cols":45,"rows_kept":155,"cut":false,"hidden":false,"merged":[[9,4,11,4],[12,4,14,4],[3,7,5,7],[15,7,17,7],[27,3,27,6],[15,5,17,5],[18,5,20,5],[28,10,29,10],[15,9,15,10],[1,43,2,43],[30,34,30,36],[30,38,31,43],[0,5,0,6],[1,44,2,44],[29,3,29,6],[30,3,30,6],[35,3,35,6],[36,3,36,6],[18,36,20,36],[21,36,23,36],[1,40,2,40],[1,21,1,23],[1,41,2,41],[15,36,17,36],[1,38,2,38],[1,36,2,36],[1,34,2,34],[1,30,1,32],[1,27,1,29],[1,24,1,26],[9,36,11,36],[12,36,14,36],[1,39,2,39],[28,9,29,9],[28,3,28,6],[37,3,37,6],[38,3,38,6],[31,3,31,6],[32,3,32,6],[33,3,33,6],[34,3,34,6],[46,9,47,9],[3,1,5,1],[6,36,8,36],[3,3,5,3],[3,6,5,6],[3,9,3,10],[4,9,4,10],[5,9,5,10],[3,36,5,36],[6,1,8,1],[6,7,8,7],[6,3,8,3],[6,6,8,6],[6,9,6,10],[8,9,8,10],[9,1,11,1],[9,3,11,3],[9,6,11,6],[9,9,9,10],[1,12,1,14],[18,1,20,1],[18,3,20,3],[18,6,20,6],[1,18,1,20],[11,9,11,10],[7,9,7,10],[10,9,10,10],[9,7,11,7],[14,9,14,10],[12,7,14,7],[3,5,5,5],[6,5,8,5],[9,5,11,5],[12,5,14,5],[1,1,2,1],[1,15,1,17],[3,4,5,4],[6,4,8,4],[1,9,2,10],[12,1,14,1],[12,3,14,3],[12,6,14,6],[12,9,12,10],[13,9,13,10],[18,9,18,10],[19,9,19,10],[20,9,20,10],[18,7,20,7],[18,4,20,4],[15,1,17,1],[15,3,17,3],[15,6,17,6],[15,4,17,4],[16,9,16,10],[17,9,17,10],[38,34,38,36],[44,34,44,36],[47,34,47,36],[21,1,23,1],[21,3,23,3],[21,5,23,5],[21,6,23,6],[21,9,21,10],[23,9,23,10],[21,7,23,7],[21,4,23,4],[22,9,22,10],[29,21,29,26],[36,9,37,9]]}
[null,null,"Woche",{"$f":"INT(MOD(INT((F1-2)/7)+0.6,52+5/28))+1","v":7},{"$f":"D1+1000","v":1007},{"$f":"'6'!F1+7","v":"2019-02-11"},null,"-",null,{"$f":"F1+6","v":"2019-02-17"},null,null,null,null,null,null,null,null,null,null,null,null,null,null,null,null,null,null,null,null,null,null,{"$f":"'Aperçu de la charge'!D2","v":"Prénom Nom"},null,{"$f":"'Aperçu de la charge'!N2","v":"2018/2019"}]
[null,"Jour",null,"Poids","REG","qualité sommeil","durée sommeil","Santé",null,"Description de l'entrainement",null,null,"Club - VB",null,null,"TS/ Nati - VB",null,null,"Club - BVB",null,null,"TS/ Nati - BVB",null,null,"Force - fitness",null,null,"Compet. - VB",null,null,"Compet. - BVB",null,null,null,"Réflexion",null,"Charge/\njour",null,"matchs VB","Sets VB","Matchs BVB","Sets BVB","J","Autre\n (Rég, mentale)","Mental- oder Sonstiges Training"]
[null,null,null,"[kg]","[1 - 5]","[1-5]","[Std]","Nr.",null,null,null,null,"Durée","RPE","Charge","Durée","RPE","Charge","Durée","RPE","Charge","Durée","RPE","Charge","Durée","RPE","Charge","Durée","RPE","Charge","Durée","RPE","Charge",null,null,null,null,null,null,null,null,null,"[1-5]"]
[null,"Lu",null,0,0,0,0,0,null,null,null,null,null,null,{"$f":"M4*N4","v":0},null,null,{"$f":"P4*Q4","v":0},null,null,{"$f":"S4*T4","v":0},null,null,{"$f":"V4*W4","v":0},null,null,{"$f":"Y4*Z4","v":0},null,null,{"$f":"AB4*AC4","v":0},null,null,{"$f":"AE4*AF4","v":0},{"$f":"IF(SUM(M4:AG6)>0,1,0)","v":"00:00:00"},null,null,{"$f":"SUM(O4:O6,R4:R6,U4:U6,X4:X6,AA4:AA6,AD4:AD6,AG4:AG6)","v":0}]
[null,null,null,null,null,null,null,null,null,null,null,null,null,null,{"$f":"M5*N5","v":0},null,null,{"$f":"P5*Q5","v":0},null,null,{"$f":"S5*T5","v":0},null,null,{"$f":"V5*W5","v":0},null,null,{"$f":"Y5*Z5","v":0},null,null,{"$f":"AB5*AC5","v":0},null,null,{"$f":"AE5*AF5","v":0}]
[null,null,null,null,null,null,null,null,null,null,null,null,null,null,0,null,null,0,null,null,0,null,null,0,null,null,0,null,null,0,null,null,0]
[null,"Ma",null,0,0,0,0,0,null,null,null,null,null,null,0,null,null,{"$f":"P7*Q7","v":0},null,null,0,null,null,0,null,null,0,null,null,0,null,null,0,{"$f":"IF(SUM(M7:AG9)>0,1,0)","v":"00:00:00"},null,null,{"$f":"SUM(O7:O9,R7:R9,U7:U9,X7:X9,AA7:AA9,AD7:AD9,AG7:AG9)","v":0}]
[null,null,null,null,null,null,null,null,null,null,null,null,null,null,0,null,null,0,null,null,0,null,null,0,null,null,0,null,null,0,null,null,0]
[null,null,null,null,null,null,null,null,null,null,null,null,null,null,0,null,null,0,null,null,0,null,null,0,null,null,0,null,null,0,null,null,0]
[null,"Me",null,0,0,0,0,0,null,null,null,null,null,null,0,null,null,{"$f":"P10*Q10","v":0},null,null,0,null,null,0,null,null,0,null,null,0,null,null,0,{"$f":"IF(SUM(M10:AG12)>0,1,0)","v":"00:00:00"},null,null,{"$f":"SUM(O10:O12,R10:R12,U10:U12,X10:X12,AA10:AA12,AD10:AD12,AG10:AG12)","v":0}]
[null,null,null,null,null,null,null,null,null,null,null,null,null,null,0,null,null,0,null,null,0,null,null,0,null,null,0,null,null,0,null,null,0]
[null,null,null,null,null,null,null,null,null,null,null,null,null,null,0,null,null,0,null,null,0,null,null,0,null,null,0,null,null,0,null,null,0]
[null,"Je",null,0,0,0,0,0,null,null,null,null,null,null,0,null,null,{"$f":"P13*Q13","v":0},null,null,0,null,null,0,null,null,0,null,null,0,null,null,0,{"$f":"IF(SUM(M13:AG15)>0,1,0)","v":"00:00:00"},null,null,{"$f":"SUM(O13:O15,R13:R15,U13:U15,X13:X15,AA13:AA15,AD13:AD15,AG13:AG15)","v":0}]
[null,null,null,null,null,null,null,null,null,null,null,null,null,null,0,null,null,0,null,null,0,null,null,0,null,null,0,null,null,0,null,null,0]
[null,null,null,null,null,null,null,null,null,null,null,null,null,null,0,null,null,0,null,null,0,null,null,0,null,null,0,null,null,0,null,null,0]
[null,"Ve",null,0,0,0,0,0,null,null,null,null,null,null,0,null,null,{"$f":"P16*Q16","v":0},null,null,0,null,null,0,null,null,0,null,null,0,null,null,0,{"$f":"IF(SUM(M16:AG18)>0,1,0)","v":"00:00:00"},null,null,{"$f":"SUM(O16:O18,R16:R18,U16:U18,X16:X18,AA16:AA18,AD16:AD18,AG16:AG18)","v":0}]
[null,null,null,null,null,null,null,null,null,null,null,null,null,null,0,null,null,0,null,null,0,null,null,0,null,null,0,null,null,0,null,null,0]
[null,null,null,null,null,null,null,null,null,null,null,null,null,null,0,null,null,0,null,null,0,null,null,0,null,null,0,null,null,0,null,null,0]
[null,"Sa",null,0,0,0,0,0,null,null,null,null,null,null,{"$f":"M19*N19","v":0},null,null,{"$f":"P19*Q19","v":0},null,null,{"$f":"S19*T19","v":0},null,null,{"$f":"V19*W19","v":0},null,null,{"$f":"Y19*Z19","v":0},null,null,{"$f":"AB19*AC19","v":0},null,null,{"$f":"AE19*AF19","v":0},{"$f":"IF(SUM(M19:AG21)>0,1,0)","v":"00:00:00"},null,null,{"$f":"SUM(O19:O21,R19:R21,U19:U21,X19:X21,AA19:AA21,AD19:AD21,AG19:AG21)","v":0}]
[null,null,null,null,null,null,null,null,null,null,null,null,null,null,{"$f":"M20*N20","v":0},null,null,0,null,null,{"$f":"S20*T20","v":0},null,null,{"$f":"V20*W20","v":0},null,null,{"$f":"Y20*Z20","v":0},null,null,{"$f":"AB20*AC20","v":0},null,null,{"$f":"AE20*AF20","v":0}]
[null,null,null,null,null,null,null,null,null,null,null,null,null,null,0,null,null,0,null,null,0,null,null,0,null,null,0,null,null,0,null,null,0]
[null,"Di",null,0,0,0,0,0,null,null,null,null,null,null,0,null,null,{"$f":"P22*Q22","v":0},null,null,0,null,null,0,null,null,0,null,null,0,null,null,0,{"$f":"IF(SUM(M22:AG24)>0,1,0)","v":"00:00:00"},null,null,{"$f":"SUM(O22:O24,R22:R24,U22:U24,X22:X24,AA22:AA24,AD22:AD24,AG22:AG24)","v":0}]
[null,null,null,null,null,null,null,null,null,null,null,null,null,null,0,null,null,0,null,null,0,null,null,0,null,null,0,null,null,0,null,null,0]
[null,null,null,null,null,null,null,null,null,null,null,null,null,null,0,null,null,0,null,null,0,null,null,0,null,null,0,null,null,0,null,null,0]
[null,null,null,null,null,null,null,null,null,null,"Total",null,{"$f":"SUM(M4:M24)","v":0},null,{"$f":"SUM(O4:O24)","v":0},{"$f":"SUM(P4:P24)","v":0},null,{"$f":"SUM(R4:R24)","v":0},{"$f":"SUM(S4:S24)","v":0},null,{"$f":"SUM(U4:U24)","v":0},{"$f":"SUM(V4:V24)","v":0},null,{"$f":"SUM(X4:X24)","v":0},{"$f":"SUM(Y4:Y24)","v":0},null,{"$f":"SUM(AA4:AA24)","v":0},{"$f":"SUM(AB4:AB24)","v":0},null,{"$f":"SUM(AD4:AD24)","v":0},{"$f":"SUM(AE4:AE24)","v":0},null,{"$f":"SUM(AG4:AG24)","v":0},null,"Charge totale",null,{"$f":"SUM(AK4:AK24)","v":0}]
[null,"avg.",null,{"$f":"IF(COUNTA(D4:D24)=0,\"\",AVERAGE(D4:D24))","v":0},{"$f":"IF(COUNTA(E4:E24)=0,\"\",AVERAGE(E4:E24))","v":0},{"$f":"IF(COUNTA(F4:F24)=0,\"\",AVERAGE(F4:F24))","v":0},{"$f":"IF(COUNTA(G4:G24)=0,\"\",AVERAGE(G4:G24))","v":0},{"$f":"IF(COUNTA(H4:H24)=0,\"\",COUNTIF(H4:H24,\"x\"))","v":0},null,null,"Zone",null,1,2,3,1,2,3,1,2,3,1,2,3,1,2,3,1,2,3,1,2,3,null,"Moyenne",null,{"$f":"AVERAGE(AK4:AK24)","v":0}]
[null,null,null,null,null,{"$f":"IF(COUNTA(F4:F24)=0,\"\",VAR(F4:F24))","v":0},{"$f":"IF(COUNTA(G4:G24)=0,\"\",STDEV(G4:G24))","v":0},"Divergence - durée du sommeil",null,null,"Unité par zone (RPE) ",null,{"$f":"IF('Répartition des intensités'!$AR$25=\"x\",COUNTIF(N4:N24,\"<3,5\"),COUNTIF(N4:N24,\"<4,5\"))","v":0},{"$f":"COUNT(N4:N24)-(M27+O27)","v":0},{"$f":"IF('Répartition des intensités'!$AR$25=\"x\",COUNTIF(N4:N24,\">5,5\"),COUNTIF(N4:N24,\">6,5\"))","v":0},{"$f":"IF('Répartition des intensités'!$AR$25=\"x\",COUNTIF(Q4:Q24,\"<3,5\"),COUNTIF(Q4:Q24,\"<4,5\"))","v":0},{"$f":"COUNT(Q4:Q24)-(P27+R27)","v":0},{"$f":"IF('Répartition des intensités'!$AR$25=\"x\",COUNTIF(Q4:Q24,\">5,5\"),COUNTIF(Q4:Q24,\">6,5\"))","v":0},{"$f":"IF('Répartition des intensités'!$AR$25=\"x\",COUNTIF(T4:T24,\"<3,5\"),COUNTIF(T4:T24,\"<4,5\"))","v":0},{"$f":"COUNT(T4:T24)-(S27+U27)","v":0},{"$f":"IF('Répartition des intensités'!$AR$25=\"x\",COUNTIF(T4:T24,\">5,5\"),COUNTIF(T4:T24,\">6,5\"))","v":0},{"$f":"IF('Répartition des intensités'!$AR$25=\"x\",COUNTIF(W4:W24,\"<3,5\"),COUNTIF(W4:W24,\"<4,5\"))","v":0},{"$f":"COUNT(W4:W24)-(V27+X27)","v":0},{"$f":"IF('Répartition des intensités'!$AR$25=\"x\",COUNTIF(W4:W24,\">5,5\"),COUNTIF(W4:W24,\">6,5\"))","v":0},{"$f":"IF('Répartition des intensités'!$AR$25=\"x\",COUNTIF(Z4:Z24,\"<3,5\"),COUNTIF(Z4:Z24,\"<4,5\"))","v":0},{"$f":"COUNT(Z4:Z24)-(Y27+AA27)","v":0},{"$f":"IF('Répartition des intensités'!$AR$25=\"x\",COUNTIF(Z4:Z24,\">5,5\"),COUNTIF(Z4:Z24,\">6,5\"))","v":0},{"$f":"IF('Répartition des intensités'!$AR$25=\"x\",COUNTIF(AC4:AC24,\"<3,5\"),COUNTIF(AC4:AC24,\"<4,5\"))","v":0},{"$f":"COUNT(AC4:AC24)-(AB27+AD27)","v":0},{"$f":"IF('Répartition des intensités'!$AR$25=\"x\",COUNTIF(AC4:AC24,\">5,5\"),COUNTIF(AC4:AC24,\">6,5\"))","v":0},{"$f":"IF('Répartition des intensités'!$AR$25=\"x\",COUNTIF(AF4:AF24,\"<3,5\"),COUNTIF(AF4:AF24,\"<4,5\"))","v":0},{"$f":"COUNT(AF4:AF24)-(AE27+AG27)","v":0},{"$f":"IF('Répartition des intensités'!$AR$25=\"x\",COUNTIF(AF4:AF24,\">5,5\"),COUNTIF(AF4:AF24,\">6,5\"))","v":0},null,"Divergence",null,{"$f":"STDEVP(AK4:AK24)","v":0}]
[null,null,null,"échelle de Foster",null,null,null,"RPE",null,null,"Temps par zone (RPE)",null,{"$f":"IF('Répartition des intensités'!$AR$25=\"x\",SUMIF(N4:N24,\"<3,5\",M4:M24),SUMIF(N4:N24,\"<4,5\",M4:M24))","v":0},{"$f":"IF(N27=0,0,SUM((M25)-(M28+O28)))","v":0},{"$f":"IF('Répartition des intensités'!$AR$25=\"x\",SUMIF(N4:N24,\">5,5\",M4:M24),SUMIF(N4:N24,\">6,5\",M4:M24))","v":0},{"$f":"IF('Répartition des intensités'!$AR$25=\"x\",SUMIF(Q4:Q24,\"<3,5\",P4:P24),SUMIF(Q4:Q24,\"<4,5\",P4:P24))","v":0},{"$f":"IF(Q27=0,0,SUM((P25)-(P28+R28)))","v":0},{"$f":"IF('Répartition des intensités'!$AR$25=\"x\",SUMIF(Q4:Q24,\">5,5\",P4:P24),SUMIF(Q4:Q24,\">6,5\",P4:P24))","v":0},{"$f":"IF('Répartition des intensités'!$AR$25=\"x\",SUMIF(T4:T24,\"<3,5\",S4:S24),SUMIF(T4:T24,\"<4,5\",S4:S24))","v":0},{"$f":"IF(T27=0,0,SUM((S25)-(S28+U28)))","v":0},{"$f":"IF('Répartition des intensités'!$AR$25=\"x\",SUMIF(T4:T24,\">5,5\",S4:S24),SUMIF(T4:T24,\">6,5\",S4:S24))","v":0},{"$f":"IF('Répartition des intensités'!$AR$25=\"x\",SUMIF(W4:W24,\"<3,5\",V4:V24),SUMIF(W4:W24,\"<4,5\",V4:V24))","v":0},{"$f":"IF(W27=0,0,SUM((V25)-(V28+X28)))","v":0},{"$f":"IF('Répartition des intensités'!$AR$25=\"x\",SUMIF(W4:W24,\">5,5\",V4:V24),SUMIF(W4:W24,\">6,5\",V4:V24))","v":0},{"$f":"IF('Répartition des intensités'!$AR$25=\"x\",SUMIF(Z4:Z24,\"<3,5\",Y4:Y24),SUMIF(Z4:Z24,\"<4,5\",Y4:Y24))","v":0},{"$f":"IF(Z27=0,0,SUM((Y25)-(Y28+AA28)))","v":0},{"$f":"IF('Répartition des intensités'!$AR$25=\"x\",SUMIF(Z4:Z24,\">5,5\",Y4:Y24),SUMIF(Z4:Z24,\">6,5\",Y4:Y24))","v":0},{"$f":"IF('Répartition des intensités'!$AR$25=\"x\",SUMIF(AC4:AC24,\"<3,5\",AB4:AB24),SUMIF(AC4:AC24,\"<4,5\",AB4:AB24))","v":0},{"$f":"IF(AC27=0,0,SUM((AB25)-(AB28+AD28)))","v":0},{"$f":"IF('Répartition des intensités'!$AR$25=\"x\",SUMIF(AC4:AC24,\">5,5\",AB4:AB24),SUMIF(AC4:AC24,\">6,5\",AB4:AB24))","v":0},{"$f":"IF('Répartition des intensités'!$AR$25=\"x\",SUMIF(AF4:AF24,\"<3,5\",AE4:AE24),SUMIF(AF4:AF24,\"<4,5\",AE4:AE24))","v":0},{"$f":"IF(AF27=0,0,SUM((AE25)-(AE28+AG28)))","v":0},{"$f":"IF('Répartition des intensités'!$AR$25=\"x\",SUMIF(AF4:AF24,\">5,5\",AE4:AE24),SUMIF(AF4:AF24,\">6,5\",AE4:AE24))","v":0}]
[null,null,null,"Comme au repos",null,null,null,0,null,"REG","Est-ce que j'ai l'impression d'avoir récupéré en me levant?"]
[null,null,null,"très facile",null,null,null,1]
[null,null,null,"facile",null,null,null,2,null,1,"… pas du tout récupéré",null,null,null,null,null,null,null,null,null,null,null,null,null,null,null,null,null,null,null,null,null,null,null,"Entrainements",null,null,null,"Rapport de santé"]
[null,null,null,null,null,null,null,3,null,2,"… un peu récupéré",null,null,null,null,null,null,null,null,null,null,null,null,null,null,null,null,null,null,null,null,null,null,null,"Jours d'entrainement",null,{"$f":"IF(SUM(AH4:AH24)=0,\"\",SUM(AH4:AH24))","v":""}]
[null,null,null,"Assez dur",null,null,null,4,null,3,"… récupéré",null,null,null,null,null,null,null,null,null,null,{"$f":"B4","v":"Lu"},{"$f":"AK4","v":0},null,null,null,null,null,null,null,null,null,null,null,"Entrainements",null,{"$f":"IF(AK32=\"\",\"\",SUM(M27:AG27))","v":""}]
[null,null,null,"dur",null,null,null,5,null,4,"…  en forme",null,null,null,null,null,null,null,null,null,null,{"$f":"B7","v":"Ma"},{"$f":"AK7","v":0},null,null,null,null,null,null,null,null,null,null,null,"Heures d'entrainement",null,{"$f":"IF(AK32=\"\",\"\",SUM(M25,P25,S25,Y25,AB25,V25,AE25)/60)","v":""},null,{"$f":"IF($AK$32=\"\",\"\",AK32-AM36-AM44-AM52)","v":""},"Aucune limitation",null,null,null,0]
[null,null,null,null,null,null,null,6,null,5,"… très en forme",null,null,null,null,null,null,null,null,null,null,{"$f":"B10","v":"Me"},{"$f":"AK10","v":0},null,null,null,null,null,null,null,null,null,null,null,"Charge de l'entrainement",null,{"$f":"IF(AK32=\"\",\"\",SUM(AK25))","v":""}]
[null,null,null,"très dur",null,null,null,7,null,null,null,null,null,null,null,null,null,null,null,null,null,{"$f":"B13","v":"Je"},{"$f":"AK13","v":0},null,null,null,null,null,null,null,null,null,null,null,"Monotonie",null,{"$f":"IF(AK27=0,0,(AVERAGE(AK4:AK24))/AK27)","v":0},null,{"$f":"SUM(AM37:AM42)","v":0},"Limitation pour cause de douleurs"]
[null,null,null,null,null,null,null,8,null,"Nombre de matchs",null,null,null,null,null,null,null,null,null,null,null,{"$f":"B16","v":"Ve"},{"$f":"AK16","v":0},null,null,null,null,null,null,null,null,null,null,null,"Efforts à l'entrainement",null,{"$f":"IF(AK32=\"\",\"\",AK35*AK36)","v":""},null,{"$f":"COUNTIF($H$4:$H$24,$AR37)","v":0},"Doigt",null,null,null,1]
[null,null,null,"extrèmement dur",null,null,null,9,null,null,null,null,null,null,null,null,null,null,null,null,null,{"$f":"B19","v":"Sa"},{"$f":"AK19","v":0},null,null,null,null,null,null,null,null,null,null,null,null,null,null,null,0,"Épaule",null,null,null,2]
[null,null,null,"Comme mon entrainement le plus dur",null,null,null,10,null,1,"… 3 sets et plus",null,null,null,null,null,null,null,null,null,null,{"$f":"B22","v":"Di"},{"$f":"AK22","v":0},null,null,null,null,null,null,null,null,null,null,null,"Compétition",null,null,null,0,"Dos",null,null,null,3]
[null,null,null,null,null,null,null,null,null,0.5,"… moins de 3 sets",null,null,null,null,null,null,null,null,null,null,null,null,null,null,null,null,null,null,null,null,null,null,null,"Matchs de volleyball",null,{"$f":"IF(AK32=\"\",\"\",SUM(AM4:AM24))","v":""},null,0,"Genou",null,null,null,4]
[null,null,null,null,null,null,null,null,null,null,null,null,null,null,null,null,null,null,null,null,null,null,null,null,null,null,null,null,null,null,null,null,null,null,"Sets de volleyball",null,{"$f":"IF(AK32=\"\",\"\",SUM(AN4:AN24))","v":""},null,0,"Cheville",null,null,null,5]
[null,null,null,null,null,null,null,null,null,"Sets joués",null,null,null,null,null,null,null,null,null,null,null,null,null,null,null,null,null,null,null,null,null,null,null,null,"Matchs de beach volley",null,{"$f":"IF(AK35=\"\",\"\",SUM(AO4:AO24))","v":""},null,0,"Autre",null,null,null,6]
[null,null,null,null,null,null,null,null,null,1,"… depuis le début et durant tout le set",null,null,null,null,null,null,null,null,null,null,null,null,null,null,null,null,null,null,null,null,null,null,null,"Sets de beach volley",null,{"$f":"IF(AK35=\"\",\"\",SUM(AP4:AP24))","v":""}]
[null,null,null,null,null,null,null,null,null,0.5,"… entré/sorti en cours, beaucoup joué",null,null,null,null,null,null,null,null,null,null,null,null,null,null,null,null,null,null,null,null,null,null,null,null,null,null,null,{"$f":"SUM(AM45:AM50)","v":0},"Absence pour cause de blessure"]
[null,null,null,null,null,null,null,null,null,0.1,"… entré/sorti en cours, peu joué",null,null,null,null,null,null,null,null,null,null,null,null,null,null,null,null,null,null,null,null,null,null,null,"Satisfaction",null,null,null,{"$f":"COUNTIF($H$4:$H$24,$AR45)","v":0},"Doigt",null,null,null,11]
[null,null,null,null,null,null,null,null,null,null,null,null,null,null,null,null,null,null,null,null,null,null,null,null,null,null,null,null,null,null,null,null,null,null,"Satisfaction de l'entrainement/match J",null,{"$f":"IF(AK32=\"\",\"\",SUM(AQ4:AQ24)/AK32)","v":""},null,0,"Épaule",null,null,null,12]
[null,null,null,null,null,null,null,null,null,"J","Es-tu content de la qualité de ton",null,null,null,null,null,null,null,null,null,null,null,null,null,null,null,null,null,null,null,null,null,null,null,null,null,null,null,0,"Dos",null,null,null,13]
[null,null,null,null,null,null,null,null,null,null,"entrainement/compétition?",null,null,null,null,null,null,null,null,null,null,null,null,null,null,null,null,null,null,null,null,null,null,null,"Santé",null,null,null,0,"Genou",null,null,null,14]
[null,null,null,null,null,null,null,null,null,1,"… pas content",null,null,null,null,null,null,null,null,null,null,null,null,null,null,null,null,null,null,null,null,null,null,null,"Limitation pour cause de douleurs",null,{"$f":"AM36","v":0},null,0,"Cheville",null,null,null,15]
[null,null,null,null,null,null,null,null,null,2,"… plutôt pas content",null,null,null,null,null,null,null,null,null,null,null,null,null,null,null,null,null,null,null,null,null,null,null,"Absence pour cause de blessure",null,{"$f":"AM44","v":0},null,0,"Autre",null,null,null,16]
[null,null,null,null,null,null,null,null,null,3,"… moyen",null,null,null,null,null,null,null,null,null,null,null,null,null,null,null,null,null,null,null,null,null,null,null,"Absence pour cause de maladie",null,{"$f":"AM52","v":0}]
[null,null,null,null,null,null,null,null,null,4,"… content",null,null,null,null,null,null,null,null,null,null,null,null,null,null,null,null,null,null,null,null,null,null,null,null,null,null,null,{"$f":"SUM(AM53:AM59)","v":0},"Absence pour cause de maladie"]
[null,null,null,null,null,null,null,null,null,5,"… très content!",null,null,null,null,null,null,null,null,null,null,null,null,null,null,null,null,null,null,null,null,null,null,null,null,null,null,null,{"$f":"COUNTIF($H$4:$H$24,$AR53)","v":0},"Maladie",null,null,null,21]
[]
[]
[]
[]
[]
[]
[]
[]
[]
[]
[]
[]
[]
[]
[]
[]
[]
[]
[]
[]
[]
[]
[]
[]
[]
[]
[]
[]
[]
[]
[]
[]
[]
[]
[]
[]
[]
[]
[]
[]
[]
[]
[]
[]
[]
[]
[]
[]
[]
[]
[]
[]
[]
[]
[]
[]
[]
[]
[]
[]
[]
[]
[]
[]
[]
[]
[]
[]
[]
[]
[]
[]
[]
[]
[]
[]
[]
[]
[]
[]
[null,null,null,null,null,null,null,null,null,null,null,null,null,null,null,null,null,null,null,null,null,null,null,null,{"$f":"Z134-1","v":0},1,2,3,4,5,6,{"$f":"D1","v":7}]
[]
[]
[]
[]
[]
[]
[]
[]
[]
[]
[]
[]
[]
[]
[]
[]
[]
[]
[]
[]
[null,null,null,null,null,null,null,null,null,null,null,null,null,null,null,null,null,null,null,null,null,null,null,null,null,null,null,null,null,null,null,null,{"$f":"AF134+1","v":8}]

{"sheet":"8","index":36,"n_rows":155,"n_cols":45,"rows_kept":155,"cut":false,"hidden":false,"merged":[[1,43,2,43],[30,34,30,36],[30,38,31,43],[0,5,0,6],[1,44,2,44],[1,15,1,17],[28,10,29,10],[29,21,29,26],[36,9,37,9],[1,41,2,41],[21,6,23,6],[21,9,21,10],[23,9,23,10],[21,7,23,7],[1,12,1,14],[7,9,7,10],[1,38,2,38],[1,24,1,26],[1,18,1,20],[1,30,1,32],[1,27,1,29],[27,3,27,6],[28,3,28,6],[37,3,37,6],[30,3,30,6],[31,3,31,6],[32,3,32,6],[33,3,33,6],[34,3,34,6],[35,3,35,6],[36,3,36,6],[38,3,38,6],[46,9,47,9],[18,36,20,36],[1,40,2,40],[3,36,5,36],[1,36,2,36],[20,9,20,10],[5,9,5,10],[1,39,2,39],[21,36,23,36],[9,36,11,36],[12,36,14,36],[15,36,17,36],[28,9,29,9],[16,9,16,10],[15,9,15,10],[10,9,10,10],[29,3,29,6],[15,5,17,5],[12,4,14,4],[6,36,8,36],[3,3,5,3],[3,6,5,6],[3,9,3,10],[4,9,4,10],[17,9,17,10],[22,9,22,10],[18,9,18,10],[19,9,19,10],[9,6,11,6],[9,9,9,10],[6,4,8,4],[9,7,11,7],[9,4,11,4],[11,9,11,10],[3,4,5,4],[3,7,5,7],[12,7,14,7],[9,5,11,5],[12,5,14,5],[21,1,23,1],[15,7,17,7],[15,1,17,1],[15,3,17,3],[15,6,17,6],[15,4,17,4],[18,5,20,5],[18,1,20,1],[18,3,20,3],[21,5,23,5],[21,3,23,3],[21,4,23,4],[18,7,20,7],[18,4,20,4],[18,6,20,6],[1,1,2,1],[9,1,11,1],[9,3,11,3],[38,34,38,36],[44,34,44,36],[47,34,47,36],[12,1,14,1],[6,3,8,3],[6,6,8,6],[6,9,6,10],[8,9,8,10],[6,5,8,5],[6,1,8,1],[6,7,8,7],[1,34,2,34],[1,21,1,23],[1,9,2,10],[3,1,5,1],[3,5,5,5],[12,3,14,3],[12,6,14,6],[12,9,12,10],[13,9,13,10],[14,9,14,10]]}
[null,null,"Woche",{"$f":"INT(MOD(INT((F1-2)/7)+0.6,52+5/28))+1","v":8},{"$f":"D1+1000","v":1008},{"$f":"'7'!F1+7","v":"2019-02-18"},null,"-",null,{"$f":"F1+6","v":"2019-02-24"},null,null,null,null,null,null,null,null,null,null,null,null,null,null,null,null,null,null,null,null,null,null,{"$f":"'Aperçu de la charge'!D2","v":"Prénom Nom"},null,{"$f":"'Aperçu de la charge'!N2","v":"2018/2019"}]
[null,"Jour",null,"Poids","REG","qualité sommeil","durée sommeil","Santé",null,"Description de l'entrainement",null,null,"Club - VB",null,null,"TS/ Nati - VB",null,null,"Club - BVB",null,null,"TS/ Nati - BVB",null,null,"Force - fitness",null,null,"Compet. - VB",null,null,"Compet. - BVB",null,null,null,"Réflexion",null,"Charge/\njour",null,"matchs VB","Sets VB","Matchs BVB","Sets BVB","J","Autre\n (Rég, mentale)","Mental- oder Sonstiges Training"]
[null,null,null,"[kg]","[1 - 5]","[1-5]","[Std]","Nr.",null,null,null,null,"Durée","RPE","Charge","Durée","RPE","Charge","Durée","RPE","Charge","Durée","RPE","Charge","Durée","RPE","Charge","Durée","RPE","Charge","Durée","RPE","Charge",null,null,null,null,null,null,null,null,null,"[1-5]"]
[null,"Lu",null,0,0,0,0,0,null,null,null,null,null,null,{"$f":"M4*N4","v":0},null,null,{"$f":"P4*Q4","v":0},null,null,{"$f":"S4*T4","v":0},null,null,{"$f":"V4*W4","v":0},null,null,{"$f":"Y4*Z4","v":0},null,null,{"$f":"AB4*AC4","v":0},null,null,{"$f":"AE4*AF4","v":0},{"$f":"IF(SUM(M4:AG6)>0,1,0)","v":"00:00:00"},null,null,{"$f":"SUM(O4:O6,R4:R6,U4:U6,X4:X6,AA4:AA6,AD4:AD6,AG4:AG6)","v":0}]
[null,null,null,null,null,null,null,null,null,null,null,null,null,null,{"$f":"M5*N5","v":0},null,null,{"$f":"P5*Q5","v":0},null,null,{"$f":"S5*T5","v":0},null,null,{"$f":"V5*W5","v":0},null,null,{"$f":"Y5*Z5","v":0},null,null,{"$f":"AB5*AC5","v":0},null,null,{"$f":"AE5*AF5","v":0}]
[null,null,null,null,null,null,null,null,null,null,null,null,null,null,0,null,null,0,null,null,0,null,null,0,null,null,0,null,null,0,null,null,0]
[null,"Ma",null,0,0,0,0,0,null,null,null,null,null,null,0,null,null,{"$f":"P7*Q7","v":0},null,null,0,null,null,0,null,null,0,null,null,0,null,null,0,{"$f":"IF(SUM(M7:AG9)>0,1,0)","v":"00:00:00"},null,null,{"$f":"SUM(O7:O9,R7:R9,U7:U9,X7:X9,AA7:AA9,AD7:AD9,AG7:AG9)","v":0}]
[null,null,null,null,null,null,null,null,null,null,null,null,null,null,0,null,null,0,null,null,0,null,null,0,null,null,0,null,null,0,null,null,0]
[null,null,null,null,null,null,null,null,null,null,null,null,null,null,0,null,null,0,null,null,0,null,null,0,null,null,0,null,null,0,null,null,0]
[null,"Me",null,0,0,0,0,0,null,null,null,null,null,null,0,null,null,{"$f":"P10*Q10","v":0},null,null,0,null,null,0,null,null,0,null,null,0,null,null,0,{"$f":"IF(SUM(M10:AG12)>0,1,0)","v":"00:00:00"},null,null,{"$f":"SUM(O10:O12,R10:R12,U10:U12,X10:X12,AA10:AA12,AD10:AD12,AG10:AG12)","v":0}]
[null,null,null,null,null,null,null,null,null,null,null,null,null,null,0,null,null,0,null,null,0,null,null,0,null,null,0,null,null,0,null,null,0]
[null,null,null,null,null,null,null,null,null,null,null,null,null,null,0,null,null,0,null,null,0,null,null,0,null,null,0,null,null,0,null,null,0]
[null,"Je",null,0,0,0,0,0,null,null,null,null,null,null,0,null,null,{"$f":"P13*Q13","v":0},null,null,0,null,null,0,null,null,0,null,null,0,null,null,0,{"$f":"IF(SUM(M13:AG15)>0,1,0)","v":"00:00:00"},null,null,{"$f":"SUM(O13:O15,R13:R15,U13:U15,X13:X15,AA13:AA15,AD13:AD15,AG13:AG15)","v":0}]
[null,null,null,null,null,null,null,null,null,null,null,null,null,null,0,null,null,0,null,null,0,null,null,0,null,null,0,null,null,0,null,null,0]
[null,null,null,null,null,null,null,null,null,null,null,null,null,null,0,null,null,0,null,null,0,null,null,0,null,null,0,null,null,0,null,null,0]
[null,"Ve",null,0,0,0,0,0,null,null,null,null,null,null,0,null,null,{"$f":"P16*Q16","v":0},null,null,0,null,null,0,null,null,0,null,null,0,null,null,0,{"$f":"IF(SUM(M16:AG18)>0,1,0)","v":"00:00:00"},null,null,{"$f":"SUM(O16:O18,R16:R18,U16:U18,X16:X18,AA16:AA18,AD16:AD18,AG16:AG18)","v":0}]
[null,null,null,null,null,null,null,null,null,null,null,null,null,null,0,null,null,0,null,null,0,null,null,0,null,null,0,null,null,0,null,null,0]
[null,null,null,null,null,null,null,null,null,null,null,null,null,null,0,null,null,0,null,null,0,null,null,0,null,null,0,null,null,0,null,null,0]
[null,"Sa",null,0,0,0,0,0,null,null,null,null,null,null,{"$f":"M19*N19","v":0},null,null,{"$f":"P19*Q19","v":0},null,null,{"$f":"S19*T19","v":0},null,null,{"$f":"V19*W19","v":0},null,null,{"$f":"Y19*Z19","v":0},null,null,{"$f":"AB19*AC19","v":0},null,null,{"$f":"AE19*AF19","v":0},{"$f":"IF(SUM(M19:AG21)>0,1,0)","v":"00:00:00"},null,null,{"$f":"SUM(O19:O21,R19:R21,U19:U21,X19:X21,AA19:AA21,AD19:AD21,AG19:AG21)","v":0}]
[null,null,null,null,null,null,null,null,null,null,null,null,null,null,{"$f":"M20*N20","v":0},null,null,0,null,null,{"$f":"S20*T20","v":0},null,null,{"$f":"V20*W20","v":0},null,null,{"$f":"Y20*Z20","v":0},null,null,{"$f":"AB20*AC20","v":0},null,null,{"$f":"AE20*AF20","v":0}]
[null,null,null,null,null,null,null,null,null,null,null,null,null,null,0,null,null,0,null,null,0,null,null,0,null,null,0,null,null,0,null,null,0]
[null,"Di",null,0,0,0,0,0,null,null,null,null,null,null,0,null,null,{"$f":"P22*Q22","v":0},null,null,0,null,null,0,null,null,0,null,null,0,null,null,0,{"$f":"IF(SUM(M22:AG24)>0,1,0)","v":"00:00:00"},null,null,{"$f":"SUM(O22:O24,R22:R24,U22:U24,X22:X24,AA22:AA24,AD22:AD24,AG22:AG24)","v":0}]
[null,null,null,null,null,null,null,null,null,null,null,null,null,null,0,null,null,0,null,null,0,null,null,0,null,null,0,null,null,0,null,null,0]
[null,null,null,null,null,null,null,null,null,null,null,null,null,null,0,null,null,0,null,null,0,null,null,0,null,null,0,null,null,0,null,null,0]
[null,null,null,null,null,null,null,null,null,null,"Total",null,{"$f":"SUM(M4:M24)","v":0},null,{"$f":"SUM(O4:O24)","v":0},{"$f":"SUM(P4:P24)","v":0},null,{"$f":"SUM(R4:R24)","v":0},{"$f":"SUM(S4:S24)","v":0},null,{"$f":"SUM(U4:U24)","v":0},{"$f":"SUM(V4:V24)","v":0},null,{"$f":"SUM(X4:X24)","v":0},{"$f":"SUM(Y4:Y24)","v":0},null,{"$f":"SUM(AA4:AA24)","v":0},{"$f":"SUM(AB4:AB24)","v":0},null,{"$f":"SUM(AD4:AD24)","v":0},{"$f":"SUM(AE4:AE24)","v":0},null,{"$f":"SUM(AG4:AG24)","v":0},null,"Charge totale",null,{"$f":"SUM(AK4:AK24)","v":0}]
[null,"avg.",null,{"$f":"IF(COUNTA(D4:D24)=0,\"\",AVERAGE(D4:D24))","v":0},{"$f":"IF(COUNTA(E4:E24)=0,\"\",AVERAGE(E4:E24))","v":0},{"$f":"IF(COUNTA(F4:F24)=0,\"\",AVERAGE(F4:F24))","v":0},{"$f":"IF(COUNTA(G4:G24)=0,\"\",AVERAGE(G4:G24))","v":0},{"$f":"IF(COUNTA(H4:H24)=0,\"\",COUNTIF(H4:H24,\"x\"))","v":0},null,null,"Zone",null,1,2,3,1,2,3,1,2,3,1,2,3,1,2,3,1,2,3,1,2,3,null,"Moyenne",null,{"$f":"AVERAGE(AK4:AK24)","v":0}]
[null,null,null,null,null,{"$f":"IF(COUNTA(F4:F24)=0,\"\",VAR(F4:F24))","v":0},{"$f":"IF(COUNTA(G4:G24)=0,\"\",STDEV(G4:G24))","v":0},"Divergence - durée du sommeil",null,null,"Unité par zone (RPE) ",null,{"$f":"IF('Répartition des intensités'!$AR$25=\"x\",COUNTIF(N4:N24,\"<3,5\"),COUNTIF(N4:N24,\"<4,5\"))","v":0},{"$f":"COUNT(N4:N24)-(M27+O27)","v":0},{"$f":"IF('Répartition des intensités'!$AR$25=\"x\",COUNTIF(N4:N24,\">5,5\"),COUNTIF(N4:N24,\">6,5\"))","v":0},{"$f":"IF('Répartition des intensités'!$AR$25=\"x\",COUNTIF(Q4:Q24,\"<3,5\"),COUNTIF(Q4:Q24,\"<4,5\"))","v":0},{"$f":"COUNT(Q4:Q24)-(P27+R27)","v":0},{"$f":"IF('Répartition des intensités'!$AR$25=\"x\",COUNTIF(Q4:Q24,\">5,5\"),COUNTIF(Q4:Q24,\">6,5\"))","v":0},{"$f":"IF('Répartition des intensités'!$AR$25=\"x\",COUNTIF(T4:T24,\"<3,5\"),COUNTIF(T4:T24,\"<4,5\"))","v":0},{"$f":"COUNT(T4:T24)-(S27+U27)","v":0},{"$f":"IF('Répartition des intensités'!$AR$25=\"x\",COUNTIF(T4:T24,\">5,5\"),COUNTIF(T4:T24,\">6,5\"))","v":0},{"$f":"IF('Répartition des intensités'!$AR$25=\"x\",COUNTIF(W4:W24,\"<3,5\"),COUNTIF(W4:W24,\"<4,5\"))","v":0},{"$f":"COUNT(W4:W24)-(V27+X27)","v":0},{"$f":"IF('Répartition des intensités'!$AR$25=\"x\",COUNTIF(W4:W24,\">5,5\"),COUNTIF(W4:W24,\">6,5\"))","v":0},{"$f":"IF('Répartition des intensités'!$AR$25=\"x\",COUNTIF(Z4:Z24,\"<3,5\"),COUNTIF(Z4:Z24,\"<4,5\"))","v":0},{"$f":"COUNT(Z4:Z24)-(Y27+AA27)","v":0},{"$f":"IF('Répartition des intensités'!$AR$25=\"x\",COUNTIF(Z4:Z24,\">5,5\"),COUNTIF(Z4:Z24,\">6,5\"))","v":0},{"$f":"IF('Répartition des intensités'!$AR$25=\"x\",COUNTIF(AC4:AC24,\"<3,5\"),COUNTIF(AC4:AC24,\"<4,5\"))","v":0},{"$f":"COUNT(AC4:AC24)-(AB27+AD27)","v":0},{"$f":"IF('Répartition des intensités'!$AR$25=\"x\",COUNTIF(AC4:AC24,\">5,5\"),COUNTIF(AC4:AC24,\">6,5\"))","v":0},{"$f":"IF('Répartition des intensités'!$AR$25=\"x\",COUNTIF(AF4:AF24,\"<3,5\"),COUNTIF(AF4:AF24,\"<4,5\"))","v":0},{"$f":"COUNT(AF4:AF24)-(AE27+AG27)","v":0},{"$f":"IF('Répartition des intensités'!$AR$25=\"x\",COUNTIF(AF4:AF24,\">5,5\"),COUNTIF(AF4:AF24,\">6,5\"))","v":0},null,"Divergence",null,{"$f":"STDEVP(AK4:AK24)","v":0}]
[null,null,null,"échelle de Foster",null,null,null,"RPE",null,null,"Temps par zone (RPE)",null,{"$f":"IF('Répartition des intensités'!$AR$25=\"x\",SUMIF(N4:N24,\"<3,5\",M4:M24),SUMIF(N4:N24,\"<4,5\",M4:M24))","v":0},{"$f":"IF(N27=0,0,SUM((M25)-(M28+O28)))","v":0},{"$f":"IF('Répartition des intensités'!$AR$25=\"x\",SUMIF(N4:N24,\">5,5\",M4:M24),SUMIF(N4:N24,\">6,5\",M4:M24))","v":0},{"$f":"IF('Répartition des intensités'!$AR$25=\"x\",SUMIF(Q4:Q24,\"<3,5\",P4:P24),SUMIF(Q4:Q24,\"<4,5\",P4:P24))","v":0},{"$f":"IF(Q27=0,0,SUM((P25)-(P28+R28)))","v":0},{"$f":"IF('Répartition des intensités'!$AR$25=\"x\",SUMIF(Q4:Q24,\">5,5\",P4:P24),SUMIF(Q4:Q24,\">6,5\",P4:P24))","v":0},{"$f":"IF('Répartition des intensités'!$AR$25=\"x\",SUMIF(T4:T24,\"<3,5\",S4:S24),SUMIF(T4:T24,\"<4,5\",S4:S24))","v":0},{"$f":"IF(T27=0,0,SUM((S25)-(S28+U28)))","v":0},{"$f":"IF('Répartition des intensités'!$AR$25=\"x\",SUMIF(T4:T24,\">5,5\",S4:S24),SUMIF(T4:T24,\">6,5\",S4:S24))","v":0},{"$f":"IF('Répartition des intensités'!$AR$25=\"x\",SUMIF(W4:W24,\"<3,5\",V4:V24),SUMIF(W4:W24,\"<4,5\",V4:V24))","v":0},{"$f":"IF(W27=0,0,SUM((V25)-(V28+X28)))","v":0},{"$f":"IF('Répartition des intensités'!$AR$25=\"x\",SUMIF(W4:W24,\">5,5\",V4:V24),SUMIF(W4:W24,\">6,5\",V4:V24))","v":0},{"$f":"IF('Répartition des intensités'!$AR$25=\"x\",SUMIF(Z4:Z24,\"<3,5\",Y4:Y24),SUMIF(Z4:Z24,\"<4,5\",Y4:Y24))","v":0},{"$f":"IF(Z27=0,0,SUM((Y25)-(Y28+AA28)))","v":0},{"$f":"IF('Répartition des intensités'!$AR$25=\"x\",SUMIF(Z4:Z24,\">5,5\",Y4:Y24),SUMIF(Z4:Z24,\">6,5\",Y4:Y24))","v":0},{"$f":"IF('Répartition des intensités'!$AR$25=\"x\",SUMIF(AC4:AC24,\"<3,5\",AB4:AB24),SUMIF(AC4:AC24,\"<4,5\",AB4:AB24))","v":0},{"$f":"IF(AC27=0,0,SUM((AB25)-(AB28+AD28)))","v":0},{"$f":"IF('Répartition des intensités'!$AR$25=\"x\",SUMIF(AC4:AC24,\">5,5\",AB4:AB24),SUMIF(AC4:AC24,\">6,5\",AB4:AB24))","v":0},{"$f":"IF('Répartition des intensités'!$AR$25=\"x\",SUMIF(AF4:AF24,\"<3,5\",AE4:AE24),SUMIF(AF4:AF24,\"<4,5\",AE4:AE24))","v":0},{"$f":"IF(AF27=0,0,SUM((AE25)-(AE28+AG28)))","v":0},{"$f":"IF('Répartition des intensités'!$AR$25=\"x\",SUMIF(AF4:AF24,\">5,5\",AE4:AE24),SUMIF(AF4:AF24,\">6,5\",AE4:AE24))","v":0}]
[null,null,null,"Comme au repos",null,null,null,0,null,"REG","Est-ce que j'ai l'impression d'avoir récupéré en me levant?"]
[null,null,null,"très facile",null,null,null,1]
[null,null,null,"facile",null,null,null,2,null,1,"… pas du tout récupéré",null,null,null,null,null,null,null,null,null,null,null,null,null,null,null,null,null,null,null,null,null,null,null,"Entrainements",null,null,null,"Rapport de santé"]
[null,null,null,null,null,null,null,3,null,2,"… un peu récupéré",null,null,null,null,null,null,null,null,null,null,null,null,null,null,null,null,null,null,null,null,null,null,null,"Jours d'entrainement",null,{"$f":"IF(SUM(AH4:AH24)=0,\"\",SUM(AH4:AH24))","v":""}]
[null,null,null,"Assez dur",null,null,null,4,null,3,"… récupéré",null,null,null,null,null,null,null,null,null,null,{"$f":"B4","v":"Lu"},{"$f":"AK4","v":0},null,null,null,null,null,null,null,null,null,null,null,"Entrainements",null,{"$f":"IF(AK32=\"\",\"\",SUM(M27:AG27))","v":""}]
[null,null,null,"dur",null,null,null,5,null,4,"…  en forme",null,null,null,null,null,null,null,null,null,null,{"$f":"B7","v":"Ma"},{"$f":"AK7","v":0},null,null,null,null,null,null,null,null,null,null,null,"Heures d'entrainement",null,{"$f":"IF(AK32=\"\",\"\",SUM(M25,P25,S25,Y25,AB25,V25,AE25)/60)","v":""},null,{"$f":"IF($AK$32=\"\",\"\",AK32-AM36-AM44-AM52)","v":""},"Aucune limitation",null,null,null,0]
[null,null,null,null,null,null,null,6,null,5,"… très en forme",null,null,null,null,null,null,null,null,null,null,{"$f":"B10","v":"Me"},{"$f":"AK10","v":0},null,null,null,null,null,null,null,null,null,null,null,"Charge de l'entrainement",null,{"$f":"IF(AK32=\"\",\"\",SUM(AK25))","v":""}]
[null,null,null,"très dur",null,null,null,7,null,null,null,null,null,null,null,null,null,null,null,null,null,{"$f":"B13","v":"Je"},{"$f":"AK13","v":0},null,null,null,null,null,null,null,null,null,null,null,"Monotonie",null,{"$f":"IF(AK27=0,0,(AVERAGE(AK4:AK24))/AK27)","v":0},null,{"$f":"SUM(AM37:AM42)","v":0},"Limitation pour cause de douleurs"]
[null,null,null,null,null,null,null,8,null,"Nombre de matchs",null,null,null,null,null,null,null,null,null,null,null,{"$f":"B16","v":"Ve"},{"$f":"AK16","v":0},null,null,null,null,null,null,null,null,null,null,null,"Efforts à l'entrainement",null,{"$f":"IF(AK32=\"\",\"\",AK35*AK36)","v":""},null,{"$f":"COUNTIF($H$4:$H$24,$AR37)","v":0},"Doigt",null,null,null,1]
[null,null,null,"extrèmement dur",null,null,null,9,null,null,null,null,null,null,null,null,null,null,null,null,null,{"$f":"B19","v":"Sa"},{"$f":"AK19","v":0},null,null,null,null,null,null,null,null,null,null,null,null,null,null,null,0,"Épaule",null,null,null,2]
[null,null,null,"Comme mon entrainement le plus dur",null,null,null,10,null,1,"… 3 sets et plus",null,null,null,null,null,null,null,null,null,null,{"$f":"B22","v":"Di"},{"$f":"AK22","v":0},null,null,null,null,null,null,null,null,null,null,null,"Compétition",null,null,null,0,"Dos",null,null,null,3]
[null,null,null,null,null,null,null,null,null,0.5,"… moins de 3 sets",null,null,null,null,null,null,null,null,null,null,null,null,null,null,null,null,null,null,null,null,null,null,null,"Matchs de volleyball",null,{"$f":"IF(AK32=\"\",\"\",SUM(AM4:AM24))","v":""},null,0,"Genou",null,null,null,4]
[null,null,null,null,null,null,null,null,null,null,null,null,null,null,null,null,null,null,null,null,null,null,null,null,null,null,null,null,null,null,null,null,null,null,"Sets de volleyball",null,{"$f":"IF(AK32=\"\",\"\",SUM(AN4:AN24))","v":""},null,0,"Cheville",null,null,null,5]
[null,null,null,null,null,null,null,null,null,"Sets joués",null,null,null,null,null,null,null,null,null,null,null,null,null,null,null,null,null,null,null,null,null,null,null,null,"Matchs de beach volley",null,{"$f":"IF(AK35=\"\",\"\",SUM(AO4:AO24))","v":""},null,0,"Autre",null,null,null,6]
[null,null,null,null,null,null,null,null,null,1,"… depuis le début et durant tout le set",null,null,null,null,null,null,null,null,null,null,null,null,null,null,null,null,null,null,null,null,null,null,null,"Sets de beach volley",null,{"$f":"IF(AK35=\"\",\"\",SUM(AP4:AP24))","v":""}]
[null,null,null,null,null,null,null,null,null,0.5,"… entré/sorti en cours, beaucoup joué",null,null,null,null,null,null,null,null,null,null,null,null,null,null,null,null,null,null,null,null,null,null,null,null,null,null,null,{"$f":"SUM(AM45:AM50)","v":0},"Absence pour cause de blessure"]
[null,null,null,null,null,null,null,null,null,0.1,"… entré/sorti en cours, peu joué",null,null,null,null,null,null,null,null,null,null,null,null,null,null,null,null,null,null,null,null,null,null,null,"Satisfaction",null,null,null,{"$f":"COUNTIF($H$4:$H$24,$AR45)","v":0},"Doigt",null,null,null,11]
[null,null,null,null,null,null,null,null,null,null,null,null,null,null,null,null,null,null,null,null,null,null,null,null,null,null,null,null,null,null,null,null,null,null,"Satisfaction de l'entrainement/match J",null,{"$f":"IF(AK32=\"\",\"\",SUM(AQ4:AQ24)/AK32)","v":""},null,0,"Épaule",null,null,null,12]
[null,null,null,null,null,null,null,null,null,"J","Es-tu content de la qualité de ton",null,null,null,null,null,null,null,null,null,null,null,null,null,null,null,null,null,null,null,null,null,null,null,null,null,null,null,0,"Dos",null,null,null,13]
[null,null,null,null,null,null,null,null,null,null,"entrainement/compétition?",null,null,null,null,null,null,null,null,null,null,null,null,null,null,null,null,null,null,null,null,null,null,null,"Santé",null,null,null,0,"Genou",null,null,null,14]
[null,null,null,null,null,null,null,null,null,1,"… pas content",null,null,null,null,null,null,null,null,null,null,null,null,null,null,null,null,null,null,null,null,null,null,null,"Limitation pour cause de douleurs",null,{"$f":"AM36","v":0},null,0,"Cheville",null,null,null,15]
[null,null,null,null,null,null,null,null,null,2,"… plutôt pas content",null,null,null,null,null,null,null,null,null,null,null,null,null,null,null,null,null,null,null,null,null,null,null,"Absence pour cause de blessure",null,{"$f":"AM44","v":0},null,0,"Autre",null,null,null,16]
[null,null,null,null,null,null,null,null,null,3,"… moyen",null,null,null,null,null,null,null,null,null,null,null,null,null,null,null,null,null,null,null,null,null,null,null,"Absence pour cause de maladie",null,{"$f":"AM52","v":0}]
[null,null,null,null,null,null,null,null,null,4,"… content",null,null,null,null,null,null,null,null,null,null,null,null,null,null,null,null,null,null,null,null,null,null,null,null,null,null,null,{"$f":"SUM(AM53:AM59)","v":0},"Absence pour cause de maladie"]
[null,null,null,null,null,null,null,null,null,5,"… très content!",null,null,null,null,null,null,null,null,null,null,null,null,null,null,null,null,null,null,null,null,null,null,null,null,null,null,null,{"$f":"COUNTIF($H$4:$H$24,$AR53)","v":0},"Maladie",null,null,null,21]
[]
[]
[]
[]
[]
[]
[]
[]
[]
[]
[]
[]
[]
[]
[]
[]
[]
[]
[]
[]
[]
[]
[]
[]
[]
[]
[]
[]
[]
[]
[]
[]
[]
[]
[]
[]
[]
[]
[]
[]
[]
[]
[]
[]
[]
[]
[]
[]
[]
[]
[]
[]
[]
[]
[]
[]
[]
[]
[]
[]
[]
[]
[]
[]
[]
[]
[]
[]
[]
[]
[]
[]
[]
[]
[]
[]
[]
[]
[]
[]
[null,null,null,null,null,null,null,null,null,null,null,null,null,null,null,null,null,null,null,null,null,null,null,null,{"$f":"Z134-1","v":1},2,3,4,5,6,7,{"$f":"D1","v":8}]
[]
[]
[]
[]
[]
[]
[]
[]
[]
[]
[]
[]
[]
[]
[]
[]
[]
[]
[]
[]
[null,null,null,null,null,null,null,null,null,null,null,null,null,null,null,null,null,null,null,null,null,null,null,null,null,null,null,null,null,null,null,null,{"$f":"AF134+1","v":9}]

{"sheet":"9","index":37,"n_rows":155,"n_cols":45,"rows_kept":155,"cut":false,"hidden":false,"merged":[[1,43,2,43],[30,34,30,36],[30,38,31,43],[0,5,0,6],[1,44,2,44],[1,15,1,17],[28,10,29,10],[29,21,29,26],[36,9,37,9],[1,41,2,41],[21,6,23,6],[21,9,21,10],[23,9,23,10],[21,7,23,7],[1,12,1,14],[7,9,7,10],[1,38,2,38],[1,24,1,26],[1,18,1,20],[1,30,1,32],[1,27,1,29],[27,3,27,6],[28,3,28,6],[37,3,37,6],[30,3,30,6],[31,3,31,6],[32,3,32,6],[33,3,33,6],[34,3,34,6],[35,3,35,6],[36,3,36,6],[38,3,38,6],[46,9,47,9],[18,36,20,36],[1,40,2,40],[3,36,5,36],[1,36,2,36],[20,9,20,10],[5,9,5,10],[1,39,2,39],[21,36,23,36],[9,36,11,36],[12,36,14,36],[15,36,17,36],[28,9,29,9],[16,9,16,10],[15,9,15,10],[10,9,10,10],[29,3,29,6],[15,5,17,5],[12,4,14,4],[6,36,8,36],[3,3,5,3],[3,6,5,6],[3,9,3,10],[4,9,4,10],[17,9,17,10],[22,9,22,10],[18,9,18,10],[19,9,19,10],[9,6,11,6],[9,9,9,10],[6,4,8,4],[9,7,11,7],[9,4,11,4],[11,9,11,10],[3,4,5,4],[3,7,5,7],[12,7,14,7],[9,5,11,5],[12,5,14,5],[21,1,23,1],[15,7,17,7],[15,1,17,1],[15,3,17,3],[15,6,17,6],[15,4,17,4],[18,5,20,5],[18,1,20,1],[18,3,20,3],[21,5,23,5],[21,3,23,3],[21,4,23,4],[18,7,20,7],[18,4,20,4],[18,6,20,6],[1,1,2,1],[9,1,11,1],[9,3,11,3],[38,34,38,36],[44,34,44,36],[47,34,47,36],[12,1,14,1],[6,3,8,3],[6,6,8,6],[6,9,6,10],[8,9,8,10],[6,5,8,5],[6,1,8,1],[6,7,8,7],[1,34,2,34],[1,21,1,23],[1,9,2,10],[3,1,5,1],[3,5,5,5],[12,3,14,3],[12,6,14,6],[12,9,12,10],[13,9,13,10],[14,9,14,10]]}
[null,null,"Woche",{"$f":"INT(MOD(INT((F1-2)/7)+0.6,52+5/28))+1","v":9},{"$f":"D1+1000","v":1009},{"$f":"'8'!F1+7","v":"2019-02-25"},null,"-",null,{"$f":"F1+6","v":"2019-03-03"},null,null,null,null,null,null,null,null,null,null,null,null,null,null,null,null,null,null,null,null,null,null,{"$f":"'Aperçu de la charge'!D2","v":"Prénom Nom"},null,{"$f":"'Aperçu de la charge'!N2","v":"2018/2019"}]
[null,"Jour",null,"Poids","REG","qualité sommeil","durée sommeil","Santé",null,"Description de l'entrainement",null,null,"Club - VB",null,null,"TS/ Nati - VB",null,null,"Club - BVB",null,null,"TS/ Nati - BVB",null,null,"Force - fitness",null,null,"Compet. - VB",null,null,"Compet. - BVB",null,null,null,"Réflexion",null,"Charge/\njour",null,"matchs VB","Sets VB","Matchs BVB","Sets BVB","J","Autre\n (Rég, mentale)","Mental- oder Sonstiges Training"]
[null,null,null,"[kg]","[1 - 5]","[1-5]","[Std]","Nr.",null,null,null,null,"Durée","RPE","Charge","Durée","RPE","Charge","Durée","RPE","Charge","Durée","RPE","Charge","Durée","RPE","Charge","Durée","RPE","Charge","Durée","RPE","Charge",null,null,null,null,null,null,null,null,null,"[1-5]"]
[null,"Lu",null,0,0,0,0,0,null,null,null,null,null,null,{"$f":"M4*N4","v":0},null,null,{"$f":"P4*Q4","v":0},null,null,{"$f":"S4*T4","v":0},null,null,{"$f":"V4*W4","v":0},null,null,{"$f":"Y4*Z4","v":0},null,null,{"$f":"AB4*AC4","v":0},null,null,{"$f":"AE4*AF4","v":0},{"$f":"IF(SUM(M4:AG6)>0,1,0)","v":"00:00:00"},null,null,{"$f":"SUM(O4:O6,R4:R6,U4:U6,X4:X6,AA4:AA6,AD4:AD6,AG4:AG6)","v":0}]
[null,null,null,null,null,null,null,null,null,null,null,null,null,null,{"$f":"M5*N5","v":0},null,null,{"$f":"P5*Q5","v":0},null,null,{"$f":"S5*T5","v":0},null,null,{"$f":"V5*W5","v":0},null,null,{"$f":"Y5*Z5","v":0},null,null,{"$f":"AB5*AC5","v":0},null,null,{"$f":"AE5*AF5","v":0}]
[null,null,null,null,null,null,null,null,null,null,null,null,null,null,0,null,null,0,null,null,0,null,null,0,null,null,0,null,null,0,null,null,0]
[null,"Ma",null,0,0,0,0,0,null,null,null,null,null,null,0,null,null,{"$f":"P7*Q7","v":0},null,null,0,null,null,0,null,null,0,null,null,0,null,null,0,{"$f":"IF(SUM(M7:AG9)>0,1,0)","v":"00:00:00"},null,null,{"$f":"SUM(O7:O9,R7:R9,U7:U9,X7:X9,AA7:AA9,AD7:AD9,AG7:AG9)","v":0}]
[null,null,null,null,null,null,null,null,null,null,null,null,null,null,0,null,null,0,null,null,0,null,null,0,null,null,0,null,null,0,null,null,0]
[null,null,null,null,null,null,null,null,null,null,null,null,null,null,0,null,null,0,null,null,0,null,null,0,null,null,0,null,null,0,null,null,0]
[null,"Me",null,0,0,0,0,0,null,null,null,null,null,null,0,null,null,{"$f":"P10*Q10","v":0},null,null,0,null,null,0,null,null,0,null,null,0,null,null,0,{"$f":"IF(SUM(M10:AG12)>0,1,0)","v":"00:00:00"},null,null,{"$f":"SUM(O10:O12,R10:R12,U10:U12,X10:X12,AA10:AA12,AD10:AD12,AG10:AG12)","v":0}]
[null,null,null,null,null,null,null,null,null,null,null,null,null,null,0,null,null,0,null,null,0,null,null,0,null,null,0,null,null,0,null,null,0]
[null,null,null,null,null,null,null,null,null,null,null,null,null,null,0,null,null,0,null,null,0,null,null,0,null,null,0,null,null,0,null,null,0]
[null,"Je",null,0,0,0,0,0,null,null,null,null,null,null,0,null,null,{"$f":"P13*Q13","v":0},null,null,0,null,null,0,null,null,0,null,null,0,null,null,0,{"$f":"IF(SUM(M13:AG15)>0,1,0)","v":"00:00:00"},null,null,{"$f":"SUM(O13:O15,R13:R15,U13:U15,X13:X15,AA13:AA15,AD13:AD15,AG13:AG15)","v":0}]
[null,null,null,null,null,null,null,null,null,null,null,null,null,null,0,null,null,0,null,null,0,null,null,0,null,null,0,null,null,0,null,null,0]
[null,null,null,null,null,null,null,null,null,null,null,null,null,null,0,null,null,0,null,null,0,null,null,0,null,null,0,null,null,0,null,null,0]
[null,"Ve",null,0,0,0,0,0,null,null,null,null,null,null,0,null,null,{"$f":"P16*Q16","v":0},null,null,0,null,null,0,null,null,0,null,null,0,null,null,0,{"$f":"IF(SUM(M16:AG18)>0,1,0)","v":"00:00:00"},null,null,{"$f":"SUM(O16:O18,R16:R18,U16:U18,X16:X18,AA16:AA18,AD16:AD18,AG16:AG18)","v":0}]
[null,null,null,null,null,null,null,null,null,null,null,null,null,null,0,null,null,0,null,null,0,null,null,0,null,null,0,null,null,0,null,null,0]
[null,null,null,null,null,null,null,null,null,null,null,null,null,null,0,null,null,0,null,null,0,null,null,0,null,null,0,null,null,0,null,null,0]
[null,"Sa",null,0,0,0,0,0,null,null,null,null,null,null,{"$f":"M19*N19","v":0},null,null,{"$f":"P19*Q19","v":0},null,null,{"$f":"S19*T19","v":0},null,null,{"$f":"V19*W19","v":0},null,null,{"$f":"Y19*Z19","v":0},null,null,{"$f":"AB19*AC19","v":0},null,null,{"$f":"AE19*AF19","v":0},{"$f":"IF(SUM(M19:AG21)>0,1,0)","v":"00:00:00"},null,null,{"$f":"SUM(O19:O21,R19:R21,U19:U21,X19:X21,AA19:AA21,AD19:AD21,AG19:AG21)","v":0}]
[null,null,null,null,null,null,null,null,null,null,null,null,null,null,{"$f":"M20*N20","v":0},null,null,0,null,null,{"$f":"S20*T20","v":0},null,null,{"$f":"V20*W20","v":0},null,null,{"$f":"Y20*Z20","v":0},null,null,{"$f":"AB20*AC20","v":0},null,null,{"$f":"AE20*AF20","v":0}]
[null,null,null,null,null,null,null,null,null,null,null,null,null,null,0,null,null,0,null,null,0,null,null,0,null,null,0,null,null,0,null,null,0]
[null,"Di",null,0,0,0,0,0,null,null,null,null,null,null,0,null,null,{"$f":"P22*Q22","v":0},null,null,0,null,null,0,null,null,0,null,null,0,null,null,0,{"$f":"IF(SUM(M22:AG24)>0,1,0)","v":"00:00:00"},null,null,{"$f":"SUM(O22:O24,R22:R24,U22:U24,X22:X24,AA22:AA24,AD22:AD24,AG22:AG24)","v":0}]
[null,null,null,null,null,null,null,null,null,null,null,null,null,null,0,null,null,0,null,null,0,null,null,0,null,null,0,null,null,0,null,null,0]
[null,null,null,null,null,null,null,null,null,null,null,null,null,null,0,null,null,0,null,null,0,null,null,0,null,null,0,null,null,0,null,null,0]
[null,null,null,null,null,null,null,null,null,null,"Total",null,{"$f":"SUM(M4:M24)","v":0},null,{"$f":"SUM(O4:O24)","v":0},{"$f":"SUM(P4:P24)","v":0},null,{"$f":"SUM(R4:R24)","v":0},{"$f":"SUM(S4:S24)","v":0},null,{"$f":"SUM(U4:U24)","v":0},{"$f":"SUM(V4:V24)","v":0},null,{"$f":"SUM(X4:X24)","v":0},{"$f":"SUM(Y4:Y24)","v":0},null,{"$f":"SUM(AA4:AA24)","v":0},{"$f":"SUM(AB4:AB24)","v":0},null,{"$f":"SUM(AD4:AD24)","v":0},{"$f":"SUM(AE4:AE24)","v":0},null,{"$f":"SUM(AG4:AG24)","v":0},null,"Charge totale",null,{"$f":"SUM(AK4:AK24)","v":0}]
[null,"avg.",null,{"$f":"IF(COUNTA(D4:D24)=0,\"\",AVERAGE(D4:D24))","v":0},{"$f":"IF(COUNTA(E4:E24)=0,\"\",AVERAGE(E4:E24))","v":0},{"$f":"IF(COUNTA(F4:F24)=0,\"\",AVERAGE(F4:F24))","v":0},{"$f":"IF(COUNTA(G4:G24)=0,\"\",AVERAGE(G4:G24))","v":0},{"$f":"IF(COUNTA(H4:H24)=0,\"\",COUNTIF(H4:H24,\"x\"))","v":0},null,null,"Zone",null,1,2,3,1,2,3,1,2,3,1,2,3,1,2,3,1,2,3,1,2,3,null,"Moyenne",null,{"$f":"AVERAGE(AK4:AK24)","v":0}]
[null,null,null,null,null,{"$f":"IF(COUNTA(F4:F24)=0,\"\",VAR(F4:F24))","v":0},{"$f":"IF(COUNTA(G4:G24)=0,\"\",STDEV(G4:G24))","v":0},"Divergence - durée du sommeil",null,null,"Unité par zone (RPE) ",null,{"$f":"IF('Répartition des intensités'!$AR$25=\"x\",COUNTIF(N4:N24,\"<3,5\"),COUNTIF(N4:N24,\"<4,5\"))","v":0},{"$f":"COUNT(N4:N24)-(M27+O27)","v":0},{"$f":"IF('Répartition des intensités'!$AR$25=\"x\",COUNTIF(N4:N24,\">5,5\"),COUNTIF(N4:N24,\">6,5\"))","v":0},{"$f":"IF('Répartition des intensités'!$AR$25=\"x\",COUNTIF(Q4:Q24,\"<3,5\"),COUNTIF(Q4:Q24,\"<4,5\"))","v":0},{"$f":"COUNT(Q4:Q24)-(P27+R27)","v":0},{"$f":"IF('Répartition des intensités'!$AR$25=\"x\",COUNTIF(Q4:Q24,\">5,5\"),COUNTIF(Q4:Q24,\">6,5\"))","v":0},{"$f":"IF('Répartition des intensités'!$AR$25=\"x\",COUNTIF(T4:T24,\"<3,5\"),COUNTIF(T4:T24,\"<4,5\"))","v":0},{"$f":"COUNT(T4:T24)-(S27+U27)","v":0},{"$f":"IF('Répartition des intensités'!$AR$25=\"x\",COUNTIF(T4:T24,\">5,5\"),COUNTIF(T4:T24,\">6,5\"))","v":0},{"$f":"IF('Répartition des intensités'!$AR$25=\"x\",COUNTIF(W4:W24,\"<3,5\"),COUNTIF(W4:W24,\"<4,5\"))","v":0},{"$f":"COUNT(W4:W24)-(V27+X27)","v":0},{"$f":"IF('Répartition des intensités'!$AR$25=\"x\",COUNTIF(W4:W24,\">5,5\"),COUNTIF(W4:W24,\">6,5\"))","v":0},{"$f":"IF('Répartition des intensités'!$AR$25=\"x\",COUNTIF(Z4:Z24,\"<3,5\"),COUNTIF(Z4:Z24,\"<4,5\"))","v":0},{"$f":"COUNT(Z4:Z24)-(Y27+AA27)","v":0},{"$f":"IF('Répartition des intensités'!$AR$25=\"x\",COUNTIF(Z4:Z24,\">5,5\"),COUNTIF(Z4:Z24,\">6,5\"))","v":0},{"$f":"IF('Répartition des intensités'!$AR$25=\"x\",COUNTIF(AC4:AC24,\"<3,5\"),COUNTIF(AC4:AC24,\"<4,5\"))","v":0},{"$f":"COUNT(AC4:AC24)-(AB27+AD27)","v":0},{"$f":"IF('Répartition des intensités'!$AR$25=\"x\",COUNTIF(AC4:AC24,\">5,5\"),COUNTIF(AC4:AC24,\">6,5\"))","v":0},{"$f":"IF('Répartition des intensités'!$AR$25=\"x\",COUNTIF(AF4:AF24,\"<3,5\"),COUNTIF(AF4:AF24,\"<4,5\"))","v":0},{"$f":"COUNT(AF4:AF24)-(AE27+AG27)","v":0},{"$f":"IF('Répartition des intensités'!$AR$25=\"x\",COUNTIF(AF4:AF24,\">5,5\"),COUNTIF(AF4:AF24,\">6,5\"))","v":0},null,"Divergence",null,{"$f":"STDEVP(AK4:AK24)","v":0}]
[null,null,null,"échelle de Foster",null,null,null,"RPE",null,null,"Temps par zone (RPE)",null,{"$f":"IF('Répartition des intensités'!$AR$25=\"x\",SUMIF(N4:N24,\"<3,5\",M4:M24),SUMIF(N4:N24,\"<4,5\",M4:M24))","v":0},{"$f":"IF(N27=0,0,SUM((M25)-(M28+O28)))","v":0},{"$f":"IF('Répartition des intensités'!$AR$25=\"x\",SUMIF(N4:N24,\">5,5\",M4:M24),SUMIF(N4:N24,\">6,5\",M4:M24))","v":0},{"$f":"IF('Répartition des intensités'!$AR$25=\"x\",SUMIF(Q4:Q24,\"<3,5\",P4:P24),SUMIF(Q4:Q24,\"<4,5\",P4:P24))","v":0},{"$f":"IF(Q27=0,0,SUM((P25)-(P28+R28)))","v":0},{"$f":"IF('Répartition des intensités'!$AR$25=\"x\",SUMIF(Q4:Q24,\">5,5\",P4:P24),SUMIF(Q4:Q24,\">6,5\",P4:P24))","v":0},{"$f":"IF('Répartition des intensités'!$AR$25=\"x\",SUMIF(T4:T24,\"<3,5\",S4:S24),SUMIF(T4:T24,\"<4,5\",S4:S24))","v":0},{"$f":"IF(T27=0,0,SUM((S25)-(S28+U28)))","v":0},{"$f":"IF('Répartition des intensités'!$AR$25=\"x\",SUMIF(T4:T24,\">5,5\",S4:S24),SUMIF(T4:T24,\">6,5\",S4:S24))","v":0},{"$f":"IF('Répartition des intensités'!$AR$25=\"x\",SUMIF(W4:W24,\"<3,5\",V4:V24),SUMIF(W4:W24,\"<4,5\",V4:V24))","v":0},{"$f":"IF(W27=0,0,SUM((V25)-(V28+X28)))","v":0},{"$f":"IF('Répartition des intensités'!$AR$25=\"x\",SUMIF(W4:W24,\">5,5\",V4:V24),SUMIF(W4:W24,\">6,5\",V4:V24))","v":0},{"$f":"IF('Répartition des intensités'!$AR$25=\"x\",SUMIF(Z4:Z24,\"<3,5\",Y4:Y24),SUMIF(Z4:Z24,\"<4,5\",Y4:Y24))","v":0},{"$f":"IF(Z27=0,0,SUM((Y25)-(Y28+AA28)))","v":0},{"$f":"IF('Répartition des intensités'!$AR$25=\"x\",SUMIF(Z4:Z24,\">5,5\",Y4:Y24),SUMIF(Z4:Z24,\">6,5\",Y4:Y24))","v":0},{"$f":"IF('Répartition des intensités'!$AR$25=\"x\",SUMIF(AC4:AC24,\"<3,5\",AB4:AB24),SUMIF(AC4:AC24,\"<4,5\",AB4:AB24))","v":0},{"$f":"IF(AC27=0,0,SUM((AB25)-(AB28+AD28)))","v":0},{"$f":"IF('Répartition des intensités'!$AR$25=\"x\",SUMIF(AC4:AC24,\">5,5\",AB4:AB24),SUMIF(AC4:AC24,\">6,5\",AB4:AB24))","v":0},{"$f":"IF('Répartition des intensités'!$AR$25=\"x\",SUMIF(AF4:AF24,\"<3,5\",AE4:AE24),SUMIF(AF4:AF24,\"<4,5\",AE4:AE24))","v":0},{"$f":"IF(AF27=0,0,SUM((AE25)-(AE28+AG28)))","v":0},{"$f":"IF('Répartition des intensités'!$AR$25=\"x\",SUMIF(AF4:AF24,\">5,5\",AE4:AE24),SUMIF(AF4:AF24,\">6,5\",AE4:AE24))","v":0}]
[null,null,null,"Comme au repos",null,null,null,0,null,"REG","Est-ce que j'ai l'impression d'avoir récupéré en me levant?"]
[null,null,null,"très facile",null,null,null,1]
[null,null,null,"facile",null,null,null,2,null,1,"… pas du tout récupéré",null,null,null,null,null,null,null,null,null,null,null,null,null,null,null,null,null,null,null,null,null,null,null,"Entrainements",null,null,null,"Rapport de santé"]
[null,null,null,null,null,null,null,3,null,2,"… un peu récupéré",null,null,null,null,null,null,null,null,null,null,null,null,null,null,null,null,null,null,null,null,null,null,null,"Jours d'entrainement",null,{"$f":"IF(SUM(AH4:AH24)=0,\"\",SUM(AH4:AH24))","v":""}]
[null,null,null,"Assez dur",null,null,null,4,null,3,"… récupéré",null,null,null,null,null,null,null,null,null,null,{"$f":"B4","v":"Lu"},{"$f":"AK4","v":0},null,null,null,null,null,null,null,null,null,null,null,"Entrainements",null,{"$f":"IF(AK32=\"\",\"\",SUM(M27:AG27))","v":""}]
[null,null,null,"dur",null,null,null,5,null,4,"…  en forme",null,null,null,null,null,null,null,null,null,null,{"$f":"B7","v":"Ma"},{"$f":"AK7","v":0},null,null,null,null,null,null,null,null,null,null,null,"Heures d'entrainement",null,{"$f":"IF(AK32=\"\",\"\",SUM(M25,P25,S25,Y25,AB25,V25,AE25)/60)","v":""},null,{"$f":"IF($AK$32=\"\",\"\",AK32-AM36-AM44-AM52)","v":""},"Aucune limitation",null,null,null,0]
[null,null,null,null,null,null,null,6,null,5,"… très en forme",null,null,null,null,null,null,null,null,null,null,{"$f":"B10","v":"Me"},{"$f":"AK10","v":0},null,null,null,null,null,null,null,null,null,null,null,"Charge de l'entrainement",null,{"$f":"IF(AK32=\"\",\"\",SUM(AK25))","v":""}]
[null,null,null,"très dur",null,null,null,7,null,null,null,null,null,null,null,null,null,null,null,null,null,{"$f":"B13","v":"Je"},{"$f":"AK13","v":0},null,null,null,null,null,null,null,null,null,null,null,"Monotonie",null,{"$f":"IF(AK27=0,0,(AVERAGE(AK4:AK24))/AK27)","v":0},null,{"$f":"SUM(AM37:AM42)","v":0},"Limitation pour cause de douleurs"]
[null,null,null,null,null,null,null,8,null,"Nombre de matchs",null,null,null,null,null,null,null,null,null,null,null,{"$f":"B16","v":"Ve"},{"$f":"AK16","v":0},null,null,null,null,null,null,null,null,null,null,null,"Efforts à l'entrainement",null,{"$f":"IF(AK32=\"\",\"\",AK35*AK36)","v":""},null,{"$f":"COUNTIF($H$4:$H$24,$AR37)","v":0},"Doigt",null,null,null,1]
[null,null,null,"extrèmement dur",null,null,null,9,null,null,null,null,null,null,null,null,null,null,null,null,null,{"$f":"B19","v":"Sa"},{"$f":"AK19","v":0},null,null,null,null,null,null,null,null,null,null,null,null,null,null,null,0,"Épaule",null,null,null,2]
[null,null,null,"Comme mon entrainement le plus dur",null,null,null,10,null,1,"… 3 sets et plus",null,null,null,null,null,null,null,null,null,null,{"$f":"B22","v":"Di"},{"$f":"AK22","v":0},null,null,null,null,null,null,null,null,null,null,null,"Compétition",null,null,null,0,"Dos",null,null,null,3]
[null,null,null,null,null,null,null,null,null,0.5,"… moins de 3 sets",null,null,null,null,null,null,null,null,null,null,null,null,null,null,null,null,null,null,null,null,null,null,null,"Matchs de volleyball",null,{"$f":"IF(AK32=\"\",\"\",SUM(AM4:AM24))","v":""},null,0,"Genou",null,null,null,4]
[null,null,null,null,null,null,null,null,null,null,null,null,null,null,null,null,null,null,null,null,null,null,null,null,null,null,null,null,null,null,null,null,null,null,"Sets de volleyball",null,{"$f":"IF(AK32=\"\",\"\",SUM(AN4:AN24))","v":""},null,0,"Cheville",null,null,null,5]
[null,null,null,null,null,null,null,null,null,"Sets joués",null,null,null,null,null,null,null,null,null,null,null,null,null,null,null,null,null,null,null,null,null,null,null,null,"Matchs de beach volley",null,{"$f":"IF(AK35=\"\",\"\",SUM(AO4:AO24))","v":""},null,0,"Autre",null,null,null,6]
[null,null,null,null,null,null,null,null,null,1,"… depuis le début et durant tout le set",null,null,null,null,null,null,null,null,null,null,null,null,null,null,null,null,null,null,null,null,null,null,null,"Sets de beach volley",null,{"$f":"IF(AK35=\"\",\"\",SUM(AP4:AP24))","v":""}]
[null,null,null,null,null,null,null,null,null,0.5,"… entré/sorti en cours, beaucoup joué",null,null,null,null,null,null,null,null,null,null,null,null,null,null,null,null,null,null,null,null,null,null,null,null,null,null,null,{"$f":"SUM(AM45:AM50)","v":0},"Absence pour cause de blessure"]
[null,null,null,null,null,null,null,null,null,0.1,"… entré/sorti en cours, peu joué",null,null,null,null,null,null,null,null,null,null,null,null,null,null,null,null,null,null,null,null,null,null,null,"Satisfaction",null,null,null,{"$f":"COUNTIF($H$4:$H$24,$AR45)","v":0},"Doigt",null,null,null,11]
[null,null,null,null,null,null,null,null,null,null,null,null,null,null,null,null,null,null,null,null,null,null,null,null,null,null,null,null,null,null,null,null,null,null,"Satisfaction de l'entrainement/match J",null,{"$f":"IF(AK32=\"\",\"\",SUM(AQ4:AQ24)/AK32)","v":""},null,0,"Épaule",null,null,null,12]
[null,null,null,null,null,null,null,null,null,"J","Es-tu content de la qualité de ton",null,null,null,null,null,null,null,null,null,null,null,null,null,null,null,null,null,null,null,null,null,null,null,null,null,null,null,0,"Dos",null,null,null,13]
[null,null,null,null,null,null,null,null,null,null,"entrainement/compétition?",null,null,null,null,null,null,null,null,null,null,null,null,null,null,null,null,null,null,null,null,null,null,null,"Santé",null,null,null,0,"Genou",null,null,null,14]
[null,null,null,null,null,null,null,null,null,1,"… pas content",null,null,null,null,null,null,null,null,null,null,null,null,null,null,null,null,null,null,null,null,null,null,null,"Limitation pour cause de douleurs",null,{"$f":"AM36","v":0},null,0,"Cheville",null,null,null,15]
[null,null,null,null,null,null,null,null,null,2,"… plutôt pas content",null,null,null,null,null,null,null,null,null,null,null,null,null,null,null,null,null,null,null,null,null,null,null,"Absence pour cause de blessure",null,{"$f":"AM44","v":0},null,0,"Autre",null,null,null,16]
[null,null,null,null,null,null,null,null,null,3,"… moyen",null,null,null,null,null,null,null,null,null,null,null,null,null,null,null,null,null,null,null,null,null,null,null,"Absence pour cause de maladie",null,{"$f":"AM52","v":0}]
[null,null,null,null,null,null,null,null,null,4,"… content",null,null,null,null,null,null,null,null,null,null,null,null,null,null,null,null,null,null,null,null,null,null,null,null,null,null,null,{"$f":"SUM(AM53:AM59)","v":0},"Absence pour cause de maladie"]
[null,null,null,null,null,null,null,null,null,5,"… très content!",null,null,null,null,null,null,null,null,null,null,null,null,null,null,null,null,null,null,null,null,null,null,null,null,null,null,null,{"$f":"COUNTIF($H$4:$H$24,$AR53)","v":0},"Maladie",null,null,null,21]
[]
[]
[]
[]
[]
[]
[]
[]
[]
[]
[]
[]
[]
[]
[]
[]
[]
[]
[]
[]
[]
[]
[]
[]
[]
[]
[]
[]
[]
[]
[]
[]
[]
[]
[]
[]
[]
[]
[]
[]
[]
[]
[]
[]
[]
[]
[]
[]
[]
[]
[]
[]
[]
[]
[]
[]
[]
[]
[]
[]
[]
[]
[]
[]
[]
[]
[]
[]
[]
[]
[]
[]
[]
[]
[]
[]
[]
[]
[]
[]
[null,null,null,null,null,null,null,null,null,null,null,null,null,null,null,null,null,null,null,null,null,null,null,null,{"$f":"Z134-1","v":2},3,4,5,6,7,8,{"$f":"D1","v":9}]
[]
[]
[]
[]
[]
[]
[]
[]
[]
[]
[]
[]
[]
[]
[]
[]
[]
[]
[]
[]
[null,null,null,null,null,null,null,null,null,null,null,null,null,null,null,null,null,null,null,null,null,null,null,null,null,null,null,null,null,null,null,null,{"$f":"AF134+1","v":10}]

{"sheet":"10","index":38,"n_rows":155,"n_cols":45,"rows_kept":155,"cut":false,"hidden":false,"merged":[[9,4,11,4],[12,4,14,4],[3,7,5,7],[15,7,17,7],[27,3,27,6],[15,5,17,5],[18,5,20,5],[28,10,29,10],[15,9,15,10],[1,43,2,43],[30,34,30,36],[30,38,31,43],[0,5,0,6],[1,44,2,44],[29,3,29,6],[30,3,30,6],[35,3,35,6],[36,3,36,6],[18,36,20,36],[21,36,23,36],[1,40,2,40],[1,21,1,23],[1,41,2,41],[15,36,17,36],[1,38,2,38],[1,36,2,36],[1,34,2,34],[1,30,1,32],[1,27,1,29],[1,24,1,26],[9,36,11,36],[12,36,14,36],[1,39,2,39],[28,9,29,9],[28,3,28,6],[37,3,37,6],[38,3,38,6],[31,3,31,6],[32,3,32,6],[33,3,33,6],[34,3,34,6],[46,9,47,9],[3,1,5,1],[6,36,8,36],[3,3,5,3],[3,6,5,6],[3,9,3,10],[4,9,4,10],[5,9,5,10],[3,36,5,36],[6,1,8,1],[6,7,8,7],[6,3,8,3],[6,6,8,6],[6,9,6,10],[8,9,8,10],[9,1,11,1],[9,3,11,3],[9,6,11,6],[9,9,9,10],[1,12,1,14],[18,1,20,1],[18,3,20,3],[18,6,20,6],[1,18,1,20],[11,9,11,10],[7,9,7,10],[10,9,10,10],[9,7,11,7],[14,9,14,10],[12,7,14,7],[3,5,5,5],[6,5,8,5],[9,5,11,5],[12,5,14,5],[1,1,2,1],[1,15,1,17],[3,4,5,4],[6,4,8,4],[1,9,2,10],[12,1,14,1],[12,3,14,3],[12,6,14,6],[12,9,12,10],[13,9,13,10],[18,9,18,10],[19,9,19,10],[20,9,20,10],[18,7,20,7],[18,4,20,4],[15,1,17,1],[15,3,17,3],[15,6,17,6],[15,4,17,4],[16,9,16,10],[17,9,17,10],[38,34,38,36],[44,34,44,36],[47,34,47,36],[21,1,23,1],[21,3,23,3],[21,5,23,5],[21,6,23,6],[21,9,21,10],[23,9,23,10],[21,7,23,7],[21,4,23,4],[22,9,22,10],[29,21,29,26],[36,9,37,9]]}
[null,null,"Woche",{"$f":"INT(MOD(INT((F1-2)/7)+0.6,52+5/28))+1","v":10},{"$f":"D1+1000","v":1010},{"$f":"'9'!F1+7","v":"2019-03-04"},null,"-",null,{"$f":"F1+6","v":"2019-03-10"},null,null,null,null,null,null,null,null,null,null,null,null,null,null,null,null,null,null,null,null,null,null,{"$f":"'Aperçu de la charge'!D2","v":"Prénom Nom"},null,{"$f":"'Aperçu de la charge'!N2","v":"2018/2019"}]
[null,"Jour",null,"Poids","REG","qualité sommeil","durée sommeil","Santé",null,"Description de l'entrainement",null,null,"Club - VB",null,null,"TS/ Nati - VB",null,null,"Club - BVB",null,null,"TS/ Nati - BVB",null,null,"Force - fitness",null,null,"Compet. - VB",null,null,"Compet. - BVB",null,null,null,"Réflexion",null,"Charge/\njour",null,"matchs VB","Sets VB","Matchs BVB","Sets BVB","J","Autre\n (Rég, mentale)","Mental- oder Sonstiges Training"]
[null,null,null,"[kg]","[1 - 5]","[1-5]","[Std]","Nr.",null,null,null,null,"Durée","RPE","Charge","Durée","RPE","Charge","Durée","RPE","Charge","Durée","RPE","Charge","Durée","RPE","Charge","Durée","RPE","Charge","Durée","RPE","Charge",null,null,null,null,null,null,null,null,null,"[1-5]"]
[null,"Lu",null,0,0,0,0,0,null,null,null,null,null,null,{"$f":"M4*N4","v":0},null,null,{"$f":"P4*Q4","v":0},null,null,{"$f":"S4*T4","v":0},null,null,{"$f":"V4*W4","v":0},null,null,{"$f":"Y4*Z4","v":0},null,null,{"$f":"AB4*AC4","v":0},null,null,{"$f":"AE4*AF4","v":0},{"$f":"IF(SUM(M4:AG6)>0,1,0)","v":"00:00:00"},null,null,{"$f":"SUM(O4:O6,R4:R6,U4:U6,X4:X6,AA4:AA6,AD4:AD6,AG4:AG6)","v":0}]
[null,null,null,null,null,null,null,null,null,null,null,null,null,null,{"$f":"M5*N5","v":0},null,null,{"$f":"P5*Q5","v":0},null,null,{"$f":"S5*T5","v":0},null,null,{"$f":"V5*W5","v":0},null,null,{"$f":"Y5*Z5","v":0},null,null,{"$f":"AB5*AC5","v":0},null,null,{"$f":"AE5*AF5","v":0}]
[null,null,null,null,null,null,null,null,null,null,null,null,null,null,0,null,null,0,null,null,0,null,null,0,null,null,0,null,null,0,null,null,0]
[null,"Ma",null,0,0,0,0,0,null,null,null,null,null,null,0,null,null,{"$f":"P7*Q7","v":0},null,null,0,null,null,0,null,null,0,null,null,0,null,null,0,{"$f":"IF(SUM(M7:AG9)>0,1,0)","v":"00:00:00"},null,null,{"$f":"SUM(O7:O9,R7:R9,U7:U9,X7:X9,AA7:AA9,AD7:AD9,AG7:AG9)","v":0}]
[null,null,null,null,null,null,null,null,null,null,null,null,null,null,0,null,null,0,null,null,0,null,null,0,null,null,0,null,null,0,null,null,0]
[null,null,null,null,null,null,null,null,null,null,null,null,null,null,0,null,null,0,null,null,0,null,null,0,null,null,0,null,null,0,null,null,0]
[null,"Me",null,0,0,0,0,0,null,null,null,null,null,null,0,null,null,{"$f":"P10*Q10","v":0},null,null,0,null,null,0,null,null,0,null,null,0,null,null,0,{"$f":"IF(SUM(M10:AG12)>0,1,0)","v":"00:00:00"},null,null,{"$f":"SUM(O10:O12,R10:R12,U10:U12,X10:X12,AA10:AA12,AD10:AD12,AG10:AG12)","v":0}]
[null,null,null,null,null,null,null,null,null,null,null,null,null,null,0,null,null,0,null,null,0,null,null,0,null,null,0,null,null,0,null,null,0]
[null,null,null,null,null,null,null,null,null,null,null,null,null,null,0,null,null,0,null,null,0,null,null,0,null,null,0,null,null,0,null,null,0]
[null,"Je",null,0,0,0,0,0,null,null,null,null,null,null,0,null,null,{"$f":"P13*Q13","v":0},null,null,0,null,null,0,null,null,0,null,null,0,null,null,0,{"$f":"IF(SUM(M13:AG15)>0,1,0)","v":"00:00:00"},null,null,{"$f":"SUM(O13:O15,R13:R15,U13:U15,X13:X15,AA13:AA15,AD13:AD15,AG13:AG15)","v":0}]
[null,null,null,null,null,null,null,null,null,null,null,null,null,null,0,null,null,0,null,null,0,null,null,0,null,null,0,null,null,0,null,null,0]
[null,null,null,null,null,null,null,null,null,null,null,null,null,null,0,null,null,0,null,null,0,null,null,0,null,null,0,null,null,0,null,null,0]
[null,"Ve",null,0,0,0,0,0,null,null,null,null,null,null,0,null,null,{"$f":"P16*Q16","v":0},null,null,0,null,null,0,null,null,0,null,null,0,null,null,0,{"$f":"IF(SUM(M16:AG18)>0,1,0)","v":"00:00:00"},null,null,{"$f":"SUM(O16:O18,R16:R18,U16:U18,X16:X18,AA16:AA18,AD16:AD18,AG16:AG18)","v":0}]
[null,null,null,null,null,null,null,null,null,null,null,null,null,null,0,null,null,0,null,null,0,null,null,0,null,null,0,null,null,0,null,null,0]
[null,null,null,null,null,null,null,null,null,null,null,null,null,null,0,null,null,0,null,null,0,null,null,0,null,null,0,null,null,0,null,null,0]
[null,"Sa",null,0,0,0,0,0,null,null,null,null,null,null,{"$f":"M19*N19","v":0},null,null,{"$f":"P19*Q19","v":0},null,null,{"$f":"S19*T19","v":0},null,null,{"$f":"V19*W19","v":0},null,null,{"$f":"Y19*Z19","v":0},null,null,{"$f":"AB19*AC19","v":0},null,null,{"$f":"AE19*AF19","v":0},{"$f":"IF(SUM(M19:AG21)>0,1,0)","v":"00:00:00"},null,null,{"$f":"SUM(O19:O21,R19:R21,U19:U21,X19:X21,AA19:AA21,AD19:AD21,AG19:AG21)","v":0}]
[null,null,null,null,null,null,null,null,null,null,null,null,null,null,{"$f":"M20*N20","v":0},null,null,0,null,null,{"$f":"S20*T20","v":0},null,null,{"$f":"V20*W20","v":0},null,null,{"$f":"Y20*Z20","v":0},null,null,{"$f":"AB20*AC20","v":0},null,null,{"$f":"AE20*AF20","v":0}]
[null,null,null,null,null,null,null,null,null,null,null,null,null,null,0,null,null,0,null,null,0,null,null,0,null,null,0,null,null,0,null,null,0]
[null,"Di",null,0,0,0,0,0,null,null,null,null,null,null,0,null,null,{"$f":"P22*Q22","v":0},null,null,0,null,null,0,null,null,0,null,null,0,null,null,0,{"$f":"IF(SUM(M22:AG24)>0,1,0)","v":"00:00:00"},null,null,{"$f":"SUM(O22:O24,R22:R24,U22:U24,X22:X24,AA22:AA24,AD22:AD24,AG22:AG24)","v":0}]
[null,null,null,null,null,null,null,null,null,null,null,null,null,null,0,null,null,0,null,null,0,null,null,0,null,null,0,null,null,0,null,null,0]
[null,null,null,null,null,null,null,null,null,null,null,null,null,null,0,null,null,0,null,null,0,null,null,0,null,null,0,null,null,0,null,null,0]
[null,null,null,null,null,null,null,null,null,null,"Total",null,{"$f":"SUM(M4:M24)","v":0},null,{"$f":"SUM(O4:O24)","v":0},{"$f":"SUM(P4:P24)","v":0},null,{"$f":"SUM(R4:R24)","v":0},{"$f":"SUM(S4:S24)","v":0},null,{"$f":"SUM(U4:U24)","v":0},{"$f":"SUM(V4:V24)","v":0},null,{"$f":"SUM(X4:X24)","v":0},{"$f":"SUM(Y4:Y24)","v":0},null,{"$f":"SUM(AA4:AA24)","v":0},{"$f":"SUM(AB4:AB24)","v":0},null,{"$f":"SUM(AD4:AD24)","v":0},{"$f":"SUM(AE4:AE24)","v":0},null,{"$f":"SUM(AG4:AG24)","v":0},null,"Charge totale",null,{"$f":"SUM(AK4:AK24)","v":0}]
[null,"avg.",null,{"$f":"IF(COUNTA(D4:D24)=0,\"\",AVERAGE(D4:D24))","v":0},{"$f":"IF(COUNTA(E4:E24)=0,\"\",AVERAGE(E4:E24))","v":0},{"$f":"IF(COUNTA(F4:F24)=0,\"\",AVERAGE(F4:F24))","v":0},{"$f":"IF(COUNTA(G4:G24)=0,\"\",AVERAGE(G4:G24))","v":0},{"$f":"IF(COUNTA(H4:H24)=0,\"\",COUNTIF(H4:H24,\"x\"))","v":0},null,null,"Zone",null,1,2,3,1,2,3,1,2,3,1,2,3,1,2,3,1,2,3,1,2,3,null,"Moyenne",null,{"$f":"AVERAGE(AK4:AK24)","v":0}]
[null,null,null,null,null,{"$f":"IF(COUNTA(F4:F24)=0,\"\",VAR(F4:F24))","v":0},{"$f":"IF(COUNTA(G4:G24)=0,\"\",STDEV(G4:G24))","v":0},"Divergence - durée du sommeil",null,null,"Unité par zone (RPE) ",null,{"$f":"IF('Répartition des intensités'!$AR$25=\"x\",COUNTIF(N4:N24,\"<3,5\"),COUNTIF(N4:N24,\"<4,5\"))","v":0},{"$f":"COUNT(N4:N24)-(M27+O27)","v":0},{"$f":"IF('Répartition des intensités'!$AR$25=\"x\",COUNTIF(N4:N24,\">5,5\"),COUNTIF(N4:N24,\">6,5\"))","v":0},{"$f":"IF('Répartition des intensités'!$AR$25=\"x\",COUNTIF(Q4:Q24,\"<3,5\"),COUNTIF(Q4:Q24,\"<4,5\"))","v":0},{"$f":"COUNT(Q4:Q24)-(P27+R27)","v":0},{"$f":"IF('Répartition des intensités'!$AR$25=\"x\",COUNTIF(Q4:Q24,\">5,5\"),COUNTIF(Q4:Q24,\">6,5\"))","v":0},{"$f":"IF('Répartition des intensités'!$AR$25=\"x\",COUNTIF(T4:T24,\"<3,5\"),COUNTIF(T4:T24,\"<4,5\"))","v":0},{"$f":"COUNT(T4:T24)-(S27+U27)","v":0},{"$f":"IF('Répartition des intensités'!$AR$25=\"x\",COUNTIF(T4:T24,\">5,5\"),COUNTIF(T4:T24,\">6,5\"))","v":0},{"$f":"IF('Répartition des intensités'!$AR$25=\"x\",COUNTIF(W4:W24,\"<3,5\"),COUNTIF(W4:W24,\"<4,5\"))","v":0},{"$f":"COUNT(W4:W24)-(V27+X27)","v":0},{"$f":"IF('Répartition des intensités'!$AR$25=\"x\",COUNTIF(W4:W24,\">5,5\"),COUNTIF(W4:W24,\">6,5\"))","v":0},{"$f":"IF('Répartition des intensités'!$AR$25=\"x\",COUNTIF(Z4:Z24,\"<3,5\"),COUNTIF(Z4:Z24,\"<4,5\"))","v":0},{"$f":"COUNT(Z4:Z24)-(Y27+AA27)","v":0},{"$f":"IF('Répartition des intensités'!$AR$25=\"x\",COUNTIF(Z4:Z24,\">5,5\"),COUNTIF(Z4:Z24,\">6,5\"))","v":0},{"$f":"IF('Répartition des intensités'!$AR$25=\"x\",COUNTIF(AC4:AC24,\"<3,5\"),COUNTIF(AC4:AC24,\"<4,5\"))","v":0},{"$f":"COUNT(AC4:AC24)-(AB27+AD27)","v":0},{"$f":"IF('Répartition des intensités'!$AR$25=\"x\",COUNTIF(AC4:AC24,\">5,5\"),COUNTIF(AC4:AC24,\">6,5\"))","v":0},{"$f":"IF('Répartition des intensités'!$AR$25=\"x\",COUNTIF(AF4:AF24,\"<3,5\"),COUNTIF(AF4:AF24,\"<4,5\"))","v":0},{"$f":"COUNT(AF4:AF24)-(AE27+AG27)","v":0},{"$f":"IF('Répartition des intensités'!$AR$25=\"x\",COUNTIF(AF4:AF24,\">5,5\"),COUNTIF(AF4:AF24,\">6,5\"))","v":0},null,"Divergence",null,{"$f":"STDEVP(AK4:AK24)","v":0}]
[null,null,null,"échelle de Foster",null,null,null,"RPE",null,null,"Temps par zone (RPE)",null,{"$f":"IF('Répartition des intensités'!$AR$25=\"x\",SUMIF(N4:N24,\"<3,5\",M4:M24),SUMIF(N4:N24,\"<4,5\",M4:M24))","v":0},{"$f":"IF(N27=0,0,SUM((M25)-(M28+O28)))","v":0},{"$f":"IF('Répartition des intensités'!$AR$25=\"x\",SUMIF(N4:N24,\">5,5\",M4:M24),SUMIF(N4:N24,\">6,5\",M4:M24))","v":0},{"$f":"IF('Répartition des intensités'!$AR$25=\"x\",SUMIF(Q4:Q24,\"<3,5\",P4:P24),SUMIF(Q4:Q24,\"<4,5\",P4:P24))","v":0},{"$f":"IF(Q27=0,0,SUM((P25)-(P28+R28)))","v":0},{"$f":"IF('Répartition des intensités'!$AR$25=\"x\",SUMIF(Q4:Q24,\">5,5\",P4:P24),SUMIF(Q4:Q24,\">6,5\",P4:P24))","v":0},{"$f":"IF('Répartition des intensités'!$AR$25=\"x\",SUMIF(T4:T24,\"<3,5\",S4:S24),SUMIF(T4:T24,\"<4,5\",S4:S24))","v":0},{"$f":"IF(T27=0,0,SUM((S25)-(S28+U28)))","v":0},{"$f":"IF('Répartition des intensités'!$AR$25=\"x\",SUMIF(T4:T24,\">5,5\",S4:S24),SUMIF(T4:T24,\">6,5\",S4:S24))","v":0},{"$f":"IF('Répartition des intensités'!$AR$25=\"x\",SUMIF(W4:W24,\"<3,5\",V4:V24),SUMIF(W4:W24,\"<4,5\",V4:V24))","v":0},{"$f":"IF(W27=0,0,SUM((V25)-(V28+X28)))","v":0},{"$f":"IF('Répartition des intensités'!$AR$25=\"x\",SUMIF(W4:W24,\">5,5\",V4:V24),SUMIF(W4:W24,\">6,5\",V4:V24))","v":0},{"$f":"IF('Répartition des intensités'!$AR$25=\"x\",SUMIF(Z4:Z24,\"<3,5\",Y4:Y24),SUMIF(Z4:Z24,\"<4,5\",Y4:Y24))","v":0},{"$f":"IF(Z27=0,0,SUM((Y25)-(Y28+AA28)))","v":0},{"$f":"IF('Répartition des intensités'!$AR$25=\"x\",SUMIF(Z4:Z24,\">5,5\",Y4:Y24),SUMIF(Z4:Z24,\">6,5\",Y4:Y24))","v":0},{"$f":"IF('Répartition des intensités'!$AR$25=\"x\",SUMIF(AC4:AC24,\"<3,5\",AB4:AB24),SUMIF(AC4:AC24,\"<4,5\",AB4:AB24))","v":0},{"$f":"IF(AC27=0,0,SUM((AB25)-(AB28+AD28)))","v":0},{"$f":"IF('Répartition des intensités'!$AR$25=\"x\",SUMIF(AC4:AC24,\">5,5\",AB4:AB24),SUMIF(AC4:AC24,\">6,5\",AB4:AB24))","v":0},{"$f":"IF('Répartition des intensités'!$AR$25=\"x\",SUMIF(AF4:AF24,\"<3,5\",AE4:AE24),SUMIF(AF4:AF24,\"<4,5\",AE4:AE24))","v":0},{"$f":"IF(AF27=0,0,SUM((AE25)-(AE28+AG28)))","v":0},{"$f":"IF('Répartition des intensités'!$AR$25=\"x\",SUMIF(AF4:AF24,\">5,5\",AE4:AE24),SUMIF(AF4:AF24,\">6,5\",AE4:AE24))","v":0}]
[null,null,null,"Comme au repos",null,null,null,0,null,"REG","Est-ce que j'ai l'impression d'avoir récupéré en me levant?"]
[null,null,null,"très facile",null,null,null,1]
[null,null,null,"facile",null,null,null,2,null,1,"… pas du tout récupéré",null,null,null,null,null,null,null,null,null,null,null,null,null,null,null,null,null,null,null,null,null,null,null,"Entrainements",null,null,null,"Rapport de santé"]
[null,null,null,null,null,null,null,3,null,2,"… un peu récupéré",null,null,null,null,null,null,null,null,null,null,null,null,null,null,null,null,null,null,null,null,null,null,null,"Jours d'entrainement",null,{"$f":"IF(SUM(AH4:AH24)=0,\"\",SUM(AH4:AH24))","v":""}]
[null,null,null,"Assez dur",null,null,null,4,null,3,"… récupéré",null,null,null,null,null,null,null,null,null,null,{"$f":"B4","v":"Lu"},{"$f":"AK4","v":0},null,null,null,null,null,null,null,null,null,null,null,"Entrainements",null,{"$f":"IF(AK32=\"\",\"\",SUM(M27:AG27))","v":""}]
[null,null,null,"dur",null,null,null,5,null,4,"…  en forme",null,null,null,null,null,null,null,null,null,null,{"$f":"B7","v":"Ma"},{"$f":"AK7","v":0},null,null,null,null,null,null,null,null,null,null,null,"Heures d'entrainement",null,{"$f":"IF(AK32=\"\",\"\",SUM(M25,P25,S25,Y25,AB25,V25,AE25)/60)","v":""},null,{"$f":"IF($AK$32=\"\",\"\",AK32-AM36-AM44-AM52)","v":""},"Aucune limitation",null,null,null,0]
[null,null,null,null,null,null,null,6,null,5,"… très en forme",null,null,null,null,null,null,null,null,null,null,{"$f":"B10","v":"Me"},{"$f":"AK10","v":0},null,null,null,null,null,null,null,null,null,null,null,"Charge de l'entrainement",null,{"$f":"IF(AK32=\"\",\"\",SUM(AK25))","v":""}]
[null,null,null,"très dur",null,null,null,7,null,null,null,null,null,null,null,null,null,null,null,null,null,{"$f":"B13","v":"Je"},{"$f":"AK13","v":0},null,null,null,null,null,null,null,null,null,null,null,"Monotonie",null,{"$f":"IF(AK27=0,0,(AVERAGE(AK4:AK24))/AK27)","v":0},null,{"$f":"SUM(AM37:AM42)","v":0},"Limitation pour cause de douleurs"]
[null,null,null,null,null,null,null,8,null,"Nombre de matchs",null,null,null,null,null,null,null,null,null,null,null,{"$f":"B16","v":"Ve"},{"$f":"AK16","v":0},null,null,null,null,null,null,null,null,null,null,null,"Efforts à l'entrainement",null,{"$f":"IF(AK32=\"\",\"\",AK35*AK36)","v":""},null,{"$f":"COUNTIF($H$4:$H$24,$AR37)","v":0},"Doigt",null,null,null,1]
[null,null,null,"extrèmement dur",null,null,null,9,null,null,null,null,null,null,null,null,null,null,null,null,null,{"$f":"B19","v":"Sa"},{"$f":"AK19","v":0},null,null,null,null,null,null,null,null,null,null,null,null,null,null,null,0,"Épaule",null,null,null,2]
[null,null,null,"Comme mon entrainement le plus dur",null,null,null,10,null,1,"… 3 sets et plus",null,null,null,null,null,null,null,null,null,null,{"$f":"B22","v":"Di"},{"$f":"AK22","v":0},null,null,null,null,null,null,null,null,null,null,null,"Compétition",null,null,null,0,"Dos",null,null,null,3]
[null,null,null,null,null,null,null,null,null,0.5,"… moins de 3 sets",null,null,null,null,null,null,null,null,null,null,null,null,null,null,null,null,null,null,null,null,null,null,null,"Matchs de volleyball",null,{"$f":"IF(AK32=\"\",\"\",SUM(AM4:AM24))","v":""},null,0,"Genou",null,null,null,4]
[null,null,null,null,null,null,null,null,null,null,null,null,null,null,null,null,null,null,null,null,null,null,null,null,null,null,null,null,null,null,null,null,null,null,"Sets de volleyball",null,{"$f":"IF(AK32=\"\",\"\",SUM(AN4:AN24))","v":""},null,0,"Cheville",null,null,null,5]
[null,null,null,null,null,null,null,null,null,"Sets joués",null,null,null,null,null,null,null,null,null,null,null,null,null,null,null,null,null,null,null,null,null,null,null,null,"Matchs de beach volley",null,{"$f":"IF(AK35=\"\",\"\",SUM(AO4:AO24))","v":""},null,0,"Autre",null,null,null,6]
[null,null,null,null,null,null,null,null,null,1,"… depuis le début et durant tout le set",null,null,null,null,null,null,null,null,null,null,null,null,null,null,null,null,null,null,null,null,null,null,null,"Sets de beach volley",null,{"$f":"IF(AK35=\"\",\"\",SUM(AP4:AP24))","v":""}]
[null,null,null,null,null,null,null,null,null,0.5,"… entré/sorti en cours, beaucoup joué",null,null,null,null,null,null,null,null,null,null,null,null,null,null,null,null,null,null,null,null,null,null,null,null,null,null,null,{"$f":"SUM(AM45:AM50)","v":0},"Absence pour cause de blessure"]
[null,null,null,null,null,null,null,null,null,0.1,"… entré/sorti en cours, peu joué",null,null,null,null,null,null,null,null,null,null,null,null,null,null,null,null,null,null,null,null,null,null,null,"Satisfaction",null,null,null,{"$f":"COUNTIF($H$4:$H$24,$AR45)","v":0},"Doigt",null,null,null,11]
[null,null,null,null,null,null,null,null,null,null,null,null,null,null,null,null,null,null,null,null,null,null,null,null,null,null,null,null,null,null,null,null,null,null,"Satisfaction de l'entrainement/match J",null,{"$f":"IF(AK32=\"\",\"\",SUM(AQ4:AQ24)/AK32)","v":""},null,0,"Épaule",null,null,null,12]
[null,null,null,null,null,null,null,null,null,"J","Es-tu content de la qualité de ton",null,null,null,null,null,null,null,null,null,null,null,null,null,null,null,null,null,null,null,null,null,null,null,null,null,null,null,0,"Dos",null,null,null,13]
[null,null,null,null,null,null,null,null,null,null,"entrainement/compétition?",null,null,null,null,null,null,null,null,null,null,null,null,null,null,null,null,null,null,null,null,null,null,null,"Santé",null,null,null,0,"Genou",null,null,null,14]
[null,null,null,null,null,null,null,null,null,1,"… pas content",null,null,null,null,null,null,null,null,null,null,null,null,null,null,null,null,null,null,null,null,null,null,null,"Limitation pour cause de douleurs",null,{"$f":"AM36","v":0},null,0,"Cheville",null,null,null,15]
[null,null,null,null,null,null,null,null,null,2,"… plutôt pas content",null,null,null,null,null,null,null,null,null,null,null,null,null,null,null,null,null,null,null,null,null,null,null,"Absence pour cause de blessure",null,{"$f":"AM44","v":0},null,0,"Autre",null,null,null,16]
[null,null,null,null,null,null,null,null,null,3,"… moyen",null,null,null,null,null,null,null,null,null,null,null,null,null,null,null,null,null,null,null,null,null,null,null,"Absence pour cause de maladie",null,{"$f":"AM52","v":0}]
[null,null,null,null,null,null,null,null,null,4,"… content",null,null,null,null,null,null,null,null,null,null,null,null,null,null,null,null,null,null,null,null,null,null,null,null,null,null,null,{"$f":"SUM(AM53:AM59)","v":0},"Absence pour cause de maladie"]
[null,null,null,null,null,null,null,null,null,5,"… très content!",null,null,null,null,null,null,null,null,null,null,null,null,null,null,null,null,null,null,null,null,null,null,null,null,null,null,null,{"$f":"COUNTIF($H$4:$H$24,$AR53)","v":0},"Maladie",null,null,null,21]
[]
[]
[]
[]
[]
[]
[]
[]
[]
[]
[]
[]
[]
[]
[]
[]
[]
[]
[]
[]
[]
[]
[]
[]
[]
[]
[]
[]
[]
[]
[]
[]
[]
[]
[]
[]
[]
[]
[]
[]
[]
[]
[]
[]
[]
[]
[]
[]
[]
[]
[]
[]
[]
[]
[]
[]
[]
[]
[]
[]
[]
[]
[]
[]
[]
[]
[]
[]
[]
[]
[]
[]
[]
[]
[]
[]
[]
[]
[]
[]
[null,null,null,null,null,null,null,null,null,null,null,null,null,null,null,null,null,null,null,null,null,null,null,null,{"$f":"Z134-1","v":3},4,5,6,7,8,9,{"$f":"D1","v":10}]
[]
[]
[]
[]
[]
[]
[]
[]
[]
[]
[]
[]
[]
[]
[]
[]
[]
[]
[]
[]
[null,null,null,null,null,null,null,null,null,null,null,null,null,null,null,null,null,null,null,null,null,null,null,null,null,null,null,null,null,null,null,null,{"$f":"AF134+1","v":11}]

{"sheet":"11","index":39,"n_rows":155,"n_cols":45,"rows_kept":155,"cut":false,"hidden":false,"merged":[[9,4,11,4],[12,4,14,4],[3,7,5,7],[15,7,17,7],[27,3,27,6],[15,5,17,5],[18,5,20,5],[28,10,29,10],[15,9,15,10],[1,43,2,43],[30,34,30,36],[30,38,31,43],[0,5,0,6],[1,44,2,44],[29,3,29,6],[30,3,30,6],[35,3,35,6],[36,3,36,6],[18,36,20,36],[21,36,23,36],[1,40,2,40],[1,21,1,23],[1,41,2,41],[15,36,17,36],[1,38,2,38],[1,36,2,36],[1,34,2,34],[1,30,1,32],[1,27,1,29],[1,24,1,26],[9,36,11,36],[12,36,14,36],[1,39,2,39],[28,9,29,9],[28,3,28,6],[37,3,37,6],[38,3,38,6],[31,3,31,6],[32,3,32,6],[33,3,33,6],[34,3,34,6],[46,9,47,9],[3,1,5,1],[6,36,8,36],[3,3,5,3],[3,6,5,6],[3,9,3,10],[4,9,4,10],[5,9,5,10],[3,36,5,36],[6,1,8,1],[6,7,8,7],[6,3,8,3],[6,6,8,6],[6,9,6,10],[8,9,8,10],[9,1,11,1],[9,3,11,3],[9,6,11,6],[9,9,9,10],[1,12,1,14],[18,1,20,1],[18,3,20,3],[18,6,20,6],[1,18,1,20],[11,9,11,10],[7,9,7,10],[10,9,10,10],[9,7,11,7],[14,9,14,10],[12,7,14,7],[3,5,5,5],[6,5,8,5],[9,5,11,5],[12,5,14,5],[1,1,2,1],[1,15,1,17],[3,4,5,4],[6,4,8,4],[1,9,2,10],[12,1,14,1],[12,3,14,3],[12,6,14,6],[12,9,12,10],[13,9,13,10],[18,9,18,10],[19,9,19,10],[20,9,20,10],[18,7,20,7],[18,4,20,4],[15,1,17,1],[15,3,17,3],[15,6,17,6],[15,4,17,4],[16,9,16,10],[17,9,17,10],[38,34,38,36],[44,34,44,36],[47,34,47,36],[21,1,23,1],[21,3,23,3],[21,5,23,5],[21,6,23,6],[21,9,21,10],[23,9,23,10],[21,7,23,7],[21,4,23,4],[22,9,22,10],[29,21,29,26],[36,9,37,9]]}
[null,null,"Woche",{"$f":"INT(MOD(INT((F1-2)/7)+0.6,52+5/28))+1","v":11},{"$f":"D1+1000","v":1011},{"$f":"'10'!F1+7","v":"2019-03-11"},null,"-",null,{"$f":"F1+6","v":"2019-03-17"},null,null,null,null,null,null,null,null,null,null,null,null,null,null,null,null,null,null,null,null,null,null,{"$f":"'Aperçu de la charge'!D2","v":"Prénom Nom"},null,{"$f":"'Aperçu de la charge'!N2","v":"2018/2019"}]
[null,"Jour",null,"Poids","REG","qualité sommeil","durée sommeil","Santé",null,"Description de l'entrainement",null,null,"Club - VB",null,null,"TS/ Nati - VB",null,null,"Club - BVB",null,null,"TS/ Nati - BVB",null,null,"Force - fitness",null,null,"Compet. - VB",null,null,"Compet. - BVB",null,null,null,"Réflexion",null,"Charge/\njour",null,"matchs VB","Sets VB","Matchs BVB","Sets BVB","J","Autre\n (Rég, mentale)","Mental- oder Sonstiges Training"]
[null,null,null,"[kg]","[1 - 5]","[1-5]","[Std]","Nr.",null,null,null,null,"Durée","RPE","Charge","Durée","RPE","Charge","Durée","RPE","Charge","Durée","RPE","Charge","Durée","RPE","Charge","Durée","RPE","Charge","Durée","RPE","Charge",null,null,null,null,null,null,null,null,null,"[1-5]"]
[null,"Lu",null,0,0,0,0,0,null,null,null,null,null,null,{"$f":"M4*N4","v":0},null,null,{"$f":"P4*Q4","v":0},null,null,{"$f":"S4*T4","v":0},null,null,{"$f":"V4*W4","v":0},null,null,{"$f":"Y4*Z4","v":0},null,null,{"$f":"AB4*AC4","v":0},null,null,{"$f":"AE4*AF4","v":0},{"$f":"IF(SUM(M4:AG6)>0,1,0)","v":"00:00:00"},null,null,{"$f":"SUM(O4:O6,R4:R6,U4:U6,X4:X6,AA4:AA6,AD4:AD6,AG4:AG6)","v":0}]
[null,null,null,null,null,null,null,null,null,null,null,null,null,null,{"$f":"M5*N5","v":0},null,null,{"$f":"P5*Q5","v":0},null,null,{"$f":"S5*T5","v":0},null,null,{"$f":"V5*W5","v":0},null,null,{"$f":"Y5*Z5","v":0},null,null,{"$f":"AB5*AC5","v":0},null,null,{"$f":"AE5*AF5","v":0}]
[null,null,null,null,null,null,null,null,null,null,null,null,null,null,0,null,null,0,null,null,0,null,null,0,null,null,0,null,null,0,null,null,0]
[null,"Ma",null,0,0,0,0,0,null,null,null,null,null,null,0,null,null,{"$f":"P7*Q7","v":0},null,null,0,null,null,0,null,null,0,null,null,0,null,null,0,{"$f":"IF(SUM(M7:AG9)>0,1,0)","v":"00:00:00"},null,null,{"$f":"SUM(O7:O9,R7:R9,U7:U9,X7:X9,AA7:AA9,AD7:AD9,AG7:AG9)","v":0}]
[null,null,null,null,null,null,null,null,null,null,null,null,null,null,0,null,null,0,null,null,0,null,null,0,null,null,0,null,null,0,null,null,0]
[null,null,null,null,null,null,null,null,null,null,null,null,null,null,0,null,null,0,null,null,0,null,null,0,null,null,0,null,null,0,null,null,0]
[null,"Me",null,0,0,0,0,0,null,null,null,null,null,null,0,null,null,{"$f":"P10*Q10","v":0},null,null,0,null,null,0,null,null,0,null,null,0,null,null,0,{"$f":"IF(SUM(M10:AG12)>0,1,0)","v":"00:00:00"},null,null,{"$f":"SUM(O10:O12,R10:R12,U10:U12,X10:X12,AA10:AA12,AD10:AD12,AG10:AG12)","v":0}]
[null,null,null,null,null,null,null,null,null,null,null,null,null,null,0,null,null,0,null,null,0,null,null,0,null,null,0,null,null,0,null,null,0]
[null,null,null,null,null,null,null,null,null,null,null,null,null,null,0,null,null,0,null,null,0,null,null,0,null,null,0,null,null,0,null,null,0]
[null,"Je",null,0,0,0,0,0,null,null,null,null,null,null,0,null,null,{"$f":"P13*Q13","v":0},null,null,0,null,null,0,null,null,0,null,null,0,null,null,0,{"$f":"IF(SUM(M13:AG15)>0,1,0)","v":"00:00:00"},null,null,{"$f":"SUM(O13:O15,R13:R15,U13:U15,X13:X15,AA13:AA15,AD13:AD15,AG13:AG15)","v":0}]
[null,null,null,null,null,null,null,null,null,null,null,null,null,null,0,null,null,0,null,null,0,null,null,0,null,null,0,null,null,0,null,null,0]
[null,null,null,null,null,null,null,null,null,null,null,null,null,null,0,null,null,0,null,null,0,null,null,0,null,null,0,null,null,0,null,null,0]
[null,"Ve",null,0,0,0,0,0,null,null,null,null,null,null,0,null,null,{"$f":"P16*Q16","v":0},null,null,0,null,null,0,null,null,0,null,null,0,null,null,0,{"$f":"IF(SUM(M16:AG18)>0,1,0)","v":"00:00:00"},null,null,{"$f":"SUM(O16:O18,R16:R18,U16:U18,X16:X18,AA16:AA18,AD16:AD18,AG16:AG18)","v":0}]
[null,null,null,null,null,null,null,null,null,null,null,null,null,null,0,null,null,0,null,null,0,null,null,0,null,null,0,null,null,0,null,null,0]
[null,null,null,null,null,null,null,null,null,null,null,null,null,null,0,null,null,0,null,null,0,null,null,0,null,null,0,null,null,0,null,null,0]
[null,"Sa",null,0,0,0,0,0,null,null,null,null,null,null,{"$f":"M19*N19","v":0},null,null,{"$f":"P19*Q19","v":0},null,null,{"$f":"S19*T19","v":0},null,null,{"$f":"V19*W19","v":0},null,null,{"$f":"Y19*Z19","v":0},null,null,{"$f":"AB19*AC19","v":0},null,null,{"$f":"AE19*AF19","v":0},{"$f":"IF(SUM(M19:AG21)>0,1,0)","v":"00:00:00"},null,null,{"$f":"SUM(O19:O21,R19:R21,U19:U21,X19:X21,AA19:AA21,AD19:AD21,AG19:AG21)","v":0}]
[null,null,null,null,null,null,null,null,null,null,null,null,null,null,{"$f":"M20*N20","v":0},null,null,0,null,null,{"$f":"S20*T20","v":0},null,null,{"$f":"V20*W20","v":0},null,null,{"$f":"Y20*Z20","v":0},null,null,{"$f":"AB20*AC20","v":0},null,null,{"$f":"AE20*AF20","v":0}]
[null,null,null,null,null,null,null,null,null,null,null,null,null,null,0,null,null,0,null,null,0,null,null,0,null,null,0,null,null,0,null,null,0]
[null,"Di",null,0,0,0,0,0,null,null,null,null,null,null,0,null,null,{"$f":"P22*Q22","v":0},null,null,0,null,null,0,null,null,0,null,null,0,null,null,0,{"$f":"IF(SUM(M22:AG24)>0,1,0)","v":"00:00:00"},null,null,{"$f":"SUM(O22:O24,R22:R24,U22:U24,X22:X24,AA22:AA24,AD22:AD24,AG22:AG24)","v":0}]
[null,null,null,null,null,null,null,null,null,null,null,null,null,null,0,null,null,0,null,null,0,null,null,0,null,null,0,null,null,0,null,null,0]
[null,null,null,null,null,null,null,null,null,null,null,null,null,null,0,null,null,0,null,null,0,null,null,0,null,null,0,null,null,0,null,null,0]
[null,null,null,null,null,null,null,null,null,null,"Total",null,{"$f":"SUM(M4:M24)","v":0},null,{"$f":"SUM(O4:O24)","v":0},{"$f":"SUM(P4:P24)","v":0},null,{"$f":"SUM(R4:R24)","v":0},{"$f":"SUM(S4:S24)","v":0},null,{"$f":"SUM(U4:U24)","v":0},{"$f":"SUM(V4:V24)","v":0},null,{"$f":"SUM(X4:X24)","v":0},{"$f":"SUM(Y4:Y24)","v":0},null,{"$f":"SUM(AA4:AA24)","v":0},{"$f":"SUM(AB4:AB24)","v":0},null,{"$f":"SUM(AD4:AD24)","v":0},{"$f":"SUM(AE4:AE24)","v":0},null,{"$f":"SUM(AG4:AG24)","v":0},null,"Charge totale",null,{"$f":"SUM(AK4:AK24)","v":0}]
[null,"avg.",null,{"$f":"IF(COUNTA(D4:D24)=0,\"\",AVERAGE(D4:D24))","v":0},{"$f":"IF(COUNTA(E4:E24)=0,\"\",AVERAGE(E4:E24))","v":0},{"$f":"IF(COUNTA(F4:F24)=0,\"\",AVERAGE(F4:F24))","v":0},{"$f":"IF(COUNTA(G4:G24)=0,\"\",AVERAGE(G4:G24))","v":0},{"$f":"IF(COUNTA(H4:H24)=0,\"\",COUNTIF(H4:H24,\"x\"))","v":0},null,null,"Zone",null,1,2,3,1,2,3,1,2,3,1,2,3,1,2,3,1,2,3,1,2,3,null,"Moyenne",null,{"$f":"AVERAGE(AK4:AK24)","v":0}]
[null,null,null,null,null,{"$f":"IF(COUNTA(F4:F24)=0,\"\",VAR(F4:F24))","v":0},{"$f":"IF(COUNTA(G4:G24)=0,\"\",STDEV(G4:G24))","v":0},"Divergence - durée du sommeil",null,null,"Unité par zone (RPE) ",null,{"$f":"IF('Répartition des intensités'!$AR$25=\"x\",COUNTIF(N4:N24,\"<3,5\"),COUNTIF(N4:N24,\"<4,5\"))","v":0},{"$f":"COUNT(N4:N24)-(M27+O27)","v":0},{"$f":"IF('Répartition des intensités'!$AR$25=\"x\",COUNTIF(N4:N24,\">5,5\"),COUNTIF(N4:N24,\">6,5\"))","v":0},{"$f":"IF('Répartition des intensités'!$AR$25=\"x\",COUNTIF(Q4:Q24,\"<3,5\"),COUNTIF(Q4:Q24,\"<4,5\"))","v":0},{"$f":"COUNT(Q4:Q24)-(P27+R27)","v":0},{"$f":"IF('Répartition des intensités'!$AR$25=\"x\",COUNTIF(Q4:Q24,\">5,5\"),COUNTIF(Q4:Q24,\">6,5\"))","v":0},{"$f":"IF('Répartition des intensités'!$AR$25=\"x\",COUNTIF(T4:T24,\"<3,5\"),COUNTIF(T4:T24,\"<4,5\"))","v":0},{"$f":"COUNT(T4:T24)-(S27+U27)","v":0},{"$f":"IF('Répartition des intensités'!$AR$25=\"x\",COUNTIF(T4:T24,\">5,5\"),COUNTIF(T4:T24,\">6,5\"))","v":0},{"$f":"IF('Répartition des intensités'!$AR$25=\"x\",COUNTIF(W4:W24,\"<3,5\"),COUNTIF(W4:W24,\"<4,5\"))","v":0},{"$f":"COUNT(W4:W24)-(V27+X27)","v":0},{"$f":"IF('Répartition des intensités'!$AR$25=\"x\",COUNTIF(W4:W24,\">5,5\"),COUNTIF(W4:W24,\">6,5\"))","v":0},{"$f":"IF('Répartition des intensités'!$AR$25=\"x\",COUNTIF(Z4:Z24,\"<3,5\"),COUNTIF(Z4:Z24,\"<4,5\"))","v":0},{"$f":"COUNT(Z4:Z24)-(Y27+AA27)","v":0},{"$f":"IF('Répartition des intensités'!$AR$25=\"x\",COUNTIF(Z4:Z24,\">5,5\"),COUNTIF(Z4:Z24,\">6,5\"))","v":0},{"$f":"IF('Répartition des intensités'!$AR$25=\"x\",COUNTIF(AC4:AC24,\"<3,5\"),COUNTIF(AC4:AC24,\"<4,5\"))","v":0},{"$f":"COUNT(AC4:AC24)-(AB27+AD27)","v":0},{"$f":"IF('Répartition des intensités'!$AR$25=\"x\",COUNTIF(AC4:AC24,\">5,5\"),COUNTIF(AC4:AC24,\">6,5\"))","v":0},{"$f":"IF('Répartition des intensités'!$AR$25=\"x\",COUNTIF(AF4:AF24,\"<3,5\"),COUNTIF(AF4:AF24,\"<4,5\"))","v":0},{"$f":"COUNT(AF4:AF24)-(AE27+AG27)","v":0},{"$f":"IF('Répartition des intensités'!$AR$25=\"x\",COUNTIF(AF4:AF24,\">5,5\"),COUNTIF(AF4:AF24,\">6,5\"))","v":0},null,"Divergence",null,{"$f":"STDEVP(AK4:AK24)","v":0}]
[null,null,null,"échelle de Foster",null,null,null,"RPE",null,null,"Temps par zone (RPE)",null,{"$f":"IF('Répartition des intensités'!$AR$25=\"x\",SUMIF(N4:N24,\"<3,5\",M4:M24),SUMIF(N4:N24,\"<4,5\",M4:M24))","v":0},{"$f":"IF(N27=0,0,SUM((M25)-(M28+O28)))","v":0},{"$f":"IF('Répartition des intensités'!$AR$25=\"x\",SUMIF(N4:N24,\">5,5\",M4:M24),SUMIF(N4:N24,\">6,5\",M4:M24))","v":0},{"$f":"IF('Répartition des intensités'!$AR$25=\"x\",SUMIF(Q4:Q24,\"<3,5\",P4:P24),SUMIF(Q4:Q24,\"<4,5\",P4:P24))","v":0},{"$f":"IF(Q27=0,0,SUM((P25)-(P28+R28)))","v":0},{"$f":"IF('Répartition des intensités'!$AR$25=\"x\",SUMIF(Q4:Q24,\">5,5\",P4:P24),SUMIF(Q4:Q24,\">6,5\",P4:P24))","v":0},{"$f":"IF('Répartition des intensités'!$AR$25=\"x\",SUMIF(T4:T24,\"<3,5\",S4:S24),SUMIF(T4:T24,\"<4,5\",S4:S24))","v":0},{"$f":"IF(T27=0,0,SUM((S25)-(S28+U28)))","v":0},{"$f":"IF('Répartition des intensités'!$AR$25=\"x\",SUMIF(T4:T24,\">5,5\",S4:S24),SUMIF(T4:T24,\">6,5\",S4:S24))","v":0},{"$f":"IF('Répartition des intensités'!$AR$25=\"x\",SUMIF(W4:W24,\"<3,5\",V4:V24),SUMIF(W4:W24,\"<4,5\",V4:V24))","v":0},{"$f":"IF(W27=0,0,SUM((V25)-(V28+X28)))","v":0},{"$f":"IF('Répartition des intensités'!$AR$25=\"x\",SUMIF(W4:W24,\">5,5\",V4:V24),SUMIF(W4:W24,\">6,5\",V4:V24))","v":0},{"$f":"IF('Répartition des intensités'!$AR$25=\"x\",SUMIF(Z4:Z24,\"<3,5\",Y4:Y24),SUMIF(Z4:Z24,\"<4,5\",Y4:Y24))","v":0},{"$f":"IF(Z27=0,0,SUM((Y25)-(Y28+AA28)))","v":0},{"$f":"IF('Répartition des intensités'!$AR$25=\"x\",SUMIF(Z4:Z24,\">5,5\",Y4:Y24),SUMIF(Z4:Z24,\">6,5\",Y4:Y24))","v":0},{"$f":"IF('Répartition des intensités'!$AR$25=\"x\",SUMIF(AC4:AC24,\"<3,5\",AB4:AB24),SUMIF(AC4:AC24,\"<4,5\",AB4:AB24))","v":0},{"$f":"IF(AC27=0,0,SUM((AB25)-(AB28+AD28)))","v":0},{"$f":"IF('Répartition des intensités'!$AR$25=\"x\",SUMIF(AC4:AC24,\">5,5\",AB4:AB24),SUMIF(AC4:AC24,\">6,5\",AB4:AB24))","v":0},{"$f":"IF('Répartition des intensités'!$AR$25=\"x\",SUMIF(AF4:AF24,\"<3,5\",AE4:AE24),SUMIF(AF4:AF24,\"<4,5\",AE4:AE24))","v":0},{"$f":"IF(AF27=0,0,SUM((AE25)-(AE28+AG28)))","v":0},{"$f":"IF('Répartition des intensités'!$AR$25=\"x\",SUMIF(AF4:AF24,\">5,5\",AE4:AE24),SUMIF(AF4:AF24,\">6,5\",AE4:AE24))","v":0}]
[null,null,null,"Comme au repos",null,null,null,0,null,"REG","Est-ce que j'ai l'impression d'avoir récupéré en me levant?"]
[null,null,null,"très facile",null,null,null,1]
[null,null,null,"facile",null,null,null,2,null,1,"… pas du tout récupéré",null,null,null,null,null,null,null,null,null,null,null,null,null,null,null,null,null,null,null,null,null,null,null,"Entrainements",null,null,null,"Rapport de santé"]
[null,null,null,null,null,null,null,3,null,2,"… un peu récupéré",null,null,null,null,null,null,null,null,null,null,null,null,null,null,null,null,null,null,null,null,null,null,null,"Jours d'entrainement",null,{"$f":"IF(SUM(AH4:AH24)=0,\"\",SUM(AH4:AH24))","v":""}]
[null,null,null,"Assez dur",null,null,null,4,null,3,"… récupéré",null,null,null,null,null,null,null,null,null,null,{"$f":"B4","v":"Lu"},{"$f":"AK4","v":0},null,null,null,null,null,null,null,null,null,null,null,"Entrainements",null,{"$f":"IF(AK32=\"\",\"\",SUM(M27:AG27))","v":""}]
[null,null,null,"dur",null,null,null,5,null,4,"…  en forme",null,null,null,null,null,null,null,null,null,null,{"$f":"B7","v":"Ma"},{"$f":"AK7","v":0},null,null,null,null,null,null,null,null,null,null,null,"Heures d'entrainement",null,{"$f":"IF(AK32=\"\",\"\",SUM(M25,P25,S25,Y25,AB25,V25,AE25)/60)","v":""},null,{"$f":"IF($AK$32=\"\",\"\",AK32-AM36-AM44-AM52)","v":""},"Aucune limitation",null,null,null,0]
[null,null,null,null,null,null,null,6,null,5,"… très en forme",null,null,null,null,null,null,null,null,null,null,{"$f":"B10","v":"Me"},{"$f":"AK10","v":0},null,null,null,null,null,null,null,null,null,null,null,"Charge de l'entrainement",null,{"$f":"IF(AK32=\"\",\"\",SUM(AK25))","v":""}]
[null,null,null,"très dur",null,null,null,7,null,null,null,null,null,null,null,null,null,null,null,null,null,{"$f":"B13","v":"Je"},{"$f":"AK13","v":0},null,null,null,null,null,null,null,null,null,null,null,"Monotonie",null,{"$f":"IF(AK27=0,0,(AVERAGE(AK4:AK24))/AK27)","v":0},null,{"$f":"SUM(AM37:AM42)","v":0},"Limitation pour cause de douleurs"]
[null,null,null,null,null,null,null,8,null,"Nombre de matchs",null,null,null,null,null,null,null,null,null,null,null,{"$f":"B16","v":"Ve"},{"$f":"AK16","v":0},null,null,null,null,null,null,null,null,null,null,null,"Efforts à l'entrainement",null,{"$f":"IF(AK32=\"\",\"\",AK35*AK36)","v":""},null,{"$f":"COUNTIF($H$4:$H$24,$AR37)","v":0},"Doigt",null,null,null,1]
[null,null,null,"extrèmement dur",null,null,null,9,null,null,null,null,null,null,null,null,null,null,null,null,null,{"$f":"B19","v":"Sa"},{"$f":"AK19","v":0},null,null,null,null,null,null,null,null,null,null,null,null,null,null,null,0,"Épaule",null,null,null,2]
[null,null,null,"Comme mon entrainement le plus dur",null,null,null,10,null,1,"… 3 sets et plus",null,null,null,null,null,null,null,null,null,null,{"$f":"B22","v":"Di"},{"$f":"AK22","v":0},null,null,null,null,null,null,null,null,null,null,null,"Compétition",null,null,null,0,"Dos",null,null,null,3]
[null,null,null,null,null,null,null,null,null,0.5,"… moins de 3 sets",null,null,null,null,null,null,null,null,null,null,null,null,null,null,null,null,null,null,null,null,null,null,null,"Matchs de volleyball",null,{"$f":"IF(AK32=\"\",\"\",SUM(AM4:AM24))","v":""},null,0,"Genou",null,null,null,4]
[null,null,null,null,null,null,null,null,null,null,null,null,null,null,null,null,null,null,null,null,null,null,null,null,null,null,null,null,null,null,null,null,null,null,"Sets de volleyball",null,{"$f":"IF(AK32=\"\",\"\",SUM(AN4:AN24))","v":""},null,0,"Cheville",null,null,null,5]
[null,null,null,null,null,null,null,null,null,"Sets joués",null,null,null,null,null,null,null,null,null,null,null,null,null,null,null,null,null,null,null,null,null,null,null,null,"Matchs de beach volley",null,{"$f":"IF(AK35=\"\",\"\",SUM(AO4:AO24))","v":""},null,0,"Autre",null,null,null,6]
[null,null,null,null,null,null,null,null,null,1,"… depuis le début et durant tout le set",null,null,null,null,null,null,null,null,null,null,null,null,null,null,null,null,null,null,null,null,null,null,null,"Sets de beach volley",null,{"$f":"IF(AK35=\"\",\"\",SUM(AP4:AP24))","v":""}]
[null,null,null,null,null,null,null,null,null,0.5,"… entré/sorti en cours, beaucoup joué",null,null,null,null,null,null,null,null,null,null,null,null,null,null,null,null,null,null,null,null,null,null,null,null,null,null,null,{"$f":"SUM(AM45:AM50)","v":0},"Absence pour cause de blessure"]
[null,null,null,null,null,null,null,null,null,0.1,"… entré/sorti en cours, peu joué",null,null,null,null,null,null,null,null,null,null,null,null,null,null,null,null,null,null,null,null,null,null,null,"Satisfaction",null,null,null,{"$f":"COUNTIF($H$4:$H$24,$AR45)","v":0},"Doigt",null,null,null,11]
[null,null,null,null,null,null,null,null,null,null,null,null,null,null,null,null,null,null,null,null,null,null,null,null,null,null,null,null,null,null,null,null,null,null,"Satisfaction de l'entrainement/match J",null,{"$f":"IF(AK32=\"\",\"\",SUM(AQ4:AQ24)/AK32)","v":""},null,0,"Épaule",null,null,null,12]
[null,null,null,null,null,null,null,null,null,"J","Es-tu content de la qualité de ton",null,null,null,null,null,null,null,null,null,null,null,null,null,null,null,null,null,null,null,null,null,null,null,null,null,null,null,0,"Dos",null,null,null,13]
[null,null,null,null,null,null,null,null,null,null,"entrainement/compétition?",null,null,null,null,null,null,null,null,null,null,null,null,null,null,null,null,null,null,null,null,null,null,null,"Santé",null,null,null,0,"Genou",null,null,null,14]
[null,null,null,null,null,null,null,null,null,1,"… pas content",null,null,null,null,null,null,null,null,null,null,null,null,null,null,null,null,null,null,null,null,null,null,null,"Limitation pour cause de douleurs",null,{"$f":"AM36","v":0},null,0,"Cheville",null,null,null,15]
[null,null,null,null,null,null,null,null,null,2,"… plutôt pas content",null,null,null,null,null,null,null,null,null,null,null,null,null,null,null,null,null,null,null,null,null,null,null,"Absence pour cause de blessure",null,{"$f":"AM44","v":0},null,0,"Autre",null,null,null,16]
[null,null,null,null,null,null,null,null,null,3,"… moyen",null,null,null,null,null,null,null,null,null,null,null,null,null,null,null,null,null,null,null,null,null,null,null,"Absence pour cause de maladie",null,{"$f":"AM52","v":0}]
[null,null,null,null,null,null,null,null,null,4,"… content",null,null,null,null,null,null,null,null,null,null,null,null,null,null,null,null,null,null,null,null,null,null,null,null,null,null,null,{"$f":"SUM(AM53:AM59)","v":0},"Absence pour cause de maladie"]
[null,null,null,null,null,null,null,null,null,5,"… très content!",null,null,null,null,null,null,null,null,null,null,null,null,null,null,null,null,null,null,null,null,null,null,null,null,null,null,null,{"$f":"COUNTIF($H$4:$H$24,$AR53)","v":0},"Maladie",null,null,null,21]
[]
[]
[]
[]
[]
[]
[]
[]
[]
[]
[]
[]
[]
[]
[]
[]
[]
[]
[]
[]
[]
[]
[]
[]
[]
[]
[]
[]
[]
[]
[]
[]
[]
[]
[]
[]
[]
[]
[]
[]
[]
[]
[]
[]
[]
[]
[]
[]
[]
[]
[]
[]
[]
[]
[]
[]
[]
[]
[]
[]
[]
[]
[]
[]
[]
[]
[]
[]
[]
[]
[]
[]
[]
[]
[]
[]
[]
[]
[]
[]
[null,null,null,null,null,null,null,null,null,null,null,null,null,null,null,null,null,null,null,null,null,null,null,null,{"$f":"Z134-1","v":4},5,6,7,8,9,10,{"$f":"D1","v":11}]
[]
[]
[]
[]
[]
[]
[]
[]
[]
[]
[]
[]
[]
[]
[]
[]
[]
[]
[]
[]
[null,null,null,null,null,null,null,null,null,null,null,null,null,null,null,null,null,null,null,null,null,null,null,null,null,null,null,null,null,null,null,null,{"$f":"AF134+1","v":12}]

{"sheet":"12","index":40,"n_rows":155,"n_cols":45,"rows_kept":155,"cut":false,"hidden":false,"merged":[[1,43,2,43],[30,34,30,36],[30,38,31,43],[0,5,0,6],[1,44,2,44],[1,15,1,17],[28,10,29,10],[29,21,29,26],[36,9,37,9],[1,41,2,41],[21,6,23,6],[21,9,21,10],[23,9,23,10],[21,7,23,7],[1,12,1,14],[7,9,7,10],[1,38,2,38],[1,24,1,26],[1,18,1,20],[1,30,1,32],[1,27,1,29],[27,3,27,6],[28,3,28,6],[37,3,37,6],[30,3,30,6],[31,3,31,6],[32,3,32,6],[33,3,33,6],[34,3,34,6],[35,3,35,6],[36,3,36,6],[38,3,38,6],[46,9,47,9],[18,36,20,36],[1,40,2,40],[3,36,5,36],[1,36,2,36],[20,9,20,10],[5,9,5,10],[1,39,2,39],[21,36,23,36],[9,36,11,36],[12,36,14,36],[15,36,17,36],[28,9,29,9],[16,9,16,10],[15,9,15,10],[10,9,10,10],[29,3,29,6],[15,5,17,5],[12,4,14,4],[6,36,8,36],[3,3,5,3],[3,6,5,6],[3,9,3,10],[4,9,4,10],[17,9,17,10],[22,9,22,10],[18,9,18,10],[19,9,19,10],[9,6,11,6],[9,9,9,10],[6,4,8,4],[9,7,11,7],[9,4,11,4],[11,9,11,10],[3,4,5,4],[3,7,5,7],[12,7,14,7],[9,5,11,5],[12,5,14,5],[21,1,23,1],[15,7,17,7],[15,1,17,1],[15,3,17,3],[15,6,17,6],[15,4,17,4],[18,5,20,5],[18,1,20,1],[18,3,20,3],[21,5,23,5],[21,3,23,3],[21,4,23,4],[18,7,20,7],[18,4,20,4],[18,6,20,6],[1,1,2,1],[9,1,11,1],[9,3,11,3],[38,34,38,36],[44,34,44,36],[47,34,47,36],[12,1,14,1],[6,3,8,3],[6,6,8,6],[6,9,6,10],[8,9,8,10],[6,5,8,5],[6,1,8,1],[6,7,8,7],[1,34,2,34],[1,21,1,23],[1,9,2,10],[3,1,5,1],[3,5,5,5],[12,3,14,3],[12,6,14,6],[12,9,12,10],[13,9,13,10],[14,9,14,10]]}
[null,null,"Woche",{"$f":"INT(MOD(INT((F1-2)/7)+0.6,52+5/28))+1","v":12},{"$f":"D1+1000","v":1012},{"$f":"'11'!F1+7","v":"2019-03-18"},null,"-",null,{"$f":"F1+6","v":"2019-03-24"},null,null,null,null,null,null,null,null,null,null,null,null,null,null,null,null,null,null,null,null,null,null,{"$f":"'Aperçu de la charge'!D2","v":"Prénom Nom"},null,{"$f":"'Aperçu de la charge'!N2","v":"2018/2019"}]
[null,"Jour",null,"Poids","REG","qualité sommeil","durée sommeil","Santé",null,"Description de l'entrainement",null,null,"Club - VB",null,null,"TS/ Nati - VB",null,null,"Club - BVB",null,null,"TS/ Nati - BVB",null,null,"Force - fitness",null,null,"Compet. - VB",null,null,"Compet. - BVB",null,null,null,"Réflexion",null,"Charge/\njour",null,"matchs VB","Sets VB","Matchs BVB","Sets BVB","J","Autre\n (Rég, mentale)","Mental- oder Sonstiges Training"]
[null,null,null,"[kg]","[1 - 5]","[1-5]","[Std]","Nr.",null,null,null,null,"Durée","RPE","Charge","Durée","RPE","Charge","Durée","RPE","Charge","Durée","RPE","Charge","Durée","RPE","Charge","Durée","RPE","Charge","Durée","RPE","Charge",null,null,null,null,null,null,null,null,null,"[1-5]"]
[null,"Lu",null,0,0,0,0,0,null,null,null,null,null,null,{"$f":"M4*N4","v":0},null,null,{"$f":"P4*Q4","v":0},null,null,{"$f":"S4*T4","v":0},null,null,{"$f":"V4*W4","v":0},null,null,{"$f":"Y4*Z4","v":0},null,null,{"$f":"AB4*AC4","v":0},null,null,{"$f":"AE4*AF4","v":0},{"$f":"IF(SUM(M4:AG6)>0,1,0)","v":"00:00:00"},null,null,{"$f":"SUM(O4:O6,R4:R6,U4:U6,X4:X6,AA4:AA6,AD4:AD6,AG4:AG6)","v":0}]
[null,null,null,null,null,null,null,null,null,null,null,null,null,null,{"$f":"M5*N5","v":0},null,null,{"$f":"P5*Q5","v":0},null,null,{"$f":"S5*T5","v":0},null,null,{"$f":"V5*W5","v":0},null,null,{"$f":"Y5*Z5","v":0},null,null,{"$f":"AB5*AC5","v":0},null,null,{"$f":"AE5*AF5","v":0}]
[null,null,null,null,null,null,null,null,null,null,null,null,null,null,0,null,null,0,null,null,0,null,null,0,null,null,0,null,null,0,null,null,0]
[null,"Ma",null,0,0,0,0,0,null,null,null,null,null,null,0,null,null,{"$f":"P7*Q7","v":0},null,null,0,null,null,0,null,null,0,null,null,0,null,null,0,{"$f":"IF(SUM(M7:AG9)>0,1,0)","v":"00:00:00"},null,null,{"$f":"SUM(O7:O9,R7:R9,U7:U9,X7:X9,AA7:AA9,AD7:AD9,AG7:AG9)","v":0}]
[null,null,null,null,null,null,null,null,null,null,null,null,null,null,0,null,null,0,null,null,0,null,null,0,null,null,0,null,null,0,null,null,0]
[null,null,null,null,null,null,null,null,null,null,null,null,null,null,0,null,null,0,null,null,0,null,null,0,null,null,0,null,null,0,null,null,0]
[null,"Me",null,0,0,0,0,0,null,null,null,null,null,null,0,null,null,{"$f":"P10*Q10","v":0},null,null,0,null,null,0,null,null,0,null,null,0,null,null,0,{"$f":"IF(SUM(M10:AG12)>0,1,0)","v":"00:00:00"},null,null,{"$f":"SUM(O10:O12,R10:R12,U10:U12,X10:X12,AA10:AA12,AD10:AD12,AG10:AG12)","v":0}]
[null,null,null,null,null,null,null,null,null,null,null,null,null,null,0,null,null,0,null,null,0,null,null,0,null,null,0,null,null,0,null,null,0]
[null,null,null,null,null,null,null,null,null,null,null,null,null,null,0,null,null,0,null,null,0,null,null,0,null,null,0,null,null,0,null,null,0]
[null,"Je",null,0,0,0,0,0,null,null,null,null,null,null,0,null,null,{"$f":"P13*Q13","v":0},null,null,0,null,null,0,null,null,0,null,null,0,null,null,0,{"$f":"IF(SUM(M13:AG15)>0,1,0)","v":"00:00:00"},null,null,{"$f":"SUM(O13:O15,R13:R15,U13:U15,X13:X15,AA13:AA15,AD13:AD15,AG13:AG15)","v":0}]
[null,null,null,null,null,null,null,null,null,null,null,null,null,null,0,null,null,0,null,null,0,null,null,0,null,null,0,null,null,0,null,null,0]
[null,null,null,null,null,null,null,null,null,null,null,null,null,null,0,null,null,0,null,null,0,null,null,0,null,null,0,null,null,0,null,null,0]
[null,"Ve",null,0,0,0,0,0,null,null,null,null,null,null,0,null,null,{"$f":"P16*Q16","v":0},null,null,0,null,null,0,null,null,0,null,null,0,null,null,0,{"$f":"IF(SUM(M16:AG18)>0,1,0)","v":"00:00:00"},null,null,{"$f":"SUM(O16:O18,R16:R18,U16:U18,X16:X18,AA16:AA18,AD16:AD18,AG16:AG18)","v":0}]
[null,null,null,null,null,null,null,null,null,null,null,null,null,null,0,null,null,0,null,null,0,null,null,0,null,null,0,null,null,0,null,null,0]
[null,null,null,null,null,null,null,null,null,null,null,null,null,null,0,null,null,0,null,null,0,null,null,0,null,null,0,null,null,0,null,null,0]
[null,"Sa",null,0,0,0,0,0,null,null,null,null,null,null,{"$f":"M19*N19","v":0},null,null,{"$f":"P19*Q19","v":0},null,null,{"$f":"S19*T19","v":0},null,null,{"$f":"V19*W19","v":0},null,null,{"$f":"Y19*Z19","v":0},null,null,{"$f":"AB19*AC19","v":0},null,null,{"$f":"AE19*AF19","v":0},{"$f":"IF(SUM(M19:AG21)>0,1,0)","v":"00:00:00"},null,null,{"$f":"SUM(O19:O21,R19:R21,U19:U21,X19:X21,AA19:AA21,AD19:AD21,AG19:AG21)","v":0}]
[null,null,null,null,null,null,null,null,null,null,null,null,null,null,{"$f":"M20*N20","v":0},null,null,0,null,null,{"$f":"S20*T20","v":0},null,null,{"$f":"V20*W20","v":0},null,null,{"$f":"Y20*Z20","v":0},null,null,{"$f":"AB20*AC20","v":0},null,null,{"$f":"AE20*AF20","v":0}]
[null,null,null,null,null,null,null,null,null,null,null,null,null,null,0,null,null,0,null,null,0,null,null,0,null,null,0,null,null,0,null,null,0]
[null,"Di",null,0,0,0,0,0,null,null,null,null,null,null,0,null,null,{"$f":"P22*Q22","v":0},null,null,0,null,null,0,null,null,0,null,null,0,null,null,0,{"$f":"IF(SUM(M22:AG24)>0,1,0)","v":"00:00:00"},null,null,{"$f":"SUM(O22:O24,R22:R24,U22:U24,X22:X24,AA22:AA24,AD22:AD24,AG22:AG24)","v":0}]
[null,null,null,null,null,null,null,null,null,null,null,null,null,null,0,null,null,0,null,null,0,null,null,0,null,null,0,null,null,0,null,null,0]
[null,null,null,null,null,null,null,null,null,null,null,null,null,null,0,null,null,0,null,null,0,null,null,0,null,null,0,null,null,0,null,null,0]
[null,null,null,null,null,null,null,null,null,null,"Total",null,{"$f":"SUM(M4:M24)","v":0},null,{"$f":"SUM(O4:O24)","v":0},{"$f":"SUM(P4:P24)","v":0},null,{"$f":"SUM(R4:R24)","v":0},{"$f":"SUM(S4:S24)","v":0},null,{"$f":"SUM(U4:U24)","v":0},{"$f":"SUM(V4:V24)","v":0},null,{"$f":"SUM(X4:X24)","v":0},{"$f":"SUM(Y4:Y24)","v":0},null,{"$f":"SUM(AA4:AA24)","v":0},{"$f":"SUM(AB4:AB24)","v":0},null,{"$f":"SUM(AD4:AD24)","v":0},{"$f":"SUM(AE4:AE24)","v":0},null,{"$f":"SUM(AG4:AG24)","v":0},null,"Charge totale",null,{"$f":"SUM(AK4:AK24)","v":0}]
[null,"avg.",null,{"$f":"IF(COUNTA(D4:D24)=0,\"\",AVERAGE(D4:D24))","v":0},{"$f":"IF(COUNTA(E4:E24)=0,\"\",AVERAGE(E4:E24))","v":0},{"$f":"IF(COUNTA(F4:F24)=0,\"\",AVERAGE(F4:F24))","v":0},{"$f":"IF(COUNTA(G4:G24)=0,\"\",AVERAGE(G4:G24))","v":0},{"$f":"IF(COUNTA(H4:H24)=0,\"\",COUNTIF(H4:H24,\"x\"))","v":0},null,null,"Zone",null,1,2,3,1,2,3,1,2,3,1,2,3,1,2,3,1,2,3,1,2,3,null,"Moyenne",null,{"$f":"AVERAGE(AK4:AK24)","v":0}]
[null,null,null,null,null,{"$f":"IF(COUNTA(F4:F24)=0,\"\",VAR(F4:F24))","v":0},{"$f":"IF(COUNTA(G4:G24)=0,\"\",STDEV(G4:G24))","v":0},"Divergence - durée du sommeil",null,null,"Unité par zone (RPE) ",null,{"$f":"IF('Répartition des intensités'!$AR$25=\"x\",COUNTIF(N4:N24,\"<3,5\"),COUNTIF(N4:N24,\"<4,5\"))","v":0},{"$f":"COUNT(N4:N24)-(M27+O27)","v":0},{"$f":"IF('Répartition des intensités'!$AR$25=\"x\",COUNTIF(N4:N24,\">5,5\"),COUNTIF(N4:N24,\">6,5\"))","v":0},{"$f":"IF('Répartition des intensités'!$AR$25=\"x\",COUNTIF(Q4:Q24,\"<3,5\"),COUNTIF(Q4:Q24,\"<4,5\"))","v":0},{"$f":"COUNT(Q4:Q24)-(P27+R27)","v":0},{"$f":"IF('Répartition des intensités'!$AR$25=\"x\",COUNTIF(Q4:Q24,\">5,5\"),COUNTIF(Q4:Q24,\">6,5\"))","v":0},{"$f":"IF('Répartition des intensités'!$AR$25=\"x\",COUNTIF(T4:T24,\"<3,5\"),COUNTIF(T4:T24,\"<4,5\"))","v":0},{"$f":"COUNT(T4:T24)-(S27+U27)","v":0},{"$f":"IF('Répartition des intensités'!$AR$25=\"x\",COUNTIF(T4:T24,\">5,5\"),COUNTIF(T4:T24,\">6,5\"))","v":0},{"$f":"IF('Répartition des intensités'!$AR$25=\"x\",COUNTIF(W4:W24,\"<3,5\"),COUNTIF(W4:W24,\"<4,5\"))","v":0},{"$f":"COUNT(W4:W24)-(V27+X27)","v":0},{"$f":"IF('Répartition des intensités'!$AR$25=\"x\",COUNTIF(W4:W24,\">5,5\"),COUNTIF(W4:W24,\">6,5\"))","v":0},{"$f":"IF('Répartition des intensités'!$AR$25=\"x\",COUNTIF(Z4:Z24,\"<3,5\"),COUNTIF(Z4:Z24,\"<4,5\"))","v":0},{"$f":"COUNT(Z4:Z24)-(Y27+AA27)","v":0},{"$f":"IF('Répartition des intensités'!$AR$25=\"x\",COUNTIF(Z4:Z24,\">5,5\"),COUNTIF(Z4:Z24,\">6,5\"))","v":0},{"$f":"IF('Répartition des intensités'!$AR$25=\"x\",COUNTIF(AC4:AC24,\"<3,5\"),COUNTIF(AC4:AC24,\"<4,5\"))","v":0},{"$f":"COUNT(AC4:AC24)-(AB27+AD27)","v":0},{"$f":"IF('Répartition des intensités'!$AR$25=\"x\",COUNTIF(AC4:AC24,\">5,5\"),COUNTIF(AC4:AC24,\">6,5\"))","v":0},{"$f":"IF('Répartition des intensités'!$AR$25=\"x\",COUNTIF(AF4:AF24,\"<3,5\"),COUNTIF(AF4:AF24,\"<4,5\"))","v":0},{"$f":"COUNT(AF4:AF24)-(AE27+AG27)","v":0},{"$f":"IF('Répartition des intensités'!$AR$25=\"x\",COUNTIF(AF4:AF24,\">5,5\"),COUNTIF(AF4:AF24,\">6,5\"))","v":0},null,"Divergence",null,{"$f":"STDEVP(AK4:AK24)","v":0}]
[null,null,null,"échelle de Foster",null,null,null,"RPE",null,null,"Temps par zone (RPE)",null,{"$f":"IF('Répartition des intensités'!$AR$25=\"x\",SUMIF(N4:N24,\"<3,5\",M4:M24),SUMIF(N4:N24,\"<4,5\",M4:M24))","v":0},{"$f":"IF(N27=0,0,SUM((M25)-(M28+O28)))","v":0},{"$f":"IF('Répartition des intensités'!$AR$25=\"x\",SUMIF(N4:N24,\">5,5\",M4:M24),SUMIF(N4:N24,\">6,5\",M4:M24))","v":0},{"$f":"IF('Répartition des intensités'!$AR$25=\"x\",SUMIF(Q4:Q24,\"<3,5\",P4:P24),SUMIF(Q4:Q24,\"<4,5\",P4:P24))","v":0},{"$f":"IF(Q27=0,0,SUM((P25)-(P28+R28)))","v":0},{"$f":"IF('Répartition des intensités'!$AR$25=\"x\",SUMIF(Q4:Q24,\">5,5\",P4:P24),SUMIF(Q4:Q24,\">6,5\",P4:P24))","v":0},{"$f":"IF('Répartition des intensités'!$AR$25=\"x\",SUMIF(T4:T24,\"<3,5\",S4:S24),SUMIF(T4:T24,\"<4,5\",S4:S24))","v":0},{"$f":"IF(T27=0,0,SUM((S25)-(S28+U28)))","v":0},{"$f":"IF('Répartition des intensités'!$AR$25=\"x\",SUMIF(T4:T24,\">5,5\",S4:S24),SUMIF(T4:T24,\">6,5\",S4:S24))","v":0},{"$f":"IF('Répartition des intensités'!$AR$25=\"x\",SUMIF(W4:W24,\"<3,5\",V4:V24),SUMIF(W4:W24,\"<4,5\",V4:V24))","v":0},{"$f":"IF(W27=0,0,SUM((V25)-(V28+X28)))","v":0},{"$f":"IF('Répartition des intensités'!$AR$25=\"x\",SUMIF(W4:W24,\">5,5\",V4:V24),SUMIF(W4:W24,\">6,5\",V4:V24))","v":0},{"$f":"IF('Répartition des intensités'!$AR$25=\"x\",SUMIF(Z4:Z24,\"<3,5\",Y4:Y24),SUMIF(Z4:Z24,\"<4,5\",Y4:Y24))","v":0},{"$f":"IF(Z27=0,0,SUM((Y25)-(Y28+AA28)))","v":0},{"$f":"IF('Répartition des intensités'!$AR$25=\"x\",SUMIF(Z4:Z24,\">5,5\",Y4:Y24),SUMIF(Z4:Z24,\">6,5\",Y4:Y24))","v":0},{"$f":"IF('Répartition des intensités'!$AR$25=\"x\",SUMIF(AC4:AC24,\"<3,5\",AB4:AB24),SUMIF(AC4:AC24,\"<4,5\",AB4:AB24))","v":0},{"$f":"IF(AC27=0,0,SUM((AB25)-(AB28+AD28)))","v":0},{"$f":"IF('Répartition des intensités'!$AR$25=\"x\",SUMIF(AC4:AC24,\">5,5\",AB4:AB24),SUMIF(AC4:AC24,\">6,5\",AB4:AB24))","v":0},{"$f":"IF('Répartition des intensités'!$AR$25=\"x\",SUMIF(AF4:AF24,\"<3,5\",AE4:AE24),SUMIF(AF4:AF24,\"<4,5\",AE4:AE24))","v":0},{"$f":"IF(AF27=0,0,SUM((AE25)-(AE28+AG28)))","v":0},{"$f":"IF('Répartition des intensités'!$AR$25=\"x\",SUMIF(AF4:AF24,\">5,5\",AE4:AE24),SUMIF(AF4:AF24,\">6,5\",AE4:AE24))","v":0}]
[null,null,null,"Comme au repos",null,null,null,0,null,"REG","Est-ce que j'ai l'impression d'avoir récupéré en me levant?"]
[null,null,null,"très facile",null,null,null,1]
[null,null,null,"facile",null,null,null,2,null,1,"… pas du tout récupéré",null,null,null,null,null,null,null,null,null,null,null,null,null,null,null,null,null,null,null,null,null,null,null,"Entrainements",null,null,null,"Rapport de santé"]
[null,null,null,null,null,null,null,3,null,2,"… un peu récupéré",null,null,null,null,null,null,null,null,null,null,null,null,null,null,null,null,null,null,null,null,null,null,null,"Jours d'entrainement",null,{"$f":"IF(SUM(AH4:AH24)=0,\"\",SUM(AH4:AH24))","v":""}]
[null,null,null,"Assez dur",null,null,null,4,null,3,"… récupéré",null,null,null,null,null,null,null,null,null,null,{"$f":"B4","v":"Lu"},{"$f":"AK4","v":0},null,null,null,null,null,null,null,null,null,null,null,"Entrainements",null,{"$f":"IF(AK32=\"\",\"\",SUM(M27:AG27))","v":""}]
[null,null,null,"dur",null,null,null,5,null,4,"…  en forme",null,null,null,null,null,null,null,null,null,null,{"$f":"B7","v":"Ma"},{"$f":"AK7","v":0},null,null,null,null,null,null,null,null,null,null,null,"Heures d'entrainement",null,{"$f":"IF(AK32=\"\",\"\",SUM(M25,P25,S25,Y25,AB25,V25,AE25)/60)","v":""},null,{"$f":"IF($AK$32=\"\",\"\",AK32-AM36-AM44-AM52)","v":""},"Aucune limitation",null,null,null,0]
[null,null,null,null,null,null,null,6,null,5,"… très en forme",null,null,null,null,null,null,null,null,null,null,{"$f":"B10","v":"Me"},{"$f":"AK10","v":0},null,null,null,null,null,null,null,null,null,null,null,"Charge de l'entrainement",null,{"$f":"IF(AK32=\"\",\"\",SUM(AK25))","v":""}]
[null,null,null,"très dur",null,null,null,7,null,null,null,null,null,null,null,null,null,null,null,null,null,{"$f":"B13","v":"Je"},{"$f":"AK13","v":0},null,null,null,null,null,null,null,null,null,null,null,"Monotonie",null,{"$f":"IF(AK27=0,0,(AVERAGE(AK4:AK24))/AK27)","v":0},null,{"$f":"SUM(AM37:AM42)","v":0},"Limitation pour cause de douleurs"]
[null,null,null,null,null,null,null,8,null,"Nombre de matchs",null,null,null,null,null,null,null,null,null,null,null,{"$f":"B16","v":"Ve"},{"$f":"AK16","v":0},null,null,null,null,null,null,null,null,null,null,null,"Efforts à l'entrainement",null,{"$f":"IF(AK32=\"\",\"\",AK35*AK36)","v":""},null,{"$f":"COUNTIF($H$4:$H$24,$AR37)","v":0},"Doigt",null,null,null,1]
[null,null,null,"extrèmement dur",null,null,null,9,null,null,null,null,null,null,null,null,null,null,null,null,null,{"$f":"B19","v":"Sa"},{"$f":"AK19","v":0},null,null,null,null,null,null,null,null,null,null,null,null,null,null,null,0,"Épaule",null,null,null,2]
[null,null,null,"Comme mon entrainement le plus dur",null,null,null,10,null,1,"… 3 sets et plus",null,null,null,null,null,null,null,null,null,null,{"$f":"B22","v":"Di"},{"$f":"AK22","v":0},null,null,null,null,null,null,null,null,null,null,null,"Compétition",null,null,null,0,"Dos",null,null,null,3]
[null,null,null,null,null,null,null,null,null,0.5,"… moins de 3 sets",null,null,null,null,null,null,null,null,null,null,null,null,null,null,null,null,null,null,null,null,null,null,null,"Matchs de volleyball",null,{"$f":"IF(AK32=\"\",\"\",SUM(AM4:AM24))","v":""},null,0,"Genou",null,null,null,4]
[null,null,null,null,null,null,null,null,null,null,null,null,null,null,null,null,null,null,null,null,null,null,null,null,null,null,null,null,null,null,null,null,null,null,"Sets de volleyball",null,{"$f":"IF(AK32=\"\",\"\",SUM(AN4:AN24))","v":""},null,0,"Cheville",null,null,null,5]
[null,null,null,null,null,null,null,null,null,"Sets joués",null,null,null,null,null,null,null,null,null,null,null,null,null,null,null,null,null,null,null,null,null,null,null,null,"Matchs de beach volley",null,{"$f":"IF(AK35=\"\",\"\",SUM(AO4:AO24))","v":""},null,0,"Autre",null,null,null,6]
[null,null,null,null,null,null,null,null,null,1,"… depuis le début et durant tout le set",null,null,null,null,null,null,null,null,null,null,null,null,null,null,null,null,null,null,null,null,null,null,null,"Sets de beach volley",null,{"$f":"IF(AK35=\"\",\"\",SUM(AP4:AP24))","v":""}]
[null,null,null,null,null,null,null,null,null,0.5,"… entré/sorti en cours, beaucoup joué",null,null,null,null,null,null,null,null,null,null,null,null,null,null,null,null,null,null,null,null,null,null,null,null,null,null,null,{"$f":"SUM(AM45:AM50)","v":0},"Absence pour cause de blessure"]
[null,null,null,null,null,null,null,null,null,0.1,"… entré/sorti en cours, peu joué",null,null,null,null,null,null,null,null,null,null,null,null,null,null,null,null,null,null,null,null,null,null,null,"Satisfaction",null,null,null,{"$f":"COUNTIF($H$4:$H$24,$AR45)","v":0},"Doigt",null,null,null,11]
[null,null,null,null,null,null,null,null,null,null,null,null,null,null,null,null,null,null,null,null,null,null,null,null,null,null,null,null,null,null,null,null,null,null,"Satisfaction de l'entrainement/match J",null,{"$f":"IF(AK32=\"\",\"\",SUM(AQ4:AQ24)/AK32)","v":""},null,0,"Épaule",null,null,null,12]
[null,null,null,null,null,null,null,null,null,"J","Es-tu content de la qualité de ton",null,null,null,null,null,null,null,null,null,null,null,null,null,null,null,null,null,null,null,null,null,null,null,null,null,null,null,0,"Dos",null,null,null,13]
[null,null,null,null,null,null,null,null,null,null,"entrainement/compétition?",null,null,null,null,null,null,null,null,null,null,null,null,null,null,null,null,null,null,null,null,null,null,null,"Santé",null,null,null,0,"Genou",null,null,null,14]
[null,null,null,null,null,null,null,null,null,1,"… pas content",null,null,null,null,null,null,null,null,null,null,null,null,null,null,null,null,null,null,null,null,null,null,null,"Limitation pour cause de douleurs",null,{"$f":"AM36","v":0},null,0,"Cheville",null,null,null,15]
[null,null,null,null,null,null,null,null,null,2,"… plutôt pas content",null,null,null,null,null,null,null,null,null,null,null,null,null,null,null,null,null,null,null,null,null,null,null,"Absence pour cause de blessure",null,{"$f":"AM44","v":0},null,0,"Autre",null,null,null,16]
[null,null,null,null,null,null,null,null,null,3,"… moyen",null,null,null,null,null,null,null,null,null,null,null,null,null,null,null,null,null,null,null,null,null,null,null,"Absence pour cause de maladie",null,{"$f":"AM52","v":0}]
[null,null,null,null,null,null,null,null,null,4,"… content",null,null,null,null,null,null,null,null,null,null,null,null,null,null,null,null,null,null,null,null,null,null,null,null,null,null,null,{"$f":"SUM(AM53:AM59)","v":0},"Absence pour cause de maladie"]
[null,null,null,null,null,null,null,null,null,5,"… très content!",null,null,null,null,null,null,null,null,null,null,null,null,null,null,null,null,null,null,null,null,null,null,null,null,null,null,null,{"$f":"COUNTIF($H$4:$H$24,$AR53)","v":0},"Maladie",null,null,null,21]
[]
[]
[]
[]
[]
[]
[]
[]
[]
[]
[]
[]
[]
[]
[]
[]
[]
[]
[]
[]
[]
[]
[]
[]
[]
[]
[]
[]
[]
[]
[]
[]
[]
[]
[]
[]
[]
[]
[]
[]
[]
[]
[]
[]
[]
[]
[]
[]
[]
[]
[]
[]
[]
[]
[]
[]
[]
[]
[]
[]
[]
[]
[]
[]
[]
[]
[]
[]
[]
[]
[]
[]
[]
[]
[]
[]
[]
[]
[]
[]
[null,null,null,null,null,null,null,null,null,null,null,null,null,null,null,null,null,null,null,null,null,null,null,null,{"$f":"Z134-1","v":5},6,7,8,9,10,11,{"$f":"D1","v":12}]
[]
[]
[]
[]
[]
[]
[]
[]
[]
[]
[]
[]
[]
[]
[]
[]
[]
[]
[]
[]
[null,null,null,null,null,null,null,null,null,null,null,null,null,null,null,null,null,null,null,null,null,null,null,null,null,null,null,null,null,null,null,null,{"$f":"AF134+1","v":13}]

{"sheet":"13","index":41,"n_rows":155,"n_cols":45,"rows_kept":155,"cut":false,"hidden":false,"merged":[[1,43,2,43],[30,34,30,36],[30,38,31,43],[0,5,0,6],[1,44,2,44],[1,15,1,17],[28,10,29,10],[29,21,29,26],[36,9,37,9],[1,41,2,41],[21,6,23,6],[21,9,21,10],[23,9,23,10],[21,7,23,7],[1,12,1,14],[7,9,7,10],[1,38,2,38],[1,24,1,26],[1,18,1,20],[1,30,1,32],[1,27,1,29],[27,3,27,6],[28,3,28,6],[37,3,37,6],[30,3,30,6],[31,3,31,6],[32,3,32,6],[33,3,33,6],[34,3,34,6],[35,3,35,6],[36,3,36,6],[38,3,38,6],[46,9,47,9],[18,36,20,36],[1,40,2,40],[3,36,5,36],[1,36,2,36],[20,9,20,10],[5,9,5,10],[1,39,2,39],[21,36,23,36],[9,36,11,36],[12,36,14,36],[15,36,17,36],[28,9,29,9],[16,9,16,10],[15,9,15,10],[10,9,10,10],[29,3,29,6],[15,5,17,5],[12,4,14,4],[6,36,8,36],[3,3,5,3],[3,6,5,6],[3,9,3,10],[4,9,4,10],[17,9,17,10],[22,9,22,10],[18,9,18,10],[19,9,19,10],[9,6,11,6],[9,9,9,10],[6,4,8,4],[9,7,11,7],[9,4,11,4],[11,9,11,10],[3,4,5,4],[3,7,5,7],[12,7,14,7],[9,5,11,5],[12,5,14,5],[21,1,23,1],[15,7,17,7],[15,1,17,1],[15,3,17,3],[15,6,17,6],[15,4,17,4],[18,5,20,5],[18,1,20,1],[18,3,20,3],[21,5,23,5],[21,3,23,3],[21,4,23,4],[18,7,20,7],[18,4,20,4],[18,6,20,6],[1,1,2,1],[9,1,11,1],[9,3,11,3],[38,34,38,36],[44,34,44,36],[47,34,47,36],[12,1,14,1],[6,3,8,3],[6,6,8,6],[6,9,6,10],[8,9,8,10],[6,5,8,5],[6,1,8,1],[6,7,8,7],[1,34,2,34],[1,21,1,23],[1,9,2,10],[3,1,5,1],[3,5,5,5],[12,3,14,3],[12,6,14,6],[12,9,12,10],[13,9,13,10],[14,9,14,10]]}
[null,null,"Woche",{"$f":"INT(MOD(INT((F1-2)/7)+0.6,52+5/28))+1","v":13},{"$f":"D1+1000","v":1013},{"$f":"'12'!F1+7","v":"2019-03-25"},null,"-",null,{"$f":"F1+6","v":"2019-03-31"},null,null,null,null,null,null,null,null,null,null,null,null,null,null,null,null,null,null,null,null,null,null,{"$f":"'Aperçu de la charge'!D2","v":"Prénom Nom"},null,{"$f":"'Aperçu de la charge'!N2","v":"2018/2019"}]
[null,"Jour",null,"Poids","REG","qualité sommeil","durée sommeil","Santé",null,"Description de l'entrainement",null,null,"Club - VB",null,null,"TS/ Nati - VB",null,null,"Club - BVB",null,null,"TS/ Nati - BVB",null,null,"Force - fitness",null,null,"Compet. - VB",null,null,"Compet. - BVB",null,null,null,"Réflexion",null,"Charge/\njour",null,"matchs VB","Sets VB","Matchs BVB","Sets BVB","J","Autre\n (Rég, mentale)","Mental- oder Sonstiges Training"]
[null,null,null,"[kg]","[1 - 5]","[1-5]","[Std]","Nr.",null,null,null,null,"Durée","RPE","Charge","Durée","RPE","Charge","Durée","RPE","Charge","Durée","RPE","Charge","Durée","RPE","Charge","Durée","RPE","Charge","Durée","RPE","Charge",null,null,null,null,null,null,null,null,null,"[1-5]"]
[null,"Lu",null,0,0,0,0,0,null,null,null,null,null,null,{"$f":"M4*N4","v":0},null,null,{"$f":"P4*Q4","v":0},null,null,{"$f":"S4*T4","v":0},null,null,{"$f":"V4*W4","v":0},null,null,{"$f":"Y4*Z4","v":0},null,null,{"$f":"AB4*AC4","v":0},null,null,{"$f":"AE4*AF4","v":0},{"$f":"IF(SUM(M4:AG6)>0,1,0)","v":"00:00:00"},null,null,{"$f":"SUM(O4:O6,R4:R6,U4:U6,X4:X6,AA4:AA6,AD4:AD6,AG4:AG6)","v":0}]
[null,null,null,null,null,null,null,null,null,null,null,null,null,null,{"$f":"M5*N5","v":0},null,null,{"$f":"P5*Q5","v":0},null,null,{"$f":"S5*T5","v":0},null,null,{"$f":"V5*W5","v":0},null,null,{"$f":"Y5*Z5","v":0},null,null,{"$f":"AB5*AC5","v":0},null,null,{"$f":"AE5*AF5","v":0}]
[null,null,null,null,null,null,null,null,null,null,null,null,null,null,0,null,null,0,null,null,0,null,null,0,null,null,0,null,null,0,null,null,0]
[null,"Ma",null,0,0,0,0,0,null,null,null,null,null,null,0,null,null,{"$f":"P7*Q7","v":0},null,null,0,null,null,0,null,null,0,null,null,0,null,null,0,{"$f":"IF(SUM(M7:AG9)>0,1,0)","v":"00:00:00"},null,null,{"$f":"SUM(O7:O9,R7:R9,U7:U9,X7:X9,AA7:AA9,AD7:AD9,AG7:AG9)","v":0}]
[null,null,null,null,null,null,null,null,null,null,null,null,null,null,0,null,null,0,null,null,0,null,null,0,null,null,0,null,null,0,null,null,0]
[null,null,null,null,null,null,null,null,null,null,null,null,null,null,0,null,null,0,null,null,0,null,null,0,null,null,0,null,null,0,null,null,0]
[null,"Me",null,0,0,0,0,0,null,null,null,null,null,null,0,null,null,{"$f":"P10*Q10","v":0},null,null,0,null,null,0,null,null,0,null,null,0,null,null,0,{"$f":"IF(SUM(M10:AG12)>0,1,0)","v":"00:00:00"},null,null,{"$f":"SUM(O10:O12,R10:R12,U10:U12,X10:X12,AA10:AA12,AD10:AD12,AG10:AG12)","v":0}]
[null,null,null,null,null,null,null,null,null,null,null,null,null,null,0,null,null,0,null,null,0,null,null,0,null,null,0,null,null,0,null,null,0]
[null,null,null,null,null,null,null,null,null,null,null,null,null,null,0,null,null,0,null,null,0,null,null,0,null,null,0,null,null,0,null,null,0]
[null,"Je",null,0,0,0,0,0,null,null,null,null,null,null,0,null,null,{"$f":"P13*Q13","v":0},null,null,0,null,null,0,null,null,0,null,null,0,null,null,0,{"$f":"IF(SUM(M13:AG15)>0,1,0)","v":"00:00:00"},null,null,{"$f":"SUM(O13:O15,R13:R15,U13:U15,X13:X15,AA13:AA15,AD13:AD15,AG13:AG15)","v":0}]
[null,null,null,null,null,null,null,null,null,null,null,null,null,null,0,null,null,0,null,null,0,null,null,0,null,null,0,null,null,0,null,null,0]
[null,null,null,null,null,null,null,null,null,null,null,null,null,null,0,null,null,0,null,null,0,null,null,0,null,null,0,null,null,0,null,null,0]
[null,"Ve",null,0,0,0,0,0,null,null,null,null,null,null,0,null,null,{"$f":"P16*Q16","v":0},null,null,0,null,null,0,null,null,0,null,null,0,null,null,0,{"$f":"IF(SUM(M16:AG18)>0,1,0)","v":"00:00:00"},null,null,{"$f":"SUM(O16:O18,R16:R18,U16:U18,X16:X18,AA16:AA18,AD16:AD18,AG16:AG18)","v":0}]
[null,null,null,null,null,null,null,null,null,null,null,null,null,null,0,null,null,0,null,null,0,null,null,0,null,null,0,null,null,0,null,null,0]
[null,null,null,null,null,null,null,null,null,null,null,null,null,null,0,null,null,0,null,null,0,null,null,0,null,null,0,null,null,0,null,null,0]
[null,"Sa",null,0,0,0,0,0,null,null,null,null,null,null,{"$f":"M19*N19","v":0},null,null,{"$f":"P19*Q19","v":0},null,null,{"$f":"S19*T19","v":0},null,null,{"$f":"V19*W19","v":0},null,null,{"$f":"Y19*Z19","v":0},null,null,{"$f":"AB19*AC19","v":0},null,null,{"$f":"AE19*AF19","v":0},{"$f":"IF(SUM(M19:AG21)>0,1,0)","v":"00:00:00"},null,null,{"$f":"SUM(O19:O21,R19:R21,U19:U21,X19:X21,AA19:AA21,AD19:AD21,AG19:AG21)","v":0}]
[null,null,null,null,null,null,null,null,null,null,null,null,null,null,{"$f":"M20*N20","v":0},null,null,0,null,null,{"$f":"S20*T20","v":0},null,null,{"$f":"V20*W20","v":0},null,null,{"$f":"Y20*Z20","v":0},null,null,{"$f":"AB20*AC20","v":0},null,null,{"$f":"AE20*AF20","v":0}]
[null,null,null,null,null,null,null,null,null,null,null,null,null,null,0,null,null,0,null,null,0,null,null,0,null,null,0,null,null,0,null,null,0]
[null,"Di",null,0,0,0,0,0,null,null,null,null,null,null,0,null,null,{"$f":"P22*Q22","v":0},null,null,0,null,null,0,null,null,0,null,null,0,null,null,0,{"$f":"IF(SUM(M22:AG24)>0,1,0)","v":"00:00:00"},null,null,{"$f":"SUM(O22:O24,R22:R24,U22:U24,X22:X24,AA22:AA24,AD22:AD24,AG22:AG24)","v":0}]
[null,null,null,null,null,null,null,null,null,null,null,null,null,null,0,null,null,0,null,null,0,null,null,0,null,null,0,null,null,0,null,null,0]
[null,null,null,null,null,null,null,null,null,null,null,null,null,null,0,null,null,0,null,null,0,null,null,0,null,null,0,null,null,0,null,null,0]
[null,null,null,null,null,null,null,null,null,null,"Total",null,{"$f":"SUM(M4:M24)","v":0},null,{"$f":"SUM(O4:O24)","v":0},{"$f":"SUM(P4:P24)","v":0},null,{"$f":"SUM(R4:R24)","v":0},{"$f":"SUM(S4:S24)","v":0},null,{"$f":"SUM(U4:U24)","v":0},{"$f":"SUM(V4:V24)","v":0},null,{"$f":"SUM(X4:X24)","v":0},{"$f":"SUM(Y4:Y24)","v":0},null,{"$f":"SUM(AA4:AA24)","v":0},{"$f":"SUM(AB4:AB24)","v":0},null,{"$f":"SUM(AD4:AD24)","v":0},{"$f":"SUM(AE4:AE24)","v":0},null,{"$f":"SUM(AG4:AG24)","v":0},null,"Charge totale",null,{"$f":"SUM(AK4:AK24)","v":0}]
[null,"avg.",null,{"$f":"IF(COUNTA(D4:D24)=0,\"\",AVERAGE(D4:D24))","v":0},{"$f":"IF(COUNTA(E4:E24)=0,\"\",AVERAGE(E4:E24))","v":0},{"$f":"IF(COUNTA(F4:F24)=0,\"\",AVERAGE(F4:F24))","v":0},{"$f":"IF(COUNTA(G4:G24)=0,\"\",AVERAGE(G4:G24))","v":0},{"$f":"IF(COUNTA(H4:H24)=0,\"\",COUNTIF(H4:H24,\"x\"))","v":0},null,null,"Zone",null,1,2,3,1,2,3,1,2,3,1,2,3,1,2,3,1,2,3,1,2,3,null,"Moyenne",null,{"$f":"AVERAGE(AK4:AK24)","v":0}]
[null,null,null,null,null,{"$f":"IF(COUNTA(F4:F24)=0,\"\",VAR(F4:F24))","v":0},{"$f":"IF(COUNTA(G4:G24)=0,\"\",STDEV(G4:G24))","v":0},"Divergence - durée du sommeil",null,null,"Unité par zone (RPE) ",null,{"$f":"IF('Répartition des intensités'!$AR$25=\"x\",COUNTIF(N4:N24,\"<3,5\"),COUNTIF(N4:N24,\"<4,5\"))","v":0},{"$f":"COUNT(N4:N24)-(M27+O27)","v":0},{"$f":"IF('Répartition des intensités'!$AR$25=\"x\",COUNTIF(N4:N24,\">5,5\"),COUNTIF(N4:N24,\">6,5\"))","v":0},{"$f":"IF('Répartition des intensités'!$AR$25=\"x\",COUNTIF(Q4:Q24,\"<3,5\"),COUNTIF(Q4:Q24,\"<4,5\"))","v":0},{"$f":"COUNT(Q4:Q24)-(P27+R27)","v":0},{"$f":"IF('Répartition des intensités'!$AR$25=\"x\",COUNTIF(Q4:Q24,\">5,5\"),COUNTIF(Q4:Q24,\">6,5\"))","v":0},{"$f":"IF('Répartition des intensités'!$AR$25=\"x\",COUNTIF(T4:T24,\"<3,5\"),COUNTIF(T4:T24,\"<4,5\"))","v":0},{"$f":"COUNT(T4:T24)-(S27+U27)","v":0},{"$f":"IF('Répartition des intensités'!$AR$25=\"x\",COUNTIF(T4:T24,\">5,5\"),COUNTIF(T4:T24,\">6,5\"))","v":0},{"$f":"IF('Répartition des intensités'!$AR$25=\"x\",COUNTIF(W4:W24,\"<3,5\"),COUNTIF(W4:W24,\"<4,5\"))","v":0},{"$f":"COUNT(W4:W24)-(V27+X27)","v":0},{"$f":"IF('Répartition des intensités'!$AR$25=\"x\",COUNTIF(W4:W24,\">5,5\"),COUNTIF(W4:W24,\">6,5\"))","v":0},{"$f":"IF('Répartition des intensités'!$AR$25=\"x\",COUNTIF(Z4:Z24,\"<3,5\"),COUNTIF(Z4:Z24,\"<4,5\"))","v":0},{"$f":"COUNT(Z4:Z24)-(Y27+AA27)","v":0},{"$f":"IF('Répartition des intensités'!$AR$25=\"x\",COUNTIF(Z4:Z24,\">5,5\"),COUNTIF(Z4:Z24,\">6,5\"))","v":0},{"$f":"IF('Répartition des intensités'!$AR$25=\"x\",COUNTIF(AC4:AC24,\"<3,5\"),COUNTIF(AC4:AC24,\"<4,5\"))","v":0},{"$f":"COUNT(AC4:AC24)-(AB27+AD27)","v":0},{"$f":"IF('Répartition des intensités'!$AR$25=\"x\",COUNTIF(AC4:AC24,\">5,5\"),COUNTIF(AC4:AC24,\">6,5\"))","v":0},{"$f":"IF('Répartition des intensités'!$AR$25=\"x\",COUNTIF(AF4:AF24,\"<3,5\"),COUNTIF(AF4:AF24,\"<4,5\"))","v":0},{"$f":"COUNT(AF4:AF24)-(AE27+AG27)","v":0},{"$f":"IF('Répartition des intensités'!$AR$25=\"x\",COUNTIF(AF4:AF24,\">5,5\"),COUNTIF(AF4:AF24,\">6,5\"))","v":0},null,"Divergence",null,{"$f":"STDEVP(AK4:AK24)","v":0}]
[null,null,null,"échelle de Foster",null,null,null,"RPE",null,null,"Temps par zone (RPE)",null,{"$f":"IF('Répartition des intensités'!$AR$25=\"x\",SUMIF(N4:N24,\"<3,5\",M4:M24),SUMIF(N4:N24,\"<4,5\",M4:M24))","v":0},{"$f":"IF(N27=0,0,SUM((M25)-(M28+O28)))","v":0},{"$f":"IF('Répartition des intensités'!$AR$25=\"x\",SUMIF(N4:N24,\">5,5\",M4:M24),SUMIF(N4:N24,\">6,5\",M4:M24))","v":0},{"$f":"IF('Répartition des intensités'!$AR$25=\"x\",SUMIF(Q4:Q24,\"<3,5\",P4:P24),SUMIF(Q4:Q24,\"<4,5\",P4:P24))","v":0},{"$f":"IF(Q27=0,0,SUM((P25)-(P28+R28)))","v":0},{"$f":"IF('Répartition des intensités'!$AR$25=\"x\",SUMIF(Q4:Q24,\">5,5\",P4:P24),SUMIF(Q4:Q24,\">6,5\",P4:P24))","v":0},{"$f":"IF('Répartition des intensités'!$AR$25=\"x\",SUMIF(T4:T24,\"<3,5\",S4:S24),SUMIF(T4:T24,\"<4,5\",S4:S24))","v":0},{"$f":"IF(T27=0,0,SUM((S25)-(S28+U28)))","v":0},{"$f":"IF('Répartition des intensités'!$AR$25=\"x\",SUMIF(T4:T24,\">5,5\",S4:S24),SUMIF(T4:T24,\">6,5\",S4:S24))","v":0},{"$f":"IF('Répartition des intensités'!$AR$25=\"x\",SUMIF(W4:W24,\"<3,5\",V4:V24),SUMIF(W4:W24,\"<4,5\",V4:V24))","v":0},{"$f":"IF(W27=0,0,SUM((V25)-(V28+X28)))","v":0},{"$f":"IF('Répartition des intensités'!$AR$25=\"x\",SUMIF(W4:W24,\">5,5\",V4:V24),SUMIF(W4:W24,\">6,5\",V4:V24))","v":0},{"$f":"IF('Répartition des intensités'!$AR$25=\"x\",SUMIF(Z4:Z24,\"<3,5\",Y4:Y24),SUMIF(Z4:Z24,\"<4,5\",Y4:Y24))","v":0},{"$f":"IF(Z27=0,0,SUM((Y25)-(Y28+AA28)))","v":0},{"$f":"IF('Répartition des intensités'!$AR$25=\"x\",SUMIF(Z4:Z24,\">5,5\",Y4:Y24),SUMIF(Z4:Z24,\">6,5\",Y4:Y24))","v":0},{"$f":"IF('Répartition des intensités'!$AR$25=\"x\",SUMIF(AC4:AC24,\"<3,5\",AB4:AB24),SUMIF(AC4:AC24,\"<4,5\",AB4:AB24))","v":0},{"$f":"IF(AC27=0,0,SUM((AB25)-(AB28+AD28)))","v":0},{"$f":"IF('Répartition des intensités'!$AR$25=\"x\",SUMIF(AC4:AC24,\">5,5\",AB4:AB24),SUMIF(AC4:AC24,\">6,5\",AB4:AB24))","v":0},{"$f":"IF('Répartition des intensités'!$AR$25=\"x\",SUMIF(AF4:AF24,\"<3,5\",AE4:AE24),SUMIF(AF4:AF24,\"<4,5\",AE4:AE24))","v":0},{"$f":"IF(AF27=0,0,SUM((AE25)-(AE28+AG28)))","v":0},{"$f":"IF('Répartition des intensités'!$AR$25=\"x\",SUMIF(AF4:AF24,\">5,5\",AE4:AE24),SUMIF(AF4:AF24,\">6,5\",AE4:AE24))","v":0}]
[null,null,null,"Comme au repos",null,null,null,0,null,"REG","Est-ce que j'ai l'impression d'avoir récupéré en me levant?"]
[null,null,null,"très facile",null,null,null,1]
[null,null,null,"facile",null,null,null,2,null,1,"… pas du tout récupéré",null,null,null,null,null,null,null,null,null,null,null,null,null,null,null,null,null,null,null,null,null,null,null,"Entrainements",null,null,null,"Rapport de santé"]
[null,null,null,null,null,null,null,3,null,2,"… un peu récupéré",null,null,null,null,null,null,null,null,null,null,null,null,null,null,null,null,null,null,null,null,null,null,null,"Jours d'entrainement",null,{"$f":"IF(SUM(AH4:AH24)=0,\"\",SUM(AH4:AH24))","v":""}]
[null,null,null,"Assez dur",null,null,null,4,null,3,"… récupéré",null,null,null,null,null,null,null,null,null,null,{"$f":"B4","v":"Lu"},{"$f":"AK4","v":0},null,null,null,null,null,null,null,null,null,null,null,"Entrainements",null,{"$f":"IF(AK32=\"\",\"\",SUM(M27:AG27))","v":""}]
[null,null,null,"dur",null,null,null,5,null,4,"…  en forme",null,null,null,null,null,null,null,null,null,null,{"$f":"B7","v":"Ma"},{"$f":"AK7","v":0},null,null,null,null,null,null,null,null,null,null,null,"Heures d'entrainement",null,{"$f":"IF(AK32=\"\",\"\",SUM(M25,P25,S25,Y25,AB25,V25,AE25)/60)","v":""},null,{"$f":"IF($AK$32=\"\",\"\",AK32-AM36-AM44-AM52)","v":""},"Aucune limitation",null,null,null,0]
[null,null,null,null,null,null,null,6,null,5,"… très en forme",null,null,null,null,null,null,null,null,null,null,{"$f":"B10","v":"Me"},{"$f":"AK10","v":0},null,null,null,null,null,null,null,null,null,null,null,"Charge de l'entrainement",null,{"$f":"IF(AK32=\"\",\"\",SUM(AK25))","v":""}]
[null,null,null,"très dur",null,null,null,7,null,null,null,null,null,null,null,null,null,null,null,null,null,{"$f":"B13","v":"Je"},{"$f":"AK13","v":0},null,null,null,null,null,null,null,null,null,null,null,"Monotonie",null,{"$f":"IF(AK27=0,0,(AVERAGE(AK4:AK24))/AK27)","v":0},null,{"$f":"SUM(AM37:AM42)","v":0},"Limitation pour cause de douleurs"]
[null,null,null,null,null,null,null,8,null,"Nombre de matchs",null,null,null,null,null,null,null,null,null,null,null,{"$f":"B16","v":"Ve"},{"$f":"AK16","v":0},null,null,null,null,null,null,null,null,null,null,null,"Efforts à l'entrainement",null,{"$f":"IF(AK32=\"\",\"\",AK35*AK36)","v":""},null,{"$f":"COUNTIF($H$4:$H$24,$AR37)","v":0},"Doigt",null,null,null,1]
[null,null,null,"extrèmement dur",null,null,null,9,null,null,null,null,null,null,null,null,null,null,null,null,null,{"$f":"B19","v":"Sa"},{"$f":"AK19","v":0},null,null,null,null,null,null,null,null,null,null,null,null,null,null,null,0,"Épaule",null,null,null,2]
[null,null,null,"Comme mon entrainement le plus dur",null,null,null,10,null,1,"… 3 sets et plus",null,null,null,null,null,null,null,null,null,null,{"$f":"B22","v":"Di"},{"$f":"AK22","v":0},null,null,null,null,null,null,null,null,null,null,null,"Compétition",null,null,null,0,"Dos",null,null,null,3]
[null,null,null,null,null,null,null,null,null,0.5,"… moins de 3 sets",null,null,null,null,null,null,null,null,null,null,null,null,null,null,null,null,null,null,null,null,null,null,null,"Matchs de volleyball",null,{"$f":"IF(AK32=\"\",\"\",SUM(AM4:AM24))","v":""},null,0,"Genou",null,null,null,4]
[null,null,null,null,null,null,null,null,null,null,null,null,null,null,null,null,null,null,null,null,null,null,null,null,null,null,null,null,null,null,null,null,null,null,"Sets de volleyball",null,{"$f":"IF(AK32=\"\",\"\",SUM(AN4:AN24))","v":""},null,0,"Cheville",null,null,null,5]
[null,null,null,null,null,null,null,null,null,"Sets joués",null,null,null,null,null,null,null,null,null,null,null,null,null,null,null,null,null,null,null,null,null,null,null,null,"Matchs de beach volley",null,{"$f":"IF(AK35=\"\",\"\",SUM(AO4:AO24))","v":""},null,0,"Autre",null,null,null,6]
[null,null,null,null,null,null,null,null,null,1,"… depuis le début et durant tout le set",null,null,null,null,null,null,null,null,null,null,null,null,null,null,null,null,null,null,null,null,null,null,null,"Sets de beach volley",null,{"$f":"IF(AK35=\"\",\"\",SUM(AP4:AP24))","v":""}]
[null,null,null,null,null,null,null,null,null,0.5,"… entré/sorti en cours, beaucoup joué",null,null,null,null,null,null,null,null,null,null,null,null,null,null,null,null,null,null,null,null,null,null,null,null,null,null,null,{"$f":"SUM(AM45:AM50)","v":0},"Absence pour cause de blessure"]
[null,null,null,null,null,null,null,null,null,0.1,"… entré/sorti en cours, peu joué",null,null,null,null,null,null,null,null,null,null,null,null,null,null,null,null,null,null,null,null,null,null,null,"Satisfaction",null,null,null,{"$f":"COUNTIF($H$4:$H$24,$AR45)","v":0},"Doigt",null,null,null,11]
[null,null,null,null,null,null,null,null,null,null,null,null,null,null,null,null,null,null,null,null,null,null,null,null,null,null,null,null,null,null,null,null,null,null,"Satisfaction de l'entrainement/match J",null,{"$f":"IF(AK32=\"\",\"\",SUM(AQ4:AQ24)/AK32)","v":""},null,0,"Épaule",null,null,null,12]
[null,null,null,null,null,null,null,null,null,"J","Es-tu content de la qualité de ton",null,null,null,null,null,null,null,null,null,null,null,null,null,null,null,null,null,null,null,null,null,null,null,null,null,null,null,0,"Dos",null,null,null,13]
[null,null,null,null,null,null,null,null,null,null,"entrainement/compétition?",null,null,null,null,null,null,null,null,null,null,null,null,null,null,null,null,null,null,null,null,null,null,null,"Santé",null,null,null,0,"Genou",null,null,null,14]
[null,null,null,null,null,null,null,null,null,1,"… pas content",null,null,null,null,null,null,null,null,null,null,null,null,null,null,null,null,null,null,null,null,null,null,null,"Limitation pour cause de douleurs",null,{"$f":"AM36","v":0},null,0,"Cheville",null,null,null,15]
[null,null,null,null,null,null,null,null,null,2,"… plutôt pas content",null,null,null,null,null,null,null,null,null,null,null,null,null,null,null,null,null,null,null,null,null,null,null,"Absence pour cause de blessure",null,{"$f":"AM44","v":0},null,0,"Autre",null,null,null,16]
[null,null,null,null,null,null,null,null,null,3,"… moyen",null,null,null,null,null,null,null,null,null,null,null,null,null,null,null,null,null,null,null,null,null,null,null,"Absence pour cause de maladie",null,{"$f":"AM52","v":0}]
[null,null,null,null,null,null,null,null,null,4,"… content",null,null,null,null,null,null,null,null,null,null,null,null,null,null,null,null,null,null,null,null,null,null,null,null,null,null,null,{"$f":"SUM(AM53:AM59)","v":0},"Absence pour cause de maladie"]
[null,null,null,null,null,null,null,null,null,5,"… très content!",null,null,null,null,null,null,null,null,null,null,null,null,null,null,null,null,null,null,null,null,null,null,null,null,null,null,null,{"$f":"COUNTIF($H$4:$H$24,$AR53)","v":0},"Maladie",null,null,null,21]
[]
[]
[]
[]
[]
[]
[]
[]
[]
[]
[]
[]
[]
[]
[]
[]
[]
[]
[]
[]
[]
[]
[]
[]
[]
[]
[]
[]
[]
[]
[]
[]
[]
[]
[]
[]
[]
[]
[]
[]
[]
[]
[]
[]
[]
[]
[]
[]
[]
[]
[]
[]
[]
[]
[]
[]
[]
[]
[]
[]
[]
[]
[]
[]
[]
[]
[]
[]
[]
[]
[]
[]
[]
[]
[]
[]
[]
[]
[]
[]
[null,null,null,null,null,null,null,null,null,null,null,null,null,null,null,null,null,null,null,null,null,null,null,null,{"$f":"Z134-1","v":6},7,8,9,10,11,12,{"$f":"D1","v":13}]
[]
[]
[]
[]
[]
[]
[]
[]
[]
[]
[]
[]
[]
[]
[]
[]
[]
[]
[]
[]
[null,null,null,null,null,null,null,null,null,null,null,null,null,null,null,null,null,null,null,null,null,null,null,null,null,null,null,null,null,null,null,null,{"$f":"AF134+1","v":14}]

{"sheet":"14","index":42,"n_rows":155,"n_cols":45,"rows_kept":155,"cut":false,"hidden":false,"merged":[[9,4,11,4],[12,4,14,4],[3,7,5,7],[15,7,17,7],[27,3,27,6],[15,5,17,5],[18,5,20,5],[28,10,29,10],[15,9,15,10],[1,43,2,43],[30,34,30,36],[30,38,31,43],[0,5,0,6],[1,44,2,44],[29,3,29,6],[30,3,30,6],[35,3,35,6],[36,3,36,6],[18,36,20,36],[21,36,23,36],[1,40,2,40],[1,21,1,23],[1,41,2,41],[15,36,17,36],[1,38,2,38],[1,36,2,36],[1,34,2,34],[1,30,1,32],[1,27,1,29],[1,24,1,26],[9,36,11,36],[12,36,14,36],[1,39,2,39],[28,9,29,9],[28,3,28,6],[37,3,37,6],[38,3,38,6],[31,3,31,6],[32,3,32,6],[33,3,33,6],[34,3,34,6],[46,9,47,9],[3,1,5,1],[6,36,8,36],[3,3,5,3],[3,6,5,6],[3,9,3,10],[4,9,4,10],[5,9,5,10],[3,36,5,36],[6,1,8,1],[6,7,8,7],[6,3,8,3],[6,6,8,6],[6,9,6,10],[8,9,8,10],[9,1,11,1],[9,3,11,3],[9,6,11,6],[9,9,9,10],[1,12,1,14],[18,1,20,1],[18,3,20,3],[18,6,20,6],[1,18,1,20],[11,9,11,10],[7,9,7,10],[10,9,10,10],[9,7,11,7],[14,9,14,10],[12,7,14,7],[3,5,5,5],[6,5,8,5],[9,5,11,5],[12,5,14,5],[1,1,2,1],[1,15,1,17],[3,4,5,4],[6,4,8,4],[1,9,2,10],[12,1,14,1],[12,3,14,3],[12,6,14,6],[12,9,12,10],[13,9,13,10],[18,9,18,10],[19,9,19,10],[20,9,20,10],[18,7,20,7],[18,4,20,4],[15,1,17,1],[15,3,17,3],[15,6,17,6],[15,4,17,4],[16,9,16,10],[17,9,17,10],[38,34,38,36],[44,34,44,36],[47,34,47,36],[21,1,23,1],[21,3,23,3],[21,5,23,5],[21,6,23,6],[21,9,21,10],[23,9,23,10],[21,7,23,7],[21,4,23,4],[22,9,22,10],[29,21,29,26],[36,9,37,9]]}
[null,null,"Woche",{"$f":"INT(MOD(INT((F1-2)/7)+0.6,52+5/28))+1","v":14},{"$f":"D1+1000","v":1014},{"$f":"'13'!F1+7","v":"2019-04-01"},null,"-",null,{"$f":"F1+6","v":"2019-04-07"},null,null,null,null,null,null,null,null,null,null,null,null,null,null,null,null,null,null,null,null,null,null,{"$f":"'Aperçu de la charge'!D2","v":"Prénom Nom"},null,{"$f":"'Aperçu de la charge'!N2","v":"2018/2019"}]
[null,"Jour",null,"Poids","REG","qualité sommeil","durée sommeil","Santé",null,"Description de l'entrainement",null,null,"Club - VB",null,null,"TS/ Nati - VB",null,null,"Club - BVB",null,null,"TS/ Nati - BVB",null,null,"Force - fitness",null,null,"Compet. - VB",null,null,"Compet. - BVB",null,null,null,"Réflexion",null,"Charge/\njour",null,"matchs VB","Sets VB","Matchs BVB","Sets BVB","J","Autre\n (Rég, mentale)","Mental- oder Sonstiges Training"]
[null,null,null,"[kg]","[1 - 5]","[1-5]","[Std]","Nr.",null,null,null,null,"Durée","RPE","Charge","Durée","RPE","Charge","Durée","RPE","Charge","Durée","RPE","Charge","Durée","RPE","Charge","Durée","RPE","Charge","Durée","RPE","Charge",null,null,null,null,null,null,null,null,null,"[1-5]"]
[null,"Lu",null,0,0,0,0,0,null,null,null,null,null,null,{"$f":"M4*N4","v":0},null,null,{"$f":"P4*Q4","v":0},null,null,{"$f":"S4*T4","v":0},null,null,{"$f":"V4*W4","v":0},null,null,{"$f":"Y4*Z4","v":0},null,null,{"$f":"AB4*AC4","v":0},null,null,{"$f":"AE4*AF4","v":0},{"$f":"IF(SUM(M4:AG6)>0,1,0)","v":"00:00:00"},null,null,{"$f":"SUM(O4:O6,R4:R6,U4:U6,X4:X6,AA4:AA6,AD4:AD6,AG4:AG6)","v":0}]
[null,null,null,null,null,null,null,null,null,null,null,null,null,null,{"$f":"M5*N5","v":0},null,null,{"$f":"P5*Q5","v":0},null,null,{"$f":"S5*T5","v":0},null,null,{"$f":"V5*W5","v":0},null,null,{"$f":"Y5*Z5","v":0},null,null,{"$f":"AB5*AC5","v":0},null,null,{"$f":"AE5*AF5","v":0}]
[null,null,null,null,null,null,null,null,null,null,null,null,null,null,0,null,null,0,null,null,0,null,null,0,null,null,0,null,null,0,null,null,0]
[null,"Ma",null,0,0,0,0,0,null,null,null,null,null,null,0,null,null,{"$f":"P7*Q7","v":0},null,null,0,null,null,0,null,null,0,null,null,0,null,null,0,{"$f":"IF(SUM(M7:AG9)>0,1,0)","v":"00:00:00"},null,null,{"$f":"SUM(O7:O9,R7:R9,U7:U9,X7:X9,AA7:AA9,AD7:AD9,AG7:AG9)","v":0}]
[null,null,null,null,null,null,null,null,null,null,null,null,null,null,0,null,null,0,null,null,0,null,null,0,null,null,0,null,null,0,null,null,0]
[null,null,null,null,null,null,null,null,null,null,null,null,null,null,0,null,null,0,null,null,0,null,null,0,null,null,0,null,null,0,null,null,0]
[null,"Me",null,0,0,0,0,0,null,null,null,null,null,null,0,null,null,{"$f":"P10*Q10","v":0},null,null,0,null,null,0,null,null,0,null,null,0,null,null,0,{"$f":"IF(SUM(M10:AG12)>0,1,0)","v":"00:00:00"},null,null,{"$f":"SUM(O10:O12,R10:R12,U10:U12,X10:X12,AA10:AA12,AD10:AD12,AG10:AG12)","v":0}]
[null,null,null,null,null,null,null,null,null,null,null,null,null,null,0,null,null,0,null,null,0,null,null,0,null,null,0,null,null,0,null,null,0]
[null,null,null,null,null,null,null,null,null,null,null,null,null,null,0,null,null,0,null,null,0,null,null,0,null,null,0,null,null,0,null,null,0]
[null,"Je",null,0,0,0,0,0,null,null,null,null,null,null,0,null,null,{"$f":"P13*Q13","v":0},null,null,0,null,null,0,null,null,0,null,null,0,null,null,0,{"$f":"IF(SUM(M13:AG15)>0,1,0)","v":"00:00:00"},null,null,{"$f":"SUM(O13:O15,R13:R15,U13:U15,X13:X15,AA13:AA15,AD13:AD15,AG13:AG15)","v":0}]
[null,null,null,null,null,null,null,null,null,null,null,null,null,null,0,null,null,0,null,null,0,null,null,0,null,null,0,null,null,0,null,null,0]
[null,null,null,null,null,null,null,null,null,null,null,null,null,null,0,null,null,0,null,null,0,null,null,0,null,null,0,null,null,0,null,null,0]
[null,"Ve",null,0,0,0,0,0,null,null,null,null,null,null,0,null,null,{"$f":"P16*Q16","v":0},null,null,0,null,null,0,null,null,0,null,null,0,null,null,0,{"$f":"IF(SUM(M16:AG18)>0,1,0)","v":"00:00:00"},null,null,{"$f":"SUM(O16:O18,R16:R18,U16:U18,X16:X18,AA16:AA18,AD16:AD18,AG16:AG18)","v":0}]
[null,null,null,null,null,null,null,null,null,null,null,null,null,null,0,null,null,0,null,null,0,null,null,0,null,null,0,null,null,0,null,null,0]
[null,null,null,null,null,null,null,null,null,null,null,null,null,null,0,null,null,0,null,null,0,null,null,0,null,null,0,null,null,0,null,null,0]
[null,"Sa",null,0,0,0,0,0,null,null,null,null,null,null,{"$f":"M19*N19","v":0},null,null,{"$f":"P19*Q19","v":0},null,null,{"$f":"S19*T19","v":0},null,null,{"$f":"V19*W19","v":0},null,null,{"$f":"Y19*Z19","v":0},null,null,{"$f":"AB19*AC19","v":0},null,null,{"$f":"AE19*AF19","v":0},{"$f":"IF(SUM(M19:AG21)>0,1,0)","v":"00:00:00"},null,null,{"$f":"SUM(O19:O21,R19:R21,U19:U21,X19:X21,AA19:AA21,AD19:AD21,AG19:AG21)","v":0}]
[null,null,null,null,null,null,null,null,null,null,null,null,null,null,{"$f":"M20*N20","v":0},null,null,0,null,null,{"$f":"S20*T20","v":0},null,null,{"$f":"V20*W20","v":0},null,null,{"$f":"Y20*Z20","v":0},null,null,{"$f":"AB20*AC20","v":0},null,null,{"$f":"AE20*AF20","v":0}]
[null,null,null,null,null,null,null,null,null,null,null,null,null,null,0,null,null,0,null,null,0,null,null,0,null,null,0,null,null,0,null,null,0]
[null,"Di",null,0,0,0,0,0,null,null,null,null,null,null,0,null,null,{"$f":"P22*Q22","v":0},null,null,0,null,null,0,null,null,0,null,null,0,null,null,0,{"$f":"IF(SUM(M22:AG24)>0,1,0)","v":"00:00:00"},null,null,{"$f":"SUM(O22:O24,R22:R24,U22:U24,X22:X24,AA22:AA24,AD22:AD24,AG22:AG24)","v":0}]
[null,null,null,null,null,null,null,null,null,null,null,null,null,null,0,null,null,0,null,null,0,null,null,0,null,null,0,null,null,0,null,null,0]
[null,null,null,null,null,null,null,null,null,null,null,null,null,null,0,null,null,0,null,null,0,null,null,0,null,null,0,null,null,0,null,null,0]
[null,null,null,null,null,null,null,null,null,null,"Total",null,{"$f":"SUM(M4:M24)","v":0},null,{"$f":"SUM(O4:O24)","v":0},{"$f":"SUM(P4:P24)","v":0},null,{"$f":"SUM(R4:R24)","v":0},{"$f":"SUM(S4:S24)","v":0},null,{"$f":"SUM(U4:U24)","v":0},{"$f":"SUM(V4:V24)","v":0},null,{"$f":"SUM(X4:X24)","v":0},{"$f":"SUM(Y4:Y24)","v":0},null,{"$f":"SUM(AA4:AA24)","v":0},{"$f":"SUM(AB4:AB24)","v":0},null,{"$f":"SUM(AD4:AD24)","v":0},{"$f":"SUM(AE4:AE24)","v":0},null,{"$f":"SUM(AG4:AG24)","v":0},null,"Charge totale",null,{"$f":"SUM(AK4:AK24)","v":0}]
[null,"avg.",null,{"$f":"IF(COUNTA(D4:D24)=0,\"\",AVERAGE(D4:D24))","v":0},{"$f":"IF(COUNTA(E4:E24)=0,\"\",AVERAGE(E4:E24))","v":0},{"$f":"IF(COUNTA(F4:F24)=0,\"\",AVERAGE(F4:F24))","v":0},{"$f":"IF(COUNTA(G4:G24)=0,\"\",AVERAGE(G4:G24))","v":0},{"$f":"IF(COUNTA(H4:H24)=0,\"\",COUNTIF(H4:H24,\"x\"))","v":0},null,null,"Zone",null,1,2,3,1,2,3,1,2,3,1,2,3,1,2,3,1,2,3,1,2,3,null,"Moyenne",null,{"$f":"AVERAGE(AK4:AK24)","v":0}]
[null,null,null,null,null,{"$f":"IF(COUNTA(F4:F24)=0,\"\",VAR(F4:F24))","v":0},{"$f":"IF(COUNTA(G4:G24)=0,\"\",STDEV(G4:G24))","v":0},"Divergence - durée du sommeil",null,null,"Unité par zone (RPE) ",null,{"$f":"IF('Répartition des intensités'!$AR$25=\"x\",COUNTIF(N4:N24,\"<3,5\"),COUNTIF(N4:N24,\"<4,5\"))","v":0},{"$f":"COUNT(N4:N24)-(M27+O27)","v":0},{"$f":"IF('Répartition des intensités'!$AR$25=\"x\",COUNTIF(N4:N24,\">5,5\"),COUNTIF(N4:N24,\">6,5\"))","v":0},{"$f":"IF('Répartition des intensités'!$AR$25=\"x\",COUNTIF(Q4:Q24,\"<3,5\"),COUNTIF(Q4:Q24,\"<4,5\"))","v":0},{"$f":"COUNT(Q4:Q24)-(P27+R27)","v":0},{"$f":"IF('Répartition des intensités'!$AR$25=\"x\",COUNTIF(Q4:Q24,\">5,5\"),COUNTIF(Q4:Q24,\">6,5\"))","v":0},{"$f":"IF('Répartition des intensités'!$AR$25=\"x\",COUNTIF(T4:T24,\"<3,5\"),COUNTIF(T4:T24,\"<4,5\"))","v":0},{"$f":"COUNT(T4:T24)-(S27+U27)","v":0},{"$f":"IF('Répartition des intensités'!$AR$25=\"x\",COUNTIF(T4:T24,\">5,5\"),COUNTIF(T4:T24,\">6,5\"))","v":0},{"$f":"IF('Répartition des intensités'!$AR$25=\"x\",COUNTIF(W4:W24,\"<3,5\"),COUNTIF(W4:W24,\"<4,5\"))","v":0},{"$f":"COUNT(W4:W24)-(V27+X27)","v":0},{"$f":"IF('Répartition des intensités'!$AR$25=\"x\",COUNTIF(W4:W24,\">5,5\"),COUNTIF(W4:W24,\">6,5\"))","v":0},{"$f":"IF('Répartition des intensités'!$AR$25=\"x\",COUNTIF(Z4:Z24,\"<3,5\"),COUNTIF(Z4:Z24,\"<4,5\"))","v":0},{"$f":"COUNT(Z4:Z24)-(Y27+AA27)","v":0},{"$f":"IF('Répartition des intensités'!$AR$25=\"x\",COUNTIF(Z4:Z24,\">5,5\"),COUNTIF(Z4:Z24,\">6,5\"))","v":0},{"$f":"IF('Répartition des intensités'!$AR$25=\"x\",COUNTIF(AC4:AC24,\"<3,5\"),COUNTIF(AC4:AC24,\"<4,5\"))","v":0},{"$f":"COUNT(AC4:AC24)-(AB27+AD27)","v":0},{"$f":"IF('Répartition des intensités'!$AR$25=\"x\",COUNTIF(AC4:AC24,\">5,5\"),COUNTIF(AC4:AC24,\">6,5\"))","v":0},{"$f":"IF('Répartition des intensités'!$AR$25=\"x\",COUNTIF(AF4:AF24,\"<3,5\"),COUNTIF(AF4:AF24,\"<4,5\"))","v":0},{"$f":"COUNT(AF4:AF24)-(AE27+AG27)","v":0},{"$f":"IF('Répartition des intensités'!$AR$25=\"x\",COUNTIF(AF4:AF24,\">5,5\"),COUNTIF(AF4:AF24,\">6,5\"))","v":0},null,"Divergence",null,{"$f":"STDEVP(AK4:AK24)","v":0}]
[null,null,null,"échelle de Foster",null,null,null,"RPE",null,null,"Temps par zone (RPE)",null,{"$f":"IF('Répartition des intensités'!$AR$25=\"x\",SUMIF(N4:N24,\"<3,5\",M4:M24),SUMIF(N4:N24,\"<4,5\",M4:M24))","v":0},{"$f":"IF(N27=0,0,SUM((M25)-(M28+O28)))","v":0},{"$f":"IF('Répartition des intensités'!$AR$25=\"x\",SUMIF(N4:N24,\">5,5\",M4:M24),SUMIF(N4:N24,\">6,5\",M4:M24))","v":0},{"$f":"IF('Répartition des intensités'!$AR$25=\"x\",SUMIF(Q4:Q24,\"<3,5\",P4:P24),SUMIF(Q4:Q24,\"<4,5\",P4:P24))","v":0},{"$f":"IF(Q27=0,0,SUM((P25)-(P28+R28)))","v":0},{"$f":"IF('Répartition des intensités'!$AR$25=\"x\",SUMIF(Q4:Q24,\">5,5\",P4:P24),SUMIF(Q4:Q24,\">6,5\",P4:P24))","v":0},{"$f":"IF('Répartition des intensités'!$AR$25=\"x\",SUMIF(T4:T24,\"<3,5\",S4:S24),SUMIF(T4:T24,\"<4,5\",S4:S24))","v":0},{"$f":"IF(T27=0,0,SUM((S25)-(S28+U28)))","v":0},{"$f":"IF('Répartition des intensités'!$AR$25=\"x\",SUMIF(T4:T24,\">5,5\",S4:S24),SUMIF(T4:T24,\">6,5\",S4:S24))","v":0},{"$f":"IF('Répartition des intensités'!$AR$25=\"x\",SUMIF(W4:W24,\"<3,5\",V4:V24),SUMIF(W4:W24,\"<4,5\",V4:V24))","v":0},{"$f":"IF(W27=0,0,SUM((V25)-(V28+X28)))","v":0},{"$f":"IF('Répartition des intensités'!$AR$25=\"x\",SUMIF(W4:W24,\">5,5\",V4:V24),SUMIF(W4:W24,\">6,5\",V4:V24))","v":0},{"$f":"IF('Répartition des intensités'!$AR$25=\"x\",SUMIF(Z4:Z24,\"<3,5\",Y4:Y24),SUMIF(Z4:Z24,\"<4,5\",Y4:Y24))","v":0},{"$f":"IF(Z27=0,0,SUM((Y25)-(Y28+AA28)))","v":0},{"$f":"IF('Répartition des intensités'!$AR$25=\"x\",SUMIF(Z4:Z24,\">5,5\",Y4:Y24),SUMIF(Z4:Z24,\">6,5\",Y4:Y24))","v":0},{"$f":"IF('Répartition des intensités'!$AR$25=\"x\",SUMIF(AC4:AC24,\"<3,5\",AB4:AB24),SUMIF(AC4:AC24,\"<4,5\",AB4:AB24))","v":0},{"$f":"IF(AC27=0,0,SUM((AB25)-(AB28+AD28)))","v":0},{"$f":"IF('Répartition des intensités'!$AR$25=\"x\",SUMIF(AC4:AC24,\">5,5\",AB4:AB24),SUMIF(AC4:AC24,\">6,5\",AB4:AB24))","v":0},{"$f":"IF('Répartition des intensités'!$AR$25=\"x\",SUMIF(AF4:AF24,\"<3,5\",AE4:AE24),SUMIF(AF4:AF24,\"<4,5\",AE4:AE24))","v":0},{"$f":"IF(AF27=0,0,SUM((AE25)-(AE28+AG28)))","v":0},{"$f":"IF('Répartition des intensités'!$AR$25=\"x\",SUMIF(AF4:AF24,\">5,5\",AE4:AE24),SUMIF(AF4:AF24,\">6,5\",AE4:AE24))","v":0}]
[null,null,null,"Comme au repos",null,null,null,0,null,"REG","Est-ce que j'ai l'impression d'avoir récupéré en me levant?"]
[null,null,null,"très facile",null,null,null,1]
[null,null,null,"facile",null,null,null,2,null,1,"… pas du tout récupéré",null,null,null,null,null,null,null,null,null,null,null,null,null,null,null,null,null,null,null,null,null,null,null,"Entrainements",null,null,null,"Rapport de santé"]
[null,null,null,null,null,null,null,3,null,2,"… un peu récupéré",null,null,null,null,null,null,null,null,null,null,null,null,null,null,null,null,null,null,null,null,null,null,null,"Jours d'entrainement",null,{"$f":"IF(SUM(AH4:AH24)=0,\"\",SUM(AH4:AH24))","v":""}]
[null,null,null,"Assez dur",null,null,null,4,null,3,"… récupéré",null,null,null,null,null,null,null,null,null,null,{"$f":"B4","v":"Lu"},{"$f":"AK4","v":0},null,null,null,null,null,null,null,null,null,null,null,"Entrainements",null,{"$f":"IF(AK32=\"\",\"\",SUM(M27:AG27))","v":""}]
[null,null,null,"dur",null,null,null,5,null,4,"…  en forme",null,null,null,null,null,null,null,null,null,null,{"$f":"B7","v":"Ma"},{"$f":"AK7","v":0},null,null,null,null,null,null,null,null,null,null,null,"Heures d'entrainement",null,{"$f":"IF(AK32=\"\",\"\",SUM(M25,P25,S25,Y25,AB25,V25,AE25)/60)","v":""},null,{"$f":"IF($AK$32=\"\",\"\",AK32-AM36-AM44-AM52)","v":""},"Aucune limitation",null,null,null,0]
[null,null,null,null,null,null,null,6,null,5,"… très en forme",null,null,null,null,null,null,null,null,null,null,{"$f":"B10","v":"Me"},{"$f":"AK10","v":0},null,null,null,null,null,null,null,null,null,null,null,"Charge de l'entrainement",null,{"$f":"IF(AK32=\"\",\"\",SUM(AK25))","v":""}]
[null,null,null,"très dur",null,null,null,7,null,null,null,null,null,null,null,null,null,null,null,null,null,{"$f":"B13","v":"Je"},{"$f":"AK13","v":0},null,null,null,null,null,null,null,null,null,null,null,"Monotonie",null,{"$f":"IF(AK27=0,0,(AVERAGE(AK4:AK24))/AK27)","v":0},null,{"$f":"SUM(AM37:AM42)","v":0},"Limitation pour cause de douleurs"]
[null,null,null,null,null,null,null,8,null,"Nombre de matchs",null,null,null,null,null,null,null,null,null,null,null,{"$f":"B16","v":"Ve"},{"$f":"AK16","v":0},null,null,null,null,null,null,null,null,null,null,null,"Efforts à l'entrainement",null,{"$f":"IF(AK32=\"\",\"\",AK35*AK36)","v":""},null,{"$f":"COUNTIF($H$4:$H$24,$AR37)","v":0},"Doigt",null,null,null,1]
[null,null,null,"extrèmement dur",null,null,null,9,null,null,null,null,null,null,null,null,null,null,null,null,null,{"$f":"B19","v":"Sa"},{"$f":"AK19","v":0},null,null,null,null,null,null,null,null,null,null,null,null,null,null,null,0,"Épaule",null,null,null,2]
[null,null,null,"Comme mon entrainement le plus dur",null,null,null,10,null,1,"… 3 sets et plus",null,null,null,null,null,null,null,null,null,null,{"$f":"B22","v":"Di"},{"$f":"AK22","v":0},null,null,null,null,null,null,null,null,null,null,null,"Compétition",null,null,null,0,"Dos",null,null,null,3]
[null,null,null,null,null,null,null,null,null,0.5,"… moins de 3 sets",null,null,null,null,null,null,null,null,null,null,null,null,null,null,null,null,null,null,null,null,null,null,null,"Matchs de volleyball",null,{"$f":"IF(AK32=\"\",\"\",SUM(AM4:AM24))","v":""},null,0,"Genou",null,null,null,4]
[null,null,null,null,null,null,null,null,null,null,null,null,null,null,null,null,null,null,null,null,null,null,null,null,null,null,null,null,null,null,null,null,null,null,"Sets de volleyball",null,{"$f":"IF(AK32=\"\",\"\",SUM(AN4:AN24))","v":""},null,0,"Cheville",null,null,null,5]
[null,null,null,null,null,null,null,null,null,"Sets joués",null,null,null,null,null,null,null,null,null,null,null,null,null,null,null,null,null,null,null,null,null,null,null,null,"Matchs de beach volley",null,{"$f":"IF(AK35=\"\",\"\",SUM(AO4:AO24))","v":""},null,0,"Autre",null,null,null,6]
[null,null,null,null,null,null,null,null,null,1,"… depuis le début et durant tout le set",null,null,null,null,null,null,null,null,null,null,null,null,null,null,null,null,null,null,null,null,null,null,null,"Sets de beach volley",null,{"$f":"IF(AK35=\"\",\"\",SUM(AP4:AP24))","v":""}]
[null,null,null,null,null,null,null,null,null,0.5,"… entré/sorti en cours, beaucoup joué",null,null,null,null,null,null,null,null,null,null,null,null,null,null,null,null,null,null,null,null,null,null,null,null,null,null,null,{"$f":"SUM(AM45:AM50)","v":0},"Absence pour cause de blessure"]
[null,null,null,null,null,null,null,null,null,0.1,"… entré/sorti en cours, peu joué",null,null,null,null,null,null,null,null,null,null,null,null,null,null,null,null,null,null,null,null,null,null,null,"Satisfaction",null,null,null,{"$f":"COUNTIF($H$4:$H$24,$AR45)","v":0},"Doigt",null,null,null,11]
[null,null,null,null,null,null,null,null,null,null,null,null,null,null,null,null,null,null,null,null,null,null,null,null,null,null,null,null,null,null,null,null,null,null,"Satisfaction de l'entrainement/match J",null,{"$f":"IF(AK32=\"\",\"\",SUM(AQ4:AQ24)/AK32)","v":""},null,0,"Épaule",null,null,null,12]
[null,null,null,null,null,null,null,null,null,"J","Es-tu content de la qualité de ton",null,null,null,null,null,null,null,null,null,null,null,null,null,null,null,null,null,null,null,null,null,null,null,null,null,null,null,0,"Dos",null,null,null,13]
[null,null,null,null,null,null,null,null,null,null,"entrainement/compétition?",null,null,null,null,null,null,null,null,null,null,null,null,null,null,null,null,null,null,null,null,null,null,null,"Santé",null,null,null,0,"Genou",null,null,null,14]
[null,null,null,null,null,null,null,null,null,1,"… pas content",null,null,null,null,null,null,null,null,null,null,null,null,null,null,null,null,null,null,null,null,null,null,null,"Limitation pour cause de douleurs",null,{"$f":"AM36","v":0},null,0,"Cheville",null,null,null,15]
[null,null,null,null,null,null,null,null,null,2,"… plutôt pas content",null,null,null,null,null,null,null,null,null,null,null,null,null,null,null,null,null,null,null,null,null,null,null,"Absence pour cause de blessure",null,{"$f":"AM44","v":0},null,0,"Autre",null,null,null,16]
[null,null,null,null,null,null,null,null,null,3,"… moyen",null,null,null,null,null,null,null,null,null,null,null,null,null,null,null,null,null,null,null,null,null,null,null,"Absence pour cause de maladie",null,{"$f":"AM52","v":0}]
[null,null,null,null,null,null,null,null,null,4,"… content",null,null,null,null,null,null,null,null,null,null,null,null,null,null,null,null,null,null,null,null,null,null,null,null,null,null,null,{"$f":"SUM(AM53:AM59)","v":0},"Absence pour cause de maladie"]
[null,null,null,null,null,null,null,null,null,5,"… très content!",null,null,null,null,null,null,null,null,null,null,null,null,null,null,null,null,null,null,null,null,null,null,null,null,null,null,null,{"$f":"COUNTIF($H$4:$H$24,$AR53)","v":0},"Maladie",null,null,null,21]
[]
[]
[]
[]
[]
[]
[]
[]
[]
[]
[]
[]
[]
[]
[]
[]
[]
[]
[]
[]
[]
[]
[]
[]
[]
[]
[]
[]
[]
[]
[]
[]
[]
[]
[]
[]
[]
[]
[]
[]
[]
[]
[]
[]
[]
[]
[]
[]
[]
[]
[]
[]
[]
[]
[]
[]
[]
[]
[]
[]
[]
[]
[]
[]
[]
[]
[]
[]
[]
[]
[]
[]
[]
[]
[]
[]
[]
[]
[]
[]
[null,null,null,null,null,null,null,null,null,null,null,null,null,null,null,null,null,null,null,null,null,null,null,null,{"$f":"Z134-1","v":7},8,9,10,11,12,13,{"$f":"D1","v":14}]
[]
[]
[]
[]
[]
[]
[]
[]
[]
[]
[]
[]
[]
[]
[]
[]
[]
[]
[]
[]
[null,null,null,null,null,null,null,null,null,null,null,null,null,null,null,null,null,null,null,null,null,null,null,null,null,null,null,null,null,null,null,null,{"$f":"AF134+1","v":15}]

{"sheet":"15","index":43,"n_rows":155,"n_cols":45,"rows_kept":155,"cut":false,"hidden":false,"merged":[[1,43,2,43],[30,34,30,36],[30,38,31,43],[0,5,0,6],[1,44,2,44],[1,15,1,17],[28,10,29,10],[29,21,29,26],[36,9,37,9],[1,41,2,41],[21,6,23,6],[21,9,21,10],[23,9,23,10],[21,7,23,7],[1,12,1,14],[7,9,7,10],[1,38,2,38],[1,24,1,26],[1,18,1,20],[1,30,1,32],[1,27,1,29],[27,3,27,6],[28,3,28,6],[37,3,37,6],[30,3,30,6],[31,3,31,6],[32,3,32,6],[33,3,33,6],[34,3,34,6],[35,3,35,6],[36,3,36,6],[38,3,38,6],[46,9,47,9],[18,36,20,36],[1,40,2,40],[3,36,5,36],[1,36,2,36],[20,9,20,10],[5,9,5,10],[1,39,2,39],[21,36,23,36],[9,36,11,36],[12,36,14,36],[15,36,17,36],[28,9,29,9],[16,9,16,10],[15,9,15,10],[10,9,10,10],[29,3,29,6],[15,5,17,5],[12,4,14,4],[6,36,8,36],[3,3,5,3],[3,6,5,6],[3,9,3,10],[4,9,4,10],[17,9,17,10],[22,9,22,10],[18,9,18,10],[19,9,19,10],[9,6,11,6],[9,9,9,10],[6,4,8,4],[9,7,11,7],[9,4,11,4],[11,9,11,10],[3,4,5,4],[3,7,5,7],[12,7,14,7],[9,5,11,5],[12,5,14,5],[21,1,23,1],[15,7,17,7],[15,1,17,1],[15,3,17,3],[15,6,17,6],[15,4,17,4],[18,5,20,5],[18,1,20,1],[18,3,20,3],[21,5,23,5],[21,3,23,3],[21,4,23,4],[18,7,20,7],[18,4,20,4],[18,6,20,6],[1,1,2,1],[9,1,11,1],[9,3,11,3],[38,34,38,36],[44,34,44,36],[47,34,47,36],[12,1,14,1],[6,3,8,3],[6,6,8,6],[6,9,6,10],[8,9,8,10],[6,5,8,5],[6,1,8,1],[6,7,8,7],[1,34,2,34],[1,21,1,23],[1,9,2,10],[3,1,5,1],[3,5,5,5],[12,3,14,3],[12,6,14,6],[12,9,12,10],[13,9,13,10],[14,9,14,10]]}
[null,null,"Woche",{"$f":"INT(MOD(INT((F1-2)/7)+0.6,52+5/28))+1","v":15},{"$f":"D1+1000","v":1015},{"$f":"'14'!F1+7","v":"2019-04-08"},null,"-",null,{"$f":"F1+6","v":"2019-04-14"},null,null,null,null,null,null,null,null,null,null,null,null,null,null,null,null,null,null,null,null,null,null,{"$f":"'Aperçu de la charge'!D2","v":"Prénom Nom"},null,{"$f":"'Aperçu de la charge'!N2","v":"2018/2019"}]
[null,"Jour",null,"Poids","REG","qualité sommeil","durée sommeil","Santé",null,"Description de l'entrainement",null,null,"Club - VB",null,null,"TS/ Nati - VB",null,null,"Club - BVB",null,null,"TS/ Nati - BVB",null,null,"Force - fitness",null,null,"Compet. - VB",null,null,"Compet. - BVB",null,null,null,"Réflexion",null,"Charge/\njour",null,"matchs VB","Sets VB","Matchs BVB","Sets BVB","J","Autre\n (Rég, mentale)","Mental- oder Sonstiges Training"]
[null,null,null,"[kg]","[1 - 5]","[1-5]","[Std]","Nr.",null,null,null,null,"Durée","RPE","Charge","Durée","RPE","Charge","Durée","RPE","Charge","Durée","RPE","Charge","Durée","RPE","Charge","Durée","RPE","Charge","Durée","RPE","Charge",null,null,null,null,null,null,null,null,null,"[1-5]"]
[null,"Lu",null,0,0,0,0,0,null,null,null,null,null,null,{"$f":"M4*N4","v":0},null,null,{"$f":"P4*Q4","v":0},null,null,{"$f":"S4*T4","v":0},null,null,{"$f":"V4*W4","v":0},null,null,{"$f":"Y4*Z4","v":0},null,null,{"$f":"AB4*AC4","v":0},null,null,{"$f":"AE4*AF4","v":0},{"$f":"IF(SUM(M4:AG6)>0,1,0)","v":"00:00:00"},null,null,{"$f":"SUM(O4:O6,R4:R6,U4:U6,X4:X6,AA4:AA6,AD4:AD6,AG4:AG6)","v":0}]
[null,null,null,null,null,null,null,null,null,null,null,null,null,null,{"$f":"M5*N5","v":0},null,null,{"$f":"P5*Q5","v":0},null,null,{"$f":"S5*T5","v":0},null,null,{"$f":"V5*W5","v":0},null,null,{"$f":"Y5*Z5","v":0},null,null,{"$f":"AB5*AC5","v":0},null,null,{"$f":"AE5*AF5","v":0}]
[null,null,null,null,null,null,null,null,null,null,null,null,null,null,0,null,null,0,null,null,0,null,null,0,null,null,0,null,null,0,null,null,0]
[null,"Ma",null,0,0,0,0,0,null,null,null,null,null,null,0,null,null,{"$f":"P7*Q7","v":0},null,null,0,null,null,0,null,null,0,null,null,0,null,null,0,{"$f":"IF(SUM(M7:AG9)>0,1,0)","v":"00:00:00"},null,null,{"$f":"SUM(O7:O9,R7:R9,U7:U9,X7:X9,AA7:AA9,AD7:AD9,AG7:AG9)","v":0}]
[null,null,null,null,null,null,null,null,null,null,null,null,null,null,0,null,null,0,null,null,0,null,null,0,null,null,0,null,null,0,null,null,0]
[null,null,null,null,null,null,null,null,null,null,null,null,null,null,0,null,null,0,null,null,0,null,null,0,null,null,0,null,null,0,null,null,0]
[null,"Me",null,0,0,0,0,0,null,null,null,null,null,null,0,null,null,{"$f":"P10*Q10","v":0},null,null,0,null,null,0,null,null,0,null,null,0,null,null,0,{"$f":"IF(SUM(M10:AG12)>0,1,0)","v":"00:00:00"},null,null,{"$f":"SUM(O10:O12,R10:R12,U10:U12,X10:X12,AA10:AA12,AD10:AD12,AG10:AG12)","v":0}]
[null,null,null,null,null,null,null,null,null,null,null,null,null,null,0,null,null,0,null,null,0,null,null,0,null,null,0,null,null,0,null,null,0]
[null,null,null,null,null,null,null,null,null,null,null,null,null,null,0,null,null,0,null,null,0,null,null,0,null,null,0,null,null,0,null,null,0]
[null,"Je",null,0,0,0,0,0,null,null,null,null,null,null,0,null,null,{"$f":"P13*Q13","v":0},null,null,0,null,null,0,null,null,0,null,null,0,null,null,0,{"$f":"IF(SUM(M13:AG15)>0,1,0)","v":"00:00:00"},null,null,{"$f":"SUM(O13:O15,R13:R15,U13:U15,X13:X15,AA13:AA15,AD13:AD15,AG13:AG15)","v":0}]
[null,null,null,null,null,null,null,null,null,null,null,null,null,null,0,null,null,0,null,null,0,null,null,0,null,null,0,null,null,0,null,null,0]
[null,null,null,null,null,null,null,null,null,null,null,null,null,null,0,null,null,0,null,null,0,null,null,0,null,null,0,null,null,0,null,null,0]
[null,"Ve",null,0,0,0,0,0,null,null,null,null,null,null,0,null,null,{"$f":"P16*Q16","v":0},null,null,0,null,null,0,null,null,0,null,null,0,null,null,0,{"$f":"IF(SUM(M16:AG18)>0,1,0)","v":"00:00:00"},null,null,{"$f":"SUM(O16:O18,R16:R18,U16:U18,X16:X18,AA16:AA18,AD16:AD18,AG16:AG18)","v":0}]
[null,null,null,null,null,null,null,null,null,null,null,null,null,null,0,null,null,0,null,null,0,null,null,0,null,null,0,null,null,0,null,null,0]
[null,null,null,null,null,null,null,null,null,null,null,null,null,null,0,null,null,0,null,null,0,null,null,0,null,null,0,null,null,0,null,null,0]
[null,"Sa",null,0,0,0,0,0,null,null,null,null,null,null,{"$f":"M19*N19","v":0},null,null,{"$f":"P19*Q19","v":0},null,null,{"$f":"S19*T19","v":0},null,null,{"$f":"V19*W19","v":0},null,null,{"$f":"Y19*Z19","v":0},null,null,{"$f":"AB19*AC19","v":0},null,null,{"$f":"AE19*AF19","v":0},{"$f":"IF(SUM(M19:AG21)>0,1,0)","v":"00:00:00"},null,null,{"$f":"SUM(O19:O21,R19:R21,U19:U21,X19:X21,AA19:AA21,AD19:AD21,AG19:AG21)","v":0}]
[null,null,null,null,null,null,null,null,null,null,null,null,null,null,{"$f":"M20*N20","v":0},null,null,0,null,null,{"$f":"S20*T20","v":0},null,null,{"$f":"V20*W20","v":0},null,null,{"$f":"Y20*Z20","v":0},null,null,{"$f":"AB20*AC20","v":0},null,null,{"$f":"AE20*AF20","v":0}]
[null,null,null,null,null,null,null,null,null,null,null,null,null,null,0,null,null,0,null,null,0,null,null,0,null,null,0,null,null,0,null,null,0]
[null,"Di",null,0,0,0,0,0,null,null,null,null,null,null,0,null,null,{"$f":"P22*Q22","v":0},null,null,0,null,null,0,null,null,0,null,null,0,null,null,0,{"$f":"IF(SUM(M22:AG24)>0,1,0)","v":"00:00:00"},null,null,{"$f":"SUM(O22:O24,R22:R24,U22:U24,X22:X24,AA22:AA24,AD22:AD24,AG22:AG24)","v":0}]
[null,null,null,null,null,null,null,null,null,null,null,null,null,null,0,null,null,0,null,null,0,null,null,0,null,null,0,null,null,0,null,null,0]
[null,null,null,null,null,null,null,null,null,null,null,null,null,null,0,null,null,0,null,null,0,null,null,0,null,null,0,null,null,0,null,null,0]
[null,null,null,null,null,null,null,null,null,null,"Total",null,{"$f":"SUM(M4:M24)","v":0},null,{"$f":"SUM(O4:O24)","v":0},{"$f":"SUM(P4:P24)","v":0},null,{"$f":"SUM(R4:R24)","v":0},{"$f":"SUM(S4:S24)","v":0},null,{"$f":"SUM(U4:U24)","v":0},{"$f":"SUM(V4:V24)","v":0},null,{"$f":"SUM(X4:X24)","v":0},{"$f":"SUM(Y4:Y24)","v":0},null,{"$f":"SUM(AA4:AA24)","v":0},{"$f":"SUM(AB4:AB24)","v":0},null,{"$f":"SUM(AD4:AD24)","v":0},{"$f":"SUM(AE4:AE24)","v":0},null,{"$f":"SUM(AG4:AG24)","v":0},null,"Charge totale",null,{"$f":"SUM(AK4:AK24)","v":0}]
[null,"avg.",null,{"$f":"IF(COUNTA(D4:D24)=0,\"\",AVERAGE(D4:D24))","v":0},{"$f":"IF(COUNTA(E4:E24)=0,\"\",AVERAGE(E4:E24))","v":0},{"$f":"IF(COUNTA(F4:F24)=0,\"\",AVERAGE(F4:F24))","v":0},{"$f":"IF(COUNTA(G4:G24)=0,\"\",AVERAGE(G4:G24))","v":0},{"$f":"IF(COUNTA(H4:H24)=0,\"\",COUNTIF(H4:H24,\"x\"))","v":0},null,null,"Zone",null,1,2,3,1,2,3,1,2,3,1,2,3,1,2,3,1,2,3,1,2,3,null,"Moyenne",null,{"$f":"AVERAGE(AK4:AK24)","v":0}]
[null,null,null,null,null,{"$f":"IF(COUNTA(F4:F24)=0,\"\",VAR(F4:F24))","v":0},{"$f":"IF(COUNTA(G4:G24)=0,\"\",STDEV(G4:G24))","v":0},"Divergence - durée du sommeil",null,null,"Unité par zone (RPE) ",null,{"$f":"IF('Répartition des intensités'!$AR$25=\"x\",COUNTIF(N4:N24,\"<3,5\"),COUNTIF(N4:N24,\"<4,5\"))","v":0},{"$f":"COUNT(N4:N24)-(M27+O27)","v":0},{"$f":"IF('Répartition des intensités'!$AR$25=\"x\",COUNTIF(N4:N24,\">5,5\"),COUNTIF(N4:N24,\">6,5\"))","v":0},{"$f":"IF('Répartition des intensités'!$AR$25=\"x\",COUNTIF(Q4:Q24,\"<3,5\"),COUNTIF(Q4:Q24,\"<4,5\"))","v":0},{"$f":"COUNT(Q4:Q24)-(P27+R27)","v":0},{"$f":"IF('Répartition des intensités'!$AR$25=\"x\",COUNTIF(Q4:Q24,\">5,5\"),COUNTIF(Q4:Q24,\">6,5\"))","v":0},{"$f":"IF('Répartition des intensités'!$AR$25=\"x\",COUNTIF(T4:T24,\"<3,5\"),COUNTIF(T4:T24,\"<4,5\"))","v":0},{"$f":"COUNT(T4:T24)-(S27+U27)","v":0},{"$f":"IF('Répartition des intensités'!$AR$25=\"x\",COUNTIF(T4:T24,\">5,5\"),COUNTIF(T4:T24,\">6,5\"))","v":0},{"$f":"IF('Répartition des intensités'!$AR$25=\"x\",COUNTIF(W4:W24,\"<3,5\"),COUNTIF(W4:W24,\"<4,5\"))","v":0},{"$f":"COUNT(W4:W24)-(V27+X27)","v":0},{"$f":"IF('Répartition des intensités'!$AR$25=\"x\",COUNTIF(W4:W24,\">5,5\"),COUNTIF(W4:W24,\">6,5\"))","v":0},{"$f":"IF('Répartition des intensités'!$AR$25=\"x\",COUNTIF(Z4:Z24,\"<3,5\"),COUNTIF(Z4:Z24,\"<4,5\"))","v":0},{"$f":"COUNT(Z4:Z24)-(Y27+AA27)","v":0},{"$f":"IF('Répartition des intensités'!$AR$25=\"x\",COUNTIF(Z4:Z24,\">5,5\"),COUNTIF(Z4:Z24,\">6,5\"))","v":0},{"$f":"IF('Répartition des intensités'!$AR$25=\"x\",COUNTIF(AC4:AC24,\"<3,5\"),COUNTIF(AC4:AC24,\"<4,5\"))","v":0},{"$f":"COUNT(AC4:AC24)-(AB27+AD27)","v":0},{"$f":"IF('Répartition des intensités'!$AR$25=\"x\",COUNTIF(AC4:AC24,\">5,5\"),COUNTIF(AC4:AC24,\">6,5\"))","v":0},{"$f":"IF('Répartition des intensités'!$AR$25=\"x\",COUNTIF(AF4:AF24,\"<3,5\"),COUNTIF(AF4:AF24,\"<4,5\"))","v":0},{"$f":"COUNT(AF4:AF24)-(AE27+AG27)","v":0},{"$f":"IF('Répartition des intensités'!$AR$25=\"x\",COUNTIF(AF4:AF24,\">5,5\"),COUNTIF(AF4:AF24,\">6,5\"))","v":0},null,"Divergence",null,{"$f":"STDEVP(AK4:AK24)","v":0}]
[null,null,null,"échelle de Foster",null,null,null,"RPE",null,null,"Temps par zone (RPE)",null,{"$f":"IF('Répartition des intensités'!$AR$25=\"x\",SUMIF(N4:N24,\"<3,5\",M4:M24),SUMIF(N4:N24,\"<4,5\",M4:M24))","v":0},{"$f":"IF(N27=0,0,SUM((M25)-(M28+O28)))","v":0},{"$f":"IF('Répartition des intensités'!$AR$25=\"x\",SUMIF(N4:N24,\">5,5\",M4:M24),SUMIF(N4:N24,\">6,5\",M4:M24))","v":0},{"$f":"IF('Répartition des intensités'!$AR$25=\"x\",SUMIF(Q4:Q24,\"<3,5\",P4:P24),SUMIF(Q4:Q24,\"<4,5\",P4:P24))","v":0},{"$f":"IF(Q27=0,0,SUM((P25)-(P28+R28)))","v":0},{"$f":"IF('Répartition des intensités'!$AR$25=\"x\",SUMIF(Q4:Q24,\">5,5\",P4:P24),SUMIF(Q4:Q24,\">6,5\",P4:P24))","v":0},{"$f":"IF('Répartition des intensités'!$AR$25=\"x\",SUMIF(T4:T24,\"<3,5\",S4:S24),SUMIF(T4:T24,\"<4,5\",S4:S24))","v":0},{"$f":"IF(T27=0,0,SUM((S25)-(S28+U28)))","v":0},{"$f":"IF('Répartition des intensités'!$AR$25=\"x\",SUMIF(T4:T24,\">5,5\",S4:S24),SUMIF(T4:T24,\">6,5\",S4:S24))","v":0},{"$f":"IF('Répartition des intensités'!$AR$25=\"x\",SUMIF(W4:W24,\"<3,5\",V4:V24),SUMIF(W4:W24,\"<4,5\",V4:V24))","v":0},{"$f":"IF(W27=0,0,SUM((V25)-(V28+X28)))","v":0},{"$f":"IF('Répartition des intensités'!$AR$25=\"x\",SUMIF(W4:W24,\">5,5\",V4:V24),SUMIF(W4:W24,\">6,5\",V4:V24))","v":0},{"$f":"IF('Répartition des intensités'!$AR$25=\"x\",SUMIF(Z4:Z24,\"<3,5\",Y4:Y24),SUMIF(Z4:Z24,\"<4,5\",Y4:Y24))","v":0},{"$f":"IF(Z27=0,0,SUM((Y25)-(Y28+AA28)))","v":0},{"$f":"IF('Répartition des intensités'!$AR$25=\"x\",SUMIF(Z4:Z24,\">5,5\",Y4:Y24),SUMIF(Z4:Z24,\">6,5\",Y4:Y24))","v":0},{"$f":"IF('Répartition des intensités'!$AR$25=\"x\",SUMIF(AC4:AC24,\"<3,5\",AB4:AB24),SUMIF(AC4:AC24,\"<4,5\",AB4:AB24))","v":0},{"$f":"IF(AC27=0,0,SUM((AB25)-(AB28+AD28)))","v":0},{"$f":"IF('Répartition des intensités'!$AR$25=\"x\",SUMIF(AC4:AC24,\">5,5\",AB4:AB24),SUMIF(AC4:AC24,\">6,5\",AB4:AB24))","v":0},{"$f":"IF('Répartition des intensités'!$AR$25=\"x\",SUMIF(AF4:AF24,\"<3,5\",AE4:AE24),SUMIF(AF4:AF24,\"<4,5\",AE4:AE24))","v":0},{"$f":"IF(AF27=0,0,SUM((AE25)-(AE28+AG28)))","v":0},{"$f":"IF('Répartition des intensités'!$AR$25=\"x\",SUMIF(AF4:AF24,\">5,5\",AE4:AE24),SUMIF(AF4:AF24,\">6,5\",AE4:AE24))","v":0}]
[null,null,null,"Comme au repos",null,null,null,0,null,"REG","Est-ce que j'ai l'impression d'avoir récupéré en me levant?"]
[null,null,null,"très facile",null,null,null,1]
[null,null,null,"facile",null,null,null,2,null,1,"… pas du tout récupéré",null,null,null,null,null,null,null,null,null,null,null,null,null,null,null,null,null,null,null,null,null,null,null,"Entrainements",null,null,null,"Rapport de santé"]
[null,null,null,null,null,null,null,3,null,2,"… un peu récupéré",null,null,null,null,null,null,null,null,null,null,null,null,null,null,null,null,null,null,null,null,null,null,null,"Jours d'entrainement",null,{"$f":"IF(SUM(AH4:AH24)=0,\"\",SUM(AH4:AH24))","v":""}]
[null,null,null,"Assez dur",null,null,null,4,null,3,"… récupéré",null,null,null,null,null,null,null,null,null,null,{"$f":"B4","v":"Lu"},{"$f":"AK4","v":0},null,null,null,null,null,null,null,null,null,null,null,"Entrainements",null,{"$f":"IF(AK32=\"\",\"\",SUM(M27:AG27))","v":""}]
[null,null,null,"dur",null,null,null,5,null,4,"…  en forme",null,null,null,null,null,null,null,null,null,null,{"$f":"B7","v":"Ma"},{"$f":"AK7","v":0},null,null,null,null,null,null,null,null,null,null,null,"Heures d'entrainement",null,{"$f":"IF(AK32=\"\",\"\",SUM(M25,P25,S25,Y25,AB25,V25,AE25)/60)","v":""},null,{"$f":"IF($AK$32=\"\",\"\",AK32-AM36-AM44-AM52)","v":""},"Aucune limitation",null,null,null,0]
[null,null,null,null,null,null,null,6,null,5,"… très en forme",null,null,null,null,null,null,null,null,null,null,{"$f":"B10","v":"Me"},{"$f":"AK10","v":0},null,null,null,null,null,null,null,null,null,null,null,"Charge de l'entrainement",null,{"$f":"IF(AK32=\"\",\"\",SUM(AK25))","v":""}]
[null,null,null,"très dur",null,null,null,7,null,null,null,null,null,null,null,null,null,null,null,null,null,{"$f":"B13","v":"Je"},{"$f":"AK13","v":0},null,null,null,null,null,null,null,null,null,null,null,"Monotonie",null,{"$f":"IF(AK27=0,0,(AVERAGE(AK4:AK24))/AK27)","v":0},null,{"$f":"SUM(AM37:AM42)","v":0},"Limitation pour cause de douleurs"]
[null,null,null,null,null,null,null,8,null,"Nombre de matchs",null,null,null,null,null,null,null,null,null,null,null,{"$f":"B16","v":"Ve"},{"$f":"AK16","v":0},null,null,null,null,null,null,null,null,null,null,null,"Efforts à l'entrainement",null,{"$f":"IF(AK32=\"\",\"\",AK35*AK36)","v":""},null,{"$f":"COUNTIF($H$4:$H$24,$AR37)","v":0},"Doigt",null,null,null,1]
[null,null,null,"extrèmement dur",null,null,null,9,null,null,null,null,null,null,null,null,null,null,null,null,null,{"$f":"B19","v":"Sa"},{"$f":"AK19","v":0},null,null,null,null,null,null,null,null,null,null,null,null,null,null,null,0,"Épaule",null,null,null,2]
[null,null,null,"Comme mon entrainement le plus dur",null,null,null,10,null,1,"… 3 sets et plus",null,null,null,null,null,null,null,null,null,null,{"$f":"B22","v":"Di"},{"$f":"AK22","v":0},null,null,null,null,null,null,null,null,null,null,null,"Compétition",null,null,null,0,"Dos",null,null,null,3]
[null,null,null,null,null,null,null,null,null,0.5,"… moins de 3 sets",null,null,null,null,null,null,null,null,null,null,null,null,null,null,null,null,null,null,null,null,null,null,null,"Matchs de volleyball",null,{"$f":"IF(AK32=\"\",\"\",SUM(AM4:AM24))","v":""},null,0,"Genou",null,null,null,4]
[null,null,null,null,null,null,null,null,null,null,null,null,null,null,null,null,null,null,null,null,null,null,null,null,null,null,null,null,null,null,null,null,null,null,"Sets de volleyball",null,{"$f":"IF(AK32=\"\",\"\",SUM(AN4:AN24))","v":""},null,0,"Cheville",null,null,null,5]
[null,null,null,null,null,null,null,null,null,"Sets joués",null,null,null,null,null,null,null,null,null,null,null,null,null,null,null,null,null,null,null,null,null,null,null,null,"Matchs de beach volley",null,{"$f":"IF(AK35=\"\",\"\",SUM(AO4:AO24))","v":""},null,0,"Autre",null,null,null,6]
[null,null,null,null,null,null,null,null,null,1,"… depuis le début et durant tout le set",null,null,null,null,null,null,null,null,null,null,null,null,null,null,null,null,null,null,null,null,null,null,null,"Sets de beach volley",null,{"$f":"IF(AK35=\"\",\"\",SUM(AP4:AP24))","v":""}]
[null,null,null,null,null,null,null,null,null,0.5,"… entré/sorti en cours, beaucoup joué",null,null,null,null,null,null,null,null,null,null,null,null,null,null,null,null,null,null,null,null,null,null,null,null,null,null,null,{"$f":"SUM(AM45:AM50)","v":0},"Absence pour cause de blessure"]
[null,null,null,null,null,null,null,null,null,0.1,"… entré/sorti en cours, peu joué",null,null,null,null,null,null,null,null,null,null,null,null,null,null,null,null,null,null,null,null,null,null,null,"Satisfaction",null,null,null,{"$f":"COUNTIF($H$4:$H$24,$AR45)","v":0},"Doigt",null,null,null,11]
[null,null,null,null,null,null,null,null,null,null,null,null,null,null,null,null,null,null,null,null,null,null,null,null,null,null,null,null,null,null,null,null,null,null,"Satisfaction de l'entrainement/match J",null,{"$f":"IF(AK32=\"\",\"\",SUM(AQ4:AQ24)/AK32)","v":""},null,0,"Épaule",null,null,null,12]
[null,null,null,null,null,null,null,null,null,"J","Es-tu content de la qualité de ton",null,null,null,null,null,null,null,null,null,null,null,null,null,null,null,null,null,null,null,null,null,null,null,null,null,null,null,0,"Dos",null,null,null,13]
[null,null,null,null,null,null,null,null,null,null,"entrainement/compétition?",null,null,null,null,null,null,null,null,null,null,null,null,null,null,null,null,null,null,null,null,null,null,null,"Santé",null,null,null,0,"Genou",null,null,null,14]
[null,null,null,null,null,null,null,null,null,1,"… pas content",null,null,null,null,null,null,null,null,null,null,null,null,null,null,null,null,null,null,null,null,null,null,null,"Limitation pour cause de douleurs",null,{"$f":"AM36","v":0},null,0,"Cheville",null,null,null,15]
[null,null,null,null,null,null,null,null,null,2,"… plutôt pas content",null,null,null,null,null,null,null,null,null,null,null,null,null,null,null,null,null,null,null,null,null,null,null,"Absence pour cause de blessure",null,{"$f":"AM44","v":0},null,0,"Autre",null,null,null,16]
[null,null,null,null,null,null,null,null,null,3,"… moyen",null,null,null,null,null,null,null,null,null,null,null,null,null,null,null,null,null,null,null,null,null,null,null,"Absence pour cause de maladie",null,{"$f":"AM52","v":0}]
[null,null,null,null,null,null,null,null,null,4,"… content",null,null,null,null,null,null,null,null,null,null,null,null,null,null,null,null,null,null,null,null,null,null,null,null,null,null,null,{"$f":"SUM(AM53:AM59)","v":0},"Absence pour cause de maladie"]
[null,null,null,null,null,null,null,null,null,5,"… très content!",null,null,null,null,null,null,null,null,null,null,null,null,null,null,null,null,null,null,null,null,null,null,null,null,null,null,null,{"$f":"COUNTIF($H$4:$H$24,$AR53)","v":0},"Maladie",null,null,null,21]
[]
[]
[]
[]
[]
[]
[]
[]
[]
[]
[]
[]
[]
[]
[]
[]
[]
[]
[]
[]
[]
[]
[]
[]
[]
[]
[]
[]
[]
[]
[]
[]
[]
[]
[]
[]
[]
[]
[]
[]
[]
[]
[]
[]
[]
[]
[]
[]
[]
[]
[]
[]
[]
[]
[]
[]
[]
[]
[]
[]
[]
[]
[]
[]
[]
[]
[]
[]
[]
[]
[]
[]
[]
[]
[]
[]
[]
[]
[]
[]
[null,null,null,null,null,null,null,null,null,null,null,null,null,null,null,null,null,null,null,null,null,null,null,null,{"$f":"Z134-1","v":8},9,10,11,12,13,14,{"$f":"D1","v":15}]
[]
[]
[]
[]
[]
[]
[]
[]
[]
[]
[]
[]
[]
[]
[]
[]
[]
[]
[]
[]
[null,null,null,null,null,null,null,null,null,null,null,null,null,null,null,null,null,null,null,null,null,null,null,null,null,null,null,null,null,null,null,null,1]

{"sheet":"16","index":44,"n_rows":155,"n_cols":45,"rows_kept":155,"cut":false,"hidden":false,"merged":[[9,4,11,4],[12,4,14,4],[3,7,5,7],[15,7,17,7],[27,3,27,6],[15,5,17,5],[18,5,20,5],[28,10,29,10],[15,9,15,10],[1,43,2,43],[30,34,30,36],[30,38,31,43],[0,5,0,6],[1,44,2,44],[29,3,29,6],[30,3,30,6],[35,3,35,6],[36,3,36,6],[18,36,20,36],[21,36,23,36],[1,40,2,40],[1,21,1,23],[1,41,2,41],[15,36,17,36],[1,38,2,38],[1,36,2,36],[1,34,2,34],[1,30,1,32],[1,27,1,29],[1,24,1,26],[9,36,11,36],[12,36,14,36],[1,39,2,39],[28,9,29,9],[28,3,28,6],[37,3,37,6],[38,3,38,6],[31,3,31,6],[32,3,32,6],[33,3,33,6],[34,3,34,6],[46,9,47,9],[3,1,5,1],[6,36,8,36],[3,3,5,3],[3,6,5,6],[3,9,3,10],[4,9,4,10],[5,9,5,10],[3,36,5,36],[6,1,8,1],[6,7,8,7],[6,3,8,3],[6,6,8,6],[6,9,6,10],[8,9,8,10],[9,1,11,1],[9,3,11,3],[9,6,11,6],[9,9,9,10],[1,12,1,14],[18,1,20,1],[18,3,20,3],[18,6,20,6],[1,18,1,20],[11,9,11,10],[7,9,7,10],[10,9,10,10],[9,7,11,7],[14,9,14,10],[12,7,14,7],[3,5,5,5],[6,5,8,5],[9,5,11,5],[12,5,14,5],[1,1,2,1],[1,15,1,17],[3,4,5,4],[6,4,8,4],[1,9,2,10],[12,1,14,1],[12,3,14,3],[12,6,14,6],[12,9,12,10],[13,9,13,10],[18,9,18,10],[19,9,19,10],[20,9,20,10],[18,7,20,7],[18,4,20,4],[15,1,17,1],[15,3,17,3],[15,6,17,6],[15,4,17,4],[16,9,16,10],[17,9,17,10],[38,34,38,36],[44,34,44,36],[47,34,47,36],[21,1,23,1],[21,3,23,3],[21,5,23,5],[21,6,23,6],[21,9,21,10],[23,9,23,10],[21,7,23,7],[21,4,23,4],[22,9,22,10],[29,21,29,26],[36,9,37,9]]}
[null,null,"Woche",{"$f":"INT(MOD(INT((F1-2)/7)+0.6,52+5/28))+1","v":16},{"$f":"D1+1000","v":1016},{"$f":"'15'!F1+7","v":"2019-04-15"},null,"-",null,{"$f":"F1+6","v":"2019-04-21"},null,null,null,null,null,null,null,null,null,null,null,null,null,null,null,null,null,null,null,null,null,null,{"$f":"'Aperçu de la charge'!D2","v":"Prénom Nom"},null,{"$f":"'Aperçu de la charge'!N2","v":"2018/2019"}]
[null,"Jour",null,"Poids","REG","qualité sommeil","durée sommeil","Santé",null,"Description de l'entrainement",null,null,"Club - VB",null,null,"TS/ Nati - VB",null,null,"Club - BVB",null,null,"TS/ Nati - BVB",null,null,"Force - fitness",null,null,"Compet. - VB",null,null,"Compet. - BVB",null,null,null,"Réflexion",null,"Charge/\njour",null,"matchs VB","Sets VB","Matchs BVB","Sets BVB","J","Autre\n (Rég, mentale)","Mental- oder Sonstiges Training"]
[null,null,null,"[kg]","[1 - 5]","[1-5]","[Std]","Nr.",null,null,null,null,"Durée","RPE","Charge","Durée","RPE","Charge","Durée","RPE","Charge","Durée","RPE","Charge","Durée","RPE","Charge","Durée","RPE","Charge","Durée","RPE","Charge",null,null,null,null,null,null,null,null,null,"[1-5]"]
[null,"Lu",null,0,0,0,0,0,null,null,null,null,null,null,{"$f":"M4*N4","v":0},null,null,{"$f":"P4*Q4","v":0},null,null,{"$f":"S4*T4","v":0},null,null,{"$f":"V4*W4","v":0},null,null,{"$f":"Y4*Z4","v":0},null,null,{"$f":"AB4*AC4","v":0},null,null,{"$f":"AE4*AF4","v":0},{"$f":"IF(SUM(M4:AG6)>0,1,0)","v":"00:00:00"},null,null,{"$f":"SUM(O4:O6,R4:R6,U4:U6,X4:X6,AA4:AA6,AD4:AD6,AG4:AG6)","v":0}]
[null,null,null,null,null,null,null,null,null,null,null,null,null,null,{"$f":"M5*N5","v":0},null,null,{"$f":"P5*Q5","v":0},null,null,{"$f":"S5*T5","v":0},null,null,{"$f":"V5*W5","v":0},null,null,{"$f":"Y5*Z5","v":0},null,null,{"$f":"AB5*AC5","v":0},null,null,{"$f":"AE5*AF5","v":0}]
[null,null,null,null,null,null,null,null,null,null,null,null,null,null,0,null,null,0,null,null,0,null,null,0,null,null,0,null,null,0,null,null,0]
[null,"Ma",null,0,0,0,0,0,null,null,null,null,null,null,0,null,null,{"$f":"P7*Q7","v":0},null,null,0,null,null,0,null,null,0,null,null,0,null,null,0,{"$f":"IF(SUM(M7:AG9)>0,1,0)","v":"00:00:00"},null,null,{"$f":"SUM(O7:O9,R7:R9,U7:U9,X7:X9,AA7:AA9,AD7:AD9,AG7:AG9)","v":0}]
[null,null,null,null,null,null,null,null,null,null,null,null,null,null,0,null,null,0,null,null,0,null,null,0,null,null,0,null,null,0,null,null,0]
[null,null,null,null,null,null,null,null,null,null,null,null,null,null,0,null,null,0,null,null,0,null,null,0,null,null,0,null,null,0,null,null,0]
[null,"Me",null,0,0,0,0,0,null,null,null,null,null,null,0,null,null,{"$f":"P10*Q10","v":0},null,null,0,null,null,0,null,null,0,null,null,0,null,null,0,{"$f":"IF(SUM(M10:AG12)>0,1,0)","v":"00:00:00"},null,null,{"$f":"SUM(O10:O12,R10:R12,U10:U12,X10:X12,AA10:AA12,AD10:AD12,AG10:AG12)","v":0}]
[null,null,null,null,null,null,null,null,null,null,null,null,null,null,0,null,null,0,null,null,0,null,null,0,null,null,0,null,null,0,null,null,0]
[null,null,null,null,null,null,null,null,null,null,null,null,null,null,0,null,null,0,null,null,0,null,null,0,null,null,0,null,null,0,null,null,0]
[null,"Je",null,0,0,0,0,0,null,null,null,null,null,null,0,null,null,{"$f":"P13*Q13","v":0},null,null,0,null,null,0,null,null,0,null,null,0,null,null,0,{"$f":"IF(SUM(M13:AG15)>0,1,0)","v":"00:00:00"},null,null,{"$f":"SUM(O13:O15,R13:R15,U13:U15,X13:X15,AA13:AA15,AD13:AD15,AG13:AG15)","v":0}]
[null,null,null,null,null,null,null,null,null,null,null,null,null,null,0,null,null,0,null,null,0,null,null,0,null,null,0,null,null,0,null,null,0]
[null,null,null,null,null,null,null,null,null,null,null,null,null,null,0,null,null,0,null,null,0,null,null,0,null,null,0,null,null,0,null,null,0]
[null,"Ve",null,0,0,0,0,0,null,null,null,null,null,null,0,null,null,{"$f":"P16*Q16","v":0},null,null,0,null,null,0,null,null,0,null,null,0,null,null,0,{"$f":"IF(SUM(M16:AG18)>0,1,0)","v":"00:00:00"},null,null,{"$f":"SUM(O16:O18,R16:R18,U16:U18,X16:X18,AA16:AA18,AD16:AD18,AG16:AG18)","v":0}]
[null,null,null,null,null,null,null,null,null,null,null,null,null,null,0,null,null,0,null,null,0,null,null,0,null,null,0,null,null,0,null,null,0]
[null,null,null,null,null,null,null,null,null,null,null,null,null,null,0,null,null,0,null,null,0,null,null,0,null,null,0,null,null,0,null,null,0]
[null,"Sa",null,0,0,0,0,0,null,null,null,null,null,null,{"$f":"M19*N19","v":0},null,null,{"$f":"P19*Q19","v":0},null,null,{"$f":"S19*T19","v":0},null,null,{"$f":"V19*W19","v":0},null,null,{"$f":"Y19*Z19","v":0},null,null,{"$f":"AB19*AC19","v":0},null,null,{"$f":"AE19*AF19","v":0},{"$f":"IF(SUM(M19:AG21)>0,1,0)","v":"00:00:00"},null,null,{"$f":"SUM(O19:O21,R19:R21,U19:U21,X19:X21,AA19:AA21,AD19:AD21,AG19:AG21)","v":0}]
[null,null,null,null,null,null,null,null,null,null,null,null,null,null,{"$f":"M20*N20","v":0},null,null,0,null,null,{"$f":"S20*T20","v":0},null,null,{"$f":"V20*W20","v":0},null,null,{"$f":"Y20*Z20","v":0},null,null,{"$f":"AB20*AC20","v":0},null,null,{"$f":"AE20*AF20","v":0}]
[null,null,null,null,null,null,null,null,null,null,null,null,null,null,0,null,null,0,null,null,0,null,null,0,null,null,0,null,null,0,null,null,0]
[null,"Di",null,0,0,0,0,0,null,null,null,null,null,null,0,null,null,{"$f":"P22*Q22","v":0},null,null,0,null,null,0,null,null,0,null,null,0,null,null,0,{"$f":"IF(SUM(M22:AG24)>0,1,0)","v":"00:00:00"},null,null,{"$f":"SUM(O22:O24,R22:R24,U22:U24,X22:X24,AA22:AA24,AD22:AD24,AG22:AG24)","v":0}]
[null,null,null,null,null,null,null,null,null,null,null,null,null,null,0,null,null,0,null,null,0,null,null,0,null,null,0,null,null,0,null,null,0]
[null,null,null,null,null,null,null,null,null,null,null,null,null,null,0,null,null,0,null,null,0,null,null,0,null,null,0,null,null,0,null,null,0]
[null,null,null,null,null,null,null,null,null,null,"Total",null,{"$f":"SUM(M4:M24)","v":0},null,{"$f":"SUM(O4:O24)","v":0},{"$f":"SUM(P4:P24)","v":0},null,{"$f":"SUM(R4:R24)","v":0},{"$f":"SUM(S4:S24)","v":0},null,{"$f":"SUM(U4:U24)","v":0},{"$f":"SUM(V4:V24)","v":0},null,{"$f":"SUM(X4:X24)","v":0},{"$f":"SUM(Y4:Y24)","v":0},null,{"$f":"SUM(AA4:AA24)","v":0},{"$f":"SUM(AB4:AB24)","v":0},null,{"$f":"SUM(AD4:AD24)","v":0},{"$f":"SUM(AE4:AE24)","v":0},null,{"$f":"SUM(AG4:AG24)","v":0},null,"Charge totale",null,{"$f":"SUM(AK4:AK24)","v":0}]
[null,"avg.",null,{"$f":"IF(COUNTA(D4:D24)=0,\"\",AVERAGE(D4:D24))","v":0},{"$f":"IF(COUNTA(E4:E24)=0,\"\",AVERAGE(E4:E24))","v":0},{"$f":"IF(COUNTA(F4:F24)=0,\"\",AVERAGE(F4:F24))","v":0},{"$f":"IF(COUNTA(G4:G24)=0,\"\",AVERAGE(G4:G24))","v":0},{"$f":"IF(COUNTA(H4:H24)=0,\"\",COUNTIF(H4:H24,\"x\"))","v":0},null,null,"Zone",null,1,2,3,1,2,3,1,2,3,1,2,3,1,2,3,1,2,3,1,2,3,null,"Moyenne",null,{"$f":"AVERAGE(AK4:AK24)","v":0}]
[null,null,null,null,null,{"$f":"IF(COUNTA(F4:F24)=0,\"\",VAR(F4:F24))","v":0},{"$f":"IF(COUNTA(G4:G24)=0,\"\",STDEV(G4:G24))","v":0},"Divergence - durée du sommeil",null,null,"Unité par zone (RPE) ",null,{"$f":"IF('Répartition des intensités'!$AR$25=\"x\",COUNTIF(N4:N24,\"<3,5\"),COUNTIF(N4:N24,\"<4,5\"))","v":0},{"$f":"COUNT(N4:N24)-(M27+O27)","v":0},{"$f":"IF('Répartition des intensités'!$AR$25=\"x\",COUNTIF(N4:N24,\">5,5\"),COUNTIF(N4:N24,\">6,5\"))","v":0},{"$f":"IF('Répartition des intensités'!$AR$25=\"x\",COUNTIF(Q4:Q24,\"<3,5\"),COUNTIF(Q4:Q24,\"<4,5\"))","v":0},{"$f":"COUNT(Q4:Q24)-(P27+R27)","v":0},{"$f":"IF('Répartition des intensités'!$AR$25=\"x\",COUNTIF(Q4:Q24,\">5,5\"),COUNTIF(Q4:Q24,\">6,5\"))","v":0},{"$f":"IF('Répartition des intensités'!$AR$25=\"x\",COUNTIF(T4:T24,\"<3,5\"),COUNTIF(T4:T24,\"<4,5\"))","v":0},{"$f":"COUNT(T4:T24)-(S27+U27)","v":0},{"$f":"IF('Répartition des intensités'!$AR$25=\"x\",COUNTIF(T4:T24,\">5,5\"),COUNTIF(T4:T24,\">6,5\"))","v":0},{"$f":"IF('Répartition des intensités'!$AR$25=\"x\",COUNTIF(W4:W24,\"<3,5\"),COUNTIF(W4:W24,\"<4,5\"))","v":0},{"$f":"COUNT(W4:W24)-(V27+X27)","v":0},{"$f":"IF('Répartition des intensités'!$AR$25=\"x\",COUNTIF(W4:W24,\">5,5\"),COUNTIF(W4:W24,\">6,5\"))","v":0},{"$f":"IF('Répartition des intensités'!$AR$25=\"x\",COUNTIF(Z4:Z24,\"<3,5\"),COUNTIF(Z4:Z24,\"<4,5\"))","v":0},{"$f":"COUNT(Z4:Z24)-(Y27+AA27)","v":0},{"$f":"IF('Répartition des intensités'!$AR$25=\"x\",COUNTIF(Z4:Z24,\">5,5\"),COUNTIF(Z4:Z24,\">6,5\"))","v":0},{"$f":"IF('Répartition des intensités'!$AR$25=\"x\",COUNTIF(AC4:AC24,\"<3,5\"),COUNTIF(AC4:AC24,\"<4,5\"))","v":0},{"$f":"COUNT(AC4:AC24)-(AB27+AD27)","v":0},{"$f":"IF('Répartition des intensités'!$AR$25=\"x\",COUNTIF(AC4:AC24,\">5,5\"),COUNTIF(AC4:AC24,\">6,5\"))","v":0},{"$f":"IF('Répartition des intensités'!$AR$25=\"x\",COUNTIF(AF4:AF24,\"<3,5\"),COUNTIF(AF4:AF24,\"<4,5\"))","v":0},{"$f":"COUNT(AF4:AF24)-(AE27+AG27)","v":0},{"$f":"IF('Répartition des intensités'!$AR$25=\"x\",COUNTIF(AF4:AF24,\">5,5\"),COUNTIF(AF4:AF24,\">6,5\"))","v":0},null,"Divergence",null,{"$f":"STDEVP(AK4:AK24)","v":0}]
[null,null,null,"échelle de Foster",null,null,null,"RPE",null,null,"Temps par zone (RPE)",null,{"$f":"IF('Répartition des intensités'!$AR$25=\"x\",SUMIF(N4:N24,\"<3,5\",M4:M24),SUMIF(N4:N24,\"<4,5\",M4:M24))","v":0},{"$f":"IF(N27=0,0,SUM((M25)-(M28+O28)))","v":0},{"$f":"IF('Répartition des intensités'!$AR$25=\"x\",SUMIF(N4:N24,\">5,5\",M4:M24),SUMIF(N4:N24,\">6,5\",M4:M24))","v":0},{"$f":"IF('Répartition des intensités'!$AR$25=\"x\",SUMIF(Q4:Q24,\"<3,5\",P4:P24),SUMIF(Q4:Q24,\"<4,5\",P4:P24))","v":0},{"$f":"IF(Q27=0,0,SUM((P25)-(P28+R28)))","v":0},{"$f":"IF('Répartition des intensités'!$AR$25=\"x\",SUMIF(Q4:Q24,\">5,5\",P4:P24),SUMIF(Q4:Q24,\">6,5\",P4:P24))","v":0},{"$f":"IF('Répartition des intensités'!$AR$25=\"x\",SUMIF(T4:T24,\"<3,5\",S4:S24),SUMIF(T4:T24,\"<4,5\",S4:S24))","v":0},{"$f":"IF(T27=0,0,SUM((S25)-(S28+U28)))","v":0},{"$f":"IF('Répartition des intensités'!$AR$25=\"x\",SUMIF(T4:T24,\">5,5\",S4:S24),SUMIF(T4:T24,\">6,5\",S4:S24))","v":0},{"$f":"IF('Répartition des intensités'!$AR$25=\"x\",SUMIF(W4:W24,\"<3,5\",V4:V24),SUMIF(W4:W24,\"<4,5\",V4:V24))","v":0},{"$f":"IF(W27=0,0,SUM((V25)-(V28+X28)))","v":0},{"$f":"IF('Répartition des intensités'!$AR$25=\"x\",SUMIF(W4:W24,\">5,5\",V4:V24),SUMIF(W4:W24,\">6,5\",V4:V24))","v":0},{"$f":"IF('Répartition des intensités'!$AR$25=\"x\",SUMIF(Z4:Z24,\"<3,5\",Y4:Y24),SUMIF(Z4:Z24,\"<4,5\",Y4:Y24))","v":0},{"$f":"IF(Z27=0,0,SUM((Y25)-(Y28+AA28)))","v":0},{"$f":"IF('Répartition des intensités'!$AR$25=\"x\",SUMIF(Z4:Z24,\">5,5\",Y4:Y24),SUMIF(Z4:Z24,\">6,5\",Y4:Y24))","v":0},{"$f":"IF('Répartition des intensités'!$AR$25=\"x\",SUMIF(AC4:AC24,\"<3,5\",AB4:AB24),SUMIF(AC4:AC24,\"<4,5\",AB4:AB24))","v":0},{"$f":"IF(AC27=0,0,SUM((AB25)-(AB28+AD28)))","v":0},{"$f":"IF('Répartition des intensités'!$AR$25=\"x\",SUMIF(AC4:AC24,\">5,5\",AB4:AB24),SUMIF(AC4:AC24,\">6,5\",AB4:AB24))","v":0},{"$f":"IF('Répartition des intensités'!$AR$25=\"x\",SUMIF(AF4:AF24,\"<3,5\",AE4:AE24),SUMIF(AF4:AF24,\"<4,5\",AE4:AE24))","v":0},{"$f":"IF(AF27=0,0,SUM((AE25)-(AE28+AG28)))","v":0},{"$f":"IF('Répartition des intensités'!$AR$25=\"x\",SUMIF(AF4:AF24,\">5,5\",AE4:AE24),SUMIF(AF4:AF24,\">6,5\",AE4:AE24))","v":0}]
[null,null,null,"Comme au repos",null,null,null,0,null,"REG","Est-ce que j'ai l'impression d'avoir récupéré en me levant?"]
[null,null,null,"très facile",null,null,null,1]
[null,null,null,"facile",null,null,null,2,null,1,"… pas du tout récupéré",null,null,null,null,null,null,null,null,null,null,null,null,null,null,null,null,null,null,null,null,null,null,null,"Entrainements",null,null,null,"Rapport de santé"]
[null,null,null,null,null,null,null,3,null,2,"… un peu récupéré",null,null,null,null,null,null,null,null,null,null,null,null,null,null,null,null,null,null,null,null,null,null,null,"Jours d'entrainement",null,{"$f":"IF(SUM(AH4:AH24)=0,\"\",SUM(AH4:AH24))","v":""}]
[null,null,null,"Assez dur",null,null,null,4,null,3,"… récupéré",null,null,null,null,null,null,null,null,null,null,{"$f":"B4","v":"Lu"},{"$f":"AK4","v":0},null,null,null,null,null,null,null,null,null,null,null,"Entrainements",null,{"$f":"IF(AK32=\"\",\"\",SUM(M27:AG27))","v":""}]
[null,null,null,"dur",null,null,null,5,null,4,"…  en forme",null,null,null,null,null,null,null,null,null,null,{"$f":"B7","v":"Ma"},{"$f":"AK7","v":0},null,null,null,null,null,null,null,null,null,null,null,"Heures d'entrainement",null,{"$f":"IF(AK32=\"\",\"\",SUM(M25,P25,S25,Y25,AB25,V25,AE25)/60)","v":""},null,{"$f":"IF($AK$32=\"\",\"\",AK32-AM36-AM44-AM52)","v":""},"Aucune limitation",null,null,null,0]
[null,null,null,null,null,null,null,6,null,5,"… très en forme",null,null,null,null,null,null,null,null,null,null,{"$f":"B10","v":"Me"},{"$f":"AK10","v":0},null,null,null,null,null,null,null,null,null,null,null,"Charge de l'entrainement",null,{"$f":"IF(AK32=\"\",\"\",SUM(AK25))","v":""}]
[null,null,null,"très dur",null,null,null,7,null,null,null,null,null,null,null,null,null,null,null,null,null,{"$f":"B13","v":"Je"},{"$f":"AK13","v":0},null,null,null,null,null,null,null,null,null,null,null,"Monotonie",null,{"$f":"IF(AK27=0,0,(AVERAGE(AK4:AK24))/AK27)","v":0},null,{"$f":"SUM(AM37:AM42)","v":0},"Limitation pour cause de douleurs"]
[null,null,null,null,null,null,null,8,null,"Nombre de matchs",null,null,null,null,null,null,null,null,null,null,null,{"$f":"B16","v":"Ve"},{"$f":"AK16","v":0},null,null,null,null,null,null,null,null,null,null,null,"Efforts à l'entrainement",null,{"$f":"IF(AK32=\"\",\"\",AK35*AK36)","v":""},null,{"$f":"COUNTIF($H$4:$H$24,$AR37)","v":0},"Doigt",null,null,null,1]
[null,null,null,"extrèmement dur",null,null,null,9,null,null,null,null,null,null,null,null,null,null,null,null,null,{"$f":"B19","v":"Sa"},{"$f":"AK19","v":0},null,null,null,null,null,null,null,null,null,null,null,null,null,null,null,0,"Épaule",null,null,null,2]
[null,null,null,"Comme mon entrainement le plus dur",null,null,null,10,null,1,"… 3 sets et plus",null,null,null,null,null,null,null,null,null,null,{"$f":"B22","v":"Di"},{"$f":"AK22","v":0},null,null,null,null,null,null,null,null,null,null,null,"Compétition",null,null,null,0,"Dos",null,null,null,3]
[null,null,null,null,null,null,null,null,null,0.5,"… moins de 3 sets",null,null,null,null,null,null,null,null,null,null,null,null,null,null,null,null,null,null,null,null,null,null,null,"Matchs de volleyball",null,{"$f":"IF(AK32=\"\",\"\",SUM(AM4:AM24))","v":""},null,0,"Genou",null,null,null,4]
[null,null,null,null,null,null,null,null,null,null,null,null,null,null,null,null,null,null,null,null,null,null,null,null,null,null,null,null,null,null,null,null,null,null,"Sets de volleyball",null,{"$f":"IF(AK32=\"\",\"\",SUM(AN4:AN24))","v":""},null,0,"Cheville",null,null,null,5]
[null,null,null,null,null,null,null,null,null,"Sets joués",null,null,null,null,null,null,null,null,null,null,null,null,null,null,null,null,null,null,null,null,null,null,null,null,"Matchs de beach volley",null,{"$f":"IF(AK35=\"\",\"\",SUM(AO4:AO24))","v":""},null,0,"Autre",null,null,null,6]
[null,null,null,null,null,null,null,null,null,1,"… depuis le début et durant tout le set",null,null,null,null,null,null,null,null,null,null,null,null,null,null,null,null,null,null,null,null,null,null,null,"Sets de beach volley",null,{"$f":"IF(AK35=\"\",\"\",SUM(AP4:AP24))","v":""}]
[null,null,null,null,null,null,null,null,null,0.5,"… entré/sorti en cours, beaucoup joué",null,null,null,null,null,null,null,null,null,null,null,null,null,null,null,null,null,null,null,null,null,null,null,null,null,null,null,{"$f":"SUM(AM45:AM50)","v":0},"Absence pour cause de blessure"]
[null,null,null,null,null,null,null,null,null,0.1,"… entré/sorti en cours, peu joué",null,null,null,null,null,null,null,null,null,null,null,null,null,null,null,null,null,null,null,null,null,null,null,"Satisfaction",null,null,null,{"$f":"COUNTIF($H$4:$H$24,$AR45)","v":0},"Doigt",null,null,null,11]
[null,null,null,null,null,null,null,null,null,null,null,null,null,null,null,null,null,null,null,null,null,null,null,null,null,null,null,null,null,null,null,null,null,null,"Satisfaction de l'entrainement/match J",null,{"$f":"IF(AK32=\"\",\"\",SUM(AQ4:AQ24)/AK32)","v":""},null,0,"Épaule",null,null,null,12]
[null,null,null,null,null,null,null,null,null,"J","Es-tu content de la qualité de ton",null,null,null,null,null,null,null,null,null,null,null,null,null,null,null,null,null,null,null,null,null,null,null,null,null,null,null,0,"Dos",null,null,null,13]
[null,null,null,null,null,null,null,null,null,null,"entrainement/compétition?",null,null,null,null,null,null,null,null,null,null,null,null,null,null,null,null,null,null,null,null,null,null,null,"Santé",null,null,null,0,"Genou",null,null,null,14]
[null,null,null,null,null,null,null,null,null,1,"… pas content",null,null,null,null,null,null,null,null,null,null,null,null,null,null,null,null,null,null,null,null,null,null,null,"Limitation pour cause de douleurs",null,{"$f":"AM36","v":0},null,0,"Cheville",null,null,null,15]
[null,null,null,null,null,null,null,null,null,2,"… plutôt pas content",null,null,null,null,null,null,null,null,null,null,null,null,null,null,null,null,null,null,null,null,null,null,null,"Absence pour cause de blessure",null,{"$f":"AM44","v":0},null,0,"Autre",null,null,null,16]
[null,null,null,null,null,null,null,null,null,3,"… moyen",null,null,null,null,null,null,null,null,null,null,null,null,null,null,null,null,null,null,null,null,null,null,null,"Absence pour cause de maladie",null,{"$f":"AM52","v":0}]
[null,null,null,null,null,null,null,null,null,4,"… content",null,null,null,null,null,null,null,null,null,null,null,null,null,null,null,null,null,null,null,null,null,null,null,null,null,null,null,{"$f":"SUM(AM53:AM59)","v":0},"Absence pour cause de maladie"]
[null,null,null,null,null,null,null,null,null,5,"… très content!",null,null,null,null,null,null,null,null,null,null,null,null,null,null,null,null,null,null,null,null,null,null,null,null,null,null,null,{"$f":"COUNTIF($H$4:$H$24,$AR53)","v":0},"Maladie",null,null,null,21]
[]
[]
[]
[]
[]
[]
[]
[]
[]
[]
[]
[]
[]
[]
[]
[]
[]
[]
[]
[]
[]
[]
[]
[]
[]
[]
[]
[]
[]
[]
[]
[]
[]
[]
[]
[]
[]
[]
[]
[]
[]
[]
[]
[]
[]
[]
[]
[]
[]
[]
[]
[]
[]
[]
[]
[]
[]
[]
[]
[]
[]
[]
[]
[]
[]
[]
[]
[]
[]
[]
[]
[]
[]
[]
[]
[]
[]
[]
[]
[]
[null,null,null,null,null,null,null,null,null,null,null,null,null,null,null,null,null,null,null,null,null,null,null,null,{"$f":"Z134-1","v":46},{"$f":"AA134-1","v":47},{"$f":"AB134-1","v":48},{"$f":"AC134-1","v":49},{"$f":"AD134-1","v":50},51,52,{"$f":"D1","v":16}]
[]
[]
[]
[]
[]
[]
[]
[]
[]
[]
[]
[]
[]
[]
[]
[]
[]
[]
[]
[]
[null,null,null,null,null,null,null,null,null,null,null,null,null,null,null,null,null,null,null,null,null,null,null,null,null,null,null,null,null,null,null,null,{"$f":"AF134+1","v":17}]

{"sheet":"17","index":45,"n_rows":155,"n_cols":45,"rows_kept":155,"cut":false,"hidden":false,"merged":[[9,4,11,4],[12,4,14,4],[3,7,5,7],[15,7,17,7],[27,3,27,6],[15,5,17,5],[18,5,20,5],[28,10,29,10],[15,9,15,10],[1,43,2,43],[30,34,30,36],[30,38,31,43],[0,5,0,6],[1,44,2,44],[29,3,29,6],[30,3,30,6],[35,3,35,6],[36,3,36,6],[18,36,20,36],[21,36,23,36],[1,40,2,40],[1,21,1,23],[1,41,2,41],[15,36,17,36],[1,38,2,38],[1,36,2,36],[1,34,2,34],[1,30,1,32],[1,27,1,29],[1,24,1,26],[9,36,11,36],[12,36,14,36],[1,39,2,39],[28,9,29,9],[28,3,28,6],[37,3,37,6],[38,3,38,6],[31,3,31,6],[32,3,32,6],[33,3,33,6],[34,3,34,6],[46,9,47,9],[3,1,5,1],[6,36,8,36],[3,3,5,3],[3,6,5,6],[3,9,3,10],[4,9,4,10],[5,9,5,10],[3,36,5,36],[6,1,8,1],[6,7,8,7],[6,3,8,3],[6,6,8,6],[6,9,6,10],[8,9,8,10],[9,1,11,1],[9,3,11,3],[9,6,11,6],[9,9,9,10],[1,12,1,14],[18,1,20,1],[18,3,20,3],[18,6,20,6],[1,18,1,20],[11,9,11,10],[7,9,7,10],[10,9,10,10],[9,7,11,7],[14,9,14,10],[12,7,14,7],[3,5,5,5],[6,5,8,5],[9,5,11,5],[12,5,14,5],[1,1,2,1],[1,15,1,17],[3,4,5,4],[6,4,8,4],[1,9,2,10],[12,1,14,1],[12,3,14,3],[12,6,14,6],[12,9,12,10],[13,9,13,10],[18,9,18,10],[19,9,19,10],[20,9,20,10],[18,7,20,7],[18,4,20,4],[15,1,17,1],[15,3,17,3],[15,6,17,6],[15,4,17,4],[16,9,16,10],[17,9,17,10],[38,34,38,36],[44,34,44,36],[47,34,47,36],[21,1,23,1],[21,3,23,3],[21,5,23,5],[21,6,23,6],[21,9,21,10],[23,9,23,10],[21,7,23,7],[21,4,23,4],[22,9,22,10],[29,21,29,26],[36,9,37,9]]}
[null,null,"Woche",{"$f":"INT(MOD(INT((F1-2)/7)+0.6,52+5/28))+1","v":17},{"$f":"D1+1000","v":1017},{"$f":"'16'!F1+7","v":"2019-04-22"},null,"-",null,{"$f":"F1+6","v":"2019-04-28"},null,null,null,null,null,null,null,null,null,null,null,null,null,null,null,null,null,null,null,null,null,null,{"$f":"'Aperçu de la charge'!D2","v":"Prénom Nom"},null,{"$f":"'Aperçu de la charge'!N2","v":"2018/2019"}]
[null,"Jour",null,"Poids","REG","qualité sommeil","durée sommeil","Santé",null,"Description de l'entrainement",null,null,"Club - VB",null,null,"TS/ Nati - VB",null,null,"Club - BVB",null,null,"TS/ Nati - BVB",null,null,"Force - fitness",null,null,"Compet. - VB",null,null,"Compet. - BVB",null,null,null,"Réflexion",null,"Charge/\njour",null,"matchs VB","Sets VB","Matchs BVB","Sets BVB","J","Autre\n (Rég, mentale)","Mental- oder Sonstiges Training"]
[null,null,null,"[kg]","[1 - 5]","[1-5]","[Std]","Nr.",null,null,null,null,"Durée","RPE","Charge","Durée","RPE","Charge","Durée","RPE","Charge","Durée","RPE","Charge","Durée","RPE","Charge","Durée","RPE","Charge","Durée","RPE","Charge",null,null,null,null,null,null,null,null,null,"[1-5]"]
[null,"Lu",null,0,0,0,0,0,null,null,null,null,null,null,{"$f":"M4*N4","v":0},null,null,{"$f":"P4*Q4","v":0},null,null,{"$f":"S4*T4","v":0},null,null,{"$f":"V4*W4","v":0},null,null,{"$f":"Y4*Z4","v":0},null,null,{"$f":"AB4*AC4","v":0},null,null,{"$f":"AE4*AF4","v":0},{"$f":"IF(SUM(M4:AG6)>0,1,0)","v":"00:00:00"},null,null,{"$f":"SUM(O4:O6,R4:R6,U4:U6,X4:X6,AA4:AA6,AD4:AD6,AG4:AG6)","v":0}]
[null,null,null,null,null,null,null,null,null,null,null,null,null,null,{"$f":"M5*N5","v":0},null,null,{"$f":"P5*Q5","v":0},null,null,{"$f":"S5*T5","v":0},null,null,{"$f":"V5*W5","v":0},null,null,{"$f":"Y5*Z5","v":0},null,null,{"$f":"AB5*AC5","v":0},null,null,{"$f":"AE5*AF5","v":0}]
[null,null,null,null,null,null,null,null,null,null,null,null,null,null,0,null,null,0,null,null,0,null,null,0,null,null,0,null,null,0,null,null,0]
[null,"Ma",null,0,0,0,0,0,null,null,null,null,null,null,0,null,null,{"$f":"P7*Q7","v":0},null,null,0,null,null,0,null,null,0,null,null,0,null,null,0,{"$f":"IF(SUM(M7:AG9)>0,1,0)","v":"00:00:00"},null,null,{"$f":"SUM(O7:O9,R7:R9,U7:U9,X7:X9,AA7:AA9,AD7:AD9,AG7:AG9)","v":0}]
[null,null,null,null,null,null,null,null,null,null,null,null,null,null,0,null,null,0,null,null,0,null,null,0,null,null,0,null,null,0,null,null,0]
[null,null,null,null,null,null,null,null,null,null,null,null,null,null,0,null,null,0,null,null,0,null,null,0,null,null,0,null,null,0,null,null,0]
[null,"Me",null,0,0,0,0,0,null,null,null,null,null,null,0,null,null,{"$f":"P10*Q10","v":0},null,null,0,null,null,0,null,null,0,null,null,0,null,null,0,{"$f":"IF(SUM(M10:AG12)>0,1,0)","v":"00:00:00"},null,null,{"$f":"SUM(O10:O12,R10:R12,U10:U12,X10:X12,AA10:AA12,AD10:AD12,AG10:AG12)","v":0}]
[null,null,null,null,null,null,null,null,null,null,null,null,null,null,0,null,null,0,null,null,0,null,null,0,null,null,0,null,null,0,null,null,0]
[null,null,null,null,null,null,null,null,null,null,null,null,null,null,0,null,null,0,null,null,0,null,null,0,null,null,0,null,null,0,null,null,0]
[null,"Je",null,0,0,0,0,0,null,null,null,null,null,null,0,null,null,{"$f":"P13*Q13","v":0},null,null,0,null,null,0,null,null,0,null,null,0,null,null,0,{"$f":"IF(SUM(M13:AG15)>0,1,0)","v":"00:00:00"},null,null,{"$f":"SUM(O13:O15,R13:R15,U13:U15,X13:X15,AA13:AA15,AD13:AD15,AG13:AG15)","v":0}]
[null,null,null,null,null,null,null,null,null,null,null,null,null,null,0,null,null,0,null,null,0,null,null,0,null,null,0,null,null,0,null,null,0]
[null,null,null,null,null,null,null,null,null,null,null,null,null,null,0,null,null,0,null,null,0,null,null,0,null,null,0,null,null,0,null,null,0]
[null,"Ve",null,0,0,0,0,0,null,null,null,null,null,null,0,null,null,{"$f":"P16*Q16","v":0},null,null,0,null,null,0,null,null,0,null,null,0,null,null,0,{"$f":"IF(SUM(M16:AG18)>0,1,0)","v":"00:00:00"},null,null,{"$f":"SUM(O16:O18,R16:R18,U16:U18,X16:X18,AA16:AA18,AD16:AD18,AG16:AG18)","v":0}]
[null,null,null,null,null,null,null,null,null,null,null,null,null,null,0,null,null,0,null,null,0,null,null,0,null,null,0,null,null,0,null,null,0]
[null,null,null,null,null,null,null,null,null,null,null,null,null,null,0,null,null,0,null,null,0,null,null,0,null,null,0,null,null,0,null,null,0]
[null,"Sa",null,0,0,0,0,0,null,null,null,null,null,null,{"$f":"M19*N19","v":0},null,null,{"$f":"P19*Q19","v":0},null,null,{"$f":"S19*T19","v":0},null,null,{"$f":"V19*W19","v":0},null,null,{"$f":"Y19*Z19","v":0},null,null,{"$f":"AB19*AC19","v":0},null,null,{"$f":"AE19*AF19","v":0},{"$f":"IF(SUM(M19:AG21)>0,1,0)","v":"00:00:00"},null,null,{"$f":"SUM(O19:O21,R19:R21,U19:U21,X19:X21,AA19:AA21,AD19:AD21,AG19:AG21)","v":0}]
[null,null,null,null,null,null,null,null,null,null,null,null,null,null,{"$f":"M20*N20","v":0},null,null,0,null,null,{"$f":"S20*T20","v":0},null,null,{"$f":"V20*W20","v":0},null,null,{"$f":"Y20*Z20","v":0},null,null,{"$f":"AB20*AC20","v":0},null,null,{"$f":"AE20*AF20","v":0}]
[null,null,null,null,null,null,null,null,null,null,null,null,null,null,0,null,null,0,null,null,0,null,null,0,null,null,0,null,null,0,null,null,0]
[null,"Di",null,0,0,0,0,0,null,null,null,null,null,null,0,null,null,{"$f":"P22*Q22","v":0},null,null,0,null,null,0,null,null,0,null,null,0,null,null,0,{"$f":"IF(SUM(M22:AG24)>0,1,0)","v":"00:00:00"},null,null,{"$f":"SUM(O22:O24,R22:R24,U22:U24,X22:X24,AA22:AA24,AD22:AD24,AG22:AG24)","v":0}]
[null,null,null,null,null,null,null,null,null,null,null,null,null,null,0,null,null,0,null,null,0,null,null,0,null,null,0,null,null,0,null,null,0]
[null,null,null,null,null,null,null,null,null,null,null,null,null,null,0,null,null,0,null,null,0,null,null,0,null,null,0,null,null,0,null,null,0]
[null,null,null,null,null,null,null,null,null,null,"Total",null,{"$f":"SUM(M4:M24)","v":0},null,{"$f":"SUM(O4:O24)","v":0},{"$f":"SUM(P4:P24)","v":0},null,{"$f":"SUM(R4:R24)","v":0},{"$f":"SUM(S4:S24)","v":0},null,{"$f":"SUM(U4:U24)","v":0},{"$f":"SUM(V4:V24)","v":0},null,{"$f":"SUM(X4:X24)","v":0},{"$f":"SUM(Y4:Y24)","v":0},null,{"$f":"SUM(AA4:AA24)","v":0},{"$f":"SUM(AB4:AB24)","v":0},null,{"$f":"SUM(AD4:AD24)","v":0},{"$f":"SUM(AE4:AE24)","v":0},null,{"$f":"SUM(AG4:AG24)","v":0},null,"Charge totale",null,{"$f":"SUM(AK4:AK24)","v":0}]
[null,"avg.",null,{"$f":"IF(COUNTA(D4:D24)=0,\"\",AVERAGE(D4:D24))","v":0},{"$f":"IF(COUNTA(E4:E24)=0,\"\",AVERAGE(E4:E24))","v":0},{"$f":"IF(COUNTA(F4:F24)=0,\"\",AVERAGE(F4:F24))","v":0},{"$f":"IF(COUNTA(G4:G24)=0,\"\",AVERAGE(G4:G24))","v":0},{"$f":"IF(COUNTA(H4:H24)=0,\"\",COUNTIF(H4:H24,\"x\"))","v":0},null,null,"Zone",null,1,2,3,1,2,3,1,2,3,1,2,3,1,2,3,1,2,3,1,2,3,null,"Moyenne",null,{"$f":"AVERAGE(AK4:AK24)","v":0}]
[null,null,null,null,null,{"$f":"IF(COUNTA(F4:F24)=0,\"\",VAR(F4:F24))","v":0},{"$f":"IF(COUNTA(G4:G24)=0,\"\",STDEV(G4:G24))","v":0},"Divergence - durée du sommeil",null,null,"Unité par zone (RPE) ",null,{"$f":"IF('Répartition des intensités'!$AR$25=\"x\",COUNTIF(N4:N24,\"<3,5\"),COUNTIF(N4:N24,\"<4,5\"))","v":0},{"$f":"COUNT(N4:N24)-(M27+O27)","v":0},{"$f":"IF('Répartition des intensités'!$AR$25=\"x\",COUNTIF(N4:N24,\">5,5\"),COUNTIF(N4:N24,\">6,5\"))","v":0},{"$f":"IF('Répartition des intensités'!$AR$25=\"x\",COUNTIF(Q4:Q24,\"<3,5\"),COUNTIF(Q4:Q24,\"<4,5\"))","v":0},{"$f":"COUNT(Q4:Q24)-(P27+R27)","v":0},{"$f":"IF('Répartition des intensités'!$AR$25=\"x\",COUNTIF(Q4:Q24,\">5,5\"),COUNTIF(Q4:Q24,\">6,5\"))","v":0},{"$f":"IF('Répartition des intensités'!$AR$25=\"x\",COUNTIF(T4:T24,\"<3,5\"),COUNTIF(T4:T24,\"<4,5\"))","v":0},{"$f":"COUNT(T4:T24)-(S27+U27)","v":0},{"$f":"IF('Répartition des intensités'!$AR$25=\"x\",COUNTIF(T4:T24,\">5,5\"),COUNTIF(T4:T24,\">6,5\"))","v":0},{"$f":"IF('Répartition des intensités'!$AR$25=\"x\",COUNTIF(W4:W24,\"<3,5\"),COUNTIF(W4:W24,\"<4,5\"))","v":0},{"$f":"COUNT(W4:W24)-(V27+X27)","v":0},{"$f":"IF('Répartition des intensités'!$AR$25=\"x\",COUNTIF(W4:W24,\">5,5\"),COUNTIF(W4:W24,\">6,5\"))","v":0},{"$f":"IF('Répartition des intensités'!$AR$25=\"x\",COUNTIF(Z4:Z24,\"<3,5\"),COUNTIF(Z4:Z24,\"<4,5\"))","v":0},{"$f":"COUNT(Z4:Z24)-(Y27+AA27)","v":0},{"$f":"IF('Répartition des intensités'!$AR$25=\"x\",COUNTIF(Z4:Z24,\">5,5\"),COUNTIF(Z4:Z24,\">6,5\"))","v":0},{"$f":"IF('Répartition des intensités'!$AR$25=\"x\",COUNTIF(AC4:AC24,\"<3,5\"),COUNTIF(AC4:AC24,\"<4,5\"))","v":0},{"$f":"COUNT(AC4:AC24)-(AB27+AD27)","v":0},{"$f":"IF('Répartition des intensités'!$AR$25=\"x\",COUNTIF(AC4:AC24,\">5,5\"),COUNTIF(AC4:AC24,\">6,5\"))","v":0},{"$f":"IF('Répartition des intensités'!$AR$25=\"x\",COUNTIF(AF4:AF24,\"<3,5\"),COUNTIF(AF4:AF24,\"<4,5\"))","v":0},{"$f":"COUNT(AF4:AF24)-(AE27+AG27)","v":0},{"$f":"IF('Répartition des intensités'!$AR$25=\"x\",COUNTIF(AF4:AF24,\">5,5\"),COUNTIF(AF4:AF24,\">6,5\"))","v":0},null,"Divergence",null,{"$f":"STDEVP(AK4:AK24)","v":0}]
[null,null,null,"échelle de Foster",null,null,null,"RPE",null,null,"Temps par zone (RPE)",null,{"$f":"IF('Répartition des intensités'!$AR$25=\"x\",SUMIF(N4:N24,\"<3,5\",M4:M24),SUMIF(N4:N24,\"<4,5\",M4:M24))","v":0},{"$f":"IF(N27=0,0,SUM((M25)-(M28+O28)))","v":0},{"$f":"IF('Répartition des intensités'!$AR$25=\"x\",SUMIF(N4:N24,\">5,5\",M4:M24),SUMIF(N4:N24,\">6,5\",M4:M24))","v":0},{"$f":"IF('Répartition des intensités'!$AR$25=\"x\",SUMIF(Q4:Q24,\"<3,5\",P4:P24),SUMIF(Q4:Q24,\"<4,5\",P4:P24))","v":0},{"$f":"IF(Q27=0,0,SUM((P25)-(P28+R28)))","v":0},{"$f":"IF('Répartition des intensités'!$AR$25=\"x\",SUMIF(Q4:Q24,\">5,5\",P4:P24),SUMIF(Q4:Q24,\">6,5\",P4:P24))","v":0},{"$f":"IF('Répartition des intensités'!$AR$25=\"x\",SUMIF(T4:T24,\"<3,5\",S4:S24),SUMIF(T4:T24,\"<4,5\",S4:S24))","v":0},{"$f":"IF(T27=0,0,SUM((S25)-(S28+U28)))","v":0},{"$f":"IF('Répartition des intensités'!$AR$25=\"x\",SUMIF(T4:T24,\">5,5\",S4:S24),SUMIF(T4:T24,\">6,5\",S4:S24))","v":0},{"$f":"IF('Répartition des intensités'!$AR$25=\"x\",SUMIF(W4:W24,\"<3,5\",V4:V24),SUMIF(W4:W24,\"<4,5\",V4:V24))","v":0},{"$f":"IF(W27=0,0,SUM((V25)-(V28+X28)))","v":0},{"$f":"IF('Répartition des intensités'!$AR$25=\"x\",SUMIF(W4:W24,\">5,5\",V4:V24),SUMIF(W4:W24,\">6,5\",V4:V24))","v":0},{"$f":"IF('Répartition des intensités'!$AR$25=\"x\",SUMIF(Z4:Z24,\"<3,5\",Y4:Y24),SUMIF(Z4:Z24,\"<4,5\",Y4:Y24))","v":0},{"$f":"IF(Z27=0,0,SUM((Y25)-(Y28+AA28)))","v":0},{"$f":"IF('Répartition des intensités'!$AR$25=\"x\",SUMIF(Z4:Z24,\">5,5\",Y4:Y24),SUMIF(Z4:Z24,\">6,5\",Y4:Y24))","v":0},{"$f":"IF('Répartition des intensités'!$AR$25=\"x\",SUMIF(AC4:AC24,\"<3,5\",AB4:AB24),SUMIF(AC4:AC24,\"<4,5\",AB4:AB24))","v":0},{"$f":"IF(AC27=0,0,SUM((AB25)-(AB28+AD28)))","v":0},{"$f":"IF('Répartition des intensités'!$AR$25=\"x\",SUMIF(AC4:AC24,\">5,5\",AB4:AB24),SUMIF(AC4:AC24,\">6,5\",AB4:AB24))","v":0},{"$f":"IF('Répartition des intensités'!$AR$25=\"x\",SUMIF(AF4:AF24,\"<3,5\",AE4:AE24),SUMIF(AF4:AF24,\"<4,5\",AE4:AE24))","v":0},{"$f":"IF(AF27=0,0,SUM((AE25)-(AE28+AG28)))","v":0},{"$f":"IF('Répartition des intensités'!$AR$25=\"x\",SUMIF(AF4:AF24,\">5,5\",AE4:AE24),SUMIF(AF4:AF24,\">6,5\",AE4:AE24))","v":0}]
[null,null,null,"Comme au repos",null,null,null,0,null,"REG","Est-ce que j'ai l'impression d'avoir récupéré en me levant?"]
[null,null,null,"très facile",null,null,null,1]
[null,null,null,"facile",null,null,null,2,null,1,"… pas du tout récupéré",null,null,null,null,null,null,null,null,null,null,null,null,null,null,null,null,null,null,null,null,null,null,null,"Entrainements",null,null,null,"Rapport de santé"]
[null,null,null,null,null,null,null,3,null,2,"… un peu récupéré",null,null,null,null,null,null,null,null,null,null,null,null,null,null,null,null,null,null,null,null,null,null,null,"Jours d'entrainement",null,{"$f":"IF(SUM(AH4:AH24)=0,\"\",SUM(AH4:AH24))","v":""}]
[null,null,null,"Assez dur",null,null,null,4,null,3,"… récupéré",null,null,null,null,null,null,null,null,null,null,{"$f":"B4","v":"Lu"},{"$f":"AK4","v":0},null,null,null,null,null,null,null,null,null,null,null,"Entrainements",null,{"$f":"IF(AK32=\"\",\"\",SUM(M27:AG27))","v":""}]
[null,null,null,"dur",null,null,null,5,null,4,"…  en forme",null,null,null,null,null,null,null,null,null,null,{"$f":"B7","v":"Ma"},{"$f":"AK7","v":0},null,null,null,null,null,null,null,null,null,null,null,"Heures d'entrainement",null,{"$f":"IF(AK32=\"\",\"\",SUM(M25,P25,S25,Y25,AB25,V25,AE25)/60)","v":""},null,{"$f":"IF($AK$32=\"\",\"\",AK32-AM36-AM44-AM52)","v":""},"Aucune limitation",null,null,null,0]
[null,null,null,null,null,null,null,6,null,5,"… très en forme",null,null,null,null,null,null,null,null,null,null,{"$f":"B10","v":"Me"},{"$f":"AK10","v":0},null,null,null,null,null,null,null,null,null,null,null,"Charge de l'entrainement",null,{"$f":"IF(AK32=\"\",\"\",SUM(AK25))","v":""}]
[null,null,null,"très dur",null,null,null,7,null,null,null,null,null,null,null,null,null,null,null,null,null,{"$f":"B13","v":"Je"},{"$f":"AK13","v":0},null,null,null,null,null,null,null,null,null,null,null,"Monotonie",null,{"$f":"IF(AK27=0,0,(AVERAGE(AK4:AK24))/AK27)","v":0},null,{"$f":"SUM(AM37:AM42)","v":0},"Limitation pour cause de douleurs"]
[null,null,null,null,null,null,null,8,null,"Nombre de matchs",null,null,null,null,null,null,null,null,null,null,null,{"$f":"B16","v":"Ve"},{"$f":"AK16","v":0},null,null,null,null,null,null,null,null,null,null,null,"Efforts à l'entrainement",null,{"$f":"IF(AK32=\"\",\"\",AK35*AK36)","v":""},null,{"$f":"COUNTIF($H$4:$H$24,$AR37)","v":0},"Doigt",null,null,null,1]
[null,null,null,"extrèmement dur",null,null,null,9,null,null,null,null,null,null,null,null,null,null,null,null,null,{"$f":"B19","v":"Sa"},{"$f":"AK19","v":0},null,null,null,null,null,null,null,null,null,null,null,null,null,null,null,0,"Épaule",null,null,null,2]
[null,null,null,"Comme mon entrainement le plus dur",null,null,null,10,null,1,"… 3 sets et plus",null,null,null,null,null,null,null,null,null,null,{"$f":"B22","v":"Di"},{"$f":"AK22","v":0},null,null,null,null,null,null,null,null,null,null,null,"Compétition",null,null,null,0,"Dos",null,null,null,3]
[null,null,null,null,null,null,null,null,null,0.5,"… moins de 3 sets",null,null,null,null,null,null,null,null,null,null,null,null,null,null,null,null,null,null,null,null,null,null,null,"Matchs de volleyball",null,{"$f":"IF(AK32=\"\",\"\",SUM(AM4:AM24))","v":""},null,0,"Genou",null,null,null,4]
[null,null,null,null,null,null,null,null,null,null,null,null,null,null,null,null,null,null,null,null,null,null,null,null,null,null,null,null,null,null,null,null,null,null,"Sets de volleyball",null,{"$f":"IF(AK32=\"\",\"\",SUM(AN4:AN24))","v":""},null,0,"Cheville",null,null,null,5]
[null,null,null,null,null,null,null,null,null,"Sets joués",null,null,null,null,null,null,null,null,null,null,null,null,null,null,null,null,null,null,null,null,null,null,null,null,"Matchs de beach volley",null,{"$f":"IF(AK35=\"\",\"\",SUM(AO4:AO24))","v":""},null,0,"Autre",null,null,null,6]
[null,null,null,null,null,null,null,null,null,1,"… depuis le début et durant tout le set",null,null,null,null,null,null,null,null,null,null,null,null,null,null,null,null,null,null,null,null,null,null,null,"Sets de beach volley",null,{"$f":"IF(AK35=\"\",\"\",SUM(AP4:AP24))","v":""}]
[null,null,null,null,null,null,null,null,null,0.5,"… entré/sorti en cours, beaucoup joué",null,null,null,null,null,null,null,null,null,null,null,null,null,null,null,null,null,null,null,null,null,null,null,null,null,null,null,{"$f":"SUM(AM45:AM50)","v":0},"Absence pour cause de blessure"]
[null,null,null,null,null,null,null,null,null,0.1,"… entré/sorti en cours, peu joué",null,null,null,null,null,null,null,null,null,null,null,null,null,null,null,null,null,null,null,null,null,null,null,"Satisfaction",null,null,null,{"$f":"COUNTIF($H$4:$H$24,$AR45)","v":0},"Doigt",null,null,null,11]
[null,null,null,null,null,null,null,null,null,null,null,null,null,null,null,null,null,null,null,null,null,null,null,null,null,null,null,null,null,null,null,null,null,null,"Satisfaction de l'entrainement/match J",null,{"$f":"IF(AK32=\"\",\"\",SUM(AQ4:AQ24)/AK32)","v":""},null,0,"Épaule",null,null,null,12]
[null,null,null,null,null,null,null,null,null,"J","Es-tu content de la qualité de ton",null,null,null,null,null,null,null,null,null,null,null,null,null,null,null,null,null,null,null,null,null,null,null,null,null,null,null,0,"Dos",null,null,null,13]
[null,null,null,null,null,null,null,null,null,null,"entrainement/compétition?",null,null,null,null,null,null,null,null,null,null,null,null,null,null,null,null,null,null,null,null,null,null,null,"Santé",null,null,null,0,"Genou",null,null,null,14]
[null,null,null,null,null,null,null,null,null,1,"… pas content",null,null,null,null,null,null,null,null,null,null,null,null,null,null,null,null,null,null,null,null,null,null,null,"Limitation pour cause de douleurs",null,{"$f":"AM36","v":0},null,0,"Cheville",null,null,null,15]
[null,null,null,null,null,null,null,null,null,2,"… plutôt pas content",null,null,null,null,null,null,null,null,null,null,null,null,null,null,null,null,null,null,null,null,null,null,null,"Absence pour cause de blessure",null,{"$f":"AM44","v":0},null,0,"Autre",null,null,null,16]
[null,null,null,null,null,null,null,null,null,3,"… moyen",null,null,null,null,null,null,null,null,null,null,null,null,null,null,null,null,null,null,null,null,null,null,null,"Absence pour cause de maladie",null,{"$f":"AM52","v":0}]
[null,null,null,null,null,null,null,null,null,4,"… content",null,null,null,null,null,null,null,null,null,null,null,null,null,null,null,null,null,null,null,null,null,null,null,null,null,null,null,{"$f":"SUM(AM53:AM59)","v":0},"Absence pour cause de maladie"]
[null,null,null,null,null,null,null,null,null,5,"… très content!",null,null,null,null,null,null,null,null,null,null,null,null,null,null,null,null,null,null,null,null,null,null,null,null,null,null,null,{"$f":"COUNTIF($H$4:$H$24,$AR53)","v":0},"Maladie",null,null,null,21]
[]
[]
[]
[]
[]
[]
[]
[]
[]
[]
[]
[]
[]
[]
[]
[]
[]
[]
[]
[]
[]
[]
[]
[]
[]
[]
[]
[]
[]
[]
[]
[]
[]
[]
[]
[]
[]
[]
[]
[]
[]
[]
[]
[]
[]
[]
[]
[]
[]
[]
[]
[]
[]
[]
[]
[]
[]
[]
[]
[]
[]
[]
[]
[]
[]
[]
[]
[]
[]
[]
[]
[]
[]
[]
[]
[]
[]
[]
[]
[]
[null,null,null,null,null,null,null,null,null,null,null,null,null,null,null,null,null,null,null,null,null,null,null,null,{"$f":"Z134-1","v":47},48,49,50,51,52,16,{"$f":"D1","v":17}]
[]
[]
[]
[]
[]
[]
[]
[]
[]
[]
[]
[]
[]
[]
[]
[]
[]
[]
[]
[]
[null,null,null,null,null,null,null,null,null,null,null,null,null,null,null,null,null,null,null,null,null,null,null,null,null,null,null,null,null,null,null,null,{"$f":"AF134+1","v":18}]

{"sheet":"18","index":46,"n_rows":155,"n_cols":45,"rows_kept":155,"cut":false,"hidden":false,"merged":[[1,43,2,43],[30,34,30,36],[30,38,31,43],[0,5,0,6],[1,44,2,44],[1,15,1,17],[28,10,29,10],[29,21,29,26],[36,9,37,9],[1,41,2,41],[21,6,23,6],[21,9,21,10],[23,9,23,10],[21,7,23,7],[1,12,1,14],[7,9,7,10],[1,38,2,38],[1,24,1,26],[1,18,1,20],[1,30,1,32],[1,27,1,29],[27,3,27,6],[28,3,28,6],[37,3,37,6],[30,3,30,6],[31,3,31,6],[32,3,32,6],[33,3,33,6],[34,3,34,6],[35,3,35,6],[36,3,36,6],[38,3,38,6],[46,9,47,9],[18,36,20,36],[1,40,2,40],[3,36,5,36],[1,36,2,36],[20,9,20,10],[5,9,5,10],[1,39,2,39],[21,36,23,36],[9,36,11,36],[12,36,14,36],[15,36,17,36],[28,9,29,9],[16,9,16,10],[15,9,15,10],[10,9,10,10],[29,3,29,6],[15,5,17,5],[12,4,14,4],[6,36,8,36],[3,3,5,3],[3,6,5,6],[3,9,3,10],[4,9,4,10],[17,9,17,10],[22,9,22,10],[18,9,18,10],[19,9,19,10],[9,6,11,6],[9,9,9,10],[6,4,8,4],[9,7,11,7],[9,4,11,4],[11,9,11,10],[3,4,5,4],[3,7,5,7],[12,7,14,7],[9,5,11,5],[12,5,14,5],[21,1,23,1],[15,7,17,7],[15,1,17,1],[15,3,17,3],[15,6,17,6],[15,4,17,4],[18,5,20,5],[18,1,20,1],[18,3,20,3],[21,5,23,5],[21,3,23,3],[21,4,23,4],[18,7,20,7],[18,4,20,4],[18,6,20,6],[1,1,2,1],[9,1,11,1],[9,3,11,3],[38,34,38,36],[44,34,44,36],[47,34,47,36],[12,1,14,1],[6,3,8,3],[6,6,8,6],[6,9,6,10],[8,9,8,10],[6,5,8,5],[6,1,8,1],[6,7,8,7],[1,34,2,34],[1,21,1,23],[1,9,2,10],[3,1,5,1],[3,5,5,5],[12,3,14,3],[12,6,14,6],[12,9,12,10],[13,9,13,10],[14,9,14,10]]}
[null,null,"Woche",{"$f":"INT(MOD(INT((F1-2)/7)+0.6,52+5/28))+1","v":18},{"$f":"D1+1000","v":1018},{"$f":"'17'!F1+7","v":"2019-04-29"},null,"-",null,{"$f":"F1+6","v":"2019-05-05"},null,null,null,null,null,null,null,null,null,null,null,null,null,null,null,null,null,null,null,null,null,null,{"$f":"'Aperçu de la charge'!D2","v":"Prénom Nom"},null,{"$f":"'Aperçu de la charge'!N2","v":"2018/2019"}]
[null,"Jour",null,"Poids","REG","qualité sommeil","durée sommeil","Santé",null,"Description de l'entrainement",null,null,"Club - VB",null,null,"TS/ Nati - VB",null,null,"Club - BVB",null,null,"TS/ Nati - BVB",null,null,"Force - fitness",null,null,"Compet. - VB",null,null,"Compet. - BVB",null,null,null,"Réflexion",null,"Charge/\njour",null,"matchs VB","Sets VB","Matchs BVB","Sets BVB","J","Autre\n (Rég, mentale)","Mental- oder Sonstiges Training"]
[null,null,null,"[kg]","[1 - 5]","[1-5]","[Std]","Nr.",null,null,null,null,"Durée","RPE","Charge","Durée","RPE","Charge","Durée","RPE","Charge","Durée","RPE","Charge","Durée","RPE","Charge","Durée","RPE","Charge","Durée","RPE","Charge",null,null,null,null,null,null,null,null,null,"[1-5]"]
[null,"Lu",null,0,0,0,0,0,null,null,null,null,null,null,{"$f":"M4*N4","v":0},null,null,{"$f":"P4*Q4","v":0},null,null,{"$f":"S4*T4","v":0},null,null,{"$f":"V4*W4","v":0},null,null,{"$f":"Y4*Z4","v":0},null,null,{"$f":"AB4*AC4","v":0},null,null,{"$f":"AE4*AF4","v":0},{"$f":"IF(SUM(M4:AG6)>0,1,0)","v":"00:00:00"},null,null,{"$f":"SUM(O4:O6,R4:R6,U4:U6,X4:X6,AA4:AA6,AD4:AD6,AG4:AG6)","v":0}]
[null,null,null,null,null,null,null,null,null,null,null,null,null,null,{"$f":"M5*N5","v":0},null,null,{"$f":"P5*Q5","v":0},null,null,{"$f":"S5*T5","v":0},null,null,{"$f":"V5*W5","v":0},null,null,{"$f":"Y5*Z5","v":0},null,null,{"$f":"AB5*AC5","v":0},null,null,{"$f":"AE5*AF5","v":0}]
[null,null,null,null,null,null,null,null,null,null,null,null,null,null,0,null,null,0,null,null,0,null,null,0,null,null,0,null,null,0,null,null,0]
[null,"Ma",null,0,0,0,0,0,null,null,null,null,null,null,0,null,null,{"$f":"P7*Q7","v":0},null,null,0,null,null,0,null,null,0,null,null,0,null,null,0,{"$f":"IF(SUM(M7:AG9)>0,1,0)","v":"00:00:00"},null,null,{"$f":"SUM(O7:O9,R7:R9,U7:U9,X7:X9,AA7:AA9,AD7:AD9,AG7:AG9)","v":0}]
[null,null,null,null,null,null,null,null,null,null,null,null,null,null,0,null,null,0,null,null,0,null,null,0,null,null,0,null,null,0,null,null,0]
[null,null,null,null,null,null,null,null,null,null,null,null,null,null,0,null,null,0,null,null,0,null,null,0,null,null,0,null,null,0,null,null,0]
[null,"Me",null,0,0,0,0,0,null,null,null,null,null,null,0,null,null,{"$f":"P10*Q10","v":0},null,null,0,null,null,0,null,null,0,null,null,0,null,null,0,{"$f":"IF(SUM(M10:AG12)>0,1,0)","v":"00:00:00"},null,null,{"$f":"SUM(O10:O12,R10:R12,U10:U12,X10:X12,AA10:AA12,AD10:AD12,AG10:AG12)","v":0}]
[null,null,null,null,null,null,null,null,null,null,null,null,null,null,0,null,null,0,null,null,0,null,null,0,null,null,0,null,null,0,null,null,0]
[null,null,null,null,null,null,null,null,null,null,null,null,null,null,0,null,null,0,null,null,0,null,null,0,null,null,0,null,null,0,null,null,0]
[null,"Je",null,0,0,0,0,0,null,null,null,null,null,null,0,null,null,{"$f":"P13*Q13","v":0},null,null,0,null,null,0,null,null,0,null,null,0,null,null,0,{"$f":"IF(SUM(M13:AG15)>0,1,0)","v":"00:00:00"},null,null,{"$f":"SUM(O13:O15,R13:R15,U13:U15,X13:X15,AA13:AA15,AD13:AD15,AG13:AG15)","v":0}]
[null,null,null,null,null,null,null,null,null,null,null,null,null,null,0,null,null,0,null,null,0,null,null,0,null,null,0,null,null,0,null,null,0]
[null,null,null,null,null,null,null,null,null,null,null,null,null,null,0,null,null,0,null,null,0,null,null,0,null,null,0,null,null,0,null,null,0]
[null,"Ve",null,0,0,0,0,0,null,null,null,null,null,null,0,null,null,{"$f":"P16*Q16","v":0},null,null,0,null,null,0,null,null,0,null,null,0,null,null,0,{"$f":"IF(SUM(M16:AG18)>0,1,0)","v":"00:00:00"},null,null,{"$f":"SUM(O16:O18,R16:R18,U16:U18,X16:X18,AA16:AA18,AD16:AD18,AG16:AG18)","v":0}]
[null,null,null,null,null,null,null,null,null,null,null,null,null,null,0,null,null,0,null,null,0,null,null,0,null,null,0,null,null,0,null,null,0]
[null,null,null,null,null,null,null,null,null,null,null,null,null,null,0,null,null,0,null,null,0,null,null,0,null,null,0,null,null,0,null,null,0]
[null,"Sa",null,0,0,0,0,0,null,null,null,null,null,null,{"$f":"M19*N19","v":0},null,null,{"$f":"P19*Q19","v":0},null,null,{"$f":"S19*T19","v":0},null,null,{"$f":"V19*W19","v":0},null,null,{"$f":"Y19*Z19","v":0},null,null,{"$f":"AB19*AC19","v":0},null,null,{"$f":"AE19*AF19","v":0},{"$f":"IF(SUM(M19:AG21)>0,1,0)","v":"00:00:00"},null,null,{"$f":"SUM(O19:O21,R19:R21,U19:U21,X19:X21,AA19:AA21,AD19:AD21,AG19:AG21)","v":0}]
[null,null,null,null,null,null,null,null,null,null,null,null,null,null,{"$f":"M20*N20","v":0},null,null,0,null,null,{"$f":"S20*T20","v":0},null,null,{"$f":"V20*W20","v":0},null,null,{"$f":"Y20*Z20","v":0},null,null,{"$f":"AB20*AC20","v":0},null,null,{"$f":"AE20*AF20","v":0}]
[null,null,null,null,null,null,null,null,null,null,null,null,null,null,0,null,null,0,null,null,0,null,null,0,null,null,0,null,null,0,null,null,0]
[null,"Di",null,0,0,0,0,0,null,null,null,null,null,null,0,null,null,{"$f":"P22*Q22","v":0},null,null,0,null,null,0,null,null,0,null,null,0,null,null,0,{"$f":"IF(SUM(M22:AG24)>0,1,0)","v":"00:00:00"},null,null,{"$f":"SUM(O22:O24,R22:R24,U22:U24,X22:X24,AA22:AA24,AD22:AD24,AG22:AG24)","v":0}]
[null,null,null,null,null,null,null,null,null,null,null,null,null,null,0,null,null,0,null,null,0,null,null,0,null,null,0,null,null,0,null,null,0]
[null,null,null,null,null,null,null,null,null,null,null,null,null,null,0,null,null,0,null,null,0,null,null,0,null,null,0,null,null,0,null,null,0]
[null,null,null,null,null,null,null,null,null,null,"Total",null,{"$f":"SUM(M4:M24)","v":0},null,{"$f":"SUM(O4:O24)","v":0},{"$f":"SUM(P4:P24)","v":0},null,{"$f":"SUM(R4:R24)","v":0},{"$f":"SUM(S4:S24)","v":0},null,{"$f":"SUM(U4:U24)","v":0},{"$f":"SUM(V4:V24)","v":0},null,{"$f":"SUM(X4:X24)","v":0},{"$f":"SUM(Y4:Y24)","v":0},null,{"$f":"SUM(AA4:AA24)","v":0},{"$f":"SUM(AB4:AB24)","v":0},null,{"$f":"SUM(AD4:AD24)","v":0},{"$f":"SUM(AE4:AE24)","v":0},null,{"$f":"SUM(AG4:AG24)","v":0},null,"Charge totale",null,{"$f":"SUM(AK4:AK24)","v":0}]
[null,"avg.",null,{"$f":"IF(COUNTA(D4:D24)=0,\"\",AVERAGE(D4:D24))","v":0},{"$f":"IF(COUNTA(E4:E24)=0,\"\",AVERAGE(E4:E24))","v":0},{"$f":"IF(COUNTA(F4:F24)=0,\"\",AVERAGE(F4:F24))","v":0},{"$f":"IF(COUNTA(G4:G24)=0,\"\",AVERAGE(G4:G24))","v":0},{"$f":"IF(COUNTA(H4:H24)=0,\"\",COUNTIF(H4:H24,\"x\"))","v":0},null,null,"Zone",null,1,2,3,1,2,3,1,2,3,1,2,3,1,2,3,1,2,3,1,2,3,null,"Moyenne",null,{"$f":"AVERAGE(AK4:AK24)","v":0}]
[null,null,null,null,null,{"$f":"IF(COUNTA(F4:F24)=0,\"\",VAR(F4:F24))","v":0},{"$f":"IF(COUNTA(G4:G24)=0,\"\",STDEV(G4:G24))","v":0},"Divergence - durée du sommeil",null,null,"Unité par zone (RPE) ",null,{"$f":"IF('Répartition des intensités'!$AR$25=\"x\",COUNTIF(N4:N24,\"<3,5\"),COUNTIF(N4:N24,\"<4,5\"))","v":0},{"$f":"COUNT(N4:N24)-(M27+O27)","v":0},{"$f":"IF('Répartition des intensités'!$AR$25=\"x\",COUNTIF(N4:N24,\">5,5\"),COUNTIF(N4:N24,\">6,5\"))","v":0},{"$f":"IF('Répartition des intensités'!$AR$25=\"x\",COUNTIF(Q4:Q24,\"<3,5\"),COUNTIF(Q4:Q24,\"<4,5\"))","v":0},{"$f":"COUNT(Q4:Q24)-(P27+R27)","v":0},{"$f":"IF('Répartition des intensités'!$AR$25=\"x\",COUNTIF(Q4:Q24,\">5,5\"),COUNTIF(Q4:Q24,\">6,5\"))","v":0},{"$f":"IF('Répartition des intensités'!$AR$25=\"x\",COUNTIF(T4:T24,\"<3,5\"),COUNTIF(T4:T24,\"<4,5\"))","v":0},{"$f":"COUNT(T4:T24)-(S27+U27)","v":0},{"$f":"IF('Répartition des intensités'!$AR$25=\"x\",COUNTIF(T4:T24,\">5,5\"),COUNTIF(T4:T24,\">6,5\"))","v":0},{"$f":"IF('Répartition des intensités'!$AR$25=\"x\",COUNTIF(W4:W24,\"<3,5\"),COUNTIF(W4:W24,\"<4,5\"))","v":0},{"$f":"COUNT(W4:W24)-(V27+X27)","v":0},{"$f":"IF('Répartition des intensités'!$AR$25=\"x\",COUNTIF(W4:W24,\">5,5\"),COUNTIF(W4:W24,\">6,5\"))","v":0},{"$f":"IF('Répartition des intensités'!$AR$25=\"x\",COUNTIF(Z4:Z24,\"<3,5\"),COUNTIF(Z4:Z24,\"<4,5\"))","v":0},{"$f":"COUNT(Z4:Z24)-(Y27+AA27)","v":0},{"$f":"IF('Répartition des intensités'!$AR$25=\"x\",COUNTIF(Z4:Z24,\">5,5\"),COUNTIF(Z4:Z24,\">6,5\"))","v":0},{"$f":"IF('Répartition des intensités'!$AR$25=\"x\",COUNTIF(AC4:AC24,\"<3,5\"),COUNTIF(AC4:AC24,\"<4,5\"))","v":0},{"$f":"COUNT(AC4:AC24)-(AB27+AD27)","v":0},{"$f":"IF('Répartition des intensités'!$AR$25=\"x\",COUNTIF(AC4:AC24,\">5,5\"),COUNTIF(AC4:AC24,\">6,5\"))","v":0},{"$f":"IF('Répartition des intensités'!$AR$25=\"x\",COUNTIF(AF4:AF24,\"<3,5\"),COUNTIF(AF4:AF24,\"<4,5\"))","v":0},{"$f":"COUNT(AF4:AF24)-(AE27+AG27)","v":0},{"$f":"IF('Répartition des intensités'!$AR$25=\"x\",COUNTIF(AF4:AF24,\">5,5\"),COUNTIF(AF4:AF24,\">6,5\"))","v":0},null,"Divergence",null,{"$f":"STDEVP(AK4:AK24)","v":0}]
[null,null,null,"échelle de Foster",null,null,null,"RPE",null,null,"Temps par zone (RPE)",null,{"$f":"IF('Répartition des intensités'!$AR$25=\"x\",SUMIF(N4:N24,\"<3,5\",M4:M24),SUMIF(N4:N24,\"<4,5\",M4:M24))","v":0},{"$f":"IF(N27=0,0,SUM((M25)-(M28+O28)))","v":0},{"$f":"IF('Répartition des intensités'!$AR$25=\"x\",SUMIF(N4:N24,\">5,5\",M4:M24),SUMIF(N4:N24,\">6,5\",M4:M24))","v":0},{"$f":"IF('Répartition des intensités'!$AR$25=\"x\",SUMIF(Q4:Q24,\"<3,5\",P4:P24),SUMIF(Q4:Q24,\"<4,5\",P4:P24))","v":0},{"$f":"IF(Q27=0,0,SUM((P25)-(P28+R28)))","v":0},{"$f":"IF('Répartition des intensités'!$AR$25=\"x\",SUMIF(Q4:Q24,\">5,5\",P4:P24),SUMIF(Q4:Q24,\">6,5\",P4:P24))","v":0},{"$f":"IF('Répartition des intensités'!$AR$25=\"x\",SUMIF(T4:T24,\"<3,5\",S4:S24),SUMIF(T4:T24,\"<4,5\",S4:S24))","v":0},{"$f":"IF(T27=0,0,SUM((S25)-(S28+U28)))","v":0},{"$f":"IF('Répartition des intensités'!$AR$25=\"x\",SUMIF(T4:T24,\">5,5\",S4:S24),SUMIF(T4:T24,\">6,5\",S4:S24))","v":0},{"$f":"IF('Répartition des intensités'!$AR$25=\"x\",SUMIF(W4:W24,\"<3,5\",V4:V24),SUMIF(W4:W24,\"<4,5\",V4:V24))","v":0},{"$f":"IF(W27=0,0,SUM((V25)-(V28+X28)))","v":0},{"$f":"IF('Répartition des intensités'!$AR$25=\"x\",SUMIF(W4:W24,\">5,5\",V4:V24),SUMIF(W4:W24,\">6,5\",V4:V24))","v":0},{"$f":"IF('Répartition des intensités'!$AR$25=\"x\",SUMIF(Z4:Z24,\"<3,5\",Y4:Y24),SUMIF(Z4:Z24,\"<4,5\",Y4:Y24))","v":0},{"$f":"IF(Z27=0,0,SUM((Y25)-(Y28+AA28)))","v":0},{"$f":"IF('Répartition des intensités'!$AR$25=\"x\",SUMIF(Z4:Z24,\">5,5\",Y4:Y24),SUMIF(Z4:Z24,\">6,5\",Y4:Y24))","v":0},{"$f":"IF('Répartition des intensités'!$AR$25=\"x\",SUMIF(AC4:AC24,\"<3,5\",AB4:AB24),SUMIF(AC4:AC24,\"<4,5\",AB4:AB24))","v":0},{"$f":"IF(AC27=0,0,SUM((AB25)-(AB28+AD28)))","v":0},{"$f":"IF('Répartition des intensités'!$AR$25=\"x\",SUMIF(AC4:AC24,\">5,5\",AB4:AB24),SUMIF(AC4:AC24,\">6,5\",AB4:AB24))","v":0},{"$f":"IF('Répartition des intensités'!$AR$25=\"x\",SUMIF(AF4:AF24,\"<3,5\",AE4:AE24),SUMIF(AF4:AF24,\"<4,5\",AE4:AE24))","v":0},{"$f":"IF(AF27=0,0,SUM((AE25)-(AE28+AG28)))","v":0},{"$f":"IF('Répartition des intensités'!$AR$25=\"x\",SUMIF(AF4:AF24,\">5,5\",AE4:AE24),SUMIF(AF4:AF24,\">6,5\",AE4:AE24))","v":0}]
[null,null,null,"Comme au repos",null,null,null,0,null,"REG","Est-ce que j'ai l'impression d'avoir récupéré en me levant?"]
[null,null,null,"très facile",null,null,null,1]
[null,null,null,"facile",null,null,null,2,null,1,"… pas du tout récupéré",null,null,null,null,null,null,null,null,null,null,null,null,null,null,null,null,null,null,null,null,null,null,null,"Entrainements",null,null,null,"Rapport de santé"]
[null,null,null,null,null,null,null,3,null,2,"… un peu récupéré",null,null,null,null,null,null,null,null,null,null,null,null,null,null,null,null,null,null,null,null,null,null,null,"Jours d'entrainement",null,{"$f":"IF(SUM(AH4:AH24)=0,\"\",SUM(AH4:AH24))","v":""}]
[null,null,null,"Assez dur",null,null,null,4,null,3,"… récupéré",null,null,null,null,null,null,null,null,null,null,{"$f":"B4","v":"Lu"},{"$f":"AK4","v":0},null,null,null,null,null,null,null,null,null,null,null,"Entrainements",null,{"$f":"IF(AK32=\"\",\"\",SUM(M27:AG27))","v":""}]
[null,null,null,"dur",null,null,null,5,null,4,"…  en forme",null,null,null,null,null,null,null,null,null,null,{"$f":"B7","v":"Ma"},{"$f":"AK7","v":0},null,null,null,null,null,null,null,null,null,null,null,"Heures d'entrainement",null,{"$f":"IF(AK32=\"\",\"\",SUM(M25,P25,S25,Y25,AB25,V25,AE25)/60)","v":""},null,{"$f":"IF($AK$32=\"\",\"\",AK32-AM36-AM44-AM52)","v":""},"Aucune limitation",null,null,null,0]
[null,null,null,null,null,null,null,6,null,5,"… très en forme",null,null,null,null,null,null,null,null,null,null,{"$f":"B10","v":"Me"},{"$f":"AK10","v":0},null,null,null,null,null,null,null,null,null,null,null,"Charge de l'entrainement",null,{"$f":"IF(AK32=\"\",\"\",SUM(AK25))","v":""}]
[null,null,null,"très dur",null,null,null,7,null,null,null,null,null,null,null,null,null,null,null,null,null,{"$f":"B13","v":"Je"},{"$f":"AK13","v":0},null,null,null,null,null,null,null,null,null,null,null,"Monotonie",null,{"$f":"IF(AK27=0,0,(AVERAGE(AK4:AK24))/AK27)","v":0},null,{"$f":"SUM(AM37:AM42)","v":0},"Limitation pour cause de douleurs"]
[null,null,null,null,null,null,null,8,null,"Nombre de matchs",null,null,null,null,null,null,null,null,null,null,null,{"$f":"B16","v":"Ve"},{"$f":"AK16","v":0},null,null,null,null,null,null,null,null,null,null,null,"Efforts à l'entrainement",null,{"$f":"IF(AK32=\"\",\"\",AK35*AK36)","v":""},null,{"$f":"COUNTIF($H$4:$H$24,$AR37)","v":0},"Doigt",null,null,null,1]
[null,null,null,"extrèmement dur",null,null,null,9,null,null,null,null,null,null,null,null,null,null,null,null,null,{"$f":"B19","v":"Sa"},{"$f":"AK19","v":0},null,null,null,null,null,null,null,null,null,null,null,null,null,null,null,0,"Épaule",null,null,null,2]
[null,null,null,"Comme mon entrainement le plus dur",null,null,null,10,null,1,"… 3 sets et plus",null,null,null,null,null,null,null,null,null,null,{"$f":"B22","v":"Di"},{"$f":"AK22","v":0},null,null,null,null,null,null,null,null,null,null,null,"Compétition",null,null,null,0,"Dos",null,null,null,3]
[null,null,null,null,null,null,null,null,null,0.5,"… moins de 3 sets",null,null,null,null,null,null,null,null,null,null,null,null,null,null,null,null,null,null,null,null,null,null,null,"Matchs de volleyball",null,{"$f":"IF(AK32=\"\",\"\",SUM(AM4:AM24))","v":""},null,0,"Genou",null,null,null,4]
[null,null,null,null,null,null,null,null,null,null,null,null,null,null,null,null,null,null,null,null,null,null,null,null,null,null,null,null,null,null,null,null,null,null,"Sets de volleyball",null,{"$f":"IF(AK32=\"\",\"\",SUM(AN4:AN24))","v":""},null,0,"Cheville",null,null,null,5]
[null,null,null,null,null,null,null,null,null,"Sets joués",null,null,null,null,null,null,null,null,null,null,null,null,null,null,null,null,null,null,null,null,null,null,null,null,"Matchs de beach volley",null,{"$f":"IF(AK35=\"\",\"\",SUM(AO4:AO24))","v":""},null,0,"Autre",null,null,null,6]
[null,null,null,null,null,null,null,null,null,1,"… depuis le début et durant tout le set",null,null,null,null,null,null,null,null,null,null,null,null,null,null,null,null,null,null,null,null,null,null,null,"Sets de beach volley",null,{"$f":"IF(AK35=\"\",\"\",SUM(AP4:AP24))","v":""}]
[null,null,null,null,null,null,null,null,null,0.5,"… entré/sorti en cours, beaucoup joué",null,null,null,null,null,null,null,null,null,null,null,null,null,null,null,null,null,null,null,null,null,null,null,null,null,null,null,{"$f":"SUM(AM45:AM50)","v":0},"Absence pour cause de blessure"]
[null,null,null,null,null,null,null,null,null,0.1,"… entré/sorti en cours, peu joué",null,null,null,null,null,null,null,null,null,null,null,null,null,null,null,null,null,null,null,null,null,null,null,"Satisfaction",null,null,null,{"$f":"COUNTIF($H$4:$H$24,$AR45)","v":0},"Doigt",null,null,null,11]
[null,null,null,null,null,null,null,null,null,null,null,null,null,null,null,null,null,null,null,null,null,null,null,null,null,null,null,null,null,null,null,null,null,null,"Satisfaction de l'entrainement/match J",null,{"$f":"IF(AK32=\"\",\"\",SUM(AQ4:AQ24)/AK32)","v":""},null,0,"Épaule",null,null,null,12]
[null,null,null,null,null,null,null,null,null,"J","Es-tu content de la qualité de ton",null,null,null,null,null,null,null,null,null,null,null,null,null,null,null,null,null,null,null,null,null,null,null,null,null,null,null,0,"Dos",null,null,null,13]
[null,null,null,null,null,null,null,null,null,null,"entrainement/compétition?",null,null,null,null,null,null,null,null,null,null,null,null,null,null,null,null,null,null,null,null,null,null,null,"Santé",null,null,null,0,"Genou",null,null,null,14]
[null,null,null,null,null,null,null,null,null,1,"… pas content",null,null,null,null,null,null,null,null,null,null,null,null,null,null,null,null,null,null,null,null,null,null,null,"Limitation pour cause de douleurs",null,{"$f":"AM36","v":0},null,0,"Cheville",null,null,null,15]
[null,null,null,null,null,null,null,null,null,2,"… plutôt pas content",null,null,null,null,null,null,null,null,null,null,null,null,null,null,null,null,null,null,null,null,null,null,null,"Absence pour cause de blessure",null,{"$f":"AM44","v":0},null,0,"Autre",null,null,null,16]
[null,null,null,null,null,null,null,null,null,3,"… moyen",null,null,null,null,null,null,null,null,null,null,null,null,null,null,null,null,null,null,null,null,null,null,null,"Absence pour cause de maladie",null,{"$f":"AM52","v":0}]
[null,null,null,null,null,null,null,null,null,4,"… content",null,null,null,null,null,null,null,null,null,null,null,null,null,null,null,null,null,null,null,null,null,null,null,null,null,null,null,{"$f":"SUM(AM53:AM59)","v":0},"Absence pour cause de maladie"]
[null,null,null,null,null,null,null,null,null,5,"… très content!",null,null,null,null,null,null,null,null,null,null,null,null,null,null,null,null,null,null,null,null,null,null,null,null,null,null,null,{"$f":"COUNTIF($H$4:$H$24,$AR53)","v":0},"Maladie",null,null,null,21]
[]
[]
[]
[]
[]
[]
[]
[]
[]
[]
[]
[]
[]
[]
[]
[]
[]
[]
[]
[]
[]
[]
[]
[]
[]
[]
[]
[]
[]
[]
[]
[]
[]
[]
[]
[]
[]
[]
[]
[]
[]
[]
[]
[]
[]
[]
[]
[]
[]
[]
[]
[]
[]
[]
[]
[]
[]
[]
[]
[]
[]
[]
[]
[]
[]
[]
[]
[]
[]
[]
[]
[]
[]
[]
[]
[]
[]
[]
[]
[]
[null,null,null,null,null,null,null,null,null,null,null,null,null,null,null,null,null,null,null,null,null,null,null,null,{"$f":"Z134-1","v":48},49,50,51,52,16,17,{"$f":"D1","v":18}]
[]
[]
[]
[]
[]
[]
[]
[]
[]
[]
[]
[]
[]
[]
[]
[]
[]
[]
[]
[]
[null,null,null,null,null,null,null,null,null,null,null,null,null,null,null,null,null,null,null,null,null,null,null,null,null,null,null,null,null,null,null,null,{"$f":"AF134+1","v":19}]

{"sheet":"19","index":47,"n_rows":155,"n_cols":45,"rows_kept":155,"cut":false,"hidden":false,"merged":[[9,4,11,4],[12,4,14,4],[3,7,5,7],[15,7,17,7],[27,3,27,6],[15,5,17,5],[18,5,20,5],[28,10,29,10],[15,9,15,10],[1,43,2,43],[30,34,30,36],[30,38,31,43],[0,5,0,6],[1,44,2,44],[29,3,29,6],[30,3,30,6],[35,3,35,6],[36,3,36,6],[18,36,20,36],[21,36,23,36],[1,40,2,40],[1,21,1,23],[1,41,2,41],[15,36,17,36],[1,38,2,38],[1,36,2,36],[1,34,2,34],[1,30,1,32],[1,27,1,29],[1,24,1,26],[9,36,11,36],[12,36,14,36],[1,39,2,39],[28,9,29,9],[28,3,28,6],[37,3,37,6],[38,3,38,6],[31,3,31,6],[32,3,32,6],[33,3,33,6],[34,3,34,6],[46,9,47,9],[3,1,5,1],[6,36,8,36],[3,3,5,3],[3,6,5,6],[3,9,3,10],[4,9,4,10],[5,9,5,10],[3,36,5,36],[6,1,8,1],[6,7,8,7],[6,3,8,3],[6,6,8,6],[6,9,6,10],[8,9,8,10],[9,1,11,1],[9,3,11,3],[9,6,11,6],[9,9,9,10],[1,12,1,14],[18,1,20,1],[18,3,20,3],[18,6,20,6],[1,18,1,20],[11,9,11,10],[7,9,7,10],[10,9,10,10],[9,7,11,7],[14,9,14,10],[12,7,14,7],[3,5,5,5],[6,5,8,5],[9,5,11,5],[12,5,14,5],[1,1,2,1],[1,15,1,17],[3,4,5,4],[6,4,8,4],[1,9,2,10],[12,1,14,1],[12,3,14,3],[12,6,14,6],[12,9,12,10],[13,9,13,10],[18,9,18,10],[19,9,19,10],[20,9,20,10],[18,7,20,7],[18,4,20,4],[15,1,17,1],[15,3,17,3],[15,6,17,6],[15,4,17,4],[16,9,16,10],[17,9,17,10],[38,34,38,36],[44,34,44,36],[47,34,47,36],[21,1,23,1],[21,3,23,3],[21,5,23,5],[21,6,23,6],[21,9,21,10],[23,9,23,10],[21,7,23,7],[21,4,23,4],[22,9,22,10],[29,21,29,26],[36,9,37,9]]}
[null,null,"Woche",{"$f":"INT(MOD(INT((F1-2)/7)+0.6,52+5/28))+1","v":19},{"$f":"D1+1000","v":1019},{"$f":"'18'!F1+7","v":"2019-05-06"},null,"-",null,{"$f":"F1+6","v":"2019-05-12"},null,null,null,null,null,null,null,null,null,null,null,null,null,null,null,null,null,null,null,null,null,null,{"$f":"'Aperçu de la charge'!D2","v":"Prénom Nom"},null,{"$f":"'Aperçu de la charge'!N2","v":"2018/2019"}]
[null,"Jour",null,"Poids","REG","qualité sommeil","durée sommeil","Santé",null,"Description de l'entrainement",null,null,"Club - VB",null,null,"TS/ Nati - VB",null,null,"Club - BVB",null,null,"TS/ Nati - BVB",null,null,"Force - fitness",null,null,"Compet. - VB",null,null,"Compet. - BVB",null,null,null,"Réflexion",null,"Charge/\njour",null,"matchs VB","Sets VB","Matchs BVB","Sets BVB","J","Autre\n (Rég, mentale)","Mental- oder Sonstiges Training"]
[null,null,null,"[kg]","[1 - 5]","[1-5]","[Std]","Nr.",null,null,null,null,"Durée","RPE","Charge","Durée","RPE","Charge","Durée","RPE","Charge","Durée","RPE","Charge","Durée","RPE","Charge","Durée","RPE","Charge","Durée","RPE","Charge",null,null,null,null,null,null,null,null,null,"[1-5]"]
[null,"Lu",null,0,0,0,0,0,null,null,null,null,null,null,{"$f":"M4*N4","v":0},null,null,{"$f":"P4*Q4","v":0},null,null,{"$f":"S4*T4","v":0},null,null,{"$f":"V4*W4","v":0},null,null,{"$f":"Y4*Z4","v":0},null,null,{"$f":"AB4*AC4","v":0},null,null,{"$f":"AE4*AF4","v":0},{"$f":"IF(SUM(M4:AG6)>0,1,0)","v":"00:00:00"},null,null,{"$f":"SUM(O4:O6,R4:R6,U4:U6,X4:X6,AA4:AA6,AD4:AD6,AG4:AG6)","v":0}]
[null,null,null,null,null,null,null,null,null,null,null,null,null,null,{"$f":"M5*N5","v":0},null,null,{"$f":"P5*Q5","v":0},null,null,{"$f":"S5*T5","v":0},null,null,{"$f":"V5*W5","v":0},null,null,{"$f":"Y5*Z5","v":0},null,null,{"$f":"AB5*AC5","v":0},null,null,{"$f":"AE5*AF5","v":0}]
[null,null,null,null,null,null,null,null,null,null,null,null,null,null,0,null,null,0,null,null,0,null,null,0,null,null,0,null,null,0,null,null,0]
[null,"Ma",null,0,0,0,0,0,null,null,null,null,null,null,0,null,null,{"$f":"P7*Q7","v":0},null,null,0,null,null,0,null,null,0,null,null,0,null,null,0,{"$f":"IF(SUM(M7:AG9)>0,1,0)","v":"00:00:00"},null,null,{"$f":"SUM(O7:O9,R7:R9,U7:U9,X7:X9,AA7:AA9,AD7:AD9,AG7:AG9)","v":0}]
[null,null,null,null,null,null,null,null,null,null,null,null,null,null,0,null,null,0,null,null,0,null,null,0,null,null,0,null,null,0,null,null,0]
[null,null,null,null,null,null,null,null,null,null,null,null,null,null,0,null,null,0,null,null,0,null,null,0,null,null,0,null,null,0,null,null,0]
[null,"Me",null,0,0,0,0,0,null,null,null,null,null,null,0,null,null,{"$f":"P10*Q10","v":0},null,null,0,null,null,0,null,null,0,null,null,0,null,null,0,{"$f":"IF(SUM(M10:AG12)>0,1,0)","v":"00:00:00"},null,null,{"$f":"SUM(O10:O12,R10:R12,U10:U12,X10:X12,AA10:AA12,AD10:AD12,AG10:AG12)","v":0}]
[null,null,null,null,null,null,null,null,null,null,null,null,null,null,0,null,null,0,null,null,0,null,null,0,null,null,0,null,null,0,null,null,0]
[null,null,null,null,null,null,null,null,null,null,null,null,null,null,0,null,null,0,null,null,0,null,null,0,null,null,0,null,null,0,null,null,0]
[null,"Je",null,0,0,0,0,0,null,null,null,null,null,null,0,null,null,{"$f":"P13*Q13","v":0},null,null,0,null,null,0,null,null,0,null,null,0,null,null,0,{"$f":"IF(SUM(M13:AG15)>0,1,0)","v":"00:00:00"},null,null,{"$f":"SUM(O13:O15,R13:R15,U13:U15,X13:X15,AA13:AA15,AD13:AD15,AG13:AG15)","v":0}]
[null,null,null,null,null,null,null,null,null,null,null,null,null,null,0,null,null,0,null,null,0,null,null,0,null,null,0,null,null,0,null,null,0]
[null,null,null,null,null,null,null,null,null,null,null,null,null,null,0,null,null,0,null,null,0,null,null,0,null,null,0,null,null,0,null,null,0]
[null,"Ve",null,0,0,0,0,0,null,null,null,null,null,null,0,null,null,{"$f":"P16*Q16","v":0},null,null,0,null,null,0,null,null,0,null,null,0,null,null,0,{"$f":"IF(SUM(M16:AG18)>0,1,0)","v":"00:00:00"},null,null,{"$f":"SUM(O16:O18,R16:R18,U16:U18,X16:X18,AA16:AA18,AD16:AD18,AG16:AG18)","v":0}]
[null,null,null,null,null,null,null,null,null,null,null,null,null,null,0,null,null,0,null,null,0,null,null,0,null,null,0,null,null,0,null,null,0]
[null,null,null,null,null,null,null,null,null,null,null,null,null,null,0,null,null,0,null,null,0,null,null,0,null,null,0,null,null,0,null,null,0]
[null,"Sa",null,0,0,0,0,0,null,null,null,null,null,null,{"$f":"M19*N19","v":0},null,null,{"$f":"P19*Q19","v":0},null,null,{"$f":"S19*T19","v":0},null,null,{"$f":"V19*W19","v":0},null,null,{"$f":"Y19*Z19","v":0},null,null,{"$f":"AB19*AC19","v":0},null,null,{"$f":"AE19*AF19","v":0},{"$f":"IF(SUM(M19:AG21)>0,1,0)","v":"00:00:00"},null,null,{"$f":"SUM(O19:O21,R19:R21,U19:U21,X19:X21,AA19:AA21,AD19:AD21,AG19:AG21)","v":0}]
[null,null,null,null,null,null,null,null,null,null,null,null,null,null,{"$f":"M20*N20","v":0},null,null,0,null,null,{"$f":"S20*T20","v":0},null,null,{"$f":"V20*W20","v":0},null,null,{"$f":"Y20*Z20","v":0},null,null,{"$f":"AB20*AC20","v":0},null,null,{"$f":"AE20*AF20","v":0}]
[null,null,null,null,null,null,null,null,null,null,null,null,null,null,0,null,null,0,null,null,0,null,null,0,null,null,0,null,null,0,null,null,0]
[null,"Di",null,0,0,0,0,0,null,null,null,null,null,null,0,null,null,{"$f":"P22*Q22","v":0},null,null,0,null,null,0,null,null,0,null,null,0,null,null,0,{"$f":"IF(SUM(M22:AG24)>0,1,0)","v":"00:00:00"},null,null,{"$f":"SUM(O22:O24,R22:R24,U22:U24,X22:X24,AA22:AA24,AD22:AD24,AG22:AG24)","v":0}]
[null,null,null,null,null,null,null,null,null,null,null,null,null,null,0,null,null,0,null,null,0,null,null,0,null,null,0,null,null,0,null,null,0]
[null,null,null,null,null,null,null,null,null,null,null,null,null,null,0,null,null,0,null,null,0,null,null,0,null,null,0,null,null,0,null,null,0]
[null,null,null,null,null,null,null,null,null,null,"Total",null,{"$f":"SUM(M4:M24)","v":0},null,{"$f":"SUM(O4:O24)","v":0},{"$f":"SUM(P4:P24)","v":0},null,{"$f":"SUM(R4:R24)","v":0},{"$f":"SUM(S4:S24)","v":0},null,{"$f":"SUM(U4:U24)","v":0},{"$f":"SUM(V4:V24)","v":0},null,{"$f":"SUM(X4:X24)","v":0},{"$f":"SUM(Y4:Y24)","v":0},null,{"$f":"SUM(AA4:AA24)","v":0},{"$f":"SUM(AB4:AB24)","v":0},null,{"$f":"SUM(AD4:AD24)","v":0},{"$f":"SUM(AE4:AE24)","v":0},null,{"$f":"SUM(AG4:AG24)","v":0},null,"Charge totale",null,{"$f":"SUM(AK4:AK24)","v":0}]
[null,"avg.",null,{"$f":"IF(COUNTA(D4:D24)=0,\"\",AVERAGE(D4:D24))","v":0},{"$f":"IF(COUNTA(E4:E24)=0,\"\",AVERAGE(E4:E24))","v":0},{"$f":"IF(COUNTA(F4:F24)=0,\"\",AVERAGE(F4:F24))","v":0},{"$f":"IF(COUNTA(G4:G24)=0,\"\",AVERAGE(G4:G24))","v":0},{"$f":"IF(COUNTA(H4:H24)=0,\"\",COUNTIF(H4:H24,\"x\"))","v":0},null,null,"Zone",null,1,2,3,1,2,3,1,2,3,1,2,3,1,2,3,1,2,3,1,2,3,null,"Moyenne",null,{"$f":"AVERAGE(AK4:AK24)","v":0}]
[null,null,null,null,null,{"$f":"IF(COUNTA(F4:F24)=0,\"\",VAR(F4:F24))","v":0},{"$f":"IF(COUNTA(G4:G24)=0,\"\",STDEV(G4:G24))","v":0},"Divergence - durée du sommeil",null,null,"Unité par zone (RPE) ",null,{"$f":"IF('Répartition des intensités'!$AR$25=\"x\",COUNTIF(N4:N24,\"<3,5\"),COUNTIF(N4:N24,\"<4,5\"))","v":0},{"$f":"COUNT(N4:N24)-(M27+O27)","v":0},{"$f":"IF('Répartition des intensités'!$AR$25=\"x\",COUNTIF(N4:N24,\">5,5\"),COUNTIF(N4:N24,\">6,5\"))","v":0},{"$f":"IF('Répartition des intensités'!$AR$25=\"x\",COUNTIF(Q4:Q24,\"<3,5\"),COUNTIF(Q4:Q24,\"<4,5\"))","v":0},{"$f":"COUNT(Q4:Q24)-(P27+R27)","v":0},{"$f":"IF('Répartition des intensités'!$AR$25=\"x\",COUNTIF(Q4:Q24,\">5,5\"),COUNTIF(Q4:Q24,\">6,5\"))","v":0},{"$f":"IF('Répartition des intensités'!$AR$25=\"x\",COUNTIF(T4:T24,\"<3,5\"),COUNTIF(T4:T24,\"<4,5\"))","v":0},{"$f":"COUNT(T4:T24)-(S27+U27)","v":0},{"$f":"IF('Répartition des intensités'!$AR$25=\"x\",COUNTIF(T4:T24,\">5,5\"),COUNTIF(T4:T24,\">6,5\"))","v":0},{"$f":"IF('Répartition des intensités'!$AR$25=\"x\",COUNTIF(W4:W24,\"<3,5\"),COUNTIF(W4:W24,\"<4,5\"))","v":0},{"$f":"COUNT(W4:W24)-(V27+X27)","v":0},{"$f":"IF('Répartition des intensités'!$AR$25=\"x\",COUNTIF(W4:W24,\">5,5\"),COUNTIF(W4:W24,\">6,5\"))","v":0},{"$f":"IF('Répartition des intensités'!$AR$25=\"x\",COUNTIF(Z4:Z24,\"<3,5\"),COUNTIF(Z4:Z24,\"<4,5\"))","v":0},{"$f":"COUNT(Z4:Z24)-(Y27+AA27)","v":0},{"$f":"IF('Répartition des intensités'!$AR$25=\"x\",COUNTIF(Z4:Z24,\">5,5\"),COUNTIF(Z4:Z24,\">6,5\"))","v":0},{"$f":"IF('Répartition des intensités'!$AR$25=\"x\",COUNTIF(AC4:AC24,\"<3,5\"),COUNTIF(AC4:AC24,\"<4,5\"))","v":0},{"$f":"COUNT(AC4:AC24)-(AB27+AD27)","v":0},{"$f":"IF('Répartition des intensités'!$AR$25=\"x\",COUNTIF(AC4:AC24,\">5,5\"),COUNTIF(AC4:AC24,\">6,5\"))","v":0},{"$f":"IF('Répartition des intensités'!$AR$25=\"x\",COUNTIF(AF4:AF24,\"<3,5\"),COUNTIF(AF4:AF24,\"<4,5\"))","v":0},{"$f":"COUNT(AF4:AF24)-(AE27+AG27)","v":0},{"$f":"IF('Répartition des intensités'!$AR$25=\"x\",COUNTIF(AF4:AF24,\">5,5\"),COUNTIF(AF4:AF24,\">6,5\"))","v":0},null,"Divergence",null,{"$f":"STDEVP(AK4:AK24)","v":0}]
[null,null,null,"échelle de Foster",null,null,null,"RPE",null,null,"Temps par zone (RPE)",null,{"$f":"IF('Répartition des intensités'!$AR$25=\"x\",SUMIF(N4:N24,\"<3,5\",M4:M24),SUMIF(N4:N24,\"<4,5\",M4:M24))","v":0},{"$f":"IF(N27=0,0,SUM((M25)-(M28+O28)))","v":0},{"$f":"IF('Répartition des intensités'!$AR$25=\"x\",SUMIF(N4:N24,\">5,5\",M4:M24),SUMIF(N4:N24,\">6,5\",M4:M24))","v":0},{"$f":"IF('Répartition des intensités'!$AR$25=\"x\",SUMIF(Q4:Q24,\"<3,5\",P4:P24),SUMIF(Q4:Q24,\"<4,5\",P4:P24))","v":0},{"$f":"IF(Q27=0,0,SUM((P25)-(P28+R28)))","v":0},{"$f":"IF('Répartition des intensités'!$AR$25=\"x\",SUMIF(Q4:Q24,\">5,5\",P4:P24),SUMIF(Q4:Q24,\">6,5\",P4:P24))","v":0},{"$f":"IF('Répartition des intensités'!$AR$25=\"x\",SUMIF(T4:T24,\"<3,5\",S4:S24),SUMIF(T4:T24,\"<4,5\",S4:S24))","v":0},{"$f":"IF(T27=0,0,SUM((S25)-(S28+U28)))","v":0},{"$f":"IF('Répartition des intensités'!$AR$25=\"x\",SUMIF(T4:T24,\">5,5\",S4:S24),SUMIF(T4:T24,\">6,5\",S4:S24))","v":0},{"$f":"IF('Répartition des intensités'!$AR$25=\"x\",SUMIF(W4:W24,\"<3,5\",V4:V24),SUMIF(W4:W24,\"<4,5\",V4:V24))","v":0},{"$f":"IF(W27=0,0,SUM((V25)-(V28+X28)))","v":0},{"$f":"IF('Répartition des intensités'!$AR$25=\"x\",SUMIF(W4:W24,\">5,5\",V4:V24),SUMIF(W4:W24,\">6,5\",V4:V24))","v":0},{"$f":"IF('Répartition des intensités'!$AR$25=\"x\",SUMIF(Z4:Z24,\"<3,5\",Y4:Y24),SUMIF(Z4:Z24,\"<4,5\",Y4:Y24))","v":0},{"$f":"IF(Z27=0,0,SUM((Y25)-(Y28+AA28)))","v":0},{"$f":"IF('Répartition des intensités'!$AR$25=\"x\",SUMIF(Z4:Z24,\">5,5\",Y4:Y24),SUMIF(Z4:Z24,\">6,5\",Y4:Y24))","v":0},{"$f":"IF('Répartition des intensités'!$AR$25=\"x\",SUMIF(AC4:AC24,\"<3,5\",AB4:AB24),SUMIF(AC4:AC24,\"<4,5\",AB4:AB24))","v":0},{"$f":"IF(AC27=0,0,SUM((AB25)-(AB28+AD28)))","v":0},{"$f":"IF('Répartition des intensités'!$AR$25=\"x\",SUMIF(AC4:AC24,\">5,5\",AB4:AB24),SUMIF(AC4:AC24,\">6,5\",AB4:AB24))","v":0},{"$f":"IF('Répartition des intensités'!$AR$25=\"x\",SUMIF(AF4:AF24,\"<3,5\",AE4:AE24),SUMIF(AF4:AF24,\"<4,5\",AE4:AE24))","v":0},{"$f":"IF(AF27=0,0,SUM((AE25)-(AE28+AG28)))","v":0},{"$f":"IF('Répartition des intensités'!$AR$25=\"x\",SUMIF(AF4:AF24,\">5,5\",AE4:AE24),SUMIF(AF4:AF24,\">6,5\",AE4:AE24))","v":0}]
[null,null,null,"Comme au repos",null,null,null,0,null,"REG","Est-ce que j'ai l'impression d'avoir récupéré en me levant?"]
[null,null,null,"très facile",null,null,null,1]
[null,null,null,"facile",null,null,null,2,null,1,"… pas du tout récupéré",null,null,null,null,null,null,null,null,null,null,null,null,null,null,null,null,null,null,null,null,null,null,null,"Entrainements",null,null,null,"Rapport de santé"]
[null,null,null,null,null,null,null,3,null,2,"… un peu récupéré",null,null,null,null,null,null,null,null,null,null,null,null,null,null,null,null,null,null,null,null,null,null,null,"Jours d'entrainement",null,{"$f":"IF(SUM(AH4:AH24)=0,\"\",SUM(AH4:AH24))","v":""}]
[null,null,null,"Assez dur",null,null,null,4,null,3,"… récupéré",null,null,null,null,null,null,null,null,null,null,{"$f":"B4","v":"Lu"},{"$f":"AK4","v":0},null,null,null,null,null,null,null,null,null,null,null,"Entrainements",null,{"$f":"IF(AK32=\"\",\"\",SUM(M27:AG27))","v":""}]
[null,null,null,"dur",null,null,null,5,null,4,"…  en forme",null,null,null,null,null,null,null,null,null,null,{"$f":"B7","v":"Ma"},{"$f":"AK7","v":0},null,null,null,null,null,null,null,null,null,null,null,"Heures d'entrainement",null,{"$f":"IF(AK32=\"\",\"\",SUM(M25,P25,S25,Y25,AB25,V25,AE25)/60)","v":""},null,{"$f":"IF($AK$32=\"\",\"\",AK32-AM36-AM44-AM52)","v":""},"Aucune limitation",null,null,null,0]
[null,null,null,null,null,null,null,6,null,5,"… très en forme",null,null,null,null,null,null,null,null,null,null,{"$f":"B10","v":"Me"},{"$f":"AK10","v":0},null,null,null,null,null,null,null,null,null,null,null,"Charge de l'entrainement",null,{"$f":"IF(AK32=\"\",\"\",SUM(AK25))","v":""}]
[null,null,null,"très dur",null,null,null,7,null,null,null,null,null,null,null,null,null,null,null,null,null,{"$f":"B13","v":"Je"},{"$f":"AK13","v":0},null,null,null,null,null,null,null,null,null,null,null,"Monotonie",null,{"$f":"IF(AK27=0,0,(AVERAGE(AK4:AK24))/AK27)","v":0},null,{"$f":"SUM(AM37:AM42)","v":0},"Limitation pour cause de douleurs"]
[null,null,null,null,null,null,null,8,null,"Nombre de matchs",null,null,null,null,null,null,null,null,null,null,null,{"$f":"B16","v":"Ve"},{"$f":"AK16","v":0},null,null,null,null,null,null,null,null,null,null,null,"Efforts à l'entrainement",null,{"$f":"IF(AK32=\"\",\"\",AK35*AK36)","v":""},null,{"$f":"COUNTIF($H$4:$H$24,$AR37)","v":0},"Doigt",null,null,null,1]
[null,null,null,"extrèmement dur",null,null,null,9,null,null,null,null,null,null,null,null,null,null,null,null,null,{"$f":"B19","v":"Sa"},{"$f":"AK19","v":0},null,null,null,null,null,null,null,null,null,null,null,null,null,null,null,0,"Épaule",null,null,null,2]
[null,null,null,"Comme mon entrainement le plus dur",null,null,null,10,null,1,"… 3 sets et plus",null,null,null,null,null,null,null,null,null,null,{"$f":"B22","v":"Di"},{"$f":"AK22","v":0},null,null,null,null,null,null,null,null,null,null,null,"Compétition",null,null,null,0,"Dos",null,null,null,3]
[null,null,null,null,null,null,null,null,null,0.5,"… moins de 3 sets",null,null,null,null,null,null,null,null,null,null,null,null,null,null,null,null,null,null,null,null,null,null,null,"Matchs de volleyball",null,{"$f":"IF(AK32=\"\",\"\",SUM(AM4:AM24))","v":""},null,0,"Genou",null,null,null,4]
[null,null,null,null,null,null,null,null,null,null,null,null,null,null,null,null,null,null,null,null,null,null,null,null,null,null,null,null,null,null,null,null,null,null,"Sets de volleyball",null,{"$f":"IF(AK32=\"\",\"\",SUM(AN4:AN24))","v":""},null,0,"Cheville",null,null,null,5]
[null,null,null,null,null,null,null,null,null,"Sets joués",null,null,null,null,null,null,null,null,null,null,null,null,null,null,null,null,null,null,null,null,null,null,null,null,"Matchs de beach volley",null,{"$f":"IF(AK35=\"\",\"\",SUM(AO4:AO24))","v":""},null,0,"Autre",null,null,null,6]
[null,null,null,null,null,null,null,null,null,1,"… depuis le début et durant tout le set",null,null,null,null,null,null,null,null,null,null,null,null,null,null,null,null,null,null,null,null,null,null,null,"Sets de beach volley",null,{"$f":"IF(AK35=\"\",\"\",SUM(AP4:AP24))","v":""}]
[null,null,null,null,null,null,null,null,null,0.5,"… entré/sorti en cours, beaucoup joué",null,null,null,null,null,null,null,null,null,null,null,null,null,null,null,null,null,null,null,null,null,null,null,null,null,null,null,{"$f":"SUM(AM45:AM50)","v":0},"Absence pour cause de blessure"]
[null,null,null,null,null,null,null,null,null,0.1,"… entré/sorti en cours, peu joué",null,null,null,null,null,null,null,null,null,null,null,null,null,null,null,null,null,null,null,null,null,null,null,"Satisfaction",null,null,null,{"$f":"COUNTIF($H$4:$H$24,$AR45)","v":0},"Doigt",null,null,null,11]
[null,null,null,null,null,null,null,null,null,null,null,null,null,null,null,null,null,null,null,null,null,null,null,null,null,null,null,null,null,null,null,null,null,null,"Satisfaction de l'entrainement/match J",null,{"$f":"IF(AK32=\"\",\"\",SUM(AQ4:AQ24)/AK32)","v":""},null,0,"Épaule",null,null,null,12]
[null,null,null,null,null,null,null,null,null,"J","Es-tu content de la qualité de ton",null,null,null,null,null,null,null,null,null,null,null,null,null,null,null,null,null,null,null,null,null,null,null,null,null,null,null,0,"Dos",null,null,null,13]
[null,null,null,null,null,null,null,null,null,null,"entrainement/compétition?",null,null,null,null,null,null,null,null,null,null,null,null,null,null,null,null,null,null,null,null,null,null,null,"Santé",null,null,null,0,"Genou",null,null,null,14]
[null,null,null,null,null,null,null,null,null,1,"… pas content",null,null,null,null,null,null,null,null,null,null,null,null,null,null,null,null,null,null,null,null,null,null,null,"Limitation pour cause de douleurs",null,{"$f":"AM36","v":0},null,0,"Cheville",null,null,null,15]
[null,null,null,null,null,null,null,null,null,2,"… plutôt pas content",null,null,null,null,null,null,null,null,null,null,null,null,null,null,null,null,null,null,null,null,null,null,null,"Absence pour cause de blessure",null,{"$f":"AM44","v":0},null,0,"Autre",null,null,null,16]
[null,null,null,null,null,null,null,null,null,3,"… moyen",null,null,null,null,null,null,null,null,null,null,null,null,null,null,null,null,null,null,null,null,null,null,null,"Absence pour cause de maladie",null,{"$f":"AM52","v":0}]
[null,null,null,null,null,null,null,null,null,4,"… content",null,null,null,null,null,null,null,null,null,null,null,null,null,null,null,null,null,null,null,null,null,null,null,null,null,null,null,{"$f":"SUM(AM53:AM59)","v":0},"Absence pour cause de maladie"]
[null,null,null,null,null,null,null,null,null,5,"… très content!",null,null,null,null,null,null,null,null,null,null,null,null,null,null,null,null,null,null,null,null,null,null,null,null,null,null,null,{"$f":"COUNTIF($H$4:$H$24,$AR53)","v":0},"Maladie",null,null,null,21]
[]
[]
[]
[]
[]
[]
[]
[]
[]
[]
[]
[]
[]
[]
[]
[]
[]
[]
[]
[]
[]
[]
[]
[]
[]
[]
[]
[]
[]
[]
[]
[]
[]
[]
[]
[]
[]
[]
[]
[]
[]
[]
[]
[]
[]
[]
[]
[]
[]
[]
[]
[]
[]
[]
[]
[]
[]
[]
[]
[]
[]
[]
[]
[]
[]
[]
[]
[]
[]
[]
[]
[]
[]
[]
[]
[]
[]
[]
[]
[]
[null,null,null,null,null,null,null,null,null,null,null,null,null,null,null,null,null,null,null,null,null,null,null,null,{"$f":"Z134-1","v":12},13,14,15,16,17,18,{"$f":"D1","v":19}]
[]
[]
[]
[]
[]
[]
[]
[]
[]
[]
[]
[]
[]
[]
[]
[]
[]
[]
[]
[]
[null,null,null,null,null,null,null,null,null,null,null,null,null,null,null,null,null,null,null,null,null,null,null,null,null,null,null,null,null,null,null,null,{"$f":"AF134+1","v":20}]

{"sheet":"20","index":48,"n_rows":155,"n_cols":45,"rows_kept":155,"cut":false,"hidden":false,"merged":[[1,43,2,43],[30,34,30,36],[30,38,31,43],[0,5,0,6],[1,44,2,44],[1,15,1,17],[28,10,29,10],[29,21,29,26],[36,9,37,9],[1,41,2,41],[21,6,23,6],[21,9,21,10],[23,9,23,10],[21,7,23,7],[1,12,1,14],[7,9,7,10],[1,38,2,38],[1,24,1,26],[1,18,1,20],[1,30,1,32],[1,27,1,29],[27,3,27,6],[28,3,28,6],[37,3,37,6],[30,3,30,6],[31,3,31,6],[32,3,32,6],[33,3,33,6],[34,3,34,6],[35,3,35,6],[36,3,36,6],[38,3,38,6],[46,9,47,9],[18,36,20,36],[1,40,2,40],[3,36,5,36],[1,36,2,36],[20,9,20,10],[5,9,5,10],[1,39,2,39],[21,36,23,36],[9,36,11,36],[12,36,14,36],[15,36,17,36],[28,9,29,9],[16,9,16,10],[15,9,15,10],[10,9,10,10],[29,3,29,6],[15,5,17,5],[12,4,14,4],[6,36,8,36],[3,3,5,3],[3,6,5,6],[3,9,3,10],[4,9,4,10],[17,9,17,10],[22,9,22,10],[18,9,18,10],[19,9,19,10],[9,6,11,6],[9,9,9,10],[6,4,8,4],[9,7,11,7],[9,4,11,4],[11,9,11,10],[3,4,5,4],[3,7,5,7],[12,7,14,7],[9,5,11,5],[12,5,14,5],[21,1,23,1],[15,7,17,7],[15,1,17,1],[15,3,17,3],[15,6,17,6],[15,4,17,4],[18,5,20,5],[18,1,20,1],[18,3,20,3],[21,5,23,5],[21,3,23,3],[21,4,23,4],[18,7,20,7],[18,4,20,4],[18,6,20,6],[1,1,2,1],[9,1,11,1],[9,3,11,3],[38,34,38,36],[44,34,44,36],[47,34,47,36],[12,1,14,1],[6,3,8,3],[6,6,8,6],[6,9,6,10],[8,9,8,10],[6,5,8,5],[6,1,8,1],[6,7,8,7],[1,34,2,34],[1,21,1,23],[1,9,2,10],[3,1,5,1],[3,5,5,5],[12,3,14,3],[12,6,14,6],[12,9,12,10],[13,9,13,10],[14,9,14,10]]}
[null,null,"Woche",{"$f":"INT(MOD(INT((F1-2)/7)+0.6,52+5/28))+1","v":20},{"$f":"D1+1000","v":1020},{"$f":"'19'!F1+7","v":"2019-05-13"},null,"-",null,{"$f":"F1+6","v":"2019-05-19"},null,null,null,null,null,null,null,null,null,null,null,null,null,null,null,null,null,null,null,null,null,null,{"$f":"'Aperçu de la charge'!D2","v":"Prénom Nom"},null,{"$f":"'Aperçu de la charge'!N2","v":"2018/2019"}]
[null,"Jour",null,"Poids","REG","qualité sommeil","durée sommeil","Santé",null,"Description de l'entrainement",null,null,"Club - VB",null,null,"TS/ Nati - VB",null,null,"Club - BVB",null,null,"TS/ Nati - BVB",null,null,"Force - fitness",null,null,"Compet. - VB",null,null,"Compet. - BVB",null,null,null,"Réflexion",null,"Charge/\njour",null,"matchs VB","Sets VB","Matchs BVB","Sets BVB","J","Autre\n (Rég, mentale)","Mental- oder Sonstiges Training"]
[null,null,null,"[kg]","[1 - 5]","[1-5]","[Std]","Nr.",null,null,null,null,"Durée","RPE","Charge","Durée","RPE","Charge","Durée","RPE","Charge","Durée","RPE","Charge","Durée","RPE","Charge","Durée","RPE","Charge","Durée","RPE","Charge",null,null,null,null,null,null,null,null,null,"[1-5]"]
[null,"Lu",null,0,0,0,0,0,null,null,null,null,null,null,{"$f":"M4*N4","v":0},null,null,{"$f":"P4*Q4","v":0},null,null,{"$f":"S4*T4","v":0},null,null,{"$f":"V4*W4","v":0},null,null,{"$f":"Y4*Z4","v":0},null,null,{"$f":"AB4*AC4","v":0},null,null,{"$f":"AE4*AF4","v":0},{"$f":"IF(SUM(M4:AG6)>0,1,0)","v":"00:00:00"},null,null,{"$f":"SUM(O4:O6,R4:R6,U4:U6,X4:X6,AA4:AA6,AD4:AD6,AG4:AG6)","v":0}]
[null,null,null,null,null,null,null,null,null,null,null,null,null,null,{"$f":"M5*N5","v":0},null,null,{"$f":"P5*Q5","v":0},null,null,{"$f":"S5*T5","v":0},null,null,{"$f":"V5*W5","v":0},null,null,{"$f":"Y5*Z5","v":0},null,null,{"$f":"AB5*AC5","v":0},null,null,{"$f":"AE5*AF5","v":0}]
[null,null,null,null,null,null,null,null,null,null,null,null,null,null,0,null,null,0,null,null,0,null,null,0,null,null,0,null,null,0,null,null,0]
[null,"Ma",null,0,0,0,0,0,null,null,null,null,null,null,0,null,null,{"$f":"P7*Q7","v":0},null,null,0,null,null,0,null,null,0,null,null,0,null,null,0,{"$f":"IF(SUM(M7:AG9)>0,1,0)","v":"00:00:00"},null,null,{"$f":"SUM(O7:O9,R7:R9,U7:U9,X7:X9,AA7:AA9,AD7:AD9,AG7:AG9)","v":0}]
[null,null,null,null,null,null,null,null,null,null,null,null,null,null,0,null,null,0,null,null,0,null,null,0,null,null,0,null,null,0,null,null,0]
[null,null,null,null,null,null,null,null,null,null,null,null,null,null,0,null,null,0,null,null,0,null,null,0,null,null,0,null,null,0,null,null,0]
[null,"Me",null,0,0,0,0,0,null,null,null,null,null,null,0,null,null,{"$f":"P10*Q10","v":0},null,null,0,null,null,0,null,null,0,null,null,0,null,null,0,{"$f":"IF(SUM(M10:AG12)>0,1,0)","v":"00:00:00"},null,null,{"$f":"SUM(O10:O12,R10:R12,U10:U12,X10:X12,AA10:AA12,AD10:AD12,AG10:AG12)","v":0}]
[null,null,null,null,null,null,null,null,null,null,null,null,null,null,0,null,null,0,null,null,0,null,null,0,null,null,0,null,null,0,null,null,0]
[null,null,null,null,null,null,null,null,null,null,null,null,null,null,0,null,null,0,null,null,0,null,null,0,null,null,0,null,null,0,null,null,0]
[null,"Je",null,0,0,0,0,0,null,null,null,null,null,null,0,null,null,{"$f":"P13*Q13","v":0},null,null,0,null,null,0,null,null,0,null,null,0,null,null,0,{"$f":"IF(SUM(M13:AG15)>0,1,0)","v":"00:00:00"},null,null,{"$f":"SUM(O13:O15,R13:R15,U13:U15,X13:X15,AA13:AA15,AD13:AD15,AG13:AG15)","v":0}]
[null,null,null,null,null,null,null,null,null,null,null,null,null,null,0,null,null,0,null,null,0,null,null,0,null,null,0,null,null,0,null,null,0]
[null,null,null,null,null,null,null,null,null,null,null,null,null,null,0,null,null,0,null,null,0,null,null,0,null,null,0,null,null,0,null,null,0]
[null,"Ve",null,0,0,0,0,0,null,null,null,null,null,null,0,null,null,{"$f":"P16*Q16","v":0},null,null,0,null,null,0,null,null,0,null,null,0,null,null,0,{"$f":"IF(SUM(M16:AG18)>0,1,0)","v":"00:00:00"},null,null,{"$f":"SUM(O16:O18,R16:R18,U16:U18,X16:X18,AA16:AA18,AD16:AD18,AG16:AG18)","v":0}]
[null,null,null,null,null,null,null,null,null,null,null,null,null,null,0,null,null,0,null,null,0,null,null,0,null,null,0,null,null,0,null,null,0]
[null,null,null,null,null,null,null,null,null,null,null,null,null,null,0,null,null,0,null,null,0,null,null,0,null,null,0,null,null,0,null,null,0]
[null,"Sa",null,0,0,0,0,0,null,null,null,null,null,null,{"$f":"M19*N19","v":0},null,null,{"$f":"P19*Q19","v":0},null,null,{"$f":"S19*T19","v":0},null,null,{"$f":"V19*W19","v":0},null,null,{"$f":"Y19*Z19","v":0},null,null,{"$f":"AB19*AC19","v":0},null,null,{"$f":"AE19*AF19","v":0},{"$f":"IF(SUM(M19:AG21)>0,1,0)","v":"00:00:00"},null,null,{"$f":"SUM(O19:O21,R19:R21,U19:U21,X19:X21,AA19:AA21,AD19:AD21,AG19:AG21)","v":0}]
[null,null,null,null,null,null,null,null,null,null,null,null,null,null,{"$f":"M20*N20","v":0},null,null,0,null,null,{"$f":"S20*T20","v":0},null,null,{"$f":"V20*W20","v":0},null,null,{"$f":"Y20*Z20","v":0},null,null,{"$f":"AB20*AC20","v":0},null,null,{"$f":"AE20*AF20","v":0}]
[null,null,null,null,null,null,null,null,null,null,null,null,null,null,0,null,null,0,null,null,0,null,null,0,null,null,0,null,null,0,null,null,0]
[null,"Di",null,0,0,0,0,0,null,null,null,null,null,null,0,null,null,{"$f":"P22*Q22","v":0},null,null,0,null,null,0,null,null,0,null,null,0,null,null,0,{"$f":"IF(SUM(M22:AG24)>0,1,0)","v":"00:00:00"},null,null,{"$f":"SUM(O22:O24,R22:R24,U22:U24,X22:X24,AA22:AA24,AD22:AD24,AG22:AG24)","v":0}]
[null,null,null,null,null,null,null,null,null,null,null,null,null,null,0,null,null,0,null,null,0,null,null,0,null,null,0,null,null,0,null,null,0]
[null,null,null,null,null,null,null,null,null,null,null,null,null,null,0,null,null,0,null,null,0,null,null,0,null,null,0,null,null,0,null,null,0]
[null,null,null,null,null,null,null,null,null,null,"Total",null,{"$f":"SUM(M4:M24)","v":0},null,{"$f":"SUM(O4:O24)","v":0},{"$f":"SUM(P4:P24)","v":0},null,{"$f":"SUM(R4:R24)","v":0},{"$f":"SUM(S4:S24)","v":0},null,{"$f":"SUM(U4:U24)","v":0},{"$f":"SUM(V4:V24)","v":0},null,{"$f":"SUM(X4:X24)","v":0},{"$f":"SUM(Y4:Y24)","v":0},null,{"$f":"SUM(AA4:AA24)","v":0},{"$f":"SUM(AB4:AB24)","v":0},null,{"$f":"SUM(AD4:AD24)","v":0},{"$f":"SUM(AE4:AE24)","v":0},null,{"$f":"SUM(AG4:AG24)","v":0},null,"Charge totale",null,{"$f":"SUM(AK4:AK24)","v":0}]
[null,"avg.",null,{"$f":"IF(COUNTA(D4:D24)=0,\"\",AVERAGE(D4:D24))","v":0},{"$f":"IF(COUNTA(E4:E24)=0,\"\",AVERAGE(E4:E24))","v":0},{"$f":"IF(COUNTA(F4:F24)=0,\"\",AVERAGE(F4:F24))","v":0},{"$f":"IF(COUNTA(G4:G24)=0,\"\",AVERAGE(G4:G24))","v":0},{"$f":"IF(COUNTA(H4:H24)=0,\"\",COUNTIF(H4:H24,\"x\"))","v":0},null,null,"Zone",null,1,2,3,1,2,3,1,2,3,1,2,3,1,2,3,1,2,3,1,2,3,null,"Moyenne",null,{"$f":"AVERAGE(AK4:AK24)","v":0}]
[null,null,null,null,null,{"$f":"IF(COUNTA(F4:F24)=0,\"\",VAR(F4:F24))","v":0},{"$f":"IF(COUNTA(G4:G24)=0,\"\",STDEV(G4:G24))","v":0},"Divergence - durée du sommeil",null,null,"Unité par zone (RPE) ",null,{"$f":"IF('Répartition des intensités'!$AR$25=\"x\",COUNTIF(N4:N24,\"<3,5\"),COUNTIF(N4:N24,\"<4,5\"))","v":0},{"$f":"COUNT(N4:N24)-(M27+O27)","v":0},{"$f":"IF('Répartition des intensités'!$AR$25=\"x\",COUNTIF(N4:N24,\">5,5\"),COUNTIF(N4:N24,\">6,5\"))","v":0},{"$f":"IF('Répartition des intensités'!$AR$25=\"x\",COUNTIF(Q4:Q24,\"<3,5\"),COUNTIF(Q4:Q24,\"<4,5\"))","v":0},{"$f":"COUNT(Q4:Q24)-(P27+R27)","v":0},{"$f":"IF('Répartition des intensités'!$AR$25=\"x\",COUNTIF(Q4:Q24,\">5,5\"),COUNTIF(Q4:Q24,\">6,5\"))","v":0},{"$f":"IF('Répartition des intensités'!$AR$25=\"x\",COUNTIF(T4:T24,\"<3,5\"),COUNTIF(T4:T24,\"<4,5\"))","v":0},{"$f":"COUNT(T4:T24)-(S27+U27)","v":0},{"$f":"IF('Répartition des intensités'!$AR$25=\"x\",COUNTIF(T4:T24,\">5,5\"),COUNTIF(T4:T24,\">6,5\"))","v":0},{"$f":"IF('Répartition des intensités'!$AR$25=\"x\",COUNTIF(W4:W24,\"<3,5\"),COUNTIF(W4:W24,\"<4,5\"))","v":0},{"$f":"COUNT(W4:W24)-(V27+X27)","v":0},{"$f":"IF('Répartition des intensités'!$AR$25=\"x\",COUNTIF(W4:W24,\">5,5\"),COUNTIF(W4:W24,\">6,5\"))","v":0},{"$f":"IF('Répartition des intensités'!$AR$25=\"x\",COUNTIF(Z4:Z24,\"<3,5\"),COUNTIF(Z4:Z24,\"<4,5\"))","v":0},{"$f":"COUNT(Z4:Z24)-(Y27+AA27)","v":0},{"$f":"IF('Répartition des intensités'!$AR$25=\"x\",COUNTIF(Z4:Z24,\">5,5\"),COUNTIF(Z4:Z24,\">6,5\"))","v":0},{"$f":"IF('Répartition des intensités'!$AR$25=\"x\",COUNTIF(AC4:AC24,\"<3,5\"),COUNTIF(AC4:AC24,\"<4,5\"))","v":0},{"$f":"COUNT(AC4:AC24)-(AB27+AD27)","v":0},{"$f":"IF('Répartition des intensités'!$AR$25=\"x\",COUNTIF(AC4:AC24,\">5,5\"),COUNTIF(AC4:AC24,\">6,5\"))","v":0},{"$f":"IF('Répartition des intensités'!$AR$25=\"x\",COUNTIF(AF4:AF24,\"<3,5\"),COUNTIF(AF4:AF24,\"<4,5\"))","v":0},{"$f":"COUNT(AF4:AF24)-(AE27+AG27)","v":0},{"$f":"IF('Répartition des intensités'!$AR$25=\"x\",COUNTIF(AF4:AF24,\">5,5\"),COUNTIF(AF4:AF24,\">6,5\"))","v":0},null,"Divergence",null,{"$f":"STDEVP(AK4:AK24)","v":0}]
[null,null,null,"échelle de Foster",null,null,null,"RPE",null,null,"Temps par zone (RPE)",null,{"$f":"IF('Répartition des intensités'!$AR$25=\"x\",SUMIF(N4:N24,\"<3,5\",M4:M24),SUMIF(N4:N24,\"<4,5\",M4:M24))","v":0},{"$f":"IF(N27=0,0,SUM((M25)-(M28+O28)))","v":0},{"$f":"IF('Répartition des intensités'!$AR$25=\"x\",SUMIF(N4:N24,\">5,5\",M4:M24),SUMIF(N4:N24,\">6,5\",M4:M24))","v":0},{"$f":"IF('Répartition des intensités'!$AR$25=\"x\",SUMIF(Q4:Q24,\"<3,5\",P4:P24),SUMIF(Q4:Q24,\"<4,5\",P4:P24))","v":0},{"$f":"IF(Q27=0,0,SUM((P25)-(P28+R28)))","v":0},{"$f":"IF('Répartition des intensités'!$AR$25=\"x\",SUMIF(Q4:Q24,\">5,5\",P4:P24),SUMIF(Q4:Q24,\">6,5\",P4:P24))","v":0},{"$f":"IF('Répartition des intensités'!$AR$25=\"x\",SUMIF(T4:T24,\"<3,5\",S4:S24),SUMIF(T4:T24,\"<4,5\",S4:S24))","v":0},{"$f":"IF(T27=0,0,SUM((S25)-(S28+U28)))","v":0},{"$f":"IF('Répartition des intensités'!$AR$25=\"x\",SUMIF(T4:T24,\">5,5\",S4:S24),SUMIF(T4:T24,\">6,5\",S4:S24))","v":0},{"$f":"IF('Répartition des intensités'!$AR$25=\"x\",SUMIF(W4:W24,\"<3,5\",V4:V24),SUMIF(W4:W24,\"<4,5\",V4:V24))","v":0},{"$f":"IF(W27=0,0,SUM((V25)-(V28+X28)))","v":0},{"$f":"IF('Répartition des intensités'!$AR$25=\"x\",SUMIF(W4:W24,\">5,5\",V4:V24),SUMIF(W4:W24,\">6,5\",V4:V24))","v":0},{"$f":"IF('Répartition des intensités'!$AR$25=\"x\",SUMIF(Z4:Z24,\"<3,5\",Y4:Y24),SUMIF(Z4:Z24,\"<4,5\",Y4:Y24))","v":0},{"$f":"IF(Z27=0,0,SUM((Y25)-(Y28+AA28)))","v":0},{"$f":"IF('Répartition des intensités'!$AR$25=\"x\",SUMIF(Z4:Z24,\">5,5\",Y4:Y24),SUMIF(Z4:Z24,\">6,5\",Y4:Y24))","v":0},{"$f":"IF('Répartition des intensités'!$AR$25=\"x\",SUMIF(AC4:AC24,\"<3,5\",AB4:AB24),SUMIF(AC4:AC24,\"<4,5\",AB4:AB24))","v":0},{"$f":"IF(AC27=0,0,SUM((AB25)-(AB28+AD28)))","v":0},{"$f":"IF('Répartition des intensités'!$AR$25=\"x\",SUMIF(AC4:AC24,\">5,5\",AB4:AB24),SUMIF(AC4:AC24,\">6,5\",AB4:AB24))","v":0},{"$f":"IF('Répartition des intensités'!$AR$25=\"x\",SUMIF(AF4:AF24,\"<3,5\",AE4:AE24),SUMIF(AF4:AF24,\"<4,5\",AE4:AE24))","v":0},{"$f":"IF(AF27=0,0,SUM((AE25)-(AE28+AG28)))","v":0},{"$f":"IF('Répartition des intensités'!$AR$25=\"x\",SUMIF(AF4:AF24,\">5,5\",AE4:AE24),SUMIF(AF4:AF24,\">6,5\",AE4:AE24))","v":0}]
[null,null,null,"Comme au repos",null,null,null,0,null,"REG","Est-ce que j'ai l'impression d'avoir récupéré en me levant?"]
[null,null,null,"très facile",null,null,null,1]
[null,null,null,"facile",null,null,null,2,null,1,"… pas du tout récupéré",null,null,null,null,null,null,null,null,null,null,null,null,null,null,null,null,null,null,null,null,null,null,null,"Entrainements",null,null,null,"Rapport de santé"]
[null,null,null,null,null,null,null,3,null,2,"… un peu récupéré",null,null,null,null,null,null,null,null,null,null,null,null,null,null,null,null,null,null,null,null,null,null,null,"Jours d'entrainement",null,{"$f":"IF(SUM(AH4:AH24)=0,\"\",SUM(AH4:AH24))","v":""}]
[null,null,null,"Assez dur",null,null,null,4,null,3,"… récupéré",null,null,null,null,null,null,null,null,null,null,{"$f":"B4","v":"Lu"},{"$f":"AK4","v":0},null,null,null,null,null,null,null,null,null,null,null,"Entrainements",null,{"$f":"IF(AK32=\"\",\"\",SUM(M27:AG27))","v":""}]
[null,null,null,"dur",null,null,null,5,null,4,"…  en forme",null,null,null,null,null,null,null,null,null,null,{"$f":"B7","v":"Ma"},{"$f":"AK7","v":0},null,null,null,null,null,null,null,null,null,null,null,"Heures d'entrainement",null,{"$f":"IF(AK32=\"\",\"\",SUM(M25,P25,S25,Y25,AB25,V25,AE25)/60)","v":""},null,{"$f":"IF($AK$32=\"\",\"\",AK32-AM36-AM44-AM52)","v":""},"Aucune limitation",null,null,null,0]
[null,null,null,null,null,null,null,6,null,5,"… très en forme",null,null,null,null,null,null,null,null,null,null,{"$f":"B10","v":"Me"},{"$f":"AK10","v":0},null,null,null,null,null,null,null,null,null,null,null,"Charge de l'entrainement",null,{"$f":"IF(AK32=\"\",\"\",SUM(AK25))","v":""}]
[null,null,null,"très dur",null,null,null,7,null,null,null,null,null,null,null,null,null,null,null,null,null,{"$f":"B13","v":"Je"},{"$f":"AK13","v":0},null,null,null,null,null,null,null,null,null,null,null,"Monotonie",null,{"$f":"IF(AK27=0,0,(AVERAGE(AK4:AK24))/AK27)","v":0},null,{"$f":"SUM(AM37:AM42)","v":0},"Limitation pour cause de douleurs"]
[null,null,null,null,null,null,null,8,null,"Nombre de matchs",null,null,null,null,null,null,null,null,null,null,null,{"$f":"B16","v":"Ve"},{"$f":"AK16","v":0},null,null,null,null,null,null,null,null,null,null,null,"Efforts à l'entrainement",null,{"$f":"IF(AK32=\"\",\"\",AK35*AK36)","v":""},null,{"$f":"COUNTIF($H$4:$H$24,$AR37)","v":0},"Doigt",null,null,null,1]
[null,null,null,"extrèmement dur",null,null,null,9,null,null,null,null,null,null,null,null,null,null,null,null,null,{"$f":"B19","v":"Sa"},{"$f":"AK19","v":0},null,null,null,null,null,null,null,null,null,null,null,null,null,null,null,0,"Épaule",null,null,null,2]
[null,null,null,"Comme mon entrainement le plus dur",null,null,null,10,null,1,"… 3 sets et plus",null,null,null,null,null,null,null,null,null,null,{"$f":"B22","v":"Di"},{"$f":"AK22","v":0},null,null,null,null,null,null,null,null,null,null,null,"Compétition",null,null,null,0,"Dos",null,null,null,3]
[null,null,null,null,null,null,null,null,null,0.5,"… moins de 3 sets",null,null,null,null,null,null,null,null,null,null,null,null,null,null,null,null,null,null,null,null,null,null,null,"Matchs de volleyball",null,{"$f":"IF(AK32=\"\",\"\",SUM(AM4:AM24))","v":""},null,0,"Genou",null,null,null,4]
[null,null,null,null,null,null,null,null,null,null,null,null,null,null,null,null,null,null,null,null,null,null,null,null,null,null,null,null,null,null,null,null,null,null,"Sets de volleyball",null,{"$f":"IF(AK32=\"\",\"\",SUM(AN4:AN24))","v":""},null,0,"Cheville",null,null,null,5]
[null,null,null,null,null,null,null,null,null,"Sets joués",null,null,null,null,null,null,null,null,null,null,null,null,null,null,null,null,null,null,null,null,null,null,null,null,"Matchs de beach volley",null,{"$f":"IF(AK35=\"\",\"\",SUM(AO4:AO24))","v":""},null,0,"Autre",null,null,null,6]
[null,null,null,null,null,null,null,null,null,1,"… depuis le début et durant tout le set",null,null,null,null,null,null,null,null,null,null,null,null,null,null,null,null,null,null,null,null,null,null,null,"Sets de beach volley",null,{"$f":"IF(AK35=\"\",\"\",SUM(AP4:AP24))","v":""}]
[null,null,null,null,null,null,null,null,null,0.5,"… entré/sorti en cours, beaucoup joué",null,null,null,null,null,null,null,null,null,null,null,null,null,null,null,null,null,null,null,null,null,null,null,null,null,null,null,{"$f":"SUM(AM45:AM50)","v":0},"Absence pour cause de blessure"]
[null,null,null,null,null,null,null,null,null,0.1,"… entré/sorti en cours, peu joué",null,null,null,null,null,null,null,null,null,null,null,null,null,null,null,null,null,null,null,null,null,null,null,"Satisfaction",null,null,null,{"$f":"COUNTIF($H$4:$H$24,$AR45)","v":0},"Doigt",null,null,null,11]
[null,null,null,null,null,null,null,null,null,null,null,null,null,null,null,null,null,null,null,null,null,null,null,null,null,null,null,null,null,null,null,null,null,null,"Satisfaction de l'entrainement/match J",null,{"$f":"IF(AK32=\"\",\"\",SUM(AQ4:AQ24)/AK32)","v":""},null,0,"Épaule",null,null,null,12]
[null,null,null,null,null,null,null,null,null,"J","Es-tu content de la qualité de ton",null,null,null,null,null,null,null,null,null,null,null,null,null,null,null,null,null,null,null,null,null,null,null,null,null,null,null,0,"Dos",null,null,null,13]
[null,null,null,null,null,null,null,null,null,null,"entrainement/compétition?",null,null,null,null,null,null,null,null,null,null,null,null,null,null,null,null,null,null,null,null,null,null,null,"Santé",null,null,null,0,"Genou",null,null,null,14]
[null,null,null,null,null,null,null,null,null,1,"… pas content",null,null,null,null,null,null,null,null,null,null,null,null,null,null,null,null,null,null,null,null,null,null,null,"Limitation pour cause de douleurs",null,{"$f":"AM36","v":0},null,0,"Cheville",null,null,null,15]
[null,null,null,null,null,null,null,null,null,2,"… plutôt pas content",null,null,null,null,null,null,null,null,null,null,null,null,null,null,null,null,null,null,null,null,null,null,null,"Absence pour cause de blessure",null,{"$f":"AM44","v":0},null,0,"Autre",null,null,null,16]
[null,null,null,null,null,null,null,null,null,3,"… moyen",null,null,null,null,null,null,null,null,null,null,null,null,null,null,null,null,null,null,null,null,null,null,null,"Absence pour cause de maladie",null,{"$f":"AM52","v":0}]
[null,null,null,null,null,null,null,null,null,4,"… content",null,null,null,null,null,null,null,null,null,null,null,null,null,null,null,null,null,null,null,null,null,null,null,null,null,null,null,{"$f":"SUM(AM53:AM59)","v":0},"Absence pour cause de maladie"]
[null,null,null,null,null,null,null,null,null,5,"… très content!",null,null,null,null,null,null,null,null,null,null,null,null,null,null,null,null,null,null,null,null,null,null,null,null,null,null,null,{"$f":"COUNTIF($H$4:$H$24,$AR53)","v":0},"Maladie",null,null,null,21]
[]
[]
[]
[]
[]
[]
[]
[]
[]
[]
[]
[]
[]
[]
[]
[]
[]
[]
[]
[]
[]
[]
[]
[]
[]
[]
[]
[]
[]
[]
[]
[]
[]
[]
[]
[]
[]
[]
[]
[]
[]
[]
[]
[]
[]
[]
[]
[]
[]
[]
[]
[]
[]
[]
[]
[]
[]
[]
[]
[]
[]
[]
[]
[]
[]
[]
[]
[]
[]
[]
[]
[]
[]
[]
[]
[]
[]
[]
[]
[]
[null,null,null,null,null,null,null,null,null,null,null,null,null,null,null,null,null,null,null,null,null,null,null,null,{"$f":"Z134-1","v":13},14,15,16,17,18,19,{"$f":"D1","v":20}]
[]
[]
[]
[]
[]
[]
[]
[]
[]
[]
[]
[]
[]
[]
[]
[]
[]
[]
[]
[]
[null,null,null,null,null,null,null,null,null,null,null,null,null,null,null,null,null,null,null,null,null,null,null,null,null,null,null,null,null,null,null,null,{"$f":"AF134+1","v":21}]

{"sheet":"21","index":49,"n_rows":155,"n_cols":45,"rows_kept":155,"cut":false,"hidden":false,"merged":[[1,43,2,43],[30,34,30,36],[30,38,31,43],[0,5,0,6],[1,44,2,44],[1,15,1,17],[28,10,29,10],[29,21,29,26],[36,9,37,9],[1,41,2,41],[21,6,23,6],[21,9,21,10],[23,9,23,10],[21,7,23,7],[1,12,1,14],[7,9,7,10],[1,38,2,38],[1,24,1,26],[1,18,1,20],[1,30,1,32],[1,27,1,29],[27,3,27,6],[28,3,28,6],[37,3,37,6],[30,3,30,6],[31,3,31,6],[32,3,32,6],[33,3,33,6],[34,3,34,6],[35,3,35,6],[36,3,36,6],[38,3,38,6],[46,9,47,9],[18,36,20,36],[1,40,2,40],[3,36,5,36],[1,36,2,36],[20,9,20,10],[5,9,5,10],[1,39,2,39],[21,36,23,36],[9,36,11,36],[12,36,14,36],[15,36,17,36],[28,9,29,9],[16,9,16,10],[15,9,15,10],[10,9,10,10],[29,3,29,6],[15,5,17,5],[12,4,14,4],[6,36,8,36],[3,3,5,3],[3,6,5,6],[3,9,3,10],[4,9,4,10],[17,9,17,10],[22,9,22,10],[18,9,18,10],[19,9,19,10],[9,6,11,6],[9,9,9,10],[6,4,8,4],[9,7,11,7],[9,4,11,4],[11,9,11,10],[3,4,5,4],[3,7,5,7],[12,7,14,7],[9,5,11,5],[12,5,14,5],[21,1,23,1],[15,7,17,7],[15,1,17,1],[15,3,17,3],[15,6,17,6],[15,4,17,4],[18,5,20,5],[18,1,20,1],[18,3,20,3],[21,5,23,5],[21,3,23,3],[21,4,23,4],[18,7,20,7],[18,4,20,4],[18,6,20,6],[1,1,2,1],[9,1,11,1],[9,3,11,3],[38,34,38,36],[44,34,44,36],[47,34,47,36],[12,1,14,1],[6,3,8,3],[6,6,8,6],[6,9,6,10],[8,9,8,10],[6,5,8,5],[6,1,8,1],[6,7,8,7],[1,34,2,34],[1,21,1,23],[1,9,2,10],[3,1,5,1],[3,5,5,5],[12,3,14,3],[12,6,14,6],[12,9,12,10],[13,9,13,10],[14,9,14,10]]}
[null,null,"Woche",{"$f":"INT(MOD(INT((F1-2)/7)+0.6,52+5/28))+1","v":21},{"$f":"D1+1000","v":1021},{"$f":"'20'!F1+7","v":"2019-05-20"},null,"-",null,{"$f":"F1+6","v":"2019-05-26"},null,null,null,null,null,null,null,null,null,null,null,null,null,null,null,null,null,null,null,null,null,null,{"$f":"'Aperçu de la charge'!D2","v":"Prénom Nom"},null,{"$f":"'Aperçu de la charge'!N2","v":"2018/2019"}]
[null,"Jour",null,"Poids","REG","qualité sommeil","durée sommeil","Santé",null,"Description de l'entrainement",null,null,"Club - VB",null,null,"TS/ Nati - VB",null,null,"Club - BVB",null,null,"TS/ Nati - BVB",null,null,"Force - fitness",null,null,"Compet. - VB",null,null,"Compet. - BVB",null,null,null,"Réflexion",null,"Charge/\njour",null,"matchs VB","Sets VB","Matchs BVB","Sets BVB","J","Autre\n (Rég, mentale)","Mental- oder Sonstiges Training"]
[null,null,null,"[kg]","[1 - 5]","[1-5]","[Std]","Nr.",null,null,null,null,"Durée","RPE","Charge","Durée","RPE","Charge","Durée","RPE","Charge","Durée","RPE","Charge","Durée","RPE","Charge","Durée","RPE","Charge","Durée","RPE","Charge",null,null,null,null,null,null,null,null,null,"[1-5]"]
[null,"Lu",null,0,0,0,0,0,null,null,null,null,null,null,{"$f":"M4*N4","v":0},null,null,{"$f":"P4*Q4","v":0},null,null,{"$f":"S4*T4","v":0},null,null,{"$f":"V4*W4","v":0},null,null,{"$f":"Y4*Z4","v":0},null,null,{"$f":"AB4*AC4","v":0},null,null,{"$f":"AE4*AF4","v":0},{"$f":"IF(SUM(M4:AG6)>0,1,0)","v":"00:00:00"},null,null,{"$f":"SUM(O4:O6,R4:R6,U4:U6,X4:X6,AA4:AA6,AD4:AD6,AG4:AG6)","v":0}]
[null,null,null,null,null,null,null,null,null,null,null,null,null,null,{"$f":"M5*N5","v":0},null,null,{"$f":"P5*Q5","v":0},null,null,{"$f":"S5*T5","v":0},null,null,{"$f":"V5*W5","v":0},null,null,{"$f":"Y5*Z5","v":0},null,null,{"$f":"AB5*AC5","v":0},null,null,{"$f":"AE5*AF5","v":0}]
[null,null,null,null,null,null,null,null,null,null,null,null,null,null,0,null,null,0,null,null,0,null,null,0,null,null,0,null,null,0,null,null,0]
[null,"Ma",null,0,0,0,0,0,null,null,null,null,null,null,0,null,null,{"$f":"P7*Q7","v":0},null,null,0,null,null,0,null,null,0,null,null,0,null,null,0,{"$f":"IF(SUM(M7:AG9)>0,1,0)","v":"00:00:00"},null,null,{"$f":"SUM(O7:O9,R7:R9,U7:U9,X7:X9,AA7:AA9,AD7:AD9,AG7:AG9)","v":0}]
[null,null,null,null,null,null,null,null,null,null,null,null,null,null,0,null,null,0,null,null,0,null,null,0,null,null,0,null,null,0,null,null,0]
[null,null,null,null,null,null,null,null,null,null,null,null,null,null,0,null,null,0,null,null,0,null,null,0,null,null,0,null,null,0,null,null,0]
[null,"Me",null,0,0,0,0,0,null,null,null,null,null,null,0,null,null,{"$f":"P10*Q10","v":0},null,null,0,null,null,0,null,null,0,null,null,0,null,null,0,{"$f":"IF(SUM(M10:AG12)>0,1,0)","v":"00:00:00"},null,null,{"$f":"SUM(O10:O12,R10:R12,U10:U12,X10:X12,AA10:AA12,AD10:AD12,AG10:AG12)","v":0}]
[null,null,null,null,null,null,null,null,null,null,null,null,null,null,0,null,null,0,null,null,0,null,null,0,null,null,0,null,null,0,null,null,0]
[null,null,null,null,null,null,null,null,null,null,null,null,null,null,0,null,null,0,null,null,0,null,null,0,null,null,0,null,null,0,null,null,0]
[null,"Je",null,0,0,0,0,0,null,null,null,null,null,null,0,null,null,{"$f":"P13*Q13","v":0},null,null,0,null,null,0,null,null,0,null,null,0,null,null,0,{"$f":"IF(SUM(M13:AG15)>0,1,0)","v":"00:00:00"},null,null,{"$f":"SUM(O13:O15,R13:R15,U13:U15,X13:X15,AA13:AA15,AD13:AD15,AG13:AG15)","v":0}]
[null,null,null,null,null,null,null,null,null,null,null,null,null,null,0,null,null,0,null,null,0,null,null,0,null,null,0,null,null,0,null,null,0]
[null,null,null,null,null,null,null,null,null,null,null,null,null,null,0,null,null,0,null,null,0,null,null,0,null,null,0,null,null,0,null,null,0]
[null,"Ve",null,0,0,0,0,0,null,null,null,null,null,null,0,null,null,{"$f":"P16*Q16","v":0},null,null,0,null,null,0,null,null,0,null,null,0,null,null,0,{"$f":"IF(SUM(M16:AG18)>0,1,0)","v":"00:00:00"},null,null,{"$f":"SUM(O16:O18,R16:R18,U16:U18,X16:X18,AA16:AA18,AD16:AD18,AG16:AG18)","v":0}]
[null,null,null,null,null,null,null,null,null,null,null,null,null,null,0,null,null,0,null,null,0,null,null,0,null,null,0,null,null,0,null,null,0]
[null,null,null,null,null,null,null,null,null,null,null,null,null,null,0,null,null,0,null,null,0,null,null,0,null,null,0,null,null,0,null,null,0]
[null,"Sa",null,0,0,0,0,0,null,null,null,null,null,null,{"$f":"M19*N19","v":0},null,null,{"$f":"P19*Q19","v":0},null,null,{"$f":"S19*T19","v":0},null,null,{"$f":"V19*W19","v":0},null,null,{"$f":"Y19*Z19","v":0},null,null,{"$f":"AB19*AC19","v":0},null,null,{"$f":"AE19*AF19","v":0},{"$f":"IF(SUM(M19:AG21)>0,1,0)","v":"00:00:00"},null,null,{"$f":"SUM(O19:O21,R19:R21,U19:U21,X19:X21,AA19:AA21,AD19:AD21,AG19:AG21)","v":0}]
[null,null,null,null,null,null,null,null,null,null,null,null,null,null,{"$f":"M20*N20","v":0},null,null,0,null,null,{"$f":"S20*T20","v":0},null,null,{"$f":"V20*W20","v":0},null,null,{"$f":"Y20*Z20","v":0},null,null,{"$f":"AB20*AC20","v":0},null,null,{"$f":"AE20*AF20","v":0}]
[null,null,null,null,null,null,null,null,null,null,null,null,null,null,0,null,null,0,null,null,0,null,null,0,null,null,0,null,null,0,null,null,0]
[null,"Di",null,0,0,0,0,0,null,null,null,null,null,null,0,null,null,{"$f":"P22*Q22","v":0},null,null,0,null,null,0,null,null,0,null,null,0,null,null,0,{"$f":"IF(SUM(M22:AG24)>0,1,0)","v":"00:00:00"},null,null,{"$f":"SUM(O22:O24,R22:R24,U22:U24,X22:X24,AA22:AA24,AD22:AD24,AG22:AG24)","v":0}]
[null,null,null,null,null,null,null,null,null,null,null,null,null,null,0,null,null,0,null,null,0,null,null,0,null,null,0,null,null,0,null,null,0]
[null,null,null,null,null,null,null,null,null,null,null,null,null,null,0,null,null,0,null,null,0,null,null,0,null,null,0,null,null,0,null,null,0]
[null,null,null,null,null,null,null,null,null,null,"Total",null,{"$f":"SUM(M4:M24)","v":0},null,{"$f":"SUM(O4:O24)","v":0},{"$f":"SUM(P4:P24)","v":0},null,{"$f":"SUM(R4:R24)","v":0},{"$f":"SUM(S4:S24)","v":0},null,{"$f":"SUM(U4:U24)","v":0},{"$f":"SUM(V4:V24)","v":0},null,{"$f":"SUM(X4:X24)","v":0},{"$f":"SUM(Y4:Y24)","v":0},null,{"$f":"SUM(AA4:AA24)","v":0},{"$f":"SUM(AB4:AB24)","v":0},null,{"$f":"SUM(AD4:AD24)","v":0},{"$f":"SUM(AE4:AE24)","v":0},null,{"$f":"SUM(AG4:AG24)","v":0},null,"Charge totale",null,{"$f":"SUM(AK4:AK24)","v":0}]
[null,"avg.",null,{"$f":"IF(COUNTA(D4:D24)=0,\"\",AVERAGE(D4:D24))","v":0},{"$f":"IF(COUNTA(E4:E24)=0,\"\",AVERAGE(E4:E24))","v":0},{"$f":"IF(COUNTA(F4:F24)=0,\"\",AVERAGE(F4:F24))","v":0},{"$f":"IF(COUNTA(G4:G24)=0,\"\",AVERAGE(G4:G24))","v":0},{"$f":"IF(COUNTA(H4:H24)=0,\"\",COUNTIF(H4:H24,\"x\"))","v":0},null,null,"Zone",null,1,2,3,1,2,3,1,2,3,1,2,3,1,2,3,1,2,3,1,2,3,null,"Moyenne",null,{"$f":"AVERAGE(AK4:AK24)","v":0}]
[null,null,null,null,null,{"$f":"IF(COUNTA(F4:F24)=0,\"\",VAR(F4:F24))","v":0},{"$f":"IF(COUNTA(G4:G24)=0,\"\",STDEV(G4:G24))","v":0},"Divergence - durée du sommeil",null,null,"Unité par zone (RPE) ",null,{"$f":"IF('Répartition des intensités'!$AR$25=\"x\",COUNTIF(N4:N24,\"<3,5\"),COUNTIF(N4:N24,\"<4,5\"))","v":0},{"$f":"COUNT(N4:N24)-(M27+O27)","v":0},{"$f":"IF('Répartition des intensités'!$AR$25=\"x\",COUNTIF(N4:N24,\">5,5\"),COUNTIF(N4:N24,\">6,5\"))","v":0},{"$f":"IF('Répartition des intensités'!$AR$25=\"x\",COUNTIF(Q4:Q24,\"<3,5\"),COUNTIF(Q4:Q24,\"<4,5\"))","v":0},{"$f":"COUNT(Q4:Q24)-(P27+R27)","v":0},{"$f":"IF('Répartition des intensités'!$AR$25=\"x\",COUNTIF(Q4:Q24,\">5,5\"),COUNTIF(Q4:Q24,\">6,5\"))","v":0},{"$f":"IF('Répartition des intensités'!$AR$25=\"x\",COUNTIF(T4:T24,\"<3,5\"),COUNTIF(T4:T24,\"<4,5\"))","v":0},{"$f":"COUNT(T4:T24)-(S27+U27)","v":0},{"$f":"IF('Répartition des intensités'!$AR$25=\"x\",COUNTIF(T4:T24,\">5,5\"),COUNTIF(T4:T24,\">6,5\"))","v":0},{"$f":"IF('Répartition des intensités'!$AR$25=\"x\",COUNTIF(W4:W24,\"<3,5\"),COUNTIF(W4:W24,\"<4,5\"))","v":0},{"$f":"COUNT(W4:W24)-(V27+X27)","v":0},{"$f":"IF('Répartition des intensités'!$AR$25=\"x\",COUNTIF(W4:W24,\">5,5\"),COUNTIF(W4:W24,\">6,5\"))","v":0},{"$f":"IF('Répartition des intensités'!$AR$25=\"x\",COUNTIF(Z4:Z24,\"<3,5\"),COUNTIF(Z4:Z24,\"<4,5\"))","v":0},{"$f":"COUNT(Z4:Z24)-(Y27+AA27)","v":0},{"$f":"IF('Répartition des intensités'!$AR$25=\"x\",COUNTIF(Z4:Z24,\">5,5\"),COUNTIF(Z4:Z24,\">6,5\"))","v":0},{"$f":"IF('Répartition des intensités'!$AR$25=\"x\",COUNTIF(AC4:AC24,\"<3,5\"),COUNTIF(AC4:AC24,\"<4,5\"))","v":0},{"$f":"COUNT(AC4:AC24)-(AB27+AD27)","v":0},{"$f":"IF('Répartition des intensités'!$AR$25=\"x\",COUNTIF(AC4:AC24,\">5,5\"),COUNTIF(AC4:AC24,\">6,5\"))","v":0},{"$f":"IF('Répartition des intensités'!$AR$25=\"x\",COUNTIF(AF4:AF24,\"<3,5\"),COUNTIF(AF4:AF24,\"<4,5\"))","v":0},{"$f":"COUNT(AF4:AF24)-(AE27+AG27)","v":0},{"$f":"IF('Répartition des intensités'!$AR$25=\"x\",COUNTIF(AF4:AF24,\">5,5\"),COUNTIF(AF4:AF24,\">6,5\"))","v":0},null,"Divergence",null,{"$f":"STDEVP(AK4:AK24)","v":0}]
[null,null,null,"échelle de Foster",null,null,null,"RPE",null,null,"Temps par zone (RPE)",null,{"$f":"IF('Répartition des intensités'!$AR$25=\"x\",SUMIF(N4:N24,\"<3,5\",M4:M24),SUMIF(N4:N24,\"<4,5\",M4:M24))","v":0},{"$f":"IF(N27=0,0,SUM((M25)-(M28+O28)))","v":0},{"$f":"IF('Répartition des intensités'!$AR$25=\"x\",SUMIF(N4:N24,\">5,5\",M4:M24),SUMIF(N4:N24,\">6,5\",M4:M24))","v":0},{"$f":"IF('Répartition des intensités'!$AR$25=\"x\",SUMIF(Q4:Q24,\"<3,5\",P4:P24),SUMIF(Q4:Q24,\"<4,5\",P4:P24))","v":0},{"$f":"IF(Q27=0,0,SUM((P25)-(P28+R28)))","v":0},{"$f":"IF('Répartition des intensités'!$AR$25=\"x\",SUMIF(Q4:Q24,\">5,5\",P4:P24),SUMIF(Q4:Q24,\">6,5\",P4:P24))","v":0},{"$f":"IF('Répartition des intensités'!$AR$25=\"x\",SUMIF(T4:T24,\"<3,5\",S4:S24),SUMIF(T4:T24,\"<4,5\",S4:S24))","v":0},{"$f":"IF(T27=0,0,SUM((S25)-(S28+U28)))","v":0},{"$f":"IF('Répartition des intensités'!$AR$25=\"x\",SUMIF(T4:T24,\">5,5\",S4:S24),SUMIF(T4:T24,\">6,5\",S4:S24))","v":0},{"$f":"IF('Répartition des intensités'!$AR$25=\"x\",SUMIF(W4:W24,\"<3,5\",V4:V24),SUMIF(W4:W24,\"<4,5\",V4:V24))","v":0},{"$f":"IF(W27=0,0,SUM((V25)-(V28+X28)))","v":0},{"$f":"IF('Répartition des intensités'!$AR$25=\"x\",SUMIF(W4:W24,\">5,5\",V4:V24),SUMIF(W4:W24,\">6,5\",V4:V24))","v":0},{"$f":"IF('Répartition des intensités'!$AR$25=\"x\",SUMIF(Z4:Z24,\"<3,5\",Y4:Y24),SUMIF(Z4:Z24,\"<4,5\",Y4:Y24))","v":0},{"$f":"IF(Z27=0,0,SUM((Y25)-(Y28+AA28)))","v":0},{"$f":"IF('Répartition des intensités'!$AR$25=\"x\",SUMIF(Z4:Z24,\">5,5\",Y4:Y24),SUMIF(Z4:Z24,\">6,5\",Y4:Y24))","v":0},{"$f":"IF('Répartition des intensités'!$AR$25=\"x\",SUMIF(AC4:AC24,\"<3,5\",AB4:AB24),SUMIF(AC4:AC24,\"<4,5\",AB4:AB24))","v":0},{"$f":"IF(AC27=0,0,SUM((AB25)-(AB28+AD28)))","v":0},{"$f":"IF('Répartition des intensités'!$AR$25=\"x\",SUMIF(AC4:AC24,\">5,5\",AB4:AB24),SUMIF(AC4:AC24,\">6,5\",AB4:AB24))","v":0},{"$f":"IF('Répartition des intensités'!$AR$25=\"x\",SUMIF(AF4:AF24,\"<3,5\",AE4:AE24),SUMIF(AF4:AF24,\"<4,5\",AE4:AE24))","v":0},{"$f":"IF(AF27=0,0,SUM((AE25)-(AE28+AG28)))","v":0},{"$f":"IF('Répartition des intensités'!$AR$25=\"x\",SUMIF(AF4:AF24,\">5,5\",AE4:AE24),SUMIF(AF4:AF24,\">6,5\",AE4:AE24))","v":0}]
[null,null,null,"Comme au repos",null,null,null,0,null,"REG","Est-ce que j'ai l'impression d'avoir récupéré en me levant?"]
[null,null,null,"très facile",null,null,null,1]
[null,null,null,"facile",null,null,null,2,null,1,"… pas du tout récupéré",null,null,null,null,null,null,null,null,null,null,null,null,null,null,null,null,null,null,null,null,null,null,null,"Entrainements",null,null,null,"Rapport de santé"]
[null,null,null,null,null,null,null,3,null,2,"… un peu récupéré",null,null,null,null,null,null,null,null,null,null,null,null,null,null,null,null,null,null,null,null,null,null,null,"Jours d'entrainement",null,{"$f":"IF(SUM(AH4:AH24)=0,\"\",SUM(AH4:AH24))","v":""}]
[null,null,null,"Assez dur",null,null,null,4,null,3,"… récupéré",null,null,null,null,null,null,null,null,null,null,{"$f":"B4","v":"Lu"},{"$f":"AK4","v":0},null,null,null,null,null,null,null,null,null,null,null,"Entrainements",null,{"$f":"IF(AK32=\"\",\"\",SUM(M27:AG27))","v":""}]
[null,null,null,"dur",null,null,null,5,null,4,"…  en forme",null,null,null,null,null,null,null,null,null,null,{"$f":"B7","v":"Ma"},{"$f":"AK7","v":0},null,null,null,null,null,null,null,null,null,null,null,"Heures d'entrainement",null,{"$f":"IF(AK32=\"\",\"\",SUM(M25,P25,S25,Y25,AB25,V25,AE25)/60)","v":""},null,{"$f":"IF($AK$32=\"\",\"\",AK32-AM36-AM44-AM52)","v":""},"Aucune limitation",null,null,null,0]
[null,null,null,null,null,null,null,6,null,5,"… très en forme",null,null,null,null,null,null,null,null,null,null,{"$f":"B10","v":"Me"},{"$f":"AK10","v":0},null,null,null,null,null,null,null,null,null,null,null,"Charge de l'entrainement",null,{"$f":"IF(AK32=\"\",\"\",SUM(AK25))","v":""}]
[null,null,null,"très dur",null,null,null,7,null,null,null,null,null,null,null,null,null,null,null,null,null,{"$f":"B13","v":"Je"},{"$f":"AK13","v":0},null,null,null,null,null,null,null,null,null,null,null,"Monotonie",null,{"$f":"IF(AK27=0,0,(AVERAGE(AK4:AK24))/AK27)","v":0},null,{"$f":"SUM(AM37:AM42)","v":0},"Limitation pour cause de douleurs"]
[null,null,null,null,null,null,null,8,null,"Nombre de matchs",null,null,null,null,null,null,null,null,null,null,null,{"$f":"B16","v":"Ve"},{"$f":"AK16","v":0},null,null,null,null,null,null,null,null,null,null,null,"Efforts à l'entrainement",null,{"$f":"IF(AK32=\"\",\"\",AK35*AK36)","v":""},null,{"$f":"COUNTIF($H$4:$H$24,$AR37)","v":0},"Doigt",null,null,null,1]
[null,null,null,"extrèmement dur",null,null,null,9,null,null,null,null,null,null,null,null,null,null,null,null,null,{"$f":"B19","v":"Sa"},{"$f":"AK19","v":0},null,null,null,null,null,null,null,null,null,null,null,null,null,null,null,0,"Épaule",null,null,null,2]
[null,null,null,"Comme mon entrainement le plus dur",null,null,null,10,null,1,"… 3 sets et plus",null,null,null,null,null,null,null,null,null,null,{"$f":"B22","v":"Di"},{"$f":"AK22","v":0},null,null,null,null,null,null,null,null,null,null,null,"Compétition",null,null,null,0,"Dos",null,null,null,3]
[null,null,null,null,null,null,null,null,null,0.5,"… moins de 3 sets",null,null,null,null,null,null,null,null,null,null,null,null,null,null,null,null,null,null,null,null,null,null,null,"Matchs de volleyball",null,{"$f":"IF(AK32=\"\",\"\",SUM(AM4:AM24))","v":""},null,0,"Genou",null,null,null,4]
[null,null,null,null,null,null,null,null,null,null,null,null,null,null,null,null,null,null,null,null,null,null,null,null,null,null,null,null,null,null,null,null,null,null,"Sets de volleyball",null,{"$f":"IF(AK32=\"\",\"\",SUM(AN4:AN24))","v":""},null,0,"Cheville",null,null,null,5]
[null,null,null,null,null,null,null,null,null,"Sets joués",null,null,null,null,null,null,null,null,null,null,null,null,null,null,null,null,null,null,null,null,null,null,null,null,"Matchs de beach volley",null,{"$f":"IF(AK35=\"\",\"\",SUM(AO4:AO24))","v":""},null,0,"Autre",null,null,null,6]
[null,null,null,null,null,null,null,null,null,1,"… depuis le début et durant tout le set",null,null,null,null,null,null,null,null,null,null,null,null,null,null,null,null,null,null,null,null,null,null,null,"Sets de beach volley",null,{"$f":"IF(AK35=\"\",\"\",SUM(AP4:AP24))","v":""}]
[null,null,null,null,null,null,null,null,null,0.5,"… entré/sorti en cours, beaucoup joué",null,null,null,null,null,null,null,null,null,null,null,null,null,null,null,null,null,null,null,null,null,null,null,null,null,null,null,{"$f":"SUM(AM45:AM50)","v":0},"Absence pour cause de blessure"]
[null,null,null,null,null,null,null,null,null,0.1,"… entré/sorti en cours, peu joué",null,null,null,null,null,null,null,null,null,null,null,null,null,null,null,null,null,null,null,null,null,null,null,"Satisfaction",null,null,null,{"$f":"COUNTIF($H$4:$H$24,$AR45)","v":0},"Doigt",null,null,null,11]
[null,null,null,null,null,null,null,null,null,null,null,null,null,null,null,null,null,null,null,null,null,null,null,null,null,null,null,null,null,null,null,null,null,null,"Satisfaction de l'entrainement/match J",null,{"$f":"IF(AK32=\"\",\"\",SUM(AQ4:AQ24)/AK32)","v":""},null,0,"Épaule",null,null,null,12]
[null,null,null,null,null,null,null,null,null,"J","Es-tu content de la qualité de ton",null,null,null,null,null,null,null,null,null,null,null,null,null,null,null,null,null,null,null,null,null,null,null,null,null,null,null,0,"Dos",null,null,null,13]
[null,null,null,null,null,null,null,null,null,null,"entrainement/compétition?",null,null,null,null,null,null,null,null,null,null,null,null,null,null,null,null,null,null,null,null,null,null,null,"Santé",null,null,null,0,"Genou",null,null,null,14]
[null,null,null,null,null,null,null,null,null,1,"… pas content",null,null,null,null,null,null,null,null,null,null,null,null,null,null,null,null,null,null,null,null,null,null,null,"Limitation pour cause de douleurs",null,{"$f":"AM36","v":0},null,0,"Cheville",null,null,null,15]
[null,null,null,null,null,null,null,null,null,2,"… plutôt pas content",null,null,null,null,null,null,null,null,null,null,null,null,null,null,null,null,null,null,null,null,null,null,null,"Absence pour cause de blessure",null,{"$f":"AM44","v":0},null,0,"Autre",null,null,null,16]
[null,null,null,null,null,null,null,null,null,3,"… moyen",null,null,null,null,null,null,null,null,null,null,null,null,null,null,null,null,null,null,null,null,null,null,null,"Absence pour cause de maladie",null,{"$f":"AM52","v":0}]
[null,null,null,null,null,null,null,null,null,4,"… content",null,null,null,null,null,null,null,null,null,null,null,null,null,null,null,null,null,null,null,null,null,null,null,null,null,null,null,{"$f":"SUM(AM53:AM59)","v":0},"Absence pour cause de maladie"]
[null,null,null,null,null,null,null,null,null,5,"… très content!",null,null,null,null,null,null,null,null,null,null,null,null,null,null,null,null,null,null,null,null,null,null,null,null,null,null,null,{"$f":"COUNTIF($H$4:$H$24,$AR53)","v":0},"Maladie",null,null,null,21]
[]
[]
[]
[]
[]
[]
[]
[]
[]
[]
[]
[]
[]
[]
[]
[]
[]
[]
[]
[]
[]
[]
[]
[]
[]
[]
[]
[]
[]
[]
[]
[]
[]
[]
[]
[]
[]
[]
[]
[]
[]
[]
[]
[]
[]
[]
[]
[]
[]
[]
[]
[]
[]
[]
[]
[]
[]
[]
[]
[]
[]
[]
[]
[]
[]
[]
[]
[]
[]
[]
[]
[]
[]
[]
[]
[]
[]
[]
[]
[]
[null,null,null,null,null,null,null,null,null,null,null,null,null,null,null,null,null,null,null,null,null,null,null,null,{"$f":"Z134-1","v":14},15,16,17,18,19,20,{"$f":"D1","v":21}]
[]
[]
[]
[]
[]
[]
[]
[]
[]
[]
[]
[]
[]
[]
[]
[]
[]
[]
[]
[]
[null,null,null,null,null,null,null,null,null,null,null,null,null,null,null,null,null,null,null,null,null,null,null,null,null,null,null,null,null,null,null,null,{"$f":"AF134+1","v":22}]

{"sheet":"22","index":50,"n_rows":155,"n_cols":45,"rows_kept":155,"cut":false,"hidden":false,"merged":[[9,4,11,4],[12,4,14,4],[3,7,5,7],[15,7,17,7],[27,3,27,6],[15,5,17,5],[18,5,20,5],[28,10,29,10],[15,9,15,10],[1,43,2,43],[30,34,30,36],[30,38,31,43],[0,5,0,6],[1,44,2,44],[29,3,29,6],[30,3,30,6],[35,3,35,6],[36,3,36,6],[18,36,20,36],[21,36,23,36],[1,40,2,40],[1,21,1,23],[1,41,2,41],[15,36,17,36],[1,38,2,38],[1,36,2,36],[1,34,2,34],[1,30,1,32],[1,27,1,29],[1,24,1,26],[9,36,11,36],[12,36,14,36],[1,39,2,39],[28,9,29,9],[28,3,28,6],[37,3,37,6],[38,3,38,6],[31,3,31,6],[32,3,32,6],[33,3,33,6],[34,3,34,6],[46,9,47,9],[3,1,5,1],[6,36,8,36],[3,3,5,3],[3,6,5,6],[3,9,3,10],[4,9,4,10],[5,9,5,10],[3,36,5,36],[6,1,8,1],[6,7,8,7],[6,3,8,3],[6,6,8,6],[6,9,6,10],[8,9,8,10],[9,1,11,1],[9,3,11,3],[9,6,11,6],[9,9,9,10],[1,12,1,14],[18,1,20,1],[18,3,20,3],[18,6,20,6],[1,18,1,20],[11,9,11,10],[7,9,7,10],[10,9,10,10],[9,7,11,7],[14,9,14,10],[12,7,14,7],[3,5,5,5],[6,5,8,5],[9,5,11,5],[12,5,14,5],[1,1,2,1],[1,15,1,17],[3,4,5,4],[6,4,8,4],[1,9,2,10],[12,1,14,1],[12,3,14,3],[12,6,14,6],[12,9,12,10],[13,9,13,10],[18,9,18,10],[19,9,19,10],[20,9,20,10],[18,7,20,7],[18,4,20,4],[15,1,17,1],[15,3,17,3],[15,6,17,6],[15,4,17,4],[16,9,16,10],[17,9,17,10],[38,34,38,36],[44,34,44,36],[47,34,47,36],[21,1,23,1],[21,3,23,3],[21,5,23,5],[21,6,23,6],[21,9,21,10],[23,9,23,10],[21,7,23,7],[21,4,23,4],[22,9,22,10],[29,21,29,26],[36,9,37,9]]}
[null,null,"Woche",{"$f":"INT(MOD(INT((F1-2)/7)+0.6,52+5/28))+1","v":22},{"$f":"D1+1000","v":1022},{"$f":"'21'!F1+7","v":"2019-05-27"},null,"-",null,{"$f":"F1+6","v":"2019-06-02"},null,null,null,null,null,null,null,null,null,null,null,null,null,null,null,null,null,null,null,null,null,null,{"$f":"'Aperçu de la charge'!D2","v":"Prénom Nom"},null,{"$f":"'Aperçu de la charge'!N2","v":"2018/2019"}]
[null,"Jour",null,"Poids","REG","qualité sommeil","durée sommeil","Santé",null,"Description de l'entrainement",null,null,"Club - VB",null,null,"TS/ Nati - VB",null,null,"Club - BVB",null,null,"TS/ Nati - BVB",null,null,"Force - fitness",null,null,"Compet. - VB",null,null,"Compet. - BVB",null,null,null,"Réflexion",null,"Charge/\njour",null,"matchs VB","Sets VB","Matchs BVB","Sets BVB","J","Autre\n (Rég, mentale)","Mental- oder Sonstiges Training"]
[null,null,null,"[kg]","[1 - 5]","[1-5]","[Std]","Nr.",null,null,null,null,"Durée","RPE","Charge","Durée","RPE","Charge","Durée","RPE","Charge","Durée","RPE","Charge","Durée","RPE","Charge","Durée","RPE","Charge","Durée","RPE","Charge",null,null,null,null,null,null,null,null,null,"[1-5]"]
[null,"Lu",null,0,0,0,0,0,null,null,null,null,null,null,{"$f":"M4*N4","v":0},null,null,{"$f":"P4*Q4","v":0},null,null,{"$f":"S4*T4","v":0},null,null,{"$f":"V4*W4","v":0},null,null,{"$f":"Y4*Z4","v":0},null,null,{"$f":"AB4*AC4","v":0},null,null,{"$f":"AE4*AF4","v":0},{"$f":"IF(SUM(M4:AG6)>0,1,0)","v":"00:00:00"},null,null,{"$f":"SUM(O4:O6,R4:R6,U4:U6,X4:X6,AA4:AA6,AD4:AD6,AG4:AG6)","v":0}]
[null,null,null,null,null,null,null,null,null,null,null,null,null,null,{"$f":"M5*N5","v":0},null,null,{"$f":"P5*Q5","v":0},null,null,{"$f":"S5*T5","v":0},null,null,{"$f":"V5*W5","v":0},null,null,{"$f":"Y5*Z5","v":0},null,null,{"$f":"AB5*AC5","v":0},null,null,{"$f":"AE5*AF5","v":0}]
[null,null,null,null,null,null,null,null,null,null,null,null,null,null,0,null,null,0,null,null,0,null,null,0,null,null,0,null,null,0,null,null,0]
[null,"Ma",null,0,0,0,0,0,null,null,null,null,null,null,0,null,null,{"$f":"P7*Q7","v":0},null,null,0,null,null,0,null,null,0,null,null,0,null,null,0,{"$f":"IF(SUM(M7:AG9)>0,1,0)","v":"00:00:00"},null,null,{"$f":"SUM(O7:O9,R7:R9,U7:U9,X7:X9,AA7:AA9,AD7:AD9,AG7:AG9)","v":0}]
[null,null,null,null,null,null,null,null,null,null,null,null,null,null,0,null,null,0,null,null,0,null,null,0,null,null,0,null,null,0,null,null,0]
[null,null,null,null,null,null,null,null,null,null,null,null,null,null,0,null,null,0,null,null,0,null,null,0,null,null,0,null,null,0,null,null,0]
[null,"Me",null,0,0,0,0,0,null,null,null,null,null,null,0,null,null,{"$f":"P10*Q10","v":0},null,null,0,null,null,0,null,null,0,null,null,0,null,null,0,{"$f":"IF(SUM(M10:AG12)>0,1,0)","v":"00:00:00"},null,null,{"$f":"SUM(O10:O12,R10:R12,U10:U12,X10:X12,AA10:AA12,AD10:AD12,AG10:AG12)","v":0}]
[null,null,null,null,null,null,null,null,null,null,null,null,null,null,0,null,null,0,null,null,0,null,null,0,null,null,0,null,null,0,null,null,0]
[null,null,null,null,null,null,null,null,null,null,null,null,null,null,0,null,null,0,null,null,0,null,null,0,null,null,0,null,null,0,null,null,0]
[null,"Je",null,0,0,0,0,0,null,null,null,null,null,null,0,null,null,{"$f":"P13*Q13","v":0},null,null,0,null,null,0,null,null,0,null,null,0,null,null,0,{"$f":"IF(SUM(M13:AG15)>0,1,0)","v":"00:00:00"},null,null,{"$f":"SUM(O13:O15,R13:R15,U13:U15,X13:X15,AA13:AA15,AD13:AD15,AG13:AG15)","v":0}]
[null,null,null,null,null,null,null,null,null,null,null,null,null,null,0,null,null,0,null,null,0,null,null,0,null,null,0,null,null,0,null,null,0]
[null,null,null,null,null,null,null,null,null,null,null,null,null,null,0,null,null,0,null,null,0,null,null,0,null,null,0,null,null,0,null,null,0]
[null,"Ve",null,0,0,0,0,0,null,null,null,null,null,null,0,null,null,{"$f":"P16*Q16","v":0},null,null,0,null,null,0,null,null,0,null,null,0,null,null,0,{"$f":"IF(SUM(M16:AG18)>0,1,0)","v":"00:00:00"},null,null,{"$f":"SUM(O16:O18,R16:R18,U16:U18,X16:X18,AA16:AA18,AD16:AD18,AG16:AG18)","v":0}]
[null,null,null,null,null,null,null,null,null,null,null,null,null,null,0,null,null,0,null,null,0,null,null,0,null,null,0,null,null,0,null,null,0]
[null,null,null,null,null,null,null,null,null,null,null,null,null,null,0,null,null,0,null,null,0,null,null,0,null,null,0,null,null,0,null,null,0]
[null,"Sa",null,0,0,0,0,0,null,null,null,null,null,null,{"$f":"M19*N19","v":0},null,null,{"$f":"P19*Q19","v":0},null,null,{"$f":"S19*T19","v":0},null,null,{"$f":"V19*W19","v":0},null,null,{"$f":"Y19*Z19","v":0},null,null,{"$f":"AB19*AC19","v":0},null,null,{"$f":"AE19*AF19","v":0},{"$f":"IF(SUM(M19:AG21)>0,1,0)","v":"00:00:00"},null,null,{"$f":"SUM(O19:O21,R19:R21,U19:U21,X19:X21,AA19:AA21,AD19:AD21,AG19:AG21)","v":0}]
[null,null,null,null,null,null,null,null,null,null,null,null,null,null,{"$f":"M20*N20","v":0},null,null,0,null,null,{"$f":"S20*T20","v":0},null,null,{"$f":"V20*W20","v":0},null,null,{"$f":"Y20*Z20","v":0},null,null,{"$f":"AB20*AC20","v":0},null,null,{"$f":"AE20*AF20","v":0}]
[null,null,null,null,null,null,null,null,null,null,null,null,null,null,0,null,null,0,null,null,0,null,null,0,null,null,0,null,null,0,null,null,0]
[null,"Di",null,0,0,0,0,0,null,null,null,null,null,null,0,null,null,{"$f":"P22*Q22","v":0},null,null,0,null,null,0,null,null,0,null,null,0,null,null,0,{"$f":"IF(SUM(M22:AG24)>0,1,0)","v":"00:00:00"},null,null,{"$f":"SUM(O22:O24,R22:R24,U22:U24,X22:X24,AA22:AA24,AD22:AD24,AG22:AG24)","v":0}]
[null,null,null,null,null,null,null,null,null,null,null,null,null,null,0,null,null,0,null,null,0,null,null,0,null,null,0,null,null,0,null,null,0]
[null,null,null,null,null,null,null,null,null,null,null,null,null,null,0,null,null,0,null,null,0,null,null,0,null,null,0,null,null,0,null,null,0]
[null,null,null,null,null,null,null,null,null,null,"Total",null,{"$f":"SUM(M4:M24)","v":0},null,{"$f":"SUM(O4:O24)","v":0},{"$f":"SUM(P4:P24)","v":0},null,{"$f":"SUM(R4:R24)","v":0},{"$f":"SUM(S4:S24)","v":0},null,{"$f":"SUM(U4:U24)","v":0},{"$f":"SUM(V4:V24)","v":0},null,{"$f":"SUM(X4:X24)","v":0},{"$f":"SUM(Y4:Y24)","v":0},null,{"$f":"SUM(AA4:AA24)","v":0},{"$f":"SUM(AB4:AB24)","v":0},null,{"$f":"SUM(AD4:AD24)","v":0},{"$f":"SUM(AE4:AE24)","v":0},null,{"$f":"SUM(AG4:AG24)","v":0},null,"Charge totale",null,{"$f":"SUM(AK4:AK24)","v":0}]
[null,"avg.",null,{"$f":"IF(COUNTA(D4:D24)=0,\"\",AVERAGE(D4:D24))","v":0},{"$f":"IF(COUNTA(E4:E24)=0,\"\",AVERAGE(E4:E24))","v":0},{"$f":"IF(COUNTA(F4:F24)=0,\"\",AVERAGE(F4:F24))","v":0},{"$f":"IF(COUNTA(G4:G24)=0,\"\",AVERAGE(G4:G24))","v":0},{"$f":"IF(COUNTA(H4:H24)=0,\"\",COUNTIF(H4:H24,\"x\"))","v":0},null,null,"Zone",null,1,2,3,1,2,3,1,2,3,1,2,3,1,2,3,1,2,3,1,2,3,null,"Moyenne",null,{"$f":"AVERAGE(AK4:AK24)","v":0}]
[null,null,null,null,null,{"$f":"IF(COUNTA(F4:F24)=0,\"\",VAR(F4:F24))","v":0},{"$f":"IF(COUNTA(G4:G24)=0,\"\",STDEV(G4:G24))","v":0},"Divergence - durée du sommeil",null,null,"Unité par zone (RPE) ",null,{"$f":"IF('Répartition des intensités'!$AR$25=\"x\",COUNTIF(N4:N24,\"<3,5\"),COUNTIF(N4:N24,\"<4,5\"))","v":0},{"$f":"COUNT(N4:N24)-(M27+O27)","v":0},{"$f":"IF('Répartition des intensités'!$AR$25=\"x\",COUNTIF(N4:N24,\">5,5\"),COUNTIF(N4:N24,\">6,5\"))","v":0},{"$f":"IF('Répartition des intensités'!$AR$25=\"x\",COUNTIF(Q4:Q24,\"<3,5\"),COUNTIF(Q4:Q24,\"<4,5\"))","v":0},{"$f":"COUNT(Q4:Q24)-(P27+R27)","v":0},{"$f":"IF('Répartition des intensités'!$AR$25=\"x\",COUNTIF(Q4:Q24,\">5,5\"),COUNTIF(Q4:Q24,\">6,5\"))","v":0},{"$f":"IF('Répartition des intensités'!$AR$25=\"x\",COUNTIF(T4:T24,\"<3,5\"),COUNTIF(T4:T24,\"<4,5\"))","v":0},{"$f":"COUNT(T4:T24)-(S27+U27)","v":0},{"$f":"IF('Répartition des intensités'!$AR$25=\"x\",COUNTIF(T4:T24,\">5,5\"),COUNTIF(T4:T24,\">6,5\"))","v":0},{"$f":"IF('Répartition des intensités'!$AR$25=\"x\",COUNTIF(W4:W24,\"<3,5\"),COUNTIF(W4:W24,\"<4,5\"))","v":0},{"$f":"COUNT(W4:W24)-(V27+X27)","v":0},{"$f":"IF('Répartition des intensités'!$AR$25=\"x\",COUNTIF(W4:W24,\">5,5\"),COUNTIF(W4:W24,\">6,5\"))","v":0},{"$f":"IF('Répartition des intensités'!$AR$25=\"x\",COUNTIF(Z4:Z24,\"<3,5\"),COUNTIF(Z4:Z24,\"<4,5\"))","v":0},{"$f":"COUNT(Z4:Z24)-(Y27+AA27)","v":0},{"$f":"IF('Répartition des intensités'!$AR$25=\"x\",COUNTIF(Z4:Z24,\">5,5\"),COUNTIF(Z4:Z24,\">6,5\"))","v":0},{"$f":"IF('Répartition des intensités'!$AR$25=\"x\",COUNTIF(AC4:AC24,\"<3,5\"),COUNTIF(AC4:AC24,\"<4,5\"))","v":0},{"$f":"COUNT(AC4:AC24)-(AB27+AD27)","v":0},{"$f":"IF('Répartition des intensités'!$AR$25=\"x\",COUNTIF(AC4:AC24,\">5,5\"),COUNTIF(AC4:AC24,\">6,5\"))","v":0},{"$f":"IF('Répartition des intensités'!$AR$25=\"x\",COUNTIF(AF4:AF24,\"<3,5\"),COUNTIF(AF4:AF24,\"<4,5\"))","v":0},{"$f":"COUNT(AF4:AF24)-(AE27+AG27)","v":0},{"$f":"IF('Répartition des intensités'!$AR$25=\"x\",COUNTIF(AF4:AF24,\">5,5\"),COUNTIF(AF4:AF24,\">6,5\"))","v":0},null,"Divergence",null,{"$f":"STDEVP(AK4:AK24)","v":0}]
[null,null,null,"échelle de Foster",null,null,null,"RPE",null,null,"Temps par zone (RPE)",null,{"$f":"IF('Répartition des intensités'!$AR$25=\"x\",SUMIF(N4:N24,\"<3,5\",M4:M24),SUMIF(N4:N24,\"<4,5\",M4:M24))","v":0},{"$f":"IF(N27=0,0,SUM((M25)-(M28+O28)))","v":0},{"$f":"IF('Répartition des intensités'!$AR$25=\"x\",SUMIF(N4:N24,\">5,5\",M4:M24),SUMIF(N4:N24,\">6,5\",M4:M24))","v":0},{"$f":"IF('Répartition des intensités'!$AR$25=\"x\",SUMIF(Q4:Q24,\"<3,5\",P4:P24),SUMIF(Q4:Q24,\"<4,5\",P4:P24))","v":0},{"$f":"IF(Q27=0,0,SUM((P25)-(P28+R28)))","v":0},{"$f":"IF('Répartition des intensités'!$AR$25=\"x\",SUMIF(Q4:Q24,\">5,5\",P4:P24),SUMIF(Q4:Q24,\">6,5\",P4:P24))","v":0},{"$f":"IF('Répartition des intensités'!$AR$25=\"x\",SUMIF(T4:T24,\"<3,5\",S4:S24),SUMIF(T4:T24,\"<4,5\",S4:S24))","v":0},{"$f":"IF(T27=0,0,SUM((S25)-(S28+U28)))","v":0},{"$f":"IF('Répartition des intensités'!$AR$25=\"x\",SUMIF(T4:T24,\">5,5\",S4:S24),SUMIF(T4:T24,\">6,5\",S4:S24))","v":0},{"$f":"IF('Répartition des intensités'!$AR$25=\"x\",SUMIF(W4:W24,\"<3,5\",V4:V24),SUMIF(W4:W24,\"<4,5\",V4:V24))","v":0},{"$f":"IF(W27=0,0,SUM((V25)-(V28+X28)))","v":0},{"$f":"IF('Répartition des intensités'!$AR$25=\"x\",SUMIF(W4:W24,\">5,5\",V4:V24),SUMIF(W4:W24,\">6,5\",V4:V24))","v":0},{"$f":"IF('Répartition des intensités'!$AR$25=\"x\",SUMIF(Z4:Z24,\"<3,5\",Y4:Y24),SUMIF(Z4:Z24,\"<4,5\",Y4:Y24))","v":0},{"$f":"IF(Z27=0,0,SUM((Y25)-(Y28+AA28)))","v":0},{"$f":"IF('Répartition des intensités'!$AR$25=\"x\",SUMIF(Z4:Z24,\">5,5\",Y4:Y24),SUMIF(Z4:Z24,\">6,5\",Y4:Y24))","v":0},{"$f":"IF('Répartition des intensités'!$AR$25=\"x\",SUMIF(AC4:AC24,\"<3,5\",AB4:AB24),SUMIF(AC4:AC24,\"<4,5\",AB4:AB24))","v":0},{"$f":"IF(AC27=0,0,SUM((AB25)-(AB28+AD28)))","v":0},{"$f":"IF('Répartition des intensités'!$AR$25=\"x\",SUMIF(AC4:AC24,\">5,5\",AB4:AB24),SUMIF(AC4:AC24,\">6,5\",AB4:AB24))","v":0},{"$f":"IF('Répartition des intensités'!$AR$25=\"x\",SUMIF(AF4:AF24,\"<3,5\",AE4:AE24),SUMIF(AF4:AF24,\"<4,5\",AE4:AE24))","v":0},{"$f":"IF(AF27=0,0,SUM((AE25)-(AE28+AG28)))","v":0},{"$f":"IF('Répartition des intensités'!$AR$25=\"x\",SUMIF(AF4:AF24,\">5,5\",AE4:AE24),SUMIF(AF4:AF24,\">6,5\",AE4:AE24))","v":0}]
[null,null,null,"Comme au repos",null,null,null,0,null,"REG","Est-ce que j'ai l'impression d'avoir récupéré en me levant?"]
[null,null,null,"très facile",null,null,null,1]
[null,null,null,"facile",null,null,null,2,null,1,"… pas du tout récupéré",null,null,null,null,null,null,null,null,null,null,null,null,null,null,null,null,null,null,null,null,null,null,null,"Entrainements",null,null,null,"Rapport de santé"]
[null,null,null,null,null,null,null,3,null,2,"… un peu récupéré",null,null,null,null,null,null,null,null,null,null,null,null,null,null,null,null,null,null,null,null,null,null,null,"Jours d'entrainement",null,{"$f":"IF(SUM(AH4:AH24)=0,\"\",SUM(AH4:AH24))","v":""}]
[null,null,null,"Assez dur",null,null,null,4,null,3,"… récupéré",null,null,null,null,null,null,null,null,null,null,{"$f":"B4","v":"Lu"},{"$f":"AK4","v":0},null,null,null,null,null,null,null,null,null,null,null,"Entrainements",null,{"$f":"IF(AK32=\"\",\"\",SUM(M27:AG27))","v":""}]
[null,null,null,"dur",null,null,null,5,null,4,"…  en forme",null,null,null,null,null,null,null,null,null,null,{"$f":"B7","v":"Ma"},{"$f":"AK7","v":0},null,null,null,null,null,null,null,null,null,null,null,"Heures d'entrainement",null,{"$f":"IF(AK32=\"\",\"\",SUM(M25,P25,S25,Y25,AB25,V25,AE25)/60)","v":""},null,{"$f":"IF($AK$32=\"\",\"\",AK32-AM36-AM44-AM52)","v":""},"Aucune limitation",null,null,null,0]
[null,null,null,null,null,null,null,6,null,5,"… très en forme",null,null,null,null,null,null,null,null,null,null,{"$f":"B10","v":"Me"},{"$f":"AK10","v":0},null,null,null,null,null,null,null,null,null,null,null,"Charge de l'entrainement",null,{"$f":"IF(AK32=\"\",\"\",SUM(AK25))","v":""}]
[null,null,null,"très dur",null,null,null,7,null,null,null,null,null,null,null,null,null,null,null,null,null,{"$f":"B13","v":"Je"},{"$f":"AK13","v":0},null,null,null,null,null,null,null,null,null,null,null,"Monotonie",null,{"$f":"IF(AK27=0,0,(AVERAGE(AK4:AK24))/AK27)","v":0},null,{"$f":"SUM(AM37:AM42)","v":0},"Limitation pour cause de douleurs"]
[null,null,null,null,null,null,null,8,null,"Nombre de matchs",null,null,null,null,null,null,null,null,null,null,null,{"$f":"B16","v":"Ve"},{"$f":"AK16","v":0},null,null,null,null,null,null,null,null,null,null,null,"Efforts à l'entrainement",null,{"$f":"IF(AK32=\"\",\"\",AK35*AK36)","v":""},null,{"$f":"COUNTIF($H$4:$H$24,$AR37)","v":0},"Doigt",null,null,null,1]
[null,null,null,"extrèmement dur",null,null,null,9,null,null,null,null,null,null,null,null,null,null,null,null,null,{"$f":"B19","v":"Sa"},{"$f":"AK19","v":0},null,null,null,null,null,null,null,null,null,null,null,null,null,null,null,0,"Épaule",null,null,null,2]
[null,null,null,"Comme mon entrainement le plus dur",null,null,null,10,null,1,"… 3 sets et plus",null,null,null,null,null,null,null,null,null,null,{"$f":"B22","v":"Di"},{"$f":"AK22","v":0},null,null,null,null,null,null,null,null,null,null,null,"Compétition",null,null,null,0,"Dos",null,null,null,3]
[null,null,null,null,null,null,null,null,null,0.5,"… moins de 3 sets",null,null,null,null,null,null,null,null,null,null,null,null,null,null,null,null,null,null,null,null,null,null,null,"Matchs de volleyball",null,{"$f":"IF(AK32=\"\",\"\",SUM(AM4:AM24))","v":""},null,0,"Genou",null,null,null,4]
[null,null,null,null,null,null,null,null,null,null,null,null,null,null,null,null,null,null,null,null,null,null,null,null,null,null,null,null,null,null,null,null,null,null,"Sets de volleyball",null,{"$f":"IF(AK32=\"\",\"\",SUM(AN4:AN24))","v":""},null,0,"Cheville",null,null,null,5]
[null,null,null,null,null,null,null,null,null,"Sets joués",null,null,null,null,null,null,null,null,null,null,null,null,null,null,null,null,null,null,null,null,null,null,null,null,"Matchs de beach volley",null,{"$f":"IF(AK35=\"\",\"\",SUM(AO4:AO24))","v":""},null,0,"Autre",null,null,null,6]
[null,null,null,null,null,null,null,null,null,1,"… depuis le début et durant tout le set",null,null,null,null,null,null,null,null,null,null,null,null,null,null,null,null,null,null,null,null,null,null,null,"Sets de beach volley",null,{"$f":"IF(AK35=\"\",\"\",SUM(AP4:AP24))","v":""}]
[null,null,null,null,null,null,null,null,null,0.5,"… entré/sorti en cours, beaucoup joué",null,null,null,null,null,null,null,null,null,null,null,null,null,null,null,null,null,null,null,null,null,null,null,null,null,null,null,{"$f":"SUM(AM45:AM50)","v":0},"Absence pour cause de blessure"]
[null,null,null,null,null,null,null,null,null,0.1,"… entré/sorti en cours, peu joué",null,null,null,null,null,null,null,null,null,null,null,null,null,null,null,null,null,null,null,null,null,null,null,"Satisfaction",null,null,null,{"$f":"COUNTIF($H$4:$H$24,$AR45)","v":0},"Doigt",null,null,null,11]
[null,null,null,null,null,null,null,null,null,null,null,null,null,null,null,null,null,null,null,null,null,null,null,null,null,null,null,null,null,null,null,null,null,null,"Satisfaction de l'entrainement/match J",null,{"$f":"IF(AK32=\"\",\"\",SUM(AQ4:AQ24)/AK32)","v":""},null,0,"Épaule",null,null,null,12]
[null,null,null,null,null,null,null,null,null,"J","Es-tu content de la qualité de ton",null,null,null,null,null,null,null,null,null,null,null,null,null,null,null,null,null,null,null,null,null,null,null,null,null,null,null,0,"Dos",null,null,null,13]
[null,null,null,null,null,null,null,null,null,null,"entrainement/compétition?",null,null,null,null,null,null,null,null,null,null,null,null,null,null,null,null,null,null,null,null,null,null,null,"Santé",null,null,null,0,"Genou",null,null,null,14]
[null,null,null,null,null,null,null,null,null,1,"… pas content",null,null,null,null,null,null,null,null,null,null,null,null,null,null,null,null,null,null,null,null,null,null,null,"Limitation pour cause de douleurs",null,{"$f":"AM36","v":0},null,0,"Cheville",null,null,null,15]
[null,null,null,null,null,null,null,null,null,2,"… plutôt pas content",null,null,null,null,null,null,null,null,null,null,null,null,null,null,null,null,null,null,null,null,null,null,null,"Absence pour cause de blessure",null,{"$f":"AM44","v":0},null,0,"Autre",null,null,null,16]
[null,null,null,null,null,null,null,null,null,3,"… moyen",null,null,null,null,null,null,null,null,null,null,null,null,null,null,null,null,null,null,null,null,null,null,null,"Absence pour cause de maladie",null,{"$f":"AM52","v":0}]
[null,null,null,null,null,null,null,null,null,4,"… content",null,null,null,null,null,null,null,null,null,null,null,null,null,null,null,null,null,null,null,null,null,null,null,null,null,null,null,{"$f":"SUM(AM53:AM59)","v":0},"Absence pour cause de maladie"]
[null,null,null,null,null,null,null,null,null,5,"… très content!",null,null,null,null,null,null,null,null,null,null,null,null,null,null,null,null,null,null,null,null,null,null,null,null,null,null,null,{"$f":"COUNTIF($H$4:$H$24,$AR53)","v":0},"Maladie",null,null,null,21]
[]
[]
[]
[]
[]
[]
[]
[]
[]
[]
[]
[]
[]
[]
[]
[]
[]
[]
[]
[]
[]
[]
[]
[]
[]
[]
[]
[]
[]
[]
[]
[]
[]
[]
[]
[]
[]
[]
[]
[]
[]
[]
[]
[]
[]
[]
[]
[]
[]
[]
[]
[]
[]
[]
[]
[]
[]
[]
[]
[]
[]
[]
[]
[]
[]
[]
[]
[]
[]
[]
[]
[]
[]
[]
[]
[]
[]
[]
[]
[]
[null,null,null,null,null,null,null,null,null,null,null,null,null,null,null,null,null,null,null,null,null,null,null,null,{"$f":"Z134-1","v":15},16,17,18,19,20,21,{"$f":"D1","v":22}]
[]
[]
[]
[]
[]
[]
[]
[]
[]
[]
[]
[]
[]
[]
[]
[]
[]
[]
[]
[]
[null,null,null,null,null,null,null,null,null,null,null,null,null,null,null,null,null,null,null,null,null,null,null,null,null,null,null,null,null,null,null,null,{"$f":"AF134+1","v":23}]

{"sheet":"23","index":51,"n_rows":155,"n_cols":45,"rows_kept":155,"cut":false,"hidden":false,"merged":[[9,4,11,4],[12,4,14,4],[3,7,5,7],[15,7,17,7],[27,3,27,6],[15,5,17,5],[18,5,20,5],[28,10,29,10],[15,9,15,10],[1,43,2,43],[30,34,30,36],[30,38,31,43],[0,5,0,6],[1,44,2,44],[29,3,29,6],[30,3,30,6],[35,3,35,6],[36,3,36,6],[18,36,20,36],[21,36,23,36],[1,40,2,40],[1,21,1,23],[1,41,2,41],[15,36,17,36],[1,38,2,38],[1,36,2,36],[1,34,2,34],[1,30,1,32],[1,27,1,29],[1,24,1,26],[9,36,11,36],[12,36,14,36],[1,39,2,39],[28,9,29,9],[28,3,28,6],[37,3,37,6],[38,3,38,6],[31,3,31,6],[32,3,32,6],[33,3,33,6],[34,3,34,6],[46,9,47,9],[3,1,5,1],[6,36,8,36],[3,3,5,3],[3,6,5,6],[3,9,3,10],[4,9,4,10],[5,9,5,10],[3,36,5,36],[6,1,8,1],[6,7,8,7],[6,3,8,3],[6,6,8,6],[6,9,6,10],[8,9,8,10],[9,1,11,1],[9,3,11,3],[9,6,11,6],[9,9,9,10],[1,12,1,14],[18,1,20,1],[18,3,20,3],[18,6,20,6],[1,18,1,20],[11,9,11,10],[7,9,7,10],[10,9,10,10],[9,7,11,7],[14,9,14,10],[12,7,14,7],[3,5,5,5],[6,5,8,5],[9,5,11,5],[12,5,14,5],[1,1,2,1],[1,15,1,17],[3,4,5,4],[6,4,8,4],[1,9,2,10],[12,1,14,1],[12,3,14,3],[12,6,14,6],[12,9,12,10],[13,9,13,10],[18,9,18,10],[19,9,19,10],[20,9,20,10],[18,7,20,7],[18,4,20,4],[15,1,17,1],[15,3,17,3],[15,6,17,6],[15,4,17,4],[16,9,16,10],[17,9,17,10],[38,34,38,36],[44,34,44,36],[47,34,47,36],[21,1,23,1],[21,3,23,3],[21,5,23,5],[21,6,23,6],[21,9,21,10],[23,9,23,10],[21,7,23,7],[21,4,23,4],[22,9,22,10],[29,21,29,26],[36,9,37,9]]}
[null,null,"Woche",{"$f":"INT(MOD(INT((F1-2)/7)+0.6,52+5/28))+1","v":23},{"$f":"D1+1000","v":1023},{"$f":"'22'!F1+7","v":"2019-06-03"},null,"-",null,{"$f":"F1+6","v":"2019-06-09"},null,null,null,null,null,null,null,null,null,null,null,null,null,null,null,null,null,null,null,null,null,null,{"$f":"'Aperçu de la charge'!D2","v":"Prénom Nom"},null,{"$f":"'Aperçu de la charge'!N2","v":"2018/2019"}]
[null,"Jour",null,"Poids","REG","qualité sommeil","durée sommeil","Santé",null,"Description de l'entrainement",null,null,"Club - VB",null,null,"TS/ Nati - VB",null,null,"Club - BVB",null,null,"TS/ Nati - BVB",null,null,"Force - fitness",null,null,"Compet. - VB",null,null,"Compet. - BVB",null,null,null,"Réflexion",null,"Charge/\njour",null,"matchs VB","Sets VB","Matchs BVB","Sets BVB","J","Autre\n (Rég, mentale)","Mental- oder Sonstiges Training"]
[null,null,null,"[kg]","[1 - 5]","[1-5]","[Std]","Nr.",null,null,null,null,"Durée","RPE","Charge","Durée","RPE","Charge","Durée","RPE","Charge","Durée","RPE","Charge","Durée","RPE","Charge","Durée","RPE","Charge","Durée","RPE","Charge",null,null,null,null,null,null,null,null,null,"[1-5]"]
[null,"Lu",null,0,0,0,0,0,null,null,null,null,null,null,{"$f":"M4*N4","v":0},null,null,{"$f":"P4*Q4","v":0},null,null,{"$f":"S4*T4","v":0},null,null,{"$f":"V4*W4","v":0},null,null,{"$f":"Y4*Z4","v":0},null,null,{"$f":"AB4*AC4","v":0},null,null,{"$f":"AE4*AF4","v":0},{"$f":"IF(SUM(M4:AG6)>0,1,0)","v":"00:00:00"},null,null,{"$f":"SUM(O4:O6,R4:R6,U4:U6,X4:X6,AA4:AA6,AD4:AD6,AG4:AG6)","v":0}]
[null,null,null,null,null,null,null,null,null,null,null,null,null,null,{"$f":"M5*N5","v":0},null,null,{"$f":"P5*Q5","v":0},null,null,{"$f":"S5*T5","v":0},null,null,{"$f":"V5*W5","v":0},null,null,{"$f":"Y5*Z5","v":0},null,null,{"$f":"AB5*AC5","v":0},null,null,{"$f":"AE5*AF5","v":0}]
[null,null,null,null,null,null,null,null,null,null,null,null,null,null,0,null,null,0,null,null,0,null,null,0,null,null,0,null,null,0,null,null,0]
[null,"Ma",null,0,0,0,0,0,null,null,null,null,null,null,0,null,null,{"$f":"P7*Q7","v":0},null,null,0,null,null,0,null,null,0,null,null,0,null,null,0,{"$f":"IF(SUM(M7:AG9)>0,1,0)","v":"00:00:00"},null,null,{"$f":"SUM(O7:O9,R7:R9,U7:U9,X7:X9,AA7:AA9,AD7:AD9,AG7:AG9)","v":0}]
[null,null,null,null,null,null,null,null,null,null,null,null,null,null,0,null,null,0,null,null,0,null,null,0,null,null,0,null,null,0,null,null,0]
[null,null,null,null,null,null,null,null,null,null,null,null,null,null,0,null,null,0,null,null,0,null,null,0,null,null,0,null,null,0,null,null,0]
[null,"Me",null,0,0,0,0,0,null,null,null,null,null,null,0,null,null,{"$f":"P10*Q10","v":0},null,null,0,null,null,0,null,null,0,null,null,0,null,null,0,{"$f":"IF(SUM(M10:AG12)>0,1,0)","v":"00:00:00"},null,null,{"$f":"SUM(O10:O12,R10:R12,U10:U12,X10:X12,AA10:AA12,AD10:AD12,AG10:AG12)","v":0}]
[null,null,null,null,null,null,null,null,null,null,null,null,null,null,0,null,null,0,null,null,0,null,null,0,null,null,0,null,null,0,null,null,0]
[null,null,null,null,null,null,null,null,null,null,null,null,null,null,0,null,null,0,null,null,0,null,null,0,null,null,0,null,null,0,null,null,0]
[null,"Je",null,0,0,0,0,0,null,null,null,null,null,null,0,null,null,{"$f":"P13*Q13","v":0},null,null,0,null,null,0,null,null,0,null,null,0,null,null,0,{"$f":"IF(SUM(M13:AG15)>0,1,0)","v":"00:00:00"},null,null,{"$f":"SUM(O13:O15,R13:R15,U13:U15,X13:X15,AA13:AA15,AD13:AD15,AG13:AG15)","v":0}]
[null,null,null,null,null,null,null,null,null,null,null,null,null,null,0,null,null,0,null,null,0,null,null,0,null,null,0,null,null,0,null,null,0]
[null,null,null,null,null,null,null,null,null,null,null,null,null,null,0,null,null,0,null,null,0,null,null,0,null,null,0,null,null,0,null,null,0]
[null,"Ve",null,0,0,0,0,0,null,null,null,null,null,null,0,null,null,{"$f":"P16*Q16","v":0},null,null,0,null,null,0,null,null,0,null,null,0,null,null,0,{"$f":"IF(SUM(M16:AG18)>0,1,0)","v":"00:00:00"},null,null,{"$f":"SUM(O16:O18,R16:R18,U16:U18,X16:X18,AA16:AA18,AD16:AD18,AG16:AG18)","v":0}]
[null,null,null,null,null,null,null,null,null,null,null,null,null,null,0,null,null,0,null,null,0,null,null,0,null,null,0,null,null,0,null,null,0]
[null,null,null,null,null,null,null,null,null,null,null,null,null,null,0,null,null,0,null,null,0,null,null,0,null,null,0,null,null,0,null,null,0]
[null,"Sa",null,0,0,0,0,0,null,null,null,null,null,null,{"$f":"M19*N19","v":0},null,null,{"$f":"P19*Q19","v":0},null,null,{"$f":"S19*T19","v":0},null,null,{"$f":"V19*W19","v":0},null,null,{"$f":"Y19*Z19","v":0},null,null,{"$f":"AB19*AC19","v":0},null,null,{"$f":"AE19*AF19","v":0},{"$f":"IF(SUM(M19:AG21)>0,1,0)","v":"00:00:00"},null,null,{"$f":"SUM(O19:O21,R19:R21,U19:U21,X19:X21,AA19:AA21,AD19:AD21,AG19:AG21)","v":0}]
[null,null,null,null,null,null,null,null,null,null,null,null,null,null,{"$f":"M20*N20","v":0},null,null,0,null,null,{"$f":"S20*T20","v":0},null,null,{"$f":"V20*W20","v":0},null,null,{"$f":"Y20*Z20","v":0},null,null,{"$f":"AB20*AC20","v":0},null,null,{"$f":"AE20*AF20","v":0}]
[null,null,null,null,null,null,null,null,null,null,null,null,null,null,0,null,null,0,null,null,0,null,null,0,null,null,0,null,null,0,null,null,0]
[null,"Di",null,0,0,0,0,0,null,null,null,null,null,null,0,null,null,{"$f":"P22*Q22","v":0},null,null,0,null,null,0,null,null,0,null,null,0,null,null,0,{"$f":"IF(SUM(M22:AG24)>0,1,0)","v":"00:00:00"},null,null,{"$f":"SUM(O22:O24,R22:R24,U22:U24,X22:X24,AA22:AA24,AD22:AD24,AG22:AG24)","v":0}]
[null,null,null,null,null,null,null,null,null,null,null,null,null,null,0,null,null,0,null,null,0,null,null,0,null,null,0,null,null,0,null,null,0]
[null,null,null,null,null,null,null,null,null,null,null,null,null,null,0,null,null,0,null,null,0,null,null,0,null,null,0,null,null,0,null,null,0]
[null,null,null,null,null,null,null,null,null,null,"Total",null,{"$f":"SUM(M4:M24)","v":0},null,{"$f":"SUM(O4:O24)","v":0},{"$f":"SUM(P4:P24)","v":0},null,{"$f":"SUM(R4:R24)","v":0},{"$f":"SUM(S4:S24)","v":0},null,{"$f":"SUM(U4:U24)","v":0},{"$f":"SUM(V4:V24)","v":0},null,{"$f":"SUM(X4:X24)","v":0},{"$f":"SUM(Y4:Y24)","v":0},null,{"$f":"SUM(AA4:AA24)","v":0},{"$f":"SUM(AB4:AB24)","v":0},null,{"$f":"SUM(AD4:AD24)","v":0},{"$f":"SUM(AE4:AE24)","v":0},null,{"$f":"SUM(AG4:AG24)","v":0},null,"Charge totale",null,{"$f":"SUM(AK4:AK24)","v":0}]
[null,"avg.",null,{"$f":"IF(COUNTA(D4:D24)=0,\"\",AVERAGE(D4:D24))","v":0},{"$f":"IF(COUNTA(E4:E24)=0,\"\",AVERAGE(E4:E24))","v":0},{"$f":"IF(COUNTA(F4:F24)=0,\"\",AVERAGE(F4:F24))","v":0},{"$f":"IF(COUNTA(G4:G24)=0,\"\",AVERAGE(G4:G24))","v":0},{"$f":"IF(COUNTA(H4:H24)=0,\"\",COUNTIF(H4:H24,\"x\"))","v":0},null,null,"Zone",null,1,2,3,1,2,3,1,2,3,1,2,3,1,2,3,1,2,3,1,2,3,null,"Moyenne",null,{"$f":"AVERAGE(AK4:AK24)","v":0}]
[null,null,null,null,null,{"$f":"IF(COUNTA(F4:F24)=0,\"\",VAR(F4:F24))","v":0},{"$f":"IF(COUNTA(G4:G24)=0,\"\",STDEV(G4:G24))","v":0},"Divergence - durée du sommeil",null,null,"Unité par zone (RPE) ",null,{"$f":"IF('Répartition des intensités'!$AR$25=\"x\",COUNTIF(N4:N24,\"<3,5\"),COUNTIF(N4:N24,\"<4,5\"))","v":0},{"$f":"COUNT(N4:N24)-(M27+O27)","v":0},{"$f":"IF('Répartition des intensités'!$AR$25=\"x\",COUNTIF(N4:N24,\">5,5\"),COUNTIF(N4:N24,\">6,5\"))","v":0},{"$f":"IF('Répartition des intensités'!$AR$25=\"x\",COUNTIF(Q4:Q24,\"<3,5\"),COUNTIF(Q4:Q24,\"<4,5\"))","v":0},{"$f":"COUNT(Q4:Q24)-(P27+R27)","v":0},{"$f":"IF('Répartition des intensités'!$AR$25=\"x\",COUNTIF(Q4:Q24,\">5,5\"),COUNTIF(Q4:Q24,\">6,5\"))","v":0},{"$f":"IF('Répartition des intensités'!$AR$25=\"x\",COUNTIF(T4:T24,\"<3,5\"),COUNTIF(T4:T24,\"<4,5\"))","v":0},{"$f":"COUNT(T4:T24)-(S27+U27)","v":0},{"$f":"IF('Répartition des intensités'!$AR$25=\"x\",COUNTIF(T4:T24,\">5,5\"),COUNTIF(T4:T24,\">6,5\"))","v":0},{"$f":"IF('Répartition des intensités'!$AR$25=\"x\",COUNTIF(W4:W24,\"<3,5\"),COUNTIF(W4:W24,\"<4,5\"))","v":0},{"$f":"COUNT(W4:W24)-(V27+X27)","v":0},{"$f":"IF('Répartition des intensités'!$AR$25=\"x\",COUNTIF(W4:W24,\">5,5\"),COUNTIF(W4:W24,\">6,5\"))","v":0},{"$f":"IF('Répartition des intensités'!$AR$25=\"x\",COUNTIF(Z4:Z24,\"<3,5\"),COUNTIF(Z4:Z24,\"<4,5\"))","v":0},{"$f":"COUNT(Z4:Z24)-(Y27+AA27)","v":0},{"$f":"IF('Répartition des intensités'!$AR$25=\"x\",COUNTIF(Z4:Z24,\">5,5\"),COUNTIF(Z4:Z24,\">6,5\"))","v":0},{"$f":"IF('Répartition des intensités'!$AR$25=\"x\",COUNTIF(AC4:AC24,\"<3,5\"),COUNTIF(AC4:AC24,\"<4,5\"))","v":0},{"$f":"COUNT(AC4:AC24)-(AB27+AD27)","v":0},{"$f":"IF('Répartition des intensités'!$AR$25=\"x\",COUNTIF(AC4:AC24,\">5,5\"),COUNTIF(AC4:AC24,\">6,5\"))","v":0},{"$f":"IF('Répartition des intensités'!$AR$25=\"x\",COUNTIF(AF4:AF24,\"<3,5\"),COUNTIF(AF4:AF24,\"<4,5\"))","v":0},{"$f":"COUNT(AF4:AF24)-(AE27+AG27)","v":0},{"$f":"IF('Répartition des intensités'!$AR$25=\"x\",COUNTIF(AF4:AF24,\">5,5\"),COUNTIF(AF4:AF24,\">6,5\"))","v":0},null,"Divergence",null,{"$f":"STDEVP(AK4:AK24)","v":0}]
[null,null,null,"échelle de Foster",null,null,null,"RPE",null,null,"Temps par zone (RPE)",null,{"$f":"IF('Répartition des intensités'!$AR$25=\"x\",SUMIF(N4:N24,\"<3,5\",M4:M24),SUMIF(N4:N24,\"<4,5\",M4:M24))","v":0},{"$f":"IF(N27=0,0,SUM((M25)-(M28+O28)))","v":0},{"$f":"IF('Répartition des intensités'!$AR$25=\"x\",SUMIF(N4:N24,\">5,5\",M4:M24),SUMIF(N4:N24,\">6,5\",M4:M24))","v":0},{"$f":"IF('Répartition des intensités'!$AR$25=\"x\",SUMIF(Q4:Q24,\"<3,5\",P4:P24),SUMIF(Q4:Q24,\"<4,5\",P4:P24))","v":0},{"$f":"IF(Q27=0,0,SUM((P25)-(P28+R28)))","v":0},{"$f":"IF('Répartition des intensités'!$AR$25=\"x\",SUMIF(Q4:Q24,\">5,5\",P4:P24),SUMIF(Q4:Q24,\">6,5\",P4:P24))","v":0},{"$f":"IF('Répartition des intensités'!$AR$25=\"x\",SUMIF(T4:T24,\"<3,5\",S4:S24),SUMIF(T4:T24,\"<4,5\",S4:S24))","v":0},{"$f":"IF(T27=0,0,SUM((S25)-(S28+U28)))","v":0},{"$f":"IF('Répartition des intensités'!$AR$25=\"x\",SUMIF(T4:T24,\">5,5\",S4:S24),SUMIF(T4:T24,\">6,5\",S4:S24))","v":0},{"$f":"IF('Répartition des intensités'!$AR$25=\"x\",SUMIF(W4:W24,\"<3,5\",V4:V24),SUMIF(W4:W24,\"<4,5\",V4:V24))","v":0},{"$f":"IF(W27=0,0,SUM((V25)-(V28+X28)))","v":0},{"$f":"IF('Répartition des intensités'!$AR$25=\"x\",SUMIF(W4:W24,\">5,5\",V4:V24),SUMIF(W4:W24,\">6,5\",V4:V24))","v":0},{"$f":"IF('Répartition des intensités'!$AR$25=\"x\",SUMIF(Z4:Z24,\"<3,5\",Y4:Y24),SUMIF(Z4:Z24,\"<4,5\",Y4:Y24))","v":0},{"$f":"IF(Z27=0,0,SUM((Y25)-(Y28+AA28)))","v":0},{"$f":"IF('Répartition des intensités'!$AR$25=\"x\",SUMIF(Z4:Z24,\">5,5\",Y4:Y24),SUMIF(Z4:Z24,\">6,5\",Y4:Y24))","v":0},{"$f":"IF('Répartition des intensités'!$AR$25=\"x\",SUMIF(AC4:AC24,\"<3,5\",AB4:AB24),SUMIF(AC4:AC24,\"<4,5\",AB4:AB24))","v":0},{"$f":"IF(AC27=0,0,SUM((AB25)-(AB28+AD28)))","v":0},{"$f":"IF('Répartition des intensités'!$AR$25=\"x\",SUMIF(AC4:AC24,\">5,5\",AB4:AB24),SUMIF(AC4:AC24,\">6,5\",AB4:AB24))","v":0},{"$f":"IF('Répartition des intensités'!$AR$25=\"x\",SUMIF(AF4:AF24,\"<3,5\",AE4:AE24),SUMIF(AF4:AF24,\"<4,5\",AE4:AE24))","v":0},{"$f":"IF(AF27=0,0,SUM((AE25)-(AE28+AG28)))","v":0},{"$f":"IF('Répartition des intensités'!$AR$25=\"x\",SUMIF(AF4:AF24,\">5,5\",AE4:AE24),SUMIF(AF4:AF24,\">6,5\",AE4:AE24))","v":0}]
[null,null,null,"Comme au repos",null,null,null,0,null,"REG","Est-ce que j'ai l'impression d'avoir récupéré en me levant?"]
[null,null,null,"très facile",null,null,null,1]
[null,null,null,"facile",null,null,null,2,null,1,"… pas du tout récupéré",null,null,null,null,null,null,null,null,null,null,null,null,null,null,null,null,null,null,null,null,null,null,null,"Entrainements",null,null,null,"Rapport de santé"]
[null,null,null,null,null,null,null,3,null,2,"… un peu récupéré",null,null,null,null,null,null,null,null,null,null,null,null,null,null,null,null,null,null,null,null,null,null,null,"Jours d'entrainement",null,{"$f":"IF(SUM(AH4:AH24)=0,\"\",SUM(AH4:AH24))","v":""}]
[null,null,null,"Assez dur",null,null,null,4,null,3,"… récupéré",null,null,null,null,null,null,null,null,null,null,{"$f":"B4","v":"Lu"},{"$f":"AK4","v":0},null,null,null,null,null,null,null,null,null,null,null,"Entrainements",null,{"$f":"IF(AK32=\"\",\"\",SUM(M27:AG27))","v":""}]
[null,null,null,"dur",null,null,null,5,null,4,"…  en forme",null,null,null,null,null,null,null,null,null,null,{"$f":"B7","v":"Ma"},{"$f":"AK7","v":0},null,null,null,null,null,null,null,null,null,null,null,"Heures d'entrainement",null,{"$f":"IF(AK32=\"\",\"\",SUM(M25,P25,S25,Y25,AB25,V25,AE25)/60)","v":""},null,{"$f":"IF($AK$32=\"\",\"\",AK32-AM36-AM44-AM52)","v":""},"Aucune limitation",null,null,null,0]
[null,null,null,null,null,null,null,6,null,5,"… très en forme",null,null,null,null,null,null,null,null,null,null,{"$f":"B10","v":"Me"},{"$f":"AK10","v":0},null,null,null,null,null,null,null,null,null,null,null,"Charge de l'entrainement",null,{"$f":"IF(AK32=\"\",\"\",SUM(AK25))","v":""}]
[null,null,null,"très dur",null,null,null,7,null,null,null,null,null,null,null,null,null,null,null,null,null,{"$f":"B13","v":"Je"},{"$f":"AK13","v":0},null,null,null,null,null,null,null,null,null,null,null,"Monotonie",null,{"$f":"IF(AK27=0,0,(AVERAGE(AK4:AK24))/AK27)","v":0},null,{"$f":"SUM(AM37:AM42)","v":0},"Limitation pour cause de douleurs"]
[null,null,null,null,null,null,null,8,null,"Nombre de matchs",null,null,null,null,null,null,null,null,null,null,null,{"$f":"B16","v":"Ve"},{"$f":"AK16","v":0},null,null,null,null,null,null,null,null,null,null,null,"Efforts à l'entrainement",null,{"$f":"IF(AK32=\"\",\"\",AK35*AK36)","v":""},null,{"$f":"COUNTIF($H$4:$H$24,$AR37)","v":0},"Doigt",null,null,null,1]
[null,null,null,"extrèmement dur",null,null,null,9,null,null,null,null,null,null,null,null,null,null,null,null,null,{"$f":"B19","v":"Sa"},{"$f":"AK19","v":0},null,null,null,null,null,null,null,null,null,null,null,null,null,null,null,0,"Épaule",null,null,null,2]
[null,null,null,"Comme mon entrainement le plus dur",null,null,null,10,null,1,"… 3 sets et plus",null,null,null,null,null,null,null,null,null,null,{"$f":"B22","v":"Di"},{"$f":"AK22","v":0},null,null,null,null,null,null,null,null,null,null,null,"Compétition",null,null,null,0,"Dos",null,null,null,3]
[null,null,null,null,null,null,null,null,null,0.5,"… moins de 3 sets",null,null,null,null,null,null,null,null,null,null,null,null,null,null,null,null,null,null,null,null,null,null,null,"Matchs de volleyball",null,{"$f":"IF(AK32=\"\",\"\",SUM(AM4:AM24))","v":""},null,0,"Genou",null,null,null,4]
[null,null,null,null,null,null,null,null,null,null,null,null,null,null,null,null,null,null,null,null,null,null,null,null,null,null,null,null,null,null,null,null,null,null,"Sets de volleyball",null,{"$f":"IF(AK32=\"\",\"\",SUM(AN4:AN24))","v":""},null,0,"Cheville",null,null,null,5]
[null,null,null,null,null,null,null,null,null,"Sets joués",null,null,null,null,null,null,null,null,null,null,null,null,null,null,null,null,null,null,null,null,null,null,null,null,"Matchs de beach volley",null,{"$f":"IF(AK35=\"\",\"\",SUM(AO4:AO24))","v":""},null,0,"Autre",null,null,null,6]
[null,null,null,null,null,null,null,null,null,1,"… depuis le début et durant tout le set",null,null,null,null,null,null,null,null,null,null,null,null,null,null,null,null,null,null,null,null,null,null,null,"Sets de beach volley",null,{"$f":"IF(AK35=\"\",\"\",SUM(AP4:AP24))","v":""}]
[null,null,null,null,null,null,null,null,null,0.5,"… entré/sorti en cours, beaucoup joué",null,null,null,null,null,null,null,null,null,null,null,null,null,null,null,null,null,null,null,null,null,null,null,null,null,null,null,{"$f":"SUM(AM45:AM50)","v":0},"Absence pour cause de blessure"]
[null,null,null,null,null,null,null,null,null,0.1,"… entré/sorti en cours, peu joué",null,null,null,null,null,null,null,null,null,null,null,null,null,null,null,null,null,null,null,null,null,null,null,"Satisfaction",null,null,null,{"$f":"COUNTIF($H$4:$H$24,$AR45)","v":0},"Doigt",null,null,null,11]
[null,null,null,null,null,null,null,null,null,null,null,null,null,null,null,null,null,null,null,null,null,null,null,null,null,null,null,null,null,null,null,null,null,null,"Satisfaction de l'entrainement/match J",null,{"$f":"IF(AK32=\"\",\"\",SUM(AQ4:AQ24)/AK32)","v":""},null,0,"Épaule",null,null,null,12]
[null,null,null,null,null,null,null,null,null,"J","Es-tu content de la qualité de ton",null,null,null,null,null,null,null,null,null,null,null,null,null,null,null,null,null,null,null,null,null,null,null,null,null,null,null,0,"Dos",null,null,null,13]
[null,null,null,null,null,null,null,null,null,null,"entrainement/compétition?",null,null,null,null,null,null,null,null,null,null,null,null,null,null,null,null,null,null,null,null,null,null,null,"Santé",null,null,null,0,"Genou",null,null,null,14]
[null,null,null,null,null,null,null,null,null,1,"… pas content",null,null,null,null,null,null,null,null,null,null,null,null,null,null,null,null,null,null,null,null,null,null,null,"Limitation pour cause de douleurs",null,{"$f":"AM36","v":0},null,0,"Cheville",null,null,null,15]
[null,null,null,null,null,null,null,null,null,2,"… plutôt pas content",null,null,null,null,null,null,null,null,null,null,null,null,null,null,null,null,null,null,null,null,null,null,null,"Absence pour cause de blessure",null,{"$f":"AM44","v":0},null,0,"Autre",null,null,null,16]
[null,null,null,null,null,null,null,null,null,3,"… moyen",null,null,null,null,null,null,null,null,null,null,null,null,null,null,null,null,null,null,null,null,null,null,null,"Absence pour cause de maladie",null,{"$f":"AM52","v":0}]
[null,null,null,null,null,null,null,null,null,4,"… content",null,null,null,null,null,null,null,null,null,null,null,null,null,null,null,null,null,null,null,null,null,null,null,null,null,null,null,{"$f":"SUM(AM53:AM59)","v":0},"Absence pour cause de maladie"]
[null,null,null,null,null,null,null,null,null,5,"… très content!",null,null,null,null,null,null,null,null,null,null,null,null,null,null,null,null,null,null,null,null,null,null,null,null,null,null,null,{"$f":"COUNTIF($H$4:$H$24,$AR53)","v":0},"Maladie",null,null,null,21]
[]
[]
[]
[]
[]
[]
[]
[]
[]
[]
[]
[]
[]
[]
[]
[]
[]
[]
[]
[]
[]
[]
[]
[]
[]
[]
[]
[]
[]
[]
[]
[]
[]
[]
[]
[]
[]
[]
[]
[]
[]
[]
[]
[]
[]
[]
[]
[]
[]
[]
[]
[]
[]
[]
[]
[]
[]
[]
[]
[]
[]
[]
[]
[]
[]
[]
[]
[]
[]
[]
[]
[]
[]
[]
[]
[]
[]
[]
[]
[]
[null,null,null,null,null,null,null,null,null,null,null,null,null,null,null,null,null,null,null,null,null,null,null,null,{"$f":"Z134-1","v":16},17,18,19,20,21,22,{"$f":"D1","v":23}]
[]
[]
[]
[]
[]
[]
[]
[]
[]
[]
[]
[]
[]
[]
[]
[]
[]
[]
[]
[]
[null,null,null,null,null,null,null,null,null,null,null,null,null,null,null,null,null,null,null,null,null,null,null,null,null,null,null,null,null,null,null,null,{"$f":"AF134+1","v":24}]

{"sheet":"24","index":52,"n_rows":155,"n_cols":45,"rows_kept":155,"cut":false,"hidden":false,"merged":[[1,43,2,43],[30,34,30,36],[30,38,31,43],[0,5,0,6],[1,44,2,44],[1,15,1,17],[28,10,29,10],[29,21,29,26],[36,9,37,9],[1,41,2,41],[21,6,23,6],[21,9,21,10],[23,9,23,10],[21,7,23,7],[1,12,1,14],[7,9,7,10],[1,38,2,38],[1,24,1,26],[1,18,1,20],[1,30,1,32],[1,27,1,29],[27,3,27,6],[28,3,28,6],[37,3,37,6],[30,3,30,6],[31,3,31,6],[32,3,32,6],[33,3,33,6],[34,3,34,6],[35,3,35,6],[36,3,36,6],[38,3,38,6],[46,9,47,9],[18,36,20,36],[1,40,2,40],[3,36,5,36],[1,36,2,36],[20,9,20,10],[5,9,5,10],[1,39,2,39],[21,36,23,36],[9,36,11,36],[12,36,14,36],[15,36,17,36],[28,9,29,9],[16,9,16,10],[15,9,15,10],[10,9,10,10],[29,3,29,6],[15,5,17,5],[12,4,14,4],[6,36,8,36],[3,3,5,3],[3,6,5,6],[3,9,3,10],[4,9,4,10],[17,9,17,10],[22,9,22,10],[18,9,18,10],[19,9,19,10],[9,6,11,6],[9,9,9,10],[6,4,8,4],[9,7,11,7],[9,4,11,4],[11,9,11,10],[3,4,5,4],[3,7,5,7],[12,7,14,7],[9,5,11,5],[12,5,14,5],[21,1,23,1],[15,7,17,7],[15,1,17,1],[15,3,17,3],[15,6,17,6],[15,4,17,4],[18,5,20,5],[18,1,20,1],[18,3,20,3],[21,5,23,5],[21,3,23,3],[21,4,23,4],[18,7,20,7],[18,4,20,4],[18,6,20,6],[1,1,2,1],[9,1,11,1],[9,3,11,3],[38,34,38,36],[44,34,44,36],[47,34,47,36],[12,1,14,1],[6,3,8,3],[6,6,8,6],[6,9,6,10],[8,9,8,10],[6,5,8,5],[6,1,8,1],[6,7,8,7],[1,34,2,34],[1,21,1,23],[1,9,2,10],[3,1,5,1],[3,5,5,5],[12,3,14,3],[12,6,14,6],[12,9,12,10],[13,9,13,10],[14,9,14,10]]}
[null,null,"Woche",{"$f":"INT(MOD(INT((F1-2)/7)+0.6,52+5/28))+1","v":24},{"$f":"D1+1000","v":1024},{"$f":"'23'!F1+7","v":"2019-06-10"},null,"-",null,{"$f":"F1+6","v":"2019-06-16"},null,null,null,null,null,null,null,null,null,null,null,null,null,null,null,null,null,null,null,null,null,null,{"$f":"'Aperçu de la charge'!D2","v":"Prénom Nom"},null,{"$f":"'Aperçu de la charge'!N2","v":"2018/2019"}]
[null,"Jour",null,"Poids","REG","qualité sommeil","durée sommeil","Santé",null,"Description de l'entrainement",null,null,"Club - VB",null,null,"TS/ Nati - VB",null,null,"Club - BVB",null,null,"TS/ Nati - BVB",null,null,"Force - fitness",null,null,"Compet. - VB",null,null,"Compet. - BVB",null,null,null,"Réflexion",null,"Charge/\njour",null,"matchs VB","Sets VB","Matchs BVB","Sets BVB","J","Autre\n (Rég, mentale)","Mental- oder Sonstiges Training"]
[null,null,null,"[kg]","[1 - 5]","[1-5]","[Std]","Nr.",null,null,null,null,"Durée","RPE","Charge","Durée","RPE","Charge","Durée","RPE","Charge","Durée","RPE","Charge","Durée","RPE","Charge","Durée","RPE","Charge","Durée","RPE","Charge",null,null,null,null,null,null,null,null,null,"[1-5]"]
[null,"Lu",null,0,0,0,0,0,null,null,null,null,null,null,{"$f":"M4*N4","v":0},null,null,{"$f":"P4*Q4","v":0},null,null,{"$f":"S4*T4","v":0},null,null,{"$f":"V4*W4","v":0},null,null,{"$f":"Y4*Z4","v":0},null,null,{"$f":"AB4*AC4","v":0},null,null,{"$f":"AE4*AF4","v":0},{"$f":"IF(SUM(M4:AG6)>0,1,0)","v":"00:00:00"},null,null,{"$f":"SUM(O4:O6,R4:R6,U4:U6,X4:X6,AA4:AA6,AD4:AD6,AG4:AG6)","v":0}]
[null,null,null,null,null,null,null,null,null,null,null,null,null,null,{"$f":"M5*N5","v":0},null,null,{"$f":"P5*Q5","v":0},null,null,{"$f":"S5*T5","v":0},null,null,{"$f":"V5*W5","v":0},null,null,{"$f":"Y5*Z5","v":0},null,null,{"$f":"AB5*AC5","v":0},null,null,{"$f":"AE5*AF5","v":0}]
[null,null,null,null,null,null,null,null,null,null,null,null,null,null,0,null,null,0,null,null,0,null,null,0,null,null,0,null,null,0,null,null,0]
[null,"Ma",null,0,0,0,0,0,null,null,null,null,null,null,0,null,null,{"$f":"P7*Q7","v":0},null,null,0,null,null,0,null,null,0,null,null,0,null,null,0,{"$f":"IF(SUM(M7:AG9)>0,1,0)","v":"00:00:00"},null,null,{"$f":"SUM(O7:O9,R7:R9,U7:U9,X7:X9,AA7:AA9,AD7:AD9,AG7:AG9)","v":0}]
[null,null,null,null,null,null,null,null,null,null,null,null,null,null,0,null,null,0,null,null,0,null,null,0,null,null,0,null,null,0,null,null,0]
[null,null,null,null,null,null,null,null,null,null,null,null,null,null,0,null,null,0,null,null,0,null,null,0,null,null,0,null,null,0,null,null,0]
[null,"Me",null,0,0,0,0,0,null,null,null,null,null,null,0,null,null,{"$f":"P10*Q10","v":0},null,null,0,null,null,0,null,null,0,null,null,0,null,null,0,{"$f":"IF(SUM(M10:AG12)>0,1,0)","v":"00:00:00"},null,null,{"$f":"SUM(O10:O12,R10:R12,U10:U12,X10:X12,AA10:AA12,AD10:AD12,AG10:AG12)","v":0}]
[null,null,null,null,null,null,null,null,null,null,null,null,null,null,0,null,null,0,null,null,0,null,null,0,null,null,0,null,null,0,null,null,0]
[null,null,null,null,null,null,null,null,null,null,null,null,null,null,0,null,null,0,null,null,0,null,null,0,null,null,0,null,null,0,null,null,0]
[null,"Je",null,0,0,0,0,0,null,null,null,null,null,null,0,null,null,{"$f":"P13*Q13","v":0},null,null,0,null,null,0,null,null,0,null,null,0,null,null,0,{"$f":"IF(SUM(M13:AG15)>0,1,0)","v":"00:00:00"},null,null,{"$f":"SUM(O13:O15,R13:R15,U13:U15,X13:X15,AA13:AA15,AD13:AD15,AG13:AG15)","v":0}]
[null,null,null,null,null,null,null,null,null,null,null,null,null,null,0,null,null,0,null,null,0,null,null,0,null,null,0,null,null,0,null,null,0]
[null,null,null,null,null,null,null,null,null,null,null,null,null,null,0,null,null,0,null,null,0,null,null,0,null,null,0,null,null,0,null,null,0]
[null,"Ve",null,0,0,0,0,0,null,null,null,null,null,null,0,null,null,{"$f":"P16*Q16","v":0},null,null,0,null,null,0,null,null,0,null,null,0,null,null,0,{"$f":"IF(SUM(M16:AG18)>0,1,0)","v":"00:00:00"},null,null,{"$f":"SUM(O16:O18,R16:R18,U16:U18,X16:X18,AA16:AA18,AD16:AD18,AG16:AG18)","v":0}]
[null,null,null,null,null,null,null,null,null,null,null,null,null,null,0,null,null,0,null,null,0,null,null,0,null,null,0,null,null,0,null,null,0]
[null,null,null,null,null,null,null,null,null,null,null,null,null,null,0,null,null,0,null,null,0,null,null,0,null,null,0,null,null,0,null,null,0]
[null,"Sa",null,0,0,0,0,0,null,null,null,null,null,null,{"$f":"M19*N19","v":0},null,null,{"$f":"P19*Q19","v":0},null,null,{"$f":"S19*T19","v":0},null,null,{"$f":"V19*W19","v":0},null,null,{"$f":"Y19*Z19","v":0},null,null,{"$f":"AB19*AC19","v":0},null,null,{"$f":"AE19*AF19","v":0},{"$f":"IF(SUM(M19:AG21)>0,1,0)","v":"00:00:00"},null,null,{"$f":"SUM(O19:O21,R19:R21,U19:U21,X19:X21,AA19:AA21,AD19:AD21,AG19:AG21)","v":0}]
[null,null,null,null,null,null,null,null,null,null,null,null,null,null,{"$f":"M20*N20","v":0},null,null,0,null,null,{"$f":"S20*T20","v":0},null,null,{"$f":"V20*W20","v":0},null,null,{"$f":"Y20*Z20","v":0},null,null,{"$f":"AB20*AC20","v":0},null,null,{"$f":"AE20*AF20","v":0}]
[null,null,null,null,null,null,null,null,null,null,null,null,null,null,0,null,null,0,null,null,0,null,null,0,null,null,0,null,null,0,null,null,0]
[null,"Di",null,0,0,0,0,0,null,null,null,null,null,null,0,null,null,{"$f":"P22*Q22","v":0},null,null,0,null,null,0,null,null,0,null,null,0,null,null,0,{"$f":"IF(SUM(M22:AG24)>0,1,0)","v":"00:00:00"},null,null,{"$f":"SUM(O22:O24,R22:R24,U22:U24,X22:X24,AA22:AA24,AD22:AD24,AG22:AG24)","v":0}]
[null,null,null,null,null,null,null,null,null,null,null,null,null,null,0,null,null,0,null,null,0,null,null,0,null,null,0,null,null,0,null,null,0]
[null,null,null,null,null,null,null,null,null,null,null,null,null,null,0,null,null,0,null,null,0,null,null,0,null,null,0,null,null,0,null,null,0]
[null,null,null,null,null,null,null,null,null,null,"Total",null,{"$f":"SUM(M4:M24)","v":0},null,{"$f":"SUM(O4:O24)","v":0},{"$f":"SUM(P4:P24)","v":0},null,{"$f":"SUM(R4:R24)","v":0},{"$f":"SUM(S4:S24)","v":0},null,{"$f":"SUM(U4:U24)","v":0},{"$f":"SUM(V4:V24)","v":0},null,{"$f":"SUM(X4:X24)","v":0},{"$f":"SUM(Y4:Y24)","v":0},null,{"$f":"SUM(AA4:AA24)","v":0},{"$f":"SUM(AB4:AB24)","v":0},null,{"$f":"SUM(AD4:AD24)","v":0},{"$f":"SUM(AE4:AE24)","v":0},null,{"$f":"SUM(AG4:AG24)","v":0},null,"Charge totale",null,{"$f":"SUM(AK4:AK24)","v":0}]
[null,"avg.",null,{"$f":"IF(COUNTA(D4:D24)=0,\"\",AVERAGE(D4:D24))","v":0},{"$f":"IF(COUNTA(E4:E24)=0,\"\",AVERAGE(E4:E24))","v":0},{"$f":"IF(COUNTA(F4:F24)=0,\"\",AVERAGE(F4:F24))","v":0},{"$f":"IF(COUNTA(G4:G24)=0,\"\",AVERAGE(G4:G24))","v":0},{"$f":"IF(COUNTA(H4:H24)=0,\"\",COUNTIF(H4:H24,\"x\"))","v":0},null,null,"Zone",null,1,2,3,1,2,3,1,2,3,1,2,3,1,2,3,1,2,3,1,2,3,null,"Moyenne",null,{"$f":"AVERAGE(AK4:AK24)","v":0}]
[null,null,null,null,null,{"$f":"IF(COUNTA(F4:F24)=0,\"\",VAR(F4:F24))","v":0},{"$f":"IF(COUNTA(G4:G24)=0,\"\",STDEV(G4:G24))","v":0},"Divergence - durée du sommeil",null,null,"Unité par zone (RPE) ",null,{"$f":"IF('Répartition des intensités'!$AR$25=\"x\",COUNTIF(N4:N24,\"<3,5\"),COUNTIF(N4:N24,\"<4,5\"))","v":0},{"$f":"COUNT(N4:N24)-(M27+O27)","v":0},{"$f":"IF('Répartition des intensités'!$AR$25=\"x\",COUNTIF(N4:N24,\">5,5\"),COUNTIF(N4:N24,\">6,5\"))","v":0},{"$f":"IF('Répartition des intensités'!$AR$25=\"x\",COUNTIF(Q4:Q24,\"<3,5\"),COUNTIF(Q4:Q24,\"<4,5\"))","v":0},{"$f":"COUNT(Q4:Q24)-(P27+R27)","v":0},{"$f":"IF('Répartition des intensités'!$AR$25=\"x\",COUNTIF(Q4:Q24,\">5,5\"),COUNTIF(Q4:Q24,\">6,5\"))","v":0},{"$f":"IF('Répartition des intensités'!$AR$25=\"x\",COUNTIF(T4:T24,\"<3,5\"),COUNTIF(T4:T24,\"<4,5\"))","v":0},{"$f":"COUNT(T4:T24)-(S27+U27)","v":0},{"$f":"IF('Répartition des intensités'!$AR$25=\"x\",COUNTIF(T4:T24,\">5,5\"),COUNTIF(T4:T24,\">6,5\"))","v":0},{"$f":"IF('Répartition des intensités'!$AR$25=\"x\",COUNTIF(W4:W24,\"<3,5\"),COUNTIF(W4:W24,\"<4,5\"))","v":0},{"$f":"COUNT(W4:W24)-(V27+X27)","v":0},{"$f":"IF('Répartition des intensités'!$AR$25=\"x\",COUNTIF(W4:W24,\">5,5\"),COUNTIF(W4:W24,\">6,5\"))","v":0},{"$f":"IF('Répartition des intensités'!$AR$25=\"x\",COUNTIF(Z4:Z24,\"<3,5\"),COUNTIF(Z4:Z24,\"<4,5\"))","v":0},{"$f":"COUNT(Z4:Z24)-(Y27+AA27)","v":0},{"$f":"IF('Répartition des intensités'!$AR$25=\"x\",COUNTIF(Z4:Z24,\">5,5\"),COUNTIF(Z4:Z24,\">6,5\"))","v":0},{"$f":"IF('Répartition des intensités'!$AR$25=\"x\",COUNTIF(AC4:AC24,\"<3,5\"),COUNTIF(AC4:AC24,\"<4,5\"))","v":0},{"$f":"COUNT(AC4:AC24)-(AB27+AD27)","v":0},{"$f":"IF('Répartition des intensités'!$AR$25=\"x\",COUNTIF(AC4:AC24,\">5,5\"),COUNTIF(AC4:AC24,\">6,5\"))","v":0},{"$f":"IF('Répartition des intensités'!$AR$25=\"x\",COUNTIF(AF4:AF24,\"<3,5\"),COUNTIF(AF4:AF24,\"<4,5\"))","v":0},{"$f":"COUNT(AF4:AF24)-(AE27+AG27)","v":0},{"$f":"IF('Répartition des intensités'!$AR$25=\"x\",COUNTIF(AF4:AF24,\">5,5\"),COUNTIF(AF4:AF24,\">6,5\"))","v":0},null,"Divergence",null,{"$f":"STDEVP(AK4:AK24)","v":0}]
[null,null,null,"échelle de Foster",null,null,null,"RPE",null,null,"Temps par zone (RPE)",null,{"$f":"IF('Répartition des intensités'!$AR$25=\"x\",SUMIF(N4:N24,\"<3,5\",M4:M24),SUMIF(N4:N24,\"<4,5\",M4:M24))","v":0},{"$f":"IF(N27=0,0,SUM((M25)-(M28+O28)))","v":0},{"$f":"IF('Répartition des intensités'!$AR$25=\"x\",SUMIF(N4:N24,\">5,5\",M4:M24),SUMIF(N4:N24,\">6,5\",M4:M24))","v":0},{"$f":"IF('Répartition des intensités'!$AR$25=\"x\",SUMIF(Q4:Q24,\"<3,5\",P4:P24),SUMIF(Q4:Q24,\"<4,5\",P4:P24))","v":0},{"$f":"IF(Q27=0,0,SUM((P25)-(P28+R28)))","v":0},{"$f":"IF('Répartition des intensités'!$AR$25=\"x\",SUMIF(Q4:Q24,\">5,5\",P4:P24),SUMIF(Q4:Q24,\">6,5\",P4:P24))","v":0},{"$f":"IF('Répartition des intensités'!$AR$25=\"x\",SUMIF(T4:T24,\"<3,5\",S4:S24),SUMIF(T4:T24,\"<4,5\",S4:S24))","v":0},{"$f":"IF(T27=0,0,SUM((S25)-(S28+U28)))","v":0},{"$f":"IF('Répartition des intensités'!$AR$25=\"x\",SUMIF(T4:T24,\">5,5\",S4:S24),SUMIF(T4:T24,\">6,5\",S4:S24))","v":0},{"$f":"IF('Répartition des intensités'!$AR$25=\"x\",SUMIF(W4:W24,\"<3,5\",V4:V24),SUMIF(W4:W24,\"<4,5\",V4:V24))","v":0},{"$f":"IF(W27=0,0,SUM((V25)-(V28+X28)))","v":0},{"$f":"IF('Répartition des intensités'!$AR$25=\"x\",SUMIF(W4:W24,\">5,5\",V4:V24),SUMIF(W4:W24,\">6,5\",V4:V24))","v":0},{"$f":"IF('Répartition des intensités'!$AR$25=\"x\",SUMIF(Z4:Z24,\"<3,5\",Y4:Y24),SUMIF(Z4:Z24,\"<4,5\",Y4:Y24))","v":0},{"$f":"IF(Z27=0,0,SUM((Y25)-(Y28+AA28)))","v":0},{"$f":"IF('Répartition des intensités'!$AR$25=\"x\",SUMIF(Z4:Z24,\">5,5\",Y4:Y24),SUMIF(Z4:Z24,\">6,5\",Y4:Y24))","v":0},{"$f":"IF('Répartition des intensités'!$AR$25=\"x\",SUMIF(AC4:AC24,\"<3,5\",AB4:AB24),SUMIF(AC4:AC24,\"<4,5\",AB4:AB24))","v":0},{"$f":"IF(AC27=0,0,SUM((AB25)-(AB28+AD28)))","v":0},{"$f":"IF('Répartition des intensités'!$AR$25=\"x\",SUMIF(AC4:AC24,\">5,5\",AB4:AB24),SUMIF(AC4:AC24,\">6,5\",AB4:AB24))","v":0},{"$f":"IF('Répartition des intensités'!$AR$25=\"x\",SUMIF(AF4:AF24,\"<3,5\",AE4:AE24),SUMIF(AF4:AF24,\"<4,5\",AE4:AE24))","v":0},{"$f":"IF(AF27=0,0,SUM((AE25)-(AE28+AG28)))","v":0},{"$f":"IF('Répartition des intensités'!$AR$25=\"x\",SUMIF(AF4:AF24,\">5,5\",AE4:AE24),SUMIF(AF4:AF24,\">6,5\",AE4:AE24))","v":0}]
[null,null,null,"Comme au repos",null,null,null,0,null,"REG","Est-ce que j'ai l'impression d'avoir récupéré en me levant?"]
[null,null,null,"très facile",null,null,null,1]
[null,null,null,"facile",null,null,null,2,null,1,"… pas du tout récupéré",null,null,null,null,null,null,null,null,null,null,null,null,null,null,null,null,null,null,null,null,null,null,null,"Entrainements",null,null,null,"Rapport de santé"]
[null,null,null,null,null,null,null,3,null,2,"… un peu récupéré",null,null,null,null,null,null,null,null,null,null,null,null,null,null,null,null,null,null,null,null,null,null,null,"Jours d'entrainement",null,{"$f":"IF(SUM(AH4:AH24)=0,\"\",SUM(AH4:AH24))","v":""}]
[null,null,null,"Assez dur",null,null,null,4,null,3,"… récupéré",null,null,null,null,null,null,null,null,null,null,{"$f":"B4","v":"Lu"},{"$f":"AK4","v":0},null,null,null,null,null,null,null,null,null,null,null,"Entrainements",null,{"$f":"IF(AK32=\"\",\"\",SUM(M27:AG27))","v":""}]
[null,null,null,"dur",null,null,null,5,null,4,"…  en forme",null,null,null,null,null,null,null,null,null,null,{"$f":"B7","v":"Ma"},{"$f":"AK7","v":0},null,null,null,null,null,null,null,null,null,null,null,"Heures d'entrainement",null,{"$f":"IF(AK32=\"\",\"\",SUM(M25,P25,S25,Y25,AB25,V25,AE25)/60)","v":""},null,{"$f":"IF($AK$32=\"\",\"\",AK32-AM36-AM44-AM52)","v":""},"Aucune limitation",null,null,null,0]
[null,null,null,null,null,null,null,6,null,5,"… très en forme",null,null,null,null,null,null,null,null,null,null,{"$f":"B10","v":"Me"},{"$f":"AK10","v":0},null,null,null,null,null,null,null,null,null,null,null,"Charge de l'entrainement",null,{"$f":"IF(AK32=\"\",\"\",SUM(AK25))","v":""}]
[null,null,null,"très dur",null,null,null,7,null,null,null,null,null,null,null,null,null,null,null,null,null,{"$f":"B13","v":"Je"},{"$f":"AK13","v":0},null,null,null,null,null,null,null,null,null,null,null,"Monotonie",null,{"$f":"IF(AK27=0,0,(AVERAGE(AK4:AK24))/AK27)","v":0},null,{"$f":"SUM(AM37:AM42)","v":0},"Limitation pour cause de douleurs"]
[null,null,null,null,null,null,null,8,null,"Nombre de matchs",null,null,null,null,null,null,null,null,null,null,null,{"$f":"B16","v":"Ve"},{"$f":"AK16","v":0},null,null,null,null,null,null,null,null,null,null,null,"Efforts à l'entrainement",null,{"$f":"IF(AK32=\"\",\"\",AK35*AK36)","v":""},null,{"$f":"COUNTIF($H$4:$H$24,$AR37)","v":0},"Doigt",null,null,null,1]
[null,null,null,"extrèmement dur",null,null,null,9,null,null,null,null,null,null,null,null,null,null,null,null,null,{"$f":"B19","v":"Sa"},{"$f":"AK19","v":0},null,null,null,null,null,null,null,null,null,null,null,null,null,null,null,0,"Épaule",null,null,null,2]
[null,null,null,"Comme mon entrainement le plus dur",null,null,null,10,null,1,"… 3 sets et plus",null,null,null,null,null,null,null,null,null,null,{"$f":"B22","v":"Di"},{"$f":"AK22","v":0},null,null,null,null,null,null,null,null,null,null,null,"Compétition",null,null,null,0,"Dos",null,null,null,3]
[null,null,null,null,null,null,null,null,null,0.5,"… moins de 3 sets",null,null,null,null,null,null,null,null,null,null,null,null,null,null,null,null,null,null,null,null,null,null,null,"Matchs de volleyball",null,{"$f":"IF(AK32=\"\",\"\",SUM(AM4:AM24))","v":""},null,0,"Genou",null,null,null,4]
[null,null,null,null,null,null,null,null,null,null,null,null,null,null,null,null,null,null,null,null,null,null,null,null,null,null,null,null,null,null,null,null,null,null,"Sets de volleyball",null,{"$f":"IF(AK32=\"\",\"\",SUM(AN4:AN24))","v":""},null,0,"Cheville",null,null,null,5]
[null,null,null,null,null,null,null,null,null,"Sets joués",null,null,null,null,null,null,null,null,null,null,null,null,null,null,null,null,null,null,null,null,null,null,null,null,"Matchs de beach volley",null,{"$f":"IF(AK35=\"\",\"\",SUM(AO4:AO24))","v":""},null,0,"Autre",null,null,null,6]
[null,null,null,null,null,null,null,null,null,1,"… depuis le début et durant tout le set",null,null,null,null,null,null,null,null,null,null,null,null,null,null,null,null,null,null,null,null,null,null,null,"Sets de beach volley",null,{"$f":"IF(AK35=\"\",\"\",SUM(AP4:AP24))","v":""}]
[null,null,null,null,null,null,null,null,null,0.5,"… entré/sorti en cours, beaucoup joué",null,null,null,null,null,null,null,null,null,null,null,null,null,null,null,null,null,null,null,null,null,null,null,null,null,null,null,{"$f":"SUM(AM45:AM50)","v":0},"Absence pour cause de blessure"]
[null,null,null,null,null,null,null,null,null,0.1,"… entré/sorti en cours, peu joué",null,null,null,null,null,null,null,null,null,null,null,null,null,null,null,null,null,null,null,null,null,null,null,"Satisfaction",null,null,null,{"$f":"COUNTIF($H$4:$H$24,$AR45)","v":0},"Doigt",null,null,null,11]
[null,null,null,null,null,null,null,null,null,null,null,null,null,null,null,null,null,null,null,null,null,null,null,null,null,null,null,null,null,null,null,null,null,null,"Satisfaction de l'entrainement/match J",null,{"$f":"IF(AK32=\"\",\"\",SUM(AQ4:AQ24)/AK32)","v":""},null,0,"Épaule",null,null,null,12]
[null,null,null,null,null,null,null,null,null,"J","Es-tu content de la qualité de ton",null,null,null,null,null,null,null,null,null,null,null,null,null,null,null,null,null,null,null,null,null,null,null,null,null,null,null,0,"Dos",null,null,null,13]
[null,null,null,null,null,null,null,null,null,null,"entrainement/compétition?",null,null,null,null,null,null,null,null,null,null,null,null,null,null,null,null,null,null,null,null,null,null,null,"Santé",null,null,null,0,"Genou",null,null,null,14]
[null,null,null,null,null,null,null,null,null,1,"… pas content",null,null,null,null,null,null,null,null,null,null,null,null,null,null,null,null,null,null,null,null,null,null,null,"Limitation pour cause de douleurs",null,{"$f":"AM36","v":0},null,0,"Cheville",null,null,null,15]
[null,null,null,null,null,null,null,null,null,2,"… plutôt pas content",null,null,null,null,null,null,null,null,null,null,null,null,null,null,null,null,null,null,null,null,null,null,null,"Absence pour cause de blessure",null,{"$f":"AM44","v":0},null,0,"Autre",null,null,null,16]
[null,null,null,null,null,null,null,null,null,3,"… moyen",null,null,null,null,null,null,null,null,null,null,null,null,null,null,null,null,null,null,null,null,null,null,null,"Absence pour cause de maladie",null,{"$f":"AM52","v":0}]
[null,null,null,null,null,null,null,null,null,4,"… content",null,null,null,null,null,null,null,null,null,null,null,null,null,null,null,null,null,null,null,null,null,null,null,null,null,null,null,{"$f":"SUM(AM53:AM59)","v":0},"Absence pour cause de maladie"]
[null,null,null,null,null,null,null,null,null,5,"… très content!",null,null,null,null,null,null,null,null,null,null,null,null,null,null,null,null,null,null,null,null,null,null,null,null,null,null,null,{"$f":"COUNTIF($H$4:$H$24,$AR53)","v":0},"Maladie",null,null,null,21]
[]
[]
[]
[]
[]
[]
[]
[]
[]
[]
[]
[]
[]
[]
[]
[]
[]
[]
[]
[]
[]
[]
[]
[]
[]
[]
[]
[]
[]
[]
[]
[]
[]
[]
[]
[]
[]
[]
[]
[]
[]
[]
[]
[]
[]
[]
[]
[]
[]
[]
[]
[]
[]
[]
[]
[]
[]
[]
[]
[]
[]
[]
[]
[]
[]
[]
[]
[]
[]
[]
[]
[]
[]
[]
[]
[]
[]
[]
[]
[]
[null,null,null,null,null,null,null,null,null,null,null,null,null,null,null,null,null,null,null,null,null,null,null,null,{"$f":"Z134-1","v":17},18,19,20,21,22,23,{"$f":"D1","v":24}]
[]
[]
[]
[]
[]
[]
[]
[]
[]
[]
[]
[]
[]
[]
[]
[]
[]
[]
[]
[]
[null,null,null,null,null,null,null,null,null,null,null,null,null,null,null,null,null,null,null,null,null,null,null,null,null,null,null,null,null,null,null,null,{"$f":"AF134+1","v":25}]

{"sheet":"25","index":53,"n_rows":155,"n_cols":45,"rows_kept":155,"cut":false,"hidden":false,"merged":[[1,43,2,43],[30,34,30,36],[30,38,31,43],[0,5,0,6],[1,44,2,44],[1,15,1,17],[28,10,29,10],[29,21,29,26],[36,9,37,9],[1,41,2,41],[21,6,23,6],[21,9,21,10],[23,9,23,10],[21,7,23,7],[1,12,1,14],[7,9,7,10],[1,38,2,38],[1,24,1,26],[1,18,1,20],[1,30,1,32],[1,27,1,29],[27,3,27,6],[28,3,28,6],[37,3,37,6],[30,3,30,6],[31,3,31,6],[32,3,32,6],[33,3,33,6],[34,3,34,6],[35,3,35,6],[36,3,36,6],[38,3,38,6],[46,9,47,9],[18,36,20,36],[1,40,2,40],[3,36,5,36],[1,36,2,36],[20,9,20,10],[5,9,5,10],[1,39,2,39],[21,36,23,36],[9,36,11,36],[12,36,14,36],[15,36,17,36],[28,9,29,9],[16,9,16,10],[15,9,15,10],[10,9,10,10],[29,3,29,6],[15,5,17,5],[12,4,14,4],[6,36,8,36],[3,3,5,3],[3,6,5,6],[3,9,3,10],[4,9,4,10],[17,9,17,10],[22,9,22,10],[18,9,18,10],[19,9,19,10],[9,6,11,6],[9,9,9,10],[6,4,8,4],[9,7,11,7],[9,4,11,4],[11,9,11,10],[3,4,5,4],[3,7,5,7],[12,7,14,7],[9,5,11,5],[12,5,14,5],[21,1,23,1],[15,7,17,7],[15,1,17,1],[15,3,17,3],[15,6,17,6],[15,4,17,4],[18,5,20,5],[18,1,20,1],[18,3,20,3],[21,5,23,5],[21,3,23,3],[21,4,23,4],[18,7,20,7],[18,4,20,4],[18,6,20,6],[1,1,2,1],[9,1,11,1],[9,3,11,3],[38,34,38,36],[44,34,44,36],[47,34,47,36],[12,1,14,1],[6,3,8,3],[6,6,8,6],[6,9,6,10],[8,9,8,10],[6,5,8,5],[6,1,8,1],[6,7,8,7],[1,34,2,34],[1,21,1,23],[1,9,2,10],[3,1,5,1],[3,5,5,5],[12,3,14,3],[12,6,14,6],[12,9,12,10],[13,9,13,10],[14,9,14,10]]}
[null,null,"Woche",{"$f":"INT(MOD(INT((F1-2)/7)+0.6,52+5/28))+1","v":25},{"$f":"D1+1000","v":1025},{"$f":"'24'!F1+7","v":"2019-06-17"},null,"-",null,{"$f":"F1+6","v":"2019-06-23"},null,null,null,null,null,null,null,null,null,null,null,null,null,null,null,null,null,null,null,null,null,null,{"$f":"'Aperçu de la charge'!D2","v":"Prénom Nom"},null,{"$f":"'Aperçu de la charge'!N2","v":"2018/2019"}]
[null,"Jour",null,"Poids","REG","qualité sommeil","durée sommeil","Santé",null,"Description de l'entrainement",null,null,"Club - VB",null,null,"TS/ Nati - VB",null,null,"Club - BVB",null,null,"TS/ Nati - BVB",null,null,"Force - fitness",null,null,"Compet. - VB",null,null,"Compet. - BVB",null,null,null,"Réflexion",null,"Charge/\njour",null,"matchs VB","Sets VB","Matchs BVB","Sets BVB","J","Autre\n (Rég, mentale)","Mental- oder Sonstiges Training"]
[null,null,null,"[kg]","[1 - 5]","[1-5]","[Std]","Nr.",null,null,null,null,"Durée","RPE","Charge","Durée","RPE","Charge","Durée","RPE","Charge","Durée","RPE","Charge","Durée","RPE","Charge","Durée","RPE","Charge","Durée","RPE","Charge",null,null,null,null,null,null,null,null,null,"[1-5]"]
[null,"Lu",null,0,0,0,0,0,null,null,null,null,null,null,{"$f":"M4*N4","v":0},null,null,{"$f":"P4*Q4","v":0},null,null,{"$f":"S4*T4","v":0},null,null,{"$f":"V4*W4","v":0},null,null,{"$f":"Y4*Z4","v":0},null,null,{"$f":"AB4*AC4","v":0},null,null,{"$f":"AE4*AF4","v":0},{"$f":"IF(SUM(M4:AG6)>0,1,0)","v":"00:00:00"},null,null,{"$f":"SUM(O4:O6,R4:R6,U4:U6,X4:X6,AA4:AA6,AD4:AD6,AG4:AG6)","v":0}]
[null,null,null,null,null,null,null,null,null,null,null,null,null,null,{"$f":"M5*N5","v":0},null,null,{"$f":"P5*Q5","v":0},null,null,{"$f":"S5*T5","v":0},null,null,{"$f":"V5*W5","v":0},null,null,{"$f":"Y5*Z5","v":0},null,null,{"$f":"AB5*AC5","v":0},null,null,{"$f":"AE5*AF5","v":0}]
[null,null,null,null,null,null,null,null,null,null,null,null,null,null,0,null,null,0,null,null,0,null,null,0,null,null,0,null,null,0,null,null,0]
[null,"Ma",null,0,0,0,0,0,null,null,null,null,null,null,0,null,null,{"$f":"P7*Q7","v":0},null,null,0,null,null,0,null,null,0,null,null,0,null,null,0,{"$f":"IF(SUM(M7:AG9)>0,1,0)","v":"00:00:00"},null,null,{"$f":"SUM(O7:O9,R7:R9,U7:U9,X7:X9,AA7:AA9,AD7:AD9,AG7:AG9)","v":0}]
[null,null,null,null,null,null,null,null,null,null,null,null,null,null,0,null,null,0,null,null,0,null,null,0,null,null,0,null,null,0,null,null,0]
[null,null,null,null,null,null,null,null,null,null,null,null,null,null,0,null,null,0,null,null,0,null,null,0,null,null,0,null,null,0,null,null,0]
[null,"Me",null,0,0,0,0,0,null,null,null,null,null,null,0,null,null,{"$f":"P10*Q10","v":0},null,null,0,null,null,0,null,null,0,null,null,0,null,null,0,{"$f":"IF(SUM(M10:AG12)>0,1,0)","v":"00:00:00"},null,null,{"$f":"SUM(O10:O12,R10:R12,U10:U12,X10:X12,AA10:AA12,AD10:AD12,AG10:AG12)","v":0}]
[null,null,null,null,null,null,null,null,null,null,null,null,null,null,0,null,null,0,null,null,0,null,null,0,null,null,0,null,null,0,null,null,0]
[null,null,null,null,null,null,null,null,null,null,null,null,null,null,0,null,null,0,null,null,0,null,null,0,null,null,0,null,null,0,null,null,0]
[null,"Je",null,0,0,0,0,0,null,null,null,null,null,null,0,null,null,{"$f":"P13*Q13","v":0},null,null,0,null,null,0,null,null,0,null,null,0,null,null,0,{"$f":"IF(SUM(M13:AG15)>0,1,0)","v":"00:00:00"},null,null,{"$f":"SUM(O13:O15,R13:R15,U13:U15,X13:X15,AA13:AA15,AD13:AD15,AG13:AG15)","v":0}]
[null,null,null,null,null,null,null,null,null,null,null,null,null,null,0,null,null,0,null,null,0,null,null,0,null,null,0,null,null,0,null,null,0]
[null,null,null,null,null,null,null,null,null,null,null,null,null,null,0,null,null,0,null,null,0,null,null,0,null,null,0,null,null,0,null,null,0]
[null,"Ve",null,0,0,0,0,0,null,null,null,null,null,null,0,null,null,{"$f":"P16*Q16","v":0},null,null,0,null,null,0,null,null,0,null,null,0,null,null,0,{"$f":"IF(SUM(M16:AG18)>0,1,0)","v":"00:00:00"},null,null,{"$f":"SUM(O16:O18,R16:R18,U16:U18,X16:X18,AA16:AA18,AD16:AD18,AG16:AG18)","v":0}]
[null,null,null,null,null,null,null,null,null,null,null,null,null,null,0,null,null,0,null,null,0,null,null,0,null,null,0,null,null,0,null,null,0]
[null,null,null,null,null,null,null,null,null,null,null,null,null,null,0,null,null,0,null,null,0,null,null,0,null,null,0,null,null,0,null,null,0]
[null,"Sa",null,0,0,0,0,0,null,null,null,null,null,null,{"$f":"M19*N19","v":0},null,null,{"$f":"P19*Q19","v":0},null,null,{"$f":"S19*T19","v":0},null,null,{"$f":"V19*W19","v":0},null,null,{"$f":"Y19*Z19","v":0},null,null,{"$f":"AB19*AC19","v":0},null,null,{"$f":"AE19*AF19","v":0},{"$f":"IF(SUM(M19:AG21)>0,1,0)","v":"00:00:00"},null,null,{"$f":"SUM(O19:O21,R19:R21,U19:U21,X19:X21,AA19:AA21,AD19:AD21,AG19:AG21)","v":0}]
[null,null,null,null,null,null,null,null,null,null,null,null,null,null,{"$f":"M20*N20","v":0},null,null,0,null,null,{"$f":"S20*T20","v":0},null,null,{"$f":"V20*W20","v":0},null,null,{"$f":"Y20*Z20","v":0},null,null,{"$f":"AB20*AC20","v":0},null,null,{"$f":"AE20*AF20","v":0}]
[null,null,null,null,null,null,null,null,null,null,null,null,null,null,0,null,null,0,null,null,0,null,null,0,null,null,0,null,null,0,null,null,0]
[null,"Di",null,0,0,0,0,0,null,null,null,null,null,null,0,null,null,{"$f":"P22*Q22","v":0},null,null,0,null,null,0,null,null,0,null,null,0,null,null,0,{"$f":"IF(SUM(M22:AG24)>0,1,0)","v":"00:00:00"},null,null,{"$f":"SUM(O22:O24,R22:R24,U22:U24,X22:X24,AA22:AA24,AD22:AD24,AG22:AG24)","v":0}]
[null,null,null,null,null,null,null,null,null,null,null,null,null,null,0,null,null,0,null,null,0,null,null,0,null,null,0,null,null,0,null,null,0]
[null,null,null,null,null,null,null,null,null,null,null,null,null,null,0,null,null,0,null,null,0,null,null,0,null,null,0,null,null,0,null,null,0]
[null,null,null,null,null,null,null,null,null,null,"Total",null,{"$f":"SUM(M4:M24)","v":0},null,{"$f":"SUM(O4:O24)","v":0},{"$f":"SUM(P4:P24)","v":0},null,{"$f":"SUM(R4:R24)","v":0},{"$f":"SUM(S4:S24)","v":0},null,{"$f":"SUM(U4:U24)","v":0},{"$f":"SUM(V4:V24)","v":0},null,{"$f":"SUM(X4:X24)","v":0},{"$f":"SUM(Y4:Y24)","v":0},null,{"$f":"SUM(AA4:AA24)","v":0},{"$f":"SUM(AB4:AB24)","v":0},null,{"$f":"SUM(AD4:AD24)","v":0},{"$f":"SUM(AE4:AE24)","v":0},null,{"$f":"SUM(AG4:AG24)","v":0},null,"Charge totale",null,{"$f":"SUM(AK4:AK24)","v":0}]
[null,"avg.",null,{"$f":"IF(COUNTA(D4:D24)=0,\"\",AVERAGE(D4:D24))","v":0},{"$f":"IF(COUNTA(E4:E24)=0,\"\",AVERAGE(E4:E24))","v":0},{"$f":"IF(COUNTA(F4:F24)=0,\"\",AVERAGE(F4:F24))","v":0},{"$f":"IF(COUNTA(G4:G24)=0,\"\",AVERAGE(G4:G24))","v":0},{"$f":"IF(COUNTA(H4:H24)=0,\"\",COUNTIF(H4:H24,\"x\"))","v":0},null,null,"Zone",null,1,2,3,1,2,3,1,2,3,1,2,3,1,2,3,1,2,3,1,2,3,null,"Moyenne",null,{"$f":"AVERAGE(AK4:AK24)","v":0}]
[null,null,null,null,null,{"$f":"IF(COUNTA(F4:F24)=0,\"\",VAR(F4:F24))","v":0},{"$f":"IF(COUNTA(G4:G24)=0,\"\",STDEV(G4:G24))","v":0},"Divergence - durée du sommeil",null,null,"Unité par zone (RPE) ",null,{"$f":"IF('Répartition des intensités'!$AR$25=\"x\",COUNTIF(N4:N24,\"<3,5\"),COUNTIF(N4:N24,\"<4,5\"))","v":0},{"$f":"COUNT(N4:N24)-(M27+O27)","v":0},{"$f":"IF('Répartition des intensités'!$AR$25=\"x\",COUNTIF(N4:N24,\">5,5\"),COUNTIF(N4:N24,\">6,5\"))","v":0},{"$f":"IF('Répartition des intensités'!$AR$25=\"x\",COUNTIF(Q4:Q24,\"<3,5\"),COUNTIF(Q4:Q24,\"<4,5\"))","v":0},{"$f":"COUNT(Q4:Q24)-(P27+R27)","v":0},{"$f":"IF('Répartition des intensités'!$AR$25=\"x\",COUNTIF(Q4:Q24,\">5,5\"),COUNTIF(Q4:Q24,\">6,5\"))","v":0},{"$f":"IF('Répartition des intensités'!$AR$25=\"x\",COUNTIF(T4:T24,\"<3,5\"),COUNTIF(T4:T24,\"<4,5\"))","v":0},{"$f":"COUNT(T4:T24)-(S27+U27)","v":0},{"$f":"IF('Répartition des intensités'!$AR$25=\"x\",COUNTIF(T4:T24,\">5,5\"),COUNTIF(T4:T24,\">6,5\"))","v":0},{"$f":"IF('Répartition des intensités'!$AR$25=\"x\",COUNTIF(W4:W24,\"<3,5\"),COUNTIF(W4:W24,\"<4,5\"))","v":0},{"$f":"COUNT(W4:W24)-(V27+X27)","v":0},{"$f":"IF('Répartition des intensités'!$AR$25=\"x\",COUNTIF(W4:W24,\">5,5\"),COUNTIF(W4:W24,\">6,5\"))","v":0},{"$f":"IF('Répartition des intensités'!$AR$25=\"x\",COUNTIF(Z4:Z24,\"<3,5\"),COUNTIF(Z4:Z24,\"<4,5\"))","v":0},{"$f":"COUNT(Z4:Z24)-(Y27+AA27)","v":0},{"$f":"IF('Répartition des intensités'!$AR$25=\"x\",COUNTIF(Z4:Z24,\">5,5\"),COUNTIF(Z4:Z24,\">6,5\"))","v":0},{"$f":"IF('Répartition des intensités'!$AR$25=\"x\",COUNTIF(AC4:AC24,\"<3,5\"),COUNTIF(AC4:AC24,\"<4,5\"))","v":0},{"$f":"COUNT(AC4:AC24)-(AB27+AD27)","v":0},{"$f":"IF('Répartition des intensités'!$AR$25=\"x\",COUNTIF(AC4:AC24,\">5,5\"),COUNTIF(AC4:AC24,\">6,5\"))","v":0},{"$f":"IF('Répartition des intensités'!$AR$25=\"x\",COUNTIF(AF4:AF24,\"<3,5\"),COUNTIF(AF4:AF24,\"<4,5\"))","v":0},{"$f":"COUNT(AF4:AF24)-(AE27+AG27)","v":0},{"$f":"IF('Répartition des intensités'!$AR$25=\"x\",COUNTIF(AF4:AF24,\">5,5\"),COUNTIF(AF4:AF24,\">6,5\"))","v":0},null,"Divergence",null,{"$f":"STDEVP(AK4:AK24)","v":0}]
[null,null,null,"échelle de Foster",null,null,null,"RPE",null,null,"Temps par zone (RPE)",null,{"$f":"IF('Répartition des intensités'!$AR$25=\"x\",SUMIF(N4:N24,\"<3,5\",M4:M24),SUMIF(N4:N24,\"<4,5\",M4:M24))","v":0},{"$f":"IF(N27=0,0,SUM((M25)-(M28+O28)))","v":0},{"$f":"IF('Répartition des intensités'!$AR$25=\"x\",SUMIF(N4:N24,\">5,5\",M4:M24),SUMIF(N4:N24,\">6,5\",M4:M24))","v":0},{"$f":"IF('Répartition des intensités'!$AR$25=\"x\",SUMIF(Q4:Q24,\"<3,5\",P4:P24),SUMIF(Q4:Q24,\"<4,5\",P4:P24))","v":0},{"$f":"IF(Q27=0,0,SUM((P25)-(P28+R28)))","v":0},{"$f":"IF('Répartition des intensités'!$AR$25=\"x\",SUMIF(Q4:Q24,\">5,5\",P4:P24),SUMIF(Q4:Q24,\">6,5\",P4:P24))","v":0},{"$f":"IF('Répartition des intensités'!$AR$25=\"x\",SUMIF(T4:T24,\"<3,5\",S4:S24),SUMIF(T4:T24,\"<4,5\",S4:S24))","v":0},{"$f":"IF(T27=0,0,SUM((S25)-(S28+U28)))","v":0},{"$f":"IF('Répartition des intensités'!$AR$25=\"x\",SUMIF(T4:T24,\">5,5\",S4:S24),SUMIF(T4:T24,\">6,5\",S4:S24))","v":0},{"$f":"IF('Répartition des intensités'!$AR$25=\"x\",SUMIF(W4:W24,\"<3,5\",V4:V24),SUMIF(W4:W24,\"<4,5\",V4:V24))","v":0},{"$f":"IF(W27=0,0,SUM((V25)-(V28+X28)))","v":0},{"$f":"IF('Répartition des intensités'!$AR$25=\"x\",SUMIF(W4:W24,\">5,5\",V4:V24),SUMIF(W4:W24,\">6,5\",V4:V24))","v":0},{"$f":"IF('Répartition des intensités'!$AR$25=\"x\",SUMIF(Z4:Z24,\"<3,5\",Y4:Y24),SUMIF(Z4:Z24,\"<4,5\",Y4:Y24))","v":0},{"$f":"IF(Z27=0,0,SUM((Y25)-(Y28+AA28)))","v":0},{"$f":"IF('Répartition des intensités'!$AR$25=\"x\",SUMIF(Z4:Z24,\">5,5\",Y4:Y24),SUMIF(Z4:Z24,\">6,5\",Y4:Y24))","v":0},{"$f":"IF('Répartition des intensités'!$AR$25=\"x\",SUMIF(AC4:AC24,\"<3,5\",AB4:AB24),SUMIF(AC4:AC24,\"<4,5\",AB4:AB24))","v":0},{"$f":"IF(AC27=0,0,SUM((AB25)-(AB28+AD28)))","v":0},{"$f":"IF('Répartition des intensités'!$AR$25=\"x\",SUMIF(AC4:AC24,\">5,5\",AB4:AB24),SUMIF(AC4:AC24,\">6,5\",AB4:AB24))","v":0},{"$f":"IF('Répartition des intensités'!$AR$25=\"x\",SUMIF(AF4:AF24,\"<3,5\",AE4:AE24),SUMIF(AF4:AF24,\"<4,5\",AE4:AE24))","v":0},{"$f":"IF(AF27=0,0,SUM((AE25)-(AE28+AG28)))","v":0},{"$f":"IF('Répartition des intensités'!$AR$25=\"x\",SUMIF(AF4:AF24,\">5,5\",AE4:AE24),SUMIF(AF4:AF24,\">6,5\",AE4:AE24))","v":0}]
[null,null,null,"Comme au repos",null,null,null,0,null,"REG","Est-ce que j'ai l'impression d'avoir récupéré en me levant?"]
[null,null,null,"très facile",null,null,null,1]
[null,null,null,"facile",null,null,null,2,null,1,"… pas du tout récupéré",null,null,null,null,null,null,null,null,null,null,null,null,null,null,null,null,null,null,null,null,null,null,null,"Entrainements",null,null,null,"Rapport de santé"]
[null,null,null,null,null,null,null,3,null,2,"… un peu récupéré",null,null,null,null,null,null,null,null,null,null,null,null,null,null,null,null,null,null,null,null,null,null,null,"Jours d'entrainement",null,{"$f":"IF(SUM(AH4:AH24)=0,\"\",SUM(AH4:AH24))","v":""}]
[null,null,null,"Assez dur",null,null,null,4,null,3,"… récupéré",null,null,null,null,null,null,null,null,null,null,{"$f":"B4","v":"Lu"},{"$f":"AK4","v":0},null,null,null,null,null,null,null,null,null,null,null,"Entrainements",null,{"$f":"IF(AK32=\"\",\"\",SUM(M27:AG27))","v":""}]
[null,null,null,"dur",null,null,null,5,null,4,"…  en forme",null,null,null,null,null,null,null,null,null,null,{"$f":"B7","v":"Ma"},{"$f":"AK7","v":0},null,null,null,null,null,null,null,null,null,null,null,"Heures d'entrainement",null,{"$f":"IF(AK32=\"\",\"\",SUM(M25,P25,S25,Y25,AB25,V25,AE25)/60)","v":""},null,{"$f":"IF($AK$32=\"\",\"\",AK32-AM36-AM44-AM52)","v":""},"Aucune limitation",null,null,null,0]
[null,null,null,null,null,null,null,6,null,5,"… très en forme",null,null,null,null,null,null,null,null,null,null,{"$f":"B10","v":"Me"},{"$f":"AK10","v":0},null,null,null,null,null,null,null,null,null,null,null,"Charge de l'entrainement",null,{"$f":"IF(AK32=\"\",\"\",SUM(AK25))","v":""}]
[null,null,null,"très dur",null,null,null,7,null,null,null,null,null,null,null,null,null,null,null,null,null,{"$f":"B13","v":"Je"},{"$f":"AK13","v":0},null,null,null,null,null,null,null,null,null,null,null,"Monotonie",null,{"$f":"IF(AK27=0,0,(AVERAGE(AK4:AK24))/AK27)","v":0},null,{"$f":"SUM(AM37:AM42)","v":0},"Limitation pour cause de douleurs"]
[null,null,null,null,null,null,null,8,null,"Nombre de matchs",null,null,null,null,null,null,null,null,null,null,null,{"$f":"B16","v":"Ve"},{"$f":"AK16","v":0},null,null,null,null,null,null,null,null,null,null,null,"Efforts à l'entrainement",null,{"$f":"IF(AK32=\"\",\"\",AK35*AK36)","v":""},null,{"$f":"COUNTIF($H$4:$H$24,$AR37)","v":0},"Doigt",null,null,null,1]
[null,null,null,"extrèmement dur",null,null,null,9,null,null,null,null,null,null,null,null,null,null,null,null,null,{"$f":"B19","v":"Sa"},{"$f":"AK19","v":0},null,null,null,null,null,null,null,null,null,null,null,null,null,null,null,0,"Épaule",null,null,null,2]
[null,null,null,"Comme mon entrainement le plus dur",null,null,null,10,null,1,"… 3 sets et plus",null,null,null,null,null,null,null,null,null,null,{"$f":"B22","v":"Di"},{"$f":"AK22","v":0},null,null,null,null,null,null,null,null,null,null,null,"Compétition",null,null,null,0,"Dos",null,null,null,3]
[null,null,null,null,null,null,null,null,null,0.5,"… moins de 3 sets",null,null,null,null,null,null,null,null,null,null,null,null,null,null,null,null,null,null,null,null,null,null,null,"Matchs de volleyball",null,{"$f":"IF(AK32=\"\",\"\",SUM(AM4:AM24))","v":""},null,0,"Genou",null,null,null,4]
[null,null,null,null,null,null,null,null,null,null,null,null,null,null,null,null,null,null,null,null,null,null,null,null,null,null,null,null,null,null,null,null,null,null,"Sets de volleyball",null,{"$f":"IF(AK32=\"\",\"\",SUM(AN4:AN24))","v":""},null,0,"Cheville",null,null,null,5]
[null,null,null,null,null,null,null,null,null,"Sets joués",null,null,null,null,null,null,null,null,null,null,null,null,null,null,null,null,null,null,null,null,null,null,null,null,"Matchs de beach volley",null,{"$f":"IF(AK35=\"\",\"\",SUM(AO4:AO24))","v":""},null,0,"Autre",null,null,null,6]
[null,null,null,null,null,null,null,null,null,1,"… depuis le début et durant tout le set",null,null,null,null,null,null,null,null,null,null,null,null,null,null,null,null,null,null,null,null,null,null,null,"Sets de beach volley",null,{"$f":"IF(AK35=\"\",\"\",SUM(AP4:AP24))","v":""}]
[null,null,null,null,null,null,null,null,null,0.5,"… entré/sorti en cours, beaucoup joué",null,null,null,null,null,null,null,null,null,null,null,null,null,null,null,null,null,null,null,null,null,null,null,null,null,null,null,{"$f":"SUM(AM45:AM50)","v":0},"Absence pour cause de blessure"]
[null,null,null,null,null,null,null,null,null,0.1,"… entré/sorti en cours, peu joué",null,null,null,null,null,null,null,null,null,null,null,null,null,null,null,null,null,null,null,null,null,null,null,"Satisfaction",null,null,null,{"$f":"COUNTIF($H$4:$H$24,$AR45)","v":0},"Doigt",null,null,null,11]
[null,null,null,null,null,null,null,null,null,null,null,null,null,null,null,null,null,null,null,null,null,null,null,null,null,null,null,null,null,null,null,null,null,null,"Satisfaction de l'entrainement/match J",null,{"$f":"IF(AK32=\"\",\"\",SUM(AQ4:AQ24)/AK32)","v":""},null,0,"Épaule",null,null,null,12]
[null,null,null,null,null,null,null,null,null,"J","Es-tu content de la qualité de ton",null,null,null,null,null,null,null,null,null,null,null,null,null,null,null,null,null,null,null,null,null,null,null,null,null,null,null,0,"Dos",null,null,null,13]
[null,null,null,null,null,null,null,null,null,null,"entrainement/compétition?",null,null,null,null,null,null,null,null,null,null,null,null,null,null,null,null,null,null,null,null,null,null,null,"Santé",null,null,null,0,"Genou",null,null,null,14]
[null,null,null,null,null,null,null,null,null,1,"… pas content",null,null,null,null,null,null,null,null,null,null,null,null,null,null,null,null,null,null,null,null,null,null,null,"Limitation pour cause de douleurs",null,{"$f":"AM36","v":0},null,0,"Cheville",null,null,null,15]
[null,null,null,null,null,null,null,null,null,2,"… plutôt pas content",null,null,null,null,null,null,null,null,null,null,null,null,null,null,null,null,null,null,null,null,null,null,null,"Absence pour cause de blessure",null,{"$f":"AM44","v":0},null,0,"Autre",null,null,null,16]
[null,null,null,null,null,null,null,null,null,3,"… moyen",null,null,null,null,null,null,null,null,null,null,null,null,null,null,null,null,null,null,null,null,null,null,null,"Absence pour cause de maladie",null,{"$f":"AM52","v":0}]
[null,null,null,null,null,null,null,null,null,4,"… content",null,null,null,null,null,null,null,null,null,null,null,null,null,null,null,null,null,null,null,null,null,null,null,null,null,null,null,{"$f":"SUM(AM53:AM59)","v":0},"Absence pour cause de maladie"]
[null,null,null,null,null,null,null,null,null,5,"… très content!",null,null,null,null,null,null,null,null,null,null,null,null,null,null,null,null,null,null,null,null,null,null,null,null,null,null,null,{"$f":"COUNTIF($H$4:$H$24,$AR53)","v":0},"Maladie",null,null,null,21]
[]
[]
[]
[]
[]
[]
[]
[]
[]
[]
[]
[]
[]
[]
[]
[]
[]
[]
[]
[]
[]
[]
[]
[]
[]
[]
[]
[]
[]
[]
[]
[]
[]
[]
[]
[]
[]
[]
[]
[]
[]
[]
[]
[]
[]
[]
[]
[]
[]
[]
[]
[]
[]
[]
[]
[]
[]
[]
[]
[]
[]
[]
[]
[]
[]
[]
[]
[]
[]
[]
[]
[]
[]
[]
[]
[]
[]
[]
[]
[]
[null,null,null,null,null,null,null,null,null,null,null,null,null,null,null,null,null,null,null,null,null,null,null,null,{"$f":"Z134-1","v":18},19,20,21,22,23,24,{"$f":"D1","v":25}]
[]
[]
[]
[]
[]
[]
[]
[]
[]
[]
[]
[]
[]
[]
[]
[]
[]
[]
[]
[]
[null,null,null,null,null,null,null,null,null,null,null,null,null,null,null,null,null,null,null,null,null,null,null,null,null,null,null,null,null,null,null,null,{"$f":"AF134+1","v":26}]

{"sheet":"26","index":54,"n_rows":155,"n_cols":45,"rows_kept":155,"cut":false,"hidden":false,"merged":[[9,4,11,4],[12,4,14,4],[3,7,5,7],[15,7,17,7],[27,3,27,6],[15,5,17,5],[18,5,20,5],[28,10,29,10],[15,9,15,10],[1,43,2,43],[30,34,30,36],[30,38,31,43],[0,5,0,6],[1,44,2,44],[29,3,29,6],[30,3,30,6],[35,3,35,6],[36,3,36,6],[18,36,20,36],[21,36,23,36],[1,40,2,40],[1,21,1,23],[1,41,2,41],[15,36,17,36],[1,38,2,38],[1,36,2,36],[1,34,2,34],[1,30,1,32],[1,27,1,29],[1,24,1,26],[9,36,11,36],[12,36,14,36],[1,39,2,39],[28,9,29,9],[28,3,28,6],[37,3,37,6],[38,3,38,6],[31,3,31,6],[32,3,32,6],[33,3,33,6],[34,3,34,6],[46,9,47,9],[3,1,5,1],[6,36,8,36],[3,3,5,3],[3,6,5,6],[3,9,3,10],[4,9,4,10],[5,9,5,10],[3,36,5,36],[6,1,8,1],[6,7,8,7],[6,3,8,3],[6,6,8,6],[6,9,6,10],[8,9,8,10],[9,1,11,1],[9,3,11,3],[9,6,11,6],[9,9,9,10],[1,12,1,14],[18,1,20,1],[18,3,20,3],[18,6,20,6],[1,18,1,20],[11,9,11,10],[7,9,7,10],[10,9,10,10],[9,7,11,7],[14,9,14,10],[12,7,14,7],[3,5,5,5],[6,5,8,5],[9,5,11,5],[12,5,14,5],[1,1,2,1],[1,15,1,17],[3,4,5,4],[6,4,8,4],[1,9,2,10],[12,1,14,1],[12,3,14,3],[12,6,14,6],[12,9,12,10],[13,9,13,10],[18,9,18,10],[19,9,19,10],[20,9,20,10],[18,7,20,7],[18,4,20,4],[15,1,17,1],[15,3,17,3],[15,6,17,6],[15,4,17,4],[16,9,16,10],[17,9,17,10],[38,34,38,36],[44,34,44,36],[47,34,47,36],[21,1,23,1],[21,3,23,3],[21,5,23,5],[21,6,23,6],[21,9,21,10],[23,9,23,10],[21,7,23,7],[21,4,23,4],[22,9,22,10],[29,21,29,26],[36,9,37,9]]}
[null,null,"Woche",{"$f":"INT(MOD(INT((F1-2)/7)+0.6,52+5/28))+1","v":26},{"$f":"D1+1000","v":1026},{"$f":"'25'!F1+7","v":"2019-06-24"},null,"-",null,{"$f":"F1+6","v":"2019-06-30"},null,null,null,null,null,null,null,null,null,null,null,null,null,null,null,null,null,null,null,null,null,null,{"$f":"'Aperçu de la charge'!D2","v":"Prénom Nom"},null,{"$f":"'Aperçu de la charge'!N2","v":"2018/2019"}]
[null,"Jour",null,"Poids","REG","qualité sommeil","durée sommeil","Santé",null,"Description de l'entrainement",null,null,"Club - VB",null,null,"TS/ Nati - VB",null,null,"Club - BVB",null,null,"TS/ Nati - BVB",null,null,"Force - fitness",null,null,"Compet. - VB",null,null,"Compet. - BVB",null,null,null,"Réflexion",null,"Charge/\njour",null,"matchs VB","Sets VB","Matchs BVB","Sets BVB","J","Autre\n (Rég, mentale)","Mental- oder Sonstiges Training"]
[null,null,null,"[kg]","[1 - 5]","[1-5]","[Std]","Nr.",null,null,null,null,"Durée","RPE","Charge","Durée","RPE","Charge","Durée","RPE","Charge","Durée","RPE","Charge","Durée","RPE","Charge","Durée","RPE","Charge","Durée","RPE","Charge",null,null,null,null,null,null,null,null,null,"[1-5]"]
[null,"Lu",null,0,0,0,0,0,null,null,null,null,null,null,{"$f":"M4*N4","v":0},null,null,{"$f":"P4*Q4","v":0},null,null,{"$f":"S4*T4","v":0},null,null,{"$f":"V4*W4","v":0},null,null,{"$f":"Y4*Z4","v":0},null,null,{"$f":"AB4*AC4","v":0},null,null,{"$f":"AE4*AF4","v":0},{"$f":"IF(SUM(M4:AG6)>0,1,0)","v":"00:00:00"},null,null,{"$f":"SUM(O4:O6,R4:R6,U4:U6,X4:X6,AA4:AA6,AD4:AD6,AG4:AG6)","v":0}]
[null,null,null,null,null,null,null,null,null,null,null,null,null,null,{"$f":"M5*N5","v":0},null,null,{"$f":"P5*Q5","v":0},null,null,{"$f":"S5*T5","v":0},null,null,{"$f":"V5*W5","v":0},null,null,{"$f":"Y5*Z5","v":0},null,null,{"$f":"AB5*AC5","v":0},null,null,{"$f":"AE5*AF5","v":0}]
[null,null,null,null,null,null,null,null,null,null,null,null,null,null,0,null,null,0,null,null,0,null,null,0,null,null,0,null,null,0,null,null,0]
[null,"Ma",null,0,0,0,0,0,null,null,null,null,null,null,0,null,null,{"$f":"P7*Q7","v":0},null,null,0,null,null,0,null,null,0,null,null,0,null,null,0,{"$f":"IF(SUM(M7:AG9)>0,1,0)","v":"00:00:00"},null,null,{"$f":"SUM(O7:O9,R7:R9,U7:U9,X7:X9,AA7:AA9,AD7:AD9,AG7:AG9)","v":0}]
[null,null,null,null,null,null,null,null,null,null,null,null,null,null,0,null,null,0,null,null,0,null,null,0,null,null,0,null,null,0,null,null,0]
[null,null,null,null,null,null,null,null,null,null,null,null,null,null,0,null,null,0,null,null,0,null,null,0,null,null,0,null,null,0,null,null,0]
[null,"Me",null,0,0,0,0,0,null,null,null,null,null,null,0,null,null,{"$f":"P10*Q10","v":0},null,null,0,null,null,0,null,null,0,null,null,0,null,null,0,{"$f":"IF(SUM(M10:AG12)>0,1,0)","v":"00:00:00"},null,null,{"$f":"SUM(O10:O12,R10:R12,U10:U12,X10:X12,AA10:AA12,AD10:AD12,AG10:AG12)","v":0}]
[null,null,null,null,null,null,null,null,null,null,null,null,null,null,0,null,null,0,null,null,0,null,null,0,null,null,0,null,null,0,null,null,0]
[null,null,null,null,null,null,null,null,null,null,null,null,null,null,0,null,null,0,null,null,0,null,null,0,null,null,0,null,null,0,null,null,0]
[null,"Je",null,0,0,0,0,0,null,null,null,null,null,null,0,null,null,{"$f":"P13*Q13","v":0},null,null,0,null,null,0,null,null,0,null,null,0,null,null,0,{"$f":"IF(SUM(M13:AG15)>0,1,0)","v":"00:00:00"},null,null,{"$f":"SUM(O13:O15,R13:R15,U13:U15,X13:X15,AA13:AA15,AD13:AD15,AG13:AG15)","v":0}]
[null,null,null,null,null,null,null,null,null,null,null,null,null,null,0,null,null,0,null,null,0,null,null,0,null,null,0,null,null,0,null,null,0]
[null,null,null,null,null,null,null,null,null,null,null,null,null,null,0,null,null,0,null,null,0,null,null,0,null,null,0,null,null,0,null,null,0]
[null,"Ve",null,0,0,0,0,0,null,null,null,null,null,null,0,null,null,{"$f":"P16*Q16","v":0},null,null,0,null,null,0,null,null,0,null,null,0,null,null,0,{"$f":"IF(SUM(M16:AG18)>0,1,0)","v":"00:00:00"},null,null,{"$f":"SUM(O16:O18,R16:R18,U16:U18,X16:X18,AA16:AA18,AD16:AD18,AG16:AG18)","v":0}]
[null,null,null,null,null,null,null,null,null,null,null,null,null,null,0,null,null,0,null,null,0,null,null,0,null,null,0,null,null,0,null,null,0]
[null,null,null,null,null,null,null,null,null,null,null,null,null,null,0,null,null,0,null,null,0,null,null,0,null,null,0,null,null,0,null,null,0]
[null,"Sa",null,0,0,0,0,0,null,null,null,null,null,null,{"$f":"M19*N19","v":0},null,null,{"$f":"P19*Q19","v":0},null,null,{"$f":"S19*T19","v":0},null,null,{"$f":"V19*W19","v":0},null,null,{"$f":"Y19*Z19","v":0},null,null,{"$f":"AB19*AC19","v":0},null,null,{"$f":"AE19*AF19","v":0},{"$f":"IF(SUM(M19:AG21)>0,1,0)","v":"00:00:00"},null,null,{"$f":"SUM(O19:O21,R19:R21,U19:U21,X19:X21,AA19:AA21,AD19:AD21,AG19:AG21)","v":0}]
[null,null,null,null,null,null,null,null,null,null,null,null,null,null,{"$f":"M20*N20","v":0},null,null,0,null,null,{"$f":"S20*T20","v":0},null,null,{"$f":"V20*W20","v":0},null,null,{"$f":"Y20*Z20","v":0},null,null,{"$f":"AB20*AC20","v":0},null,null,{"$f":"AE20*AF20","v":0}]
[null,null,null,null,null,null,null,null,null,null,null,null,null,null,0,null,null,0,null,null,0,null,null,0,null,null,0,null,null,0,null,null,0]
[null,"Di",null,0,0,0,0,0,null,null,null,null,null,null,0,null,null,{"$f":"P22*Q22","v":0},null,null,0,null,null,0,null,null,0,null,null,0,null,null,0,{"$f":"IF(SUM(M22:AG24)>0,1,0)","v":"00:00:00"},null,null,{"$f":"SUM(O22:O24,R22:R24,U22:U24,X22:X24,AA22:AA24,AD22:AD24,AG22:AG24)","v":0}]
[null,null,null,null,null,null,null,null,null,null,null,null,null,null,0,null,null,0,null,null,0,null,null,0,null,null,0,null,null,0,null,null,0]
[null,null,null,null,null,null,null,null,null,null,null,null,null,null,0,null,null,0,null,null,0,null,null,0,null,null,0,null,null,0,null,null,0]
[null,null,null,null,null,null,null,null,null,null,"Total",null,{"$f":"SUM(M4:M24)","v":0},null,{"$f":"SUM(O4:O24)","v":0},{"$f":"SUM(P4:P24)","v":0},null,{"$f":"SUM(R4:R24)","v":0},{"$f":"SUM(S4:S24)","v":0},null,{"$f":"SUM(U4:U24)","v":0},{"$f":"SUM(V4:V24)","v":0},null,{"$f":"SUM(X4:X24)","v":0},{"$f":"SUM(Y4:Y24)","v":0},null,{"$f":"SUM(AA4:AA24)","v":0},{"$f":"SUM(AB4:AB24)","v":0},null,{"$f":"SUM(AD4:AD24)","v":0},{"$f":"SUM(AE4:AE24)","v":0},null,{"$f":"SUM(AG4:AG24)","v":0},null,"Charge totale",null,{"$f":"SUM(AK4:AK24)","v":0}]
[null,"avg.",null,{"$f":"IF(COUNTA(D4:D24)=0,\"\",AVERAGE(D4:D24))","v":0},{"$f":"IF(COUNTA(E4:E24)=0,\"\",AVERAGE(E4:E24))","v":0},{"$f":"IF(COUNTA(F4:F24)=0,\"\",AVERAGE(F4:F24))","v":0},{"$f":"IF(COUNTA(G4:G24)=0,\"\",AVERAGE(G4:G24))","v":0},{"$f":"IF(COUNTA(H4:H24)=0,\"\",COUNTIF(H4:H24,\"x\"))","v":0},null,null,"Zone",null,1,2,3,1,2,3,1,2,3,1,2,3,1,2,3,1,2,3,1,2,3,null,"Moyenne",null,{"$f":"AVERAGE(AK4:AK24)","v":0}]
[null,null,null,null,null,{"$f":"IF(COUNTA(F4:F24)=0,\"\",VAR(F4:F24))","v":0},{"$f":"IF(COUNTA(G4:G24)=0,\"\",STDEV(G4:G24))","v":0},"Divergence - durée du sommeil",null,null,"Unité par zone (RPE) ",null,{"$f":"IF('Répartition des intensités'!$AR$25=\"x\",COUNTIF(N4:N24,\"<3,5\"),COUNTIF(N4:N24,\"<4,5\"))","v":0},{"$f":"COUNT(N4:N24)-(M27+O27)","v":0},{"$f":"IF('Répartition des intensités'!$AR$25=\"x\",COUNTIF(N4:N24,\">5,5\"),COUNTIF(N4:N24,\">6,5\"))","v":0},{"$f":"IF('Répartition des intensités'!$AR$25=\"x\",COUNTIF(Q4:Q24,\"<3,5\"),COUNTIF(Q4:Q24,\"<4,5\"))","v":0},{"$f":"COUNT(Q4:Q24)-(P27+R27)","v":0},{"$f":"IF('Répartition des intensités'!$AR$25=\"x\",COUNTIF(Q4:Q24,\">5,5\"),COUNTIF(Q4:Q24,\">6,5\"))","v":0},{"$f":"IF('Répartition des intensités'!$AR$25=\"x\",COUNTIF(T4:T24,\"<3,5\"),COUNTIF(T4:T24,\"<4,5\"))","v":0},{"$f":"COUNT(T4:T24)-(S27+U27)","v":0},{"$f":"IF('Répartition des intensités'!$AR$25=\"x\",COUNTIF(T4:T24,\">5,5\"),COUNTIF(T4:T24,\">6,5\"))","v":0},{"$f":"IF('Répartition des intensités'!$AR$25=\"x\",COUNTIF(W4:W24,\"<3,5\"),COUNTIF(W4:W24,\"<4,5\"))","v":0},{"$f":"COUNT(W4:W24)-(V27+X27)","v":0},{"$f":"IF('Répartition des intensités'!$AR$25=\"x\",COUNTIF(W4:W24,\">5,5\"),COUNTIF(W4:W24,\">6,5\"))","v":0},{"$f":"IF('Répartition des intensités'!$AR$25=\"x\",COUNTIF(Z4:Z24,\"<3,5\"),COUNTIF(Z4:Z24,\"<4,5\"))","v":0},{"$f":"COUNT(Z4:Z24)-(Y27+AA27)","v":0},{"$f":"IF('Répartition des intensités'!$AR$25=\"x\",COUNTIF(Z4:Z24,\">5,5\"),COUNTIF(Z4:Z24,\">6,5\"))","v":0},{"$f":"IF('Répartition des intensités'!$AR$25=\"x\",COUNTIF(AC4:AC24,\"<3,5\"),COUNTIF(AC4:AC24,\"<4,5\"))","v":0},{"$f":"COUNT(AC4:AC24)-(AB27+AD27)","v":0},{"$f":"IF('Répartition des intensités'!$AR$25=\"x\",COUNTIF(AC4:AC24,\">5,5\"),COUNTIF(AC4:AC24,\">6,5\"))","v":0},{"$f":"IF('Répartition des intensités'!$AR$25=\"x\",COUNTIF(AF4:AF24,\"<3,5\"),COUNTIF(AF4:AF24,\"<4,5\"))","v":0},{"$f":"COUNT(AF4:AF24)-(AE27+AG27)","v":0},{"$f":"IF('Répartition des intensités'!$AR$25=\"x\",COUNTIF(AF4:AF24,\">5,5\"),COUNTIF(AF4:AF24,\">6,5\"))","v":0},null,"Divergence",null,{"$f":"STDEVP(AK4:AK24)","v":0}]
[null,null,null,"échelle de Foster",null,null,null,"RPE",null,null,"Temps par zone (RPE)",null,{"$f":"IF('Répartition des intensités'!$AR$25=\"x\",SUMIF(N4:N24,\"<3,5\",M4:M24),SUMIF(N4:N24,\"<4,5\",M4:M24))","v":0},{"$f":"IF(N27=0,0,SUM((M25)-(M28+O28)))","v":0},{"$f":"IF('Répartition des intensités'!$AR$25=\"x\",SUMIF(N4:N24,\">5,5\",M4:M24),SUMIF(N4:N24,\">6,5\",M4:M24))","v":0},{"$f":"IF('Répartition des intensités'!$AR$25=\"x\",SUMIF(Q4:Q24,\"<3,5\",P4:P24),SUMIF(Q4:Q24,\"<4,5\",P4:P24))","v":0},{"$f":"IF(Q27=0,0,SUM((P25)-(P28+R28)))","v":0},{"$f":"IF('Répartition des intensités'!$AR$25=\"x\",SUMIF(Q4:Q24,\">5,5\",P4:P24),SUMIF(Q4:Q24,\">6,5\",P4:P24))","v":0},{"$f":"IF('Répartition des intensités'!$AR$25=\"x\",SUMIF(T4:T24,\"<3,5\",S4:S24),SUMIF(T4:T24,\"<4,5\",S4:S24))","v":0},{"$f":"IF(T27=0,0,SUM((S25)-(S28+U28)))","v":0},{"$f":"IF('Répartition des intensités'!$AR$25=\"x\",SUMIF(T4:T24,\">5,5\",S4:S24),SUMIF(T4:T24,\">6,5\",S4:S24))","v":0},{"$f":"IF('Répartition des intensités'!$AR$25=\"x\",SUMIF(W4:W24,\"<3,5\",V4:V24),SUMIF(W4:W24,\"<4,5\",V4:V24))","v":0},{"$f":"IF(W27=0,0,SUM((V25)-(V28+X28)))","v":0},{"$f":"IF('Répartition des intensités'!$AR$25=\"x\",SUMIF(W4:W24,\">5,5\",V4:V24),SUMIF(W4:W24,\">6,5\",V4:V24))","v":0},{"$f":"IF('Répartition des intensités'!$AR$25=\"x\",SUMIF(Z4:Z24,\"<3,5\",Y4:Y24),SUMIF(Z4:Z24,\"<4,5\",Y4:Y24))","v":0},{"$f":"IF(Z27=0,0,SUM((Y25)-(Y28+AA28)))","v":0},{"$f":"IF('Répartition des intensités'!$AR$25=\"x\",SUMIF(Z4:Z24,\">5,5\",Y4:Y24),SUMIF(Z4:Z24,\">6,5\",Y4:Y24))","v":0},{"$f":"IF('Répartition des intensités'!$AR$25=\"x\",SUMIF(AC4:AC24,\"<3,5\",AB4:AB24),SUMIF(AC4:AC24,\"<4,5\",AB4:AB24))","v":0},{"$f":"IF(AC27=0,0,SUM((AB25)-(AB28+AD28)))","v":0},{"$f":"IF('Répartition des intensités'!$AR$25=\"x\",SUMIF(AC4:AC24,\">5,5\",AB4:AB24),SUMIF(AC4:AC24,\">6,5\",AB4:AB24))","v":0},{"$f":"IF('Répartition des intensités'!$AR$25=\"x\",SUMIF(AF4:AF24,\"<3,5\",AE4:AE24),SUMIF(AF4:AF24,\"<4,5\",AE4:AE24))","v":0},{"$f":"IF(AF27=0,0,SUM((AE25)-(AE28+AG28)))","v":0},{"$f":"IF('Répartition des intensités'!$AR$25=\"x\",SUMIF(AF4:AF24,\">5,5\",AE4:AE24),SUMIF(AF4:AF24,\">6,5\",AE4:AE24))","v":0}]
[null,null,null,"Comme au repos",null,null,null,0,null,"REG","Est-ce que j'ai l'impression d'avoir récupéré en me levant?"]
[null,null,null,"très facile",null,null,null,1]
[null,null,null,"facile",null,null,null,2,null,1,"… pas du tout récupéré",null,null,null,null,null,null,null,null,null,null,null,null,null,null,null,null,null,null,null,null,null,null,null,"Entrainements",null,null,null,"Rapport de santé"]
[null,null,null,null,null,null,null,3,null,2,"… un peu récupéré",null,null,null,null,null,null,null,null,null,null,null,null,null,null,null,null,null,null,null,null,null,null,null,"Jours d'entrainement",null,{"$f":"IF(SUM(AH4:AH24)=0,\"\",SUM(AH4:AH24))","v":""}]
[null,null,null,"Assez dur",null,null,null,4,null,3,"… récupéré",null,null,null,null,null,null,null,null,null,null,{"$f":"B4","v":"Lu"},{"$f":"AK4","v":0},null,null,null,null,null,null,null,null,null,null,null,"Entrainements",null,{"$f":"IF(AK32=\"\",\"\",SUM(M27:AG27))","v":""}]
[null,null,null,"dur",null,null,null,5,null,4,"…  en forme",null,null,null,null,null,null,null,null,null,null,{"$f":"B7","v":"Ma"},{"$f":"AK7","v":0},null,null,null,null,null,null,null,null,null,null,null,"Heures d'entrainement",null,{"$f":"IF(AK32=\"\",\"\",SUM(M25,P25,S25,Y25,AB25,V25,AE25)/60)","v":""},null,{"$f":"IF($AK$32=\"\",\"\",AK32-AM36-AM44-AM52)","v":""},"Aucune limitation",null,null,null,0]
[null,null,null,null,null,null,null,6,null,5,"… très en forme",null,null,null,null,null,null,null,null,null,null,{"$f":"B10","v":"Me"},{"$f":"AK10","v":0},null,null,null,null,null,null,null,null,null,null,null,"Charge de l'entrainement",null,{"$f":"IF(AK32=\"\",\"\",SUM(AK25))","v":""}]
[null,null,null,"très dur",null,null,null,7,null,null,null,null,null,null,null,null,null,null,null,null,null,{"$f":"B13","v":"Je"},{"$f":"AK13","v":0},null,null,null,null,null,null,null,null,null,null,null,"Monotonie",null,{"$f":"IF(AK27=0,0,(AVERAGE(AK4:AK24))/AK27)","v":0},null,{"$f":"SUM(AM37:AM42)","v":0},"Limitation pour cause de douleurs"]
[null,null,null,null,null,null,null,8,null,"Nombre de matchs",null,null,null,null,null,null,null,null,null,null,null,{"$f":"B16","v":"Ve"},{"$f":"AK16","v":0},null,null,null,null,null,null,null,null,null,null,null,"Efforts à l'entrainement",null,{"$f":"IF(AK32=\"\",\"\",AK35*AK36)","v":""},null,{"$f":"COUNTIF($H$4:$H$24,$AR37)","v":0},"Doigt",null,null,null,1]
[null,null,null,"extrèmement dur",null,null,null,9,null,null,null,null,null,null,null,null,null,null,null,null,null,{"$f":"B19","v":"Sa"},{"$f":"AK19","v":0},null,null,null,null,null,null,null,null,null,null,null,null,null,null,null,0,"Épaule",null,null,null,2]
[null,null,null,"Comme mon entrainement le plus dur",null,null,null,10,null,1,"… 3 sets et plus",null,null,null,null,null,null,null,null,null,null,{"$f":"B22","v":"Di"},{"$f":"AK22","v":0},null,null,null,null,null,null,null,null,null,null,null,"Compétition",null,null,null,0,"Dos",null,null,null,3]
[null,null,null,null,null,null,null,null,null,0.5,"… moins de 3 sets",null,null,null,null,null,null,null,null,null,null,null,null,null,null,null,null,null,null,null,null,null,null,null,"Matchs de volleyball",null,{"$f":"IF(AK32=\"\",\"\",SUM(AM4:AM24))","v":""},null,0,"Genou",null,null,null,4]
[null,null,null,null,null,null,null,null,null,null,null,null,null,null,null,null,null,null,null,null,null,null,null,null,null,null,null,null,null,null,null,null,null,null,"Sets de volleyball",null,{"$f":"IF(AK32=\"\",\"\",SUM(AN4:AN24))","v":""},null,0,"Cheville",null,null,null,5]
[null,null,null,null,null,null,null,null,null,"Sets joués",null,null,null,null,null,null,null,null,null,null,null,null,null,null,null,null,null,null,null,null,null,null,null,null,"Matchs de beach volley",null,{"$f":"IF(AK35=\"\",\"\",SUM(AO4:AO24))","v":""},null,0,"Autre",null,null,null,6]
[null,null,null,null,null,null,null,null,null,1,"… depuis le début et durant tout le set",null,null,null,null,null,null,null,null,null,null,null,null,null,null,null,null,null,null,null,null,null,null,null,"Sets de beach volley",null,{"$f":"IF(AK35=\"\",\"\",SUM(AP4:AP24))","v":""}]
[null,null,null,null,null,null,null,null,null,0.5,"… entré/sorti en cours, beaucoup joué",null,null,null,null,null,null,null,null,null,null,null,null,null,null,null,null,null,null,null,null,null,null,null,null,null,null,null,{"$f":"SUM(AM45:AM50)","v":0},"Absence pour cause de blessure"]
[null,null,null,null,null,null,null,null,null,0.1,"… entré/sorti en cours, peu joué",null,null,null,null,null,null,null,null,null,null,null,null,null,null,null,null,null,null,null,null,null,null,null,"Satisfaction",null,null,null,{"$f":"COUNTIF($H$4:$H$24,$AR45)","v":0},"Doigt",null,null,null,11]
[null,null,null,null,null,null,null,null,null,null,null,null,null,null,null,null,null,null,null,null,null,null,null,null,null,null,null,null,null,null,null,null,null,null,"Satisfaction de l'entrainement/match J",null,{"$f":"IF(AK32=\"\",\"\",SUM(AQ4:AQ24)/AK32)","v":""},null,0,"Épaule",null,null,null,12]
[null,null,null,null,null,null,null,null,null,"J","Es-tu content de la qualité de ton",null,null,null,null,null,null,null,null,null,null,null,null,null,null,null,null,null,null,null,null,null,null,null,null,null,null,null,0,"Dos",null,null,null,13]
[null,null,null,null,null,null,null,null,null,null,"entrainement/compétition?",null,null,null,null,null,null,null,null,null,null,null,null,null,null,null,null,null,null,null,null,null,null,null,"Santé",null,null,null,0,"Genou",null,null,null,14]
[null,null,null,null,null,null,null,null,null,1,"… pas content",null,null,null,null,null,null,null,null,null,null,null,null,null,null,null,null,null,null,null,null,null,null,null,"Limitation pour cause de douleurs",null,{"$f":"AM36","v":0},null,0,"Cheville",null,null,null,15]
[null,null,null,null,null,null,null,null,null,2,"… plutôt pas content",null,null,null,null,null,null,null,null,null,null,null,null,null,null,null,null,null,null,null,null,null,null,null,"Absence pour cause de blessure",null,{"$f":"AM44","v":0},null,0,"Autre",null,null,null,16]
[null,null,null,null,null,null,null,null,null,3,"… moyen",null,null,null,null,null,null,null,null,null,null,null,null,null,null,null,null,null,null,null,null,null,null,null,"Absence pour cause de maladie",null,{"$f":"AM52","v":0}]
[null,null,null,null,null,null,null,null,null,4,"… content",null,null,null,null,null,null,null,null,null,null,null,null,null,null,null,null,null,null,null,null,null,null,null,null,null,null,null,{"$f":"SUM(AM53:AM59)","v":0},"Absence pour cause de maladie"]
[null,null,null,null,null,null,null,null,null,5,"… très content!",null,null,null,null,null,null,null,null,null,null,null,null,null,null,null,null,null,null,null,null,null,null,null,null,null,null,null,{"$f":"COUNTIF($H$4:$H$24,$AR53)","v":0},"Maladie",null,null,null,21]
[]
[]
[]
[]
[]
[]
[]
[]
[]
[]
[]
[]
[]
[]
[]
[]
[]
[]
[]
[]
[]
[]
[]
[]
[]
[]
[]
[]
[]
[]
[]
[]
[]
[]
[]
[]
[]
[]
[]
[]
[]
[]
[]
[]
[]
[]
[]
[]
[]
[]
[]
[]
[]
[]
[]
[]
[]
[]
[]
[]
[]
[]
[]
[]
[]
[]
[]
[]
[]
[]
[]
[]
[]
[]
[]
[]
[]
[]
[]
[]
[null,null,null,null,null,null,null,null,null,null,null,null,null,null,null,null,null,null,null,null,null,null,null,null,{"$f":"Z134-1","v":19},20,21,22,23,24,25,{"$f":"D1","v":26}]
[]
[]
[]
[]
[]
[]
[]
[]
[]
[]
[]
[]
[]
[]
[]
[]
[]
[]
[]
[]
[null,null,null,null,null,null,null,null,null,null,null,null,null,null,null,null,null,null,null,null,null,null,null,null,null,null,null,null,null,null,null,null,{"$f":"AF134+1","v":27}]

{"sheet":"27","index":55,"n_rows":155,"n_cols":45,"rows_kept":155,"cut":false,"hidden":false,"merged":[[1,43,2,43],[30,34,30,36],[30,38,31,43],[0,5,0,6],[1,44,2,44],[1,15,1,17],[28,10,29,10],[29,21,29,26],[36,9,37,9],[1,41,2,41],[21,6,23,6],[21,9,21,10],[23,9,23,10],[21,7,23,7],[1,12,1,14],[7,9,7,10],[1,38,2,38],[1,24,1,26],[1,18,1,20],[1,30,1,32],[1,27,1,29],[27,3,27,6],[28,3,28,6],[37,3,37,6],[30,3,30,6],[31,3,31,6],[32,3,32,6],[33,3,33,6],[34,3,34,6],[35,3,35,6],[36,3,36,6],[38,3,38,6],[46,9,47,9],[18,36,20,36],[1,40,2,40],[3,36,5,36],[1,36,2,36],[20,9,20,10],[5,9,5,10],[1,39,2,39],[21,36,23,36],[9,36,11,36],[12,36,14,36],[15,36,17,36],[28,9,29,9],[16,9,16,10],[15,9,15,10],[10,9,10,10],[29,3,29,6],[15,5,17,5],[12,4,14,4],[6,36,8,36],[3,3,5,3],[3,6,5,6],[3,9,3,10],[4,9,4,10],[17,9,17,10],[22,9,22,10],[18,9,18,10],[19,9,19,10],[9,6,11,6],[9,9,9,10],[6,4,8,4],[9,7,11,7],[9,4,11,4],[11,9,11,10],[3,4,5,4],[3,7,5,7],[12,7,14,7],[9,5,11,5],[12,5,14,5],[21,1,23,1],[15,7,17,7],[15,1,17,1],[15,3,17,3],[15,6,17,6],[15,4,17,4],[18,5,20,5],[18,1,20,1],[18,3,20,3],[21,5,23,5],[21,3,23,3],[21,4,23,4],[18,7,20,7],[18,4,20,4],[18,6,20,6],[1,1,2,1],[9,1,11,1],[9,3,11,3],[38,34,38,36],[44,34,44,36],[47,34,47,36],[12,1,14,1],[6,3,8,3],[6,6,8,6],[6,9,6,10],[8,9,8,10],[6,5,8,5],[6,1,8,1],[6,7,8,7],[1,34,2,34],[1,21,1,23],[1,9,2,10],[3,1,5,1],[3,5,5,5],[12,3,14,3],[12,6,14,6],[12,9,12,10],[13,9,13,10],[14,9,14,10]]}
[null,null,"Woche",{"$f":"INT(MOD(INT((F1-2)/7)+0.6,52+5/28))+1","v":27},{"$f":"D1+1000","v":1027},{"$f":"'26'!F1+7","v":"2019-07-01"},null,"-",null,{"$f":"F1+6","v":"2019-07-07"},null,null,null,null,null,null,null,null,null,null,null,null,null,null,null,null,null,null,null,null,null,null,{"$f":"'Aperçu de la charge'!D2","v":"Prénom Nom"},null,{"$f":"'Aperçu de la charge'!N2","v":"2018/2019"}]
[null,"Jour",null,"Poids","REG","qualité sommeil","durée sommeil","Santé",null,"Description de l'entrainement",null,null,"Club - VB",null,null,"TS/ Nati - VB",null,null,"Club - BVB",null,null,"TS/ Nati - BVB",null,null,"Force - fitness",null,null,"Compet. - VB",null,null,"Compet. - BVB",null,null,null,"Réflexion",null,"Charge/\njour",null,"matchs VB","Sets VB","Matchs BVB","Sets BVB","J","Autre\n (Rég, mentale)","Mental- oder Sonstiges Training"]
[null,null,null,"[kg]","[1 - 5]","[1-5]","[Std]","Nr.",null,null,null,null,"Durée","RPE","Charge","Durée","RPE","Charge","Durée","RPE","Charge","Durée","RPE","Charge","Durée","RPE","Charge","Durée","RPE","Charge","Durée","RPE","Charge",null,null,null,null,null,null,null,null,null,"[1-5]"]
[null,"Lu",null,0,0,0,0,0,null,null,null,null,null,null,{"$f":"M4*N4","v":0},null,null,{"$f":"P4*Q4","v":0},null,null,{"$f":"S4*T4","v":0},null,null,{"$f":"V4*W4","v":0},null,null,{"$f":"Y4*Z4","v":0},null,null,{"$f":"AB4*AC4","v":0},null,null,{"$f":"AE4*AF4","v":0},{"$f":"IF(SUM(M4:AG6)>0,1,0)","v":"00:00:00"},null,null,{"$f":"SUM(O4:O6,R4:R6,U4:U6,X4:X6,AA4:AA6,AD4:AD6,AG4:AG6)","v":0}]
[null,null,null,null,null,null,null,null,null,null,null,null,null,null,{"$f":"M5*N5","v":0},null,null,{"$f":"P5*Q5","v":0},null,null,{"$f":"S5*T5","v":0},null,null,{"$f":"V5*W5","v":0},null,null,{"$f":"Y5*Z5","v":0},null,null,{"$f":"AB5*AC5","v":0},null,null,{"$f":"AE5*AF5","v":0}]
[null,null,null,null,null,null,null,null,null,null,null,null,null,null,0,null,null,0,null,null,0,null,null,0,null,null,0,null,null,0,null,null,0]
[null,"Ma",null,0,0,0,0,0,null,null,null,null,null,null,0,null,null,{"$f":"P7*Q7","v":0},null,null,0,null,null,0,null,null,0,null,null,0,null,null,0,{"$f":"IF(SUM(M7:AG9)>0,1,0)","v":"00:00:00"},null,null,{"$f":"SUM(O7:O9,R7:R9,U7:U9,X7:X9,AA7:AA9,AD7:AD9,AG7:AG9)","v":0}]
[null,null,null,null,null,null,null,null,null,null,null,null,null,null,0,null,null,0,null,null,0,null,null,0,null,null,0,null,null,0,null,null,0]
[null,null,null,null,null,null,null,null,null,null,null,null,null,null,0,null,null,0,null,null,0,null,null,0,null,null,0,null,null,0,null,null,0]
[null,"Me",null,0,0,0,0,0,null,null,null,null,null,null,0,null,null,{"$f":"P10*Q10","v":0},null,null,0,null,null,0,null,null,0,null,null,0,null,null,0,{"$f":"IF(SUM(M10:AG12)>0,1,0)","v":"00:00:00"},null,null,{"$f":"SUM(O10:O12,R10:R12,U10:U12,X10:X12,AA10:AA12,AD10:AD12,AG10:AG12)","v":0}]
[null,null,null,null,null,null,null,null,null,null,null,null,null,null,0,null,null,0,null,null,0,null,null,0,null,null,0,null,null,0,null,null,0]
[null,null,null,null,null,null,null,null,null,null,null,null,null,null,0,null,null,0,null,null,0,null,null,0,null,null,0,null,null,0,null,null,0]
[null,"Je",null,0,0,0,0,0,null,null,null,null,null,null,0,null,null,{"$f":"P13*Q13","v":0},null,null,0,null,null,0,null,null,0,null,null,0,null,null,0,{"$f":"IF(SUM(M13:AG15)>0,1,0)","v":"00:00:00"},null,null,{"$f":"SUM(O13:O15,R13:R15,U13:U15,X13:X15,AA13:AA15,AD13:AD15,AG13:AG15)","v":0}]
[null,null,null,null,null,null,null,null,null,null,null,null,null,null,0,null,null,0,null,null,0,null,null,0,null,null,0,null,null,0,null,null,0]
[null,null,null,null,null,null,null,null,null,null,null,null,null,null,0,null,null,0,null,null,0,null,null,0,null,null,0,null,null,0,null,null,0]
[null,"Ve",null,0,0,0,0,0,null,null,null,null,null,null,0,null,null,{"$f":"P16*Q16","v":0},null,null,0,null,null,0,null,null,0,null,null,0,null,null,0,{"$f":"IF(SUM(M16:AG18)>0,1,0)","v":"00:00:00"},null,null,{"$f":"SUM(O16:O18,R16:R18,U16:U18,X16:X18,AA16:AA18,AD16:AD18,AG16:AG18)","v":0}]
[null,null,null,null,null,null,null,null,null,null,null,null,null,null,0,null,null,0,null,null,0,null,null,0,null,null,0,null,null,0,null,null,0]
[null,null,null,null,null,null,null,null,null,null,null,null,null,null,0,null,null,0,null,null,0,null,null,0,null,null,0,null,null,0,null,null,0]
[null,"Sa",null,0,0,0,0,0,null,null,null,null,null,null,{"$f":"M19*N19","v":0},null,null,{"$f":"P19*Q19","v":0},null,null,{"$f":"S19*T19","v":0},null,null,{"$f":"V19*W19","v":0},null,null,{"$f":"Y19*Z19","v":0},null,null,{"$f":"AB19*AC19","v":0},null,null,{"$f":"AE19*AF19","v":0},{"$f":"IF(SUM(M19:AG21)>0,1,0)","v":"00:00:00"},null,null,{"$f":"SUM(O19:O21,R19:R21,U19:U21,X19:X21,AA19:AA21,AD19:AD21,AG19:AG21)","v":0}]
[null,null,null,null,null,null,null,null,null,null,null,null,null,null,{"$f":"M20*N20","v":0},null,null,0,null,null,{"$f":"S20*T20","v":0},null,null,{"$f":"V20*W20","v":0},null,null,{"$f":"Y20*Z20","v":0},null,null,{"$f":"AB20*AC20","v":0},null,null,{"$f":"AE20*AF20","v":0}]
[null,null,null,null,null,null,null,null,null,null,null,null,null,null,0,null,null,0,null,null,0,null,null,0,null,null,0,null,null,0,null,null,0]
[null,"Di",null,0,0,0,0,0,null,null,null,null,null,null,0,null,null,{"$f":"P22*Q22","v":0},null,null,0,null,null,0,null,null,0,null,null,0,null,null,0,{"$f":"IF(SUM(M22:AG24)>0,1,0)","v":"00:00:00"},null,null,{"$f":"SUM(O22:O24,R22:R24,U22:U24,X22:X24,AA22:AA24,AD22:AD24,AG22:AG24)","v":0}]
[null,null,null,null,null,null,null,null,null,null,null,null,null,null,0,null,null,0,null,null,0,null,null,0,null,null,0,null,null,0,null,null,0]
[null,null,null,null,null,null,null,null,null,null,null,null,null,null,0,null,null,0,null,null,0,null,null,0,null,null,0,null,null,0,null,null,0]
[null,null,null,null,null,null,null,null,null,null,"Total",null,{"$f":"SUM(M4:M24)","v":0},null,{"$f":"SUM(O4:O24)","v":0},{"$f":"SUM(P4:P24)","v":0},null,{"$f":"SUM(R4:R24)","v":0},{"$f":"SUM(S4:S24)","v":0},null,{"$f":"SUM(U4:U24)","v":0},{"$f":"SUM(V4:V24)","v":0},null,{"$f":"SUM(X4:X24)","v":0},{"$f":"SUM(Y4:Y24)","v":0},null,{"$f":"SUM(AA4:AA24)","v":0},{"$f":"SUM(AB4:AB24)","v":0},null,{"$f":"SUM(AD4:AD24)","v":0},{"$f":"SUM(AE4:AE24)","v":0},null,{"$f":"SUM(AG4:AG24)","v":0},null,"Charge totale",null,{"$f":"SUM(AK4:AK24)","v":0}]
[null,"avg.",null,{"$f":"IF(COUNTA(D4:D24)=0,\"\",AVERAGE(D4:D24))","v":0},{"$f":"IF(COUNTA(E4:E24)=0,\"\",AVERAGE(E4:E24))","v":0},{"$f":"IF(COUNTA(F4:F24)=0,\"\",AVERAGE(F4:F24))","v":0},{"$f":"IF(COUNTA(G4:G24)=0,\"\",AVERAGE(G4:G24))","v":0},{"$f":"IF(COUNTA(H4:H24)=0,\"\",COUNTIF(H4:H24,\"x\"))","v":0},null,null,"Zone",null,1,2,3,1,2,3,1,2,3,1,2,3,1,2,3,1,2,3,1,2,3,null,"Moyenne",null,{"$f":"AVERAGE(AK4:AK24)","v":0}]
[null,null,null,null,null,{"$f":"IF(COUNTA(F4:F24)=0,\"\",VAR(F4:F24))","v":0},{"$f":"IF(COUNTA(G4:G24)=0,\"\",STDEV(G4:G24))","v":0},"Divergence - durée du sommeil",null,null,"Unité par zone (RPE) ",null,{"$f":"IF('Répartition des intensités'!$AR$25=\"x\",COUNTIF(N4:N24,\"<3,5\"),COUNTIF(N4:N24,\"<4,5\"))","v":0},{"$f":"COUNT(N4:N24)-(M27+O27)","v":0},{"$f":"IF('Répartition des intensités'!$AR$25=\"x\",COUNTIF(N4:N24,\">5,5\"),COUNTIF(N4:N24,\">6,5\"))","v":0},{"$f":"IF('Répartition des intensités'!$AR$25=\"x\",COUNTIF(Q4:Q24,\"<3,5\"),COUNTIF(Q4:Q24,\"<4,5\"))","v":0},{"$f":"COUNT(Q4:Q24)-(P27+R27)","v":0},{"$f":"IF('Répartition des intensités'!$AR$25=\"x\",COUNTIF(Q4:Q24,\">5,5\"),COUNTIF(Q4:Q24,\">6,5\"))","v":0},{"$f":"IF('Répartition des intensités'!$AR$25=\"x\",COUNTIF(T4:T24,\"<3,5\"),COUNTIF(T4:T24,\"<4,5\"))","v":0},{"$f":"COUNT(T4:T24)-(S27+U27)","v":0},{"$f":"IF('Répartition des intensités'!$AR$25=\"x\",COUNTIF(T4:T24,\">5,5\"),COUNTIF(T4:T24,\">6,5\"))","v":0},{"$f":"IF('Répartition des intensités'!$AR$25=\"x\",COUNTIF(W4:W24,\"<3,5\"),COUNTIF(W4:W24,\"<4,5\"))","v":0},{"$f":"COUNT(W4:W24)-(V27+X27)","v":0},{"$f":"IF('Répartition des intensités'!$AR$25=\"x\",COUNTIF(W4:W24,\">5,5\"),COUNTIF(W4:W24,\">6,5\"))","v":0},{"$f":"IF('Répartition des intensités'!$AR$25=\"x\",COUNTIF(Z4:Z24,\"<3,5\"),COUNTIF(Z4:Z24,\"<4,5\"))","v":0},{"$f":"COUNT(Z4:Z24)-(Y27+AA27)","v":0},{"$f":"IF('Répartition des intensités'!$AR$25=\"x\",COUNTIF(Z4:Z24,\">5,5\"),COUNTIF(Z4:Z24,\">6,5\"))","v":0},{"$f":"IF('Répartition des intensités'!$AR$25=\"x\",COUNTIF(AC4:AC24,\"<3,5\"),COUNTIF(AC4:AC24,\"<4,5\"))","v":0},{"$f":"COUNT(AC4:AC24)-(AB27+AD27)","v":0},{"$f":"IF('Répartition des intensités'!$AR$25=\"x\",COUNTIF(AC4:AC24,\">5,5\"),COUNTIF(AC4:AC24,\">6,5\"))","v":0},{"$f":"IF('Répartition des intensités'!$AR$25=\"x\",COUNTIF(AF4:AF24,\"<3,5\"),COUNTIF(AF4:AF24,\"<4,5\"))","v":0},{"$f":"COUNT(AF4:AF24)-(AE27+AG27)","v":0},{"$f":"IF('Répartition des intensités'!$AR$25=\"x\",COUNTIF(AF4:AF24,\">5,5\"),COUNTIF(AF4:AF24,\">6,5\"))","v":0},null,"Divergence",null,{"$f":"STDEVP(AK4:AK24)","v":0}]
[null,null,null,"échelle de Foster",null,null,null,"RPE",null,null,"Temps par zone (RPE)",null,{"$f":"IF('Répartition des intensités'!$AR$25=\"x\",SUMIF(N4:N24,\"<3,5\",M4:M24),SUMIF(N4:N24,\"<4,5\",M4:M24))","v":0},{"$f":"IF(N27=0,0,SUM((M25)-(M28+O28)))","v":0},{"$f":"IF('Répartition des intensités'!$AR$25=\"x\",SUMIF(N4:N24,\">5,5\",M4:M24),SUMIF(N4:N24,\">6,5\",M4:M24))","v":0},{"$f":"IF('Répartition des intensités'!$AR$25=\"x\",SUMIF(Q4:Q24,\"<3,5\",P4:P24),SUMIF(Q4:Q24,\"<4,5\",P4:P24))","v":0},{"$f":"IF(Q27=0,0,SUM((P25)-(P28+R28)))","v":0},{"$f":"IF('Répartition des intensités'!$AR$25=\"x\",SUMIF(Q4:Q24,\">5,5\",P4:P24),SUMIF(Q4:Q24,\">6,5\",P4:P24))","v":0},{"$f":"IF('Répartition des intensités'!$AR$25=\"x\",SUMIF(T4:T24,\"<3,5\",S4:S24),SUMIF(T4:T24,\"<4,5\",S4:S24))","v":0},{"$f":"IF(T27=0,0,SUM((S25)-(S28+U28)))","v":0},{"$f":"IF('Répartition des intensités'!$AR$25=\"x\",SUMIF(T4:T24,\">5,5\",S4:S24),SUMIF(T4:T24,\">6,5\",S4:S24))","v":0},{"$f":"IF('Répartition des intensités'!$AR$25=\"x\",SUMIF(W4:W24,\"<3,5\",V4:V24),SUMIF(W4:W24,\"<4,5\",V4:V24))","v":0},{"$f":"IF(W27=0,0,SUM((V25)-(V28+X28)))","v":0},{"$f":"IF('Répartition des intensités'!$AR$25=\"x\",SUMIF(W4:W24,\">5,5\",V4:V24),SUMIF(W4:W24,\">6,5\",V4:V24))","v":0},{"$f":"IF('Répartition des intensités'!$AR$25=\"x\",SUMIF(Z4:Z24,\"<3,5\",Y4:Y24),SUMIF(Z4:Z24,\"<4,5\",Y4:Y24))","v":0},{"$f":"IF(Z27=0,0,SUM((Y25)-(Y28+AA28)))","v":0},{"$f":"IF('Répartition des intensités'!$AR$25=\"x\",SUMIF(Z4:Z24,\">5,5\",Y4:Y24),SUMIF(Z4:Z24,\">6,5\",Y4:Y24))","v":0},{"$f":"IF('Répartition des intensités'!$AR$25=\"x\",SUMIF(AC4:AC24,\"<3,5\",AB4:AB24),SUMIF(AC4:AC24,\"<4,5\",AB4:AB24))","v":0},{"$f":"IF(AC27=0,0,SUM((AB25)-(AB28+AD28)))","v":0},{"$f":"IF('Répartition des intensités'!$AR$25=\"x\",SUMIF(AC4:AC24,\">5,5\",AB4:AB24),SUMIF(AC4:AC24,\">6,5\",AB4:AB24))","v":0},{"$f":"IF('Répartition des intensités'!$AR$25=\"x\",SUMIF(AF4:AF24,\"<3,5\",AE4:AE24),SUMIF(AF4:AF24,\"<4,5\",AE4:AE24))","v":0},{"$f":"IF(AF27=0,0,SUM((AE25)-(AE28+AG28)))","v":0},{"$f":"IF('Répartition des intensités'!$AR$25=\"x\",SUMIF(AF4:AF24,\">5,5\",AE4:AE24),SUMIF(AF4:AF24,\">6,5\",AE4:AE24))","v":0}]
[null,null,null,"Comme au repos",null,null,null,0,null,"REG","Est-ce que j'ai l'impression d'avoir récupéré en me levant?"]
[null,null,null,"très facile",null,null,null,1]
[null,null,null,"facile",null,null,null,2,null,1,"… pas du tout récupéré",null,null,null,null,null,null,null,null,null,null,null,null,null,null,null,null,null,null,null,null,null,null,null,"Entrainements",null,null,null,"Rapport de santé"]
[null,null,null,null,null,null,null,3,null,2,"… un peu récupéré",null,null,null,null,null,null,null,null,null,null,null,null,null,null,null,null,null,null,null,null,null,null,null,"Jours d'entrainement",null,{"$f":"IF(SUM(AH4:AH24)=0,\"\",SUM(AH4:AH24))","v":""}]
[null,null,null,"Assez dur",null,null,null,4,null,3,"… récupéré",null,null,null,null,null,null,null,null,null,null,{"$f":"B4","v":"Lu"},{"$f":"AK4","v":0},null,null,null,null,null,null,null,null,null,null,null,"Entrainements",null,{"$f":"IF(AK32=\"\",\"\",SUM(M27:AG27))","v":""}]
[null,null,null,"dur",null,null,null,5,null,4,"…  en forme",null,null,null,null,null,null,null,null,null,null,{"$f":"B7","v":"Ma"},{"$f":"AK7","v":0},null,null,null,null,null,null,null,null,null,null,null,"Heures d'entrainement",null,{"$f":"IF(AK32=\"\",\"\",SUM(M25,P25,S25,Y25,AB25,V25,AE25)/60)","v":""},null,{"$f":"IF($AK$32=\"\",\"\",AK32-AM36-AM44-AM52)","v":""},"Aucune limitation",null,null,null,0]
[null,null,null,null,null,null,null,6,null,5,"… très en forme",null,null,null,null,null,null,null,null,null,null,{"$f":"B10","v":"Me"},{"$f":"AK10","v":0},null,null,null,null,null,null,null,null,null,null,null,"Charge de l'entrainement",null,{"$f":"IF(AK32=\"\",\"\",SUM(AK25))","v":""}]
[null,null,null,"très dur",null,null,null,7,null,null,null,null,null,null,null,null,null,null,null,null,null,{"$f":"B13","v":"Je"},{"$f":"AK13","v":0},null,null,null,null,null,null,null,null,null,null,null,"Monotonie",null,{"$f":"IF(AK27=0,0,(AVERAGE(AK4:AK24))/AK27)","v":0},null,{"$f":"SUM(AM37:AM42)","v":0},"Limitation pour cause de douleurs"]
[null,null,null,null,null,null,null,8,null,"Nombre de matchs",null,null,null,null,null,null,null,null,null,null,null,{"$f":"B16","v":"Ve"},{"$f":"AK16","v":0},null,null,null,null,null,null,null,null,null,null,null,"Efforts à l'entrainement",null,{"$f":"IF(AK32=\"\",\"\",AK35*AK36)","v":""},null,{"$f":"COUNTIF($H$4:$H$24,$AR37)","v":0},"Doigt",null,null,null,1]
[null,null,null,"extrèmement dur",null,null,null,9,null,null,null,null,null,null,null,null,null,null,null,null,null,{"$f":"B19","v":"Sa"},{"$f":"AK19","v":0},null,null,null,null,null,null,null,null,null,null,null,null,null,null,null,0,"Épaule",null,null,null,2]
[null,null,null,"Comme mon entrainement le plus dur",null,null,null,10,null,1,"… 3 sets et plus",null,null,null,null,null,null,null,null,null,null,{"$f":"B22","v":"Di"},{"$f":"AK22","v":0},null,null,null,null,null,null,null,null,null,null,null,"Compétition",null,null,null,0,"Dos",null,null,null,3]
[null,null,null,null,null,null,null,null,null,0.5,"… moins de 3 sets",null,null,null,null,null,null,null,null,null,null,null,null,null,null,null,null,null,null,null,null,null,null,null,"Matchs de volleyball",null,{"$f":"IF(AK32=\"\",\"\",SUM(AM4:AM24))","v":""},null,0,"Genou",null,null,null,4]
[null,null,null,null,null,null,null,null,null,null,null,null,null,null,null,null,null,null,null,null,null,null,null,null,null,null,null,null,null,null,null,null,null,null,"Sets de volleyball",null,{"$f":"IF(AK32=\"\",\"\",SUM(AN4:AN24))","v":""},null,0,"Cheville",null,null,null,5]
[null,null,null,null,null,null,null,null,null,"Sets joués",null,null,null,null,null,null,null,null,null,null,null,null,null,null,null,null,null,null,null,null,null,null,null,null,"Matchs de beach volley",null,{"$f":"IF(AK35=\"\",\"\",SUM(AO4:AO24))","v":""},null,0,"Autre",null,null,null,6]
[null,null,null,null,null,null,null,null,null,1,"… depuis le début et durant tout le set",null,null,null,null,null,null,null,null,null,null,null,null,null,null,null,null,null,null,null,null,null,null,null,"Sets de beach volley",null,{"$f":"IF(AK35=\"\",\"\",SUM(AP4:AP24))","v":""}]
[null,null,null,null,null,null,null,null,null,0.5,"… entré/sorti en cours, beaucoup joué",null,null,null,null,null,null,null,null,null,null,null,null,null,null,null,null,null,null,null,null,null,null,null,null,null,null,null,{"$f":"SUM(AM45:AM50)","v":0},"Absence pour cause de blessure"]
[null,null,null,null,null,null,null,null,null,0.1,"… entré/sorti en cours, peu joué",null,null,null,null,null,null,null,null,null,null,null,null,null,null,null,null,null,null,null,null,null,null,null,"Satisfaction",null,null,null,{"$f":"COUNTIF($H$4:$H$24,$AR45)","v":0},"Doigt",null,null,null,11]
[null,null,null,null,null,null,null,null,null,null,null,null,null,null,null,null,null,null,null,null,null,null,null,null,null,null,null,null,null,null,null,null,null,null,"Satisfaction de l'entrainement/match J",null,{"$f":"IF(AK32=\"\",\"\",SUM(AQ4:AQ24)/AK32)","v":""},null,0,"Épaule",null,null,null,12]
[null,null,null,null,null,null,null,null,null,"J","Es-tu content de la qualité de ton",null,null,null,null,null,null,null,null,null,null,null,null,null,null,null,null,null,null,null,null,null,null,null,null,null,null,null,0,"Dos",null,null,null,13]
[null,null,null,null,null,null,null,null,null,null,"entrainement/compétition?",null,null,null,null,null,null,null,null,null,null,null,null,null,null,null,null,null,null,null,null,null,null,null,"Santé",null,null,null,0,"Genou",null,null,null,14]
[null,null,null,null,null,null,null,null,null,1,"… pas content",null,null,null,null,null,null,null,null,null,null,null,null,null,null,null,null,null,null,null,null,null,null,null,"Limitation pour cause de douleurs",null,{"$f":"AM36","v":0},null,0,"Cheville",null,null,null,15]
[null,null,null,null,null,null,null,null,null,2,"… plutôt pas content",null,null,null,null,null,null,null,null,null,null,null,null,null,null,null,null,null,null,null,null,null,null,null,"Absence pour cause de blessure",null,{"$f":"AM44","v":0},null,0,"Autre",null,null,null,16]
[null,null,null,null,null,null,null,null,null,3,"… moyen",null,null,null,null,null,null,null,null,null,null,null,null,null,null,null,null,null,null,null,null,null,null,null,"Absence pour cause de maladie",null,{"$f":"AM52","v":0}]
[null,null,null,null,null,null,null,null,null,4,"… content",null,null,null,null,null,null,null,null,null,null,null,null,null,null,null,null,null,null,null,null,null,null,null,null,null,null,null,{"$f":"SUM(AM53:AM59)","v":0},"Absence pour cause de maladie"]
[null,null,null,null,null,null,null,null,null,5,"… très content!",null,null,null,null,null,null,null,null,null,null,null,null,null,null,null,null,null,null,null,null,null,null,null,null,null,null,null,{"$f":"COUNTIF($H$4:$H$24,$AR53)","v":0},"Maladie",null,null,null,21]
[]
[]
[]
[]
[]
[]
[]
[]
[]
[]
[]
[]
[]
[]
[]
[]
[]
[]
[]
[]
[]
[]
[]
[]
[]
[]
[]
[]
[]
[]
[]
[]
[]
[]
[]
[]
[]
[]
[]
[]
[]
[]
[]
[]
[]
[]
[]
[]
[]
[]
[]
[]
[]
[]
[]
[]
[]
[]
[]
[]
[]
[]
[]
[]
[]
[]
[]
[]
[]
[]
[]
[]
[]
[]
[]
[]
[]
[]
[]
[]
[null,null,null,null,null,null,null,null,null,null,null,null,null,null,null,null,null,null,null,null,null,null,null,null,{"$f":"Z134-1","v":20},21,22,23,24,25,26,{"$f":"D1","v":27}]
[]
[]
[]
[]
[]
[]
[]
[]
[]
[]
[]
[]
[]
[]
[]
[]
[]
[]
[]
[]
[null,null,null,null,null,null,null,null,null,null,null,null,null,null,null,null,null,null,null,null,null,null,null,null,null,null,null,null,null,null,null,null,{"$f":"AF134+1","v":28}]

{"sheet":"28","index":56,"n_rows":155,"n_cols":45,"rows_kept":155,"cut":false,"hidden":false,"merged":[[9,4,11,4],[12,4,14,4],[3,7,5,7],[15,7,17,7],[27,3,27,6],[15,5,17,5],[18,5,20,5],[28,10,29,10],[15,9,15,10],[1,43,2,43],[30,34,30,36],[30,38,31,43],[0,5,0,6],[1,44,2,44],[29,3,29,6],[30,3,30,6],[35,3,35,6],[36,3,36,6],[18,36,20,36],[21,36,23,36],[1,40,2,40],[1,21,1,23],[1,41,2,41],[15,36,17,36],[1,38,2,38],[1,36,2,36],[1,34,2,34],[1,30,1,32],[1,27,1,29],[1,24,1,26],[9,36,11,36],[12,36,14,36],[1,39,2,39],[28,9,29,9],[28,3,28,6],[37,3,37,6],[38,3,38,6],[31,3,31,6],[32,3,32,6],[33,3,33,6],[34,3,34,6],[46,9,47,9],[3,1,5,1],[6,36,8,36],[3,3,5,3],[3,6,5,6],[3,9,3,10],[4,9,4,10],[5,9,5,10],[3,36,5,36],[6,1,8,1],[6,7,8,7],[6,3,8,3],[6,6,8,6],[6,9,6,10],[8,9,8,10],[9,1,11,1],[9,3,11,3],[9,6,11,6],[9,9,9,10],[1,12,1,14],[18,1,20,1],[18,3,20,3],[18,6,20,6],[1,18,1,20],[11,9,11,10],[7,9,7,10],[10,9,10,10],[9,7,11,7],[14,9,14,10],[12,7,14,7],[3,5,5,5],[6,5,8,5],[9,5,11,5],[12,5,14,5],[1,1,2,1],[1,15,1,17],[3,4,5,4],[6,4,8,4],[1,9,2,10],[12,1,14,1],[12,3,14,3],[12,6,14,6],[12,9,12,10],[13,9,13,10],[18,9,18,10],[19,9,19,10],[20,9,20,10],[18,7,20,7],[18,4,20,4],[15,1,17,1],[15,3,17,3],[15,6,17,6],[15,4,17,4],[16,9,16,10],[17,9,17,10],[38,34,38,36],[44,34,44,36],[47,34,47,36],[21,1,23,1],[21,3,23,3],[21,5,23,5],[21,6,23,6],[21,9,21,10],[23,9,23,10],[21,7,23,7],[21,4,23,4],[22,9,22,10],[29,21,29,26],[36,9,37,9]]}
[null,null,"Woche",{"$f":"INT(MOD(INT((F1-2)/7)+0.6,52+5/28))+1","v":28},{"$f":"D1+1000","v":1028},{"$f":"'27'!F1+7","v":"2019-07-08"},null,"-",null,"1900-04-14",null,null,null,null,null,null,null,null,null,null,null,null,null,null,null,null,null,null,null,null,null,null,{"$f":"'Aperçu de la charge'!D2","v":"Prénom Nom"},null,{"$f":"'Aperçu de la charge'!N2","v":"2018/2019"}]
[null,"Jour",null,"Poids","REG","qualité sommeil","durée sommeil","Santé",null,"Description de l'entrainement",null,null,"Club - VB",null,null,"TS/ Nati - VB",null,null,"Club - BVB",null,null,"TS/ Nati - BVB",null,null,"Force - fitness",null,null,"Compet. - VB",null,null,"Compet. - BVB",null,null,null,"Réflexion",null,"Charge/\njour",null,"matchs VB","Sets VB","Matchs BVB","Sets BVB","J","Autre\n (Rég, mentale)","Mental- oder Sonstiges Training"]
[null,null,null,"[kg]","[1 - 5]","[1-5]","[Std]","Nr.",null,null,null,null,"Durée","RPE","Charge","Durée","RPE","Charge","Durée","RPE","Charge","Durée","RPE","Charge","Durée","RPE","Charge","Durée","RPE","Charge","Durée","RPE","Charge",null,null,null,null,null,null,null,null,null,"[1-5]"]
[null,"Lu",null,0,0,0,0,0,null,null,null,null,null,null,{"$f":"M4*N4","v":0},null,null,{"$f":"P4*Q4","v":0},null,null,{"$f":"S4*T4","v":0},null,null,{"$f":"V4*W4","v":0},null,null,{"$f":"Y4*Z4","v":0},null,null,{"$f":"AB4*AC4","v":0},null,null,{"$f":"AE4*AF4","v":0},{"$f":"IF(SUM(M4:AG6)>0,1,0)","v":"00:00:00"},null,null,{"$f":"SUM(O4:O6,R4:R6,U4:U6,X4:X6,AA4:AA6,AD4:AD6,AG4:AG6)","v":0}]
[null,null,null,null,null,null,null,null,null,null,null,null,null,null,{"$f":"M5*N5","v":0},null,null,{"$f":"P5*Q5","v":0},null,null,{"$f":"S5*T5","v":0},null,null,{"$f":"V5*W5","v":0},null,null,{"$f":"Y5*Z5","v":0},null,null,{"$f":"AB5*AC5","v":0},null,null,{"$f":"AE5*AF5","v":0}]
[null,null,null,null,null,null,null,null,null,null,null,null,null,null,0,null,null,0,null,null,0,null,null,0,null,null,0,null,null,0,null,null,0]
[null,"Ma",null,0,0,0,0,0,null,null,null,null,null,null,0,null,null,{"$f":"P7*Q7","v":0},null,null,0,null,null,0,null,null,0,null,null,0,null,null,0,{"$f":"IF(SUM(M7:AG9)>0,1,0)","v":"00:00:00"},null,null,{"$f":"SUM(O7:O9,R7:R9,U7:U9,X7:X9,AA7:AA9,AD7:AD9,AG7:AG9)","v":0}]
[null,null,null,null,null,null,null,null,null,null,null,null,null,null,0,null,null,0,null,null,0,null,null,0,null,null,0,null,null,0,null,null,0]
[null,null,null,null,null,null,null,null,null,null,null,null,null,null,0,null,null,0,null,null,0,null,null,0,null,null,0,null,null,0,null,null,0]
[null,"Me",null,0,0,0,0,0,null,null,null,null,null,null,0,null,null,{"$f":"P10*Q10","v":0},null,null,0,null,null,0,null,null,0,null,null,0,null,null,0,{"$f":"IF(SUM(M10:AG12)>0,1,0)","v":"00:00:00"},null,null,{"$f":"SUM(O10:O12,R10:R12,U10:U12,X10:X12,AA10:AA12,AD10:AD12,AG10:AG12)","v":0}]
[null,null,null,null,null,null,null,null,null,null,null,null,null,null,0,null,null,0,null,null,0,null,null,0,null,null,0,null,null,0,null,null,0]
[null,null,null,null,null,null,null,null,null,null,null,null,null,null,0,null,null,0,null,null,0,null,null,0,null,null,0,null,null,0,null,null,0]
[null,"Je",null,0,0,0,0,0,null,null,null,null,null,null,0,null,null,{"$f":"P13*Q13","v":0},null,null,0,null,null,0,null,null,0,null,null,0,null,null,0,{"$f":"IF(SUM(M13:AG15)>0,1,0)","v":"00:00:00"},null,null,{"$f":"SUM(O13:O15,R13:R15,U13:U15,X13:X15,AA13:AA15,AD13:AD15,AG13:AG15)","v":0}]
[null,null,null,null,null,null,null,null,null,null,null,null,null,null,0,null,null,0,null,null,0,null,null,0,null,null,0,null,null,0,null,null,0]
[null,null,null,null,null,null,null,null,null,null,null,null,null,null,0,null,null,0,null,null,0,null,null,0,null,null,0,null,null,0,null,null,0]
[null,"Ve",null,0,0,0,0,0,null,null,null,null,null,null,0,null,null,{"$f":"P16*Q16","v":0},null,null,0,null,null,0,null,null,0,null,null,0,null,null,0,{"$f":"IF(SUM(M16:AG18)>0,1,0)","v":"00:00:00"},null,null,{"$f":"SUM(O16:O18,R16:R18,U16:U18,X16:X18,AA16:AA18,AD16:AD18,AG16:AG18)","v":0}]
[null,null,null,null,null,null,null,null,null,null,null,null,null,null,0,null,null,0,null,null,0,null,null,0,null,null,0,null,null,0,null,null,0]
[null,null,null,null,null,null,null,null,null,null,null,null,null,null,0,null,null,0,null,null,0,null,null,0,null,null,0,null,null,0,null,null,0]
[null,"Sa",null,0,0,0,0,0,null,null,null,null,null,null,{"$f":"M19*N19","v":0},null,null,{"$f":"P19*Q19","v":0},null,null,{"$f":"S19*T19","v":0},null,null,{"$f":"V19*W19","v":0},null,null,{"$f":"Y19*Z19","v":0},null,null,{"$f":"AB19*AC19","v":0},null,null,{"$f":"AE19*AF19","v":0},{"$f":"IF(SUM(M19:AG21)>0,1,0)","v":"00:00:00"},null,null,{"$f":"SUM(O19:O21,R19:R21,U19:U21,X19:X21,AA19:AA21,AD19:AD21,AG19:AG21)","v":0}]
[null,null,null,null,null,null,null,null,null,null,null,null,null,null,{"$f":"M20*N20","v":0},null,null,0,null,null,{"$f":"S20*T20","v":0},null,null,{"$f":"V20*W20","v":0},null,null,{"$f":"Y20*Z20","v":0},null,null,{"$f":"AB20*AC20","v":0},null,null,{"$f":"AE20*AF20","v":0}]
[null,null,null,null,null,null,null,null,null,null,null,null,null,null,0,null,null,0,null,null,0,null,null,0,null,null,0,null,null,0,null,null,0]
[null,"Di",null,0,0,0,0,0,null,null,null,null,null,null,0,null,null,{"$f":"P22*Q22","v":0},null,null,0,null,null,0,null,null,0,null,null,0,null,null,0,{"$f":"IF(SUM(M22:AG24)>0,1,0)","v":"00:00:00"},null,null,{"$f":"SUM(O22:O24,R22:R24,U22:U24,X22:X24,AA22:AA24,AD22:AD24,AG22:AG24)","v":0}]
[null,null,null,null,null,null,null,null,null,null,null,null,null,null,0,null,null,0,null,null,0,null,null,0,null,null,0,null,null,0,null,null,0]
[null,null,null,null,null,null,null,null,null,null,null,null,null,null,0,null,null,0,null,null,0,null,null,0,null,null,0,null,null,0,null,null,0]
[null,null,null,null,null,null,null,null,null,null,"Total",null,{"$f":"SUM(M4:M24)","v":0},null,{"$f":"SUM(O4:O24)","v":0},{"$f":"SUM(P4:P24)","v":0},null,{"$f":"SUM(R4:R24)","v":0},{"$f":"SUM(S4:S24)","v":0},null,{"$f":"SUM(U4:U24)","v":0},{"$f":"SUM(V4:V24)","v":0},null,{"$f":"SUM(X4:X24)","v":0},{"$f":"SUM(Y4:Y24)","v":0},null,{"$f":"SUM(AA4:AA24)","v":0},{"$f":"SUM(AB4:AB24)","v":0},null,{"$f":"SUM(AD4:AD24)","v":0},{"$f":"SUM(AE4:AE24)","v":0},null,{"$f":"SUM(AG4:AG24)","v":0},null,"Charge totale",null,{"$f":"SUM(AK4:AK24)","v":0}]
[null,"avg.",null,{"$f":"IF(COUNTA(D4:D24)=0,\"\",AVERAGE(D4:D24))","v":0},{"$f":"IF(COUNTA(E4:E24)=0,\"\",AVERAGE(E4:E24))","v":0},{"$f":"IF(COUNTA(F4:F24)=0,\"\",AVERAGE(F4:F24))","v":0},{"$f":"IF(COUNTA(G4:G24)=0,\"\",AVERAGE(G4:G24))","v":0},{"$f":"IF(COUNTA(H4:H24)=0,\"\",COUNTIF(H4:H24,\"x\"))","v":0},null,null,"Zone",null,1,2,3,1,2,3,1,2,3,1,2,3,1,2,3,1,2,3,1,2,3,null,"Moyenne",null,{"$f":"AVERAGE(AK4:AK24)","v":0}]
[null,null,null,null,null,{"$f":"IF(COUNTA(F4:F24)=0,\"\",VAR(F4:F24))","v":0},{"$f":"IF(COUNTA(G4:G24)=0,\"\",STDEV(G4:G24))","v":0},"Divergence - durée du sommeil",null,null,"Unité par zone (RPE) ",null,{"$f":"IF('Répartition des intensités'!$AR$25=\"x\",COUNTIF(N4:N24,\"<3,5\"),COUNTIF(N4:N24,\"<4,5\"))","v":0},{"$f":"COUNT(N4:N24)-(M27+O27)","v":0},{"$f":"IF('Répartition des intensités'!$AR$25=\"x\",COUNTIF(N4:N24,\">5,5\"),COUNTIF(N4:N24,\">6,5\"))","v":0},{"$f":"IF('Répartition des intensités'!$AR$25=\"x\",COUNTIF(Q4:Q24,\"<3,5\"),COUNTIF(Q4:Q24,\"<4,5\"))","v":0},{"$f":"COUNT(Q4:Q24)-(P27+R27)","v":0},{"$f":"IF('Répartition des intensités'!$AR$25=\"x\",COUNTIF(Q4:Q24,\">5,5\"),COUNTIF(Q4:Q24,\">6,5\"))","v":0},{"$f":"IF('Répartition des intensités'!$AR$25=\"x\",COUNTIF(T4:T24,\"<3,5\"),COUNTIF(T4:T24,\"<4,5\"))","v":0},{"$f":"COUNT(T4:T24)-(S27+U27)","v":0},{"$f":"IF('Répartition des intensités'!$AR$25=\"x\",COUNTIF(T4:T24,\">5,5\"),COUNTIF(T4:T24,\">6,5\"))","v":0},{"$f":"IF('Répartition des intensités'!$AR$25=\"x\",COUNTIF(W4:W24,\"<3,5\"),COUNTIF(W4:W24,\"<4,5\"))","v":0},{"$f":"COUNT(W4:W24)-(V27+X27)","v":0},{"$f":"IF('Répartition des intensités'!$AR$25=\"x\",COUNTIF(W4:W24,\">5,5\"),COUNTIF(W4:W24,\">6,5\"))","v":0},{"$f":"IF('Répartition des intensités'!$AR$25=\"x\",COUNTIF(Z4:Z24,\"<3,5\"),COUNTIF(Z4:Z24,\"<4,5\"))","v":0},{"$f":"COUNT(Z4:Z24)-(Y27+AA27)","v":0},{"$f":"IF('Répartition des intensités'!$AR$25=\"x\",COUNTIF(Z4:Z24,\">5,5\"),COUNTIF(Z4:Z24,\">6,5\"))","v":0},{"$f":"IF('Répartition des intensités'!$AR$25=\"x\",COUNTIF(AC4:AC24,\"<3,5\"),COUNTIF(AC4:AC24,\"<4,5\"))","v":0},{"$f":"COUNT(AC4:AC24)-(AB27+AD27)","v":0},{"$f":"IF('Répartition des intensités'!$AR$25=\"x\",COUNTIF(AC4:AC24,\">5,5\"),COUNTIF(AC4:AC24,\">6,5\"))","v":0},{"$f":"IF('Répartition des intensités'!$AR$25=\"x\",COUNTIF(AF4:AF24,\"<3,5\"),COUNTIF(AF4:AF24,\"<4,5\"))","v":0},{"$f":"COUNT(AF4:AF24)-(AE27+AG27)","v":0},{"$f":"IF('Répartition des intensités'!$AR$25=\"x\",COUNTIF(AF4:AF24,\">5,5\"),COUNTIF(AF4:AF24,\">6,5\"))","v":0},null,"Divergence",null,{"$f":"STDEVP(AK4:AK24)","v":0}]
[null,null,null,"échelle de Foster",null,null,null,"RPE",null,null,"Temps par zone (RPE)",null,{"$f":"IF('Répartition des intensités'!$AR$25=\"x\",SUMIF(N4:N24,\"<3,5\",M4:M24),SUMIF(N4:N24,\"<4,5\",M4:M24))","v":0},{"$f":"IF(N27=0,0,SUM((M25)-(M28+O28)))","v":0},{"$f":"IF('Répartition des intensités'!$AR$25=\"x\",SUMIF(N4:N24,\">5,5\",M4:M24),SUMIF(N4:N24,\">6,5\",M4:M24))","v":0},{"$f":"IF('Répartition des intensités'!$AR$25=\"x\",SUMIF(Q4:Q24,\"<3,5\",P4:P24),SUMIF(Q4:Q24,\"<4,5\",P4:P24))","v":0},{"$f":"IF(Q27=0,0,SUM((P25)-(P28+R28)))","v":0},{"$f":"IF('Répartition des intensités'!$AR$25=\"x\",SUMIF(Q4:Q24,\">5,5\",P4:P24),SUMIF(Q4:Q24,\">6,5\",P4:P24))","v":0},{"$f":"IF('Répartition des intensités'!$AR$25=\"x\",SUMIF(T4:T24,\"<3,5\",S4:S24),SUMIF(T4:T24,\"<4,5\",S4:S24))","v":0},{"$f":"IF(T27=0,0,SUM((S25)-(S28+U28)))","v":0},{"$f":"IF('Répartition des intensités'!$AR$25=\"x\",SUMIF(T4:T24,\">5,5\",S4:S24),SUMIF(T4:T24,\">6,5\",S4:S24))","v":0},{"$f":"IF('Répartition des intensités'!$AR$25=\"x\",SUMIF(W4:W24,\"<3,5\",V4:V24),SUMIF(W4:W24,\"<4,5\",V4:V24))","v":0},{"$f":"IF(W27=0,0,SUM((V25)-(V28+X28)))","v":0},{"$f":"IF('Répartition des intensités'!$AR$25=\"x\",SUMIF(W4:W24,\">5,5\",V4:V24),SUMIF(W4:W24,\">6,5\",V4:V24))","v":0},{"$f":"IF('Répartition des intensités'!$AR$25=\"x\",SUMIF(Z4:Z24,\"<3,5\",Y4:Y24),SUMIF(Z4:Z24,\"<4,5\",Y4:Y24))","v":0},{"$f":"IF(Z27=0,0,SUM((Y25)-(Y28+AA28)))","v":0},{"$f":"IF('Répartition des intensités'!$AR$25=\"x\",SUMIF(Z4:Z24,\">5,5\",Y4:Y24),SUMIF(Z4:Z24,\">6,5\",Y4:Y24))","v":0},{"$f":"IF('Répartition des intensités'!$AR$25=\"x\",SUMIF(AC4:AC24,\"<3,5\",AB4:AB24),SUMIF(AC4:AC24,\"<4,5\",AB4:AB24))","v":0},{"$f":"IF(AC27=0,0,SUM((AB25)-(AB28+AD28)))","v":0},{"$f":"IF('Répartition des intensités'!$AR$25=\"x\",SUMIF(AC4:AC24,\">5,5\",AB4:AB24),SUMIF(AC4:AC24,\">6,5\",AB4:AB24))","v":0},{"$f":"IF('Répartition des intensités'!$AR$25=\"x\",SUMIF(AF4:AF24,\"<3,5\",AE4:AE24),SUMIF(AF4:AF24,\"<4,5\",AE4:AE24))","v":0},{"$f":"IF(AF27=0,0,SUM((AE25)-(AE28+AG28)))","v":0},{"$f":"IF('Répartition des intensités'!$AR$25=\"x\",SUMIF(AF4:AF24,\">5,5\",AE4:AE24),SUMIF(AF4:AF24,\">6,5\",AE4:AE24))","v":0}]
[null,null,null,"Comme au repos",null,null,null,0,null,"REG","Est-ce que j'ai l'impression d'avoir récupéré en me levant?"]
[null,null,null,"très facile",null,null,null,1]
[null,null,null,"facile",null,null,null,2,null,1,"… pas du tout récupéré",null,null,null,null,null,null,null,null,null,null,null,null,null,null,null,null,null,null,null,null,null,null,null,"Entrainements",null,null,null,"Rapport de santé"]
[null,null,null,null,null,null,null,3,null,2,"… un peu récupéré",null,null,null,null,null,null,null,null,null,null,null,null,null,null,null,null,null,null,null,null,null,null,null,"Jours d'entrainement",null,{"$f":"IF(SUM(AH4:AH24)=0,\"\",SUM(AH4:AH24))","v":""}]
[null,null,null,"Assez dur",null,null,null,4,null,3,"… récupéré",null,null,null,null,null,null,null,null,null,null,{"$f":"B4","v":"Lu"},{"$f":"AK4","v":0},null,null,null,null,null,null,null,null,null,null,null,"Entrainements",null,{"$f":"IF(AK32=\"\",\"\",SUM(M27:AG27))","v":""}]
[null,null,null,"dur",null,null,null,5,null,4,"…  en forme",null,null,null,null,null,null,null,null,null,null,{"$f":"B7","v":"Ma"},{"$f":"AK7","v":0},null,null,null,null,null,null,null,null,null,null,null,"Heures d'entrainement",null,{"$f":"IF(AK32=\"\",\"\",SUM(M25,P25,S25,Y25,AB25,V25,AE25)/60)","v":""},null,{"$f":"IF($AK$32=\"\",\"\",AK32-AM36-AM44-AM52)","v":""},"Aucune limitation",null,null,null,0]
[null,null,null,null,null,null,null,6,null,5,"… très en forme",null,null,null,null,null,null,null,null,null,null,{"$f":"B10","v":"Me"},{"$f":"AK10","v":0},null,null,null,null,null,null,null,null,null,null,null,"Charge de l'entrainement",null,{"$f":"IF(AK32=\"\",\"\",SUM(AK25))","v":""}]
[null,null,null,"très dur",null,null,null,7,null,null,null,null,null,null,null,null,null,null,null,null,null,{"$f":"B13","v":"Je"},{"$f":"AK13","v":0},null,null,null,null,null,null,null,null,null,null,null,"Monotonie",null,{"$f":"IF(AK27=0,0,(AVERAGE(AK4:AK24))/AK27)","v":0},null,{"$f":"SUM(AM37:AM42)","v":0},"Limitation pour cause de douleurs"]
[null,null,null,null,null,null,null,8,null,"Nombre de matchs",null,null,null,null,null,null,null,null,null,null,null,{"$f":"B16","v":"Ve"},{"$f":"AK16","v":0},null,null,null,null,null,null,null,null,null,null,null,"Efforts à l'entrainement",null,{"$f":"IF(AK32=\"\",\"\",AK35*AK36)","v":""},null,{"$f":"COUNTIF($H$4:$H$24,$AR37)","v":0},"Doigt",null,null,null,1]
[null,null,null,"extrèmement dur",null,null,null,9,null,null,null,null,null,null,null,null,null,null,null,null,null,{"$f":"B19","v":"Sa"},{"$f":"AK19","v":0},null,null,null,null,null,null,null,null,null,null,null,null,null,null,null,0,"Épaule",null,null,null,2]
[null,null,null,"Comme mon entrainement le plus dur",null,null,null,10,null,1,"… 3 sets et plus",null,null,null,null,null,null,null,null,null,null,{"$f":"B22","v":"Di"},{"$f":"AK22","v":0},null,null,null,null,null,null,null,null,null,null,null,"Compétition",null,null,null,0,"Dos",null,null,null,3]
[null,null,null,null,null,null,null,null,null,0.5,"… moins de 3 sets",null,null,null,null,null,null,null,null,null,null,null,null,null,null,null,null,null,null,null,null,null,null,null,"Matchs de volleyball",null,{"$f":"IF(AK32=\"\",\"\",SUM(AM4:AM24))","v":""},null,0,"Genou",null,null,null,4]
[null,null,null,null,null,null,null,null,null,null,null,null,null,null,null,null,null,null,null,null,null,null,null,null,null,null,null,null,null,null,null,null,null,null,"Sets de volleyball",null,{"$f":"IF(AK32=\"\",\"\",SUM(AN4:AN24))","v":""},null,0,"Cheville",null,null,null,5]
[null,null,null,null,null,null,null,null,null,"Sets joués",null,null,null,null,null,null,null,null,null,null,null,null,null,null,null,null,null,null,null,null,null,null,null,null,"Matchs de beach volley",null,{"$f":"IF(AK35=\"\",\"\",SUM(AO4:AO24))","v":""},null,0,"Autre",null,null,null,6]
[null,null,null,null,null,null,null,null,null,1,"… depuis le début et durant tout le set",null,null,null,null,null,null,null,null,null,null,null,null,null,null,null,null,null,null,null,null,null,null,null,"Sets de beach volley",null,{"$f":"IF(AK35=\"\",\"\",SUM(AP4:AP24))","v":""}]
[null,null,null,null,null,null,null,null,null,0.5,"… entré/sorti en cours, beaucoup joué",null,null,null,null,null,null,null,null,null,null,null,null,null,null,null,null,null,null,null,null,null,null,null,null,null,null,null,{"$f":"SUM(AM45:AM50)","v":0},"Absence pour cause de blessure"]
[null,null,null,null,null,null,null,null,null,0.1,"… entré/sorti en cours, peu joué",null,null,null,null,null,null,null,null,null,null,null,null,null,null,null,null,null,null,null,null,null,null,null,"Satisfaction",null,null,null,{"$f":"COUNTIF($H$4:$H$24,$AR45)","v":0},"Doigt",null,null,null,11]
[null,null,null,null,null,null,null,null,null,null,null,null,null,null,null,null,null,null,null,null,null,null,null,null,null,null,null,null,null,null,null,null,null,null,"Satisfaction de l'entrainement/match J",null,{"$f":"IF(AK32=\"\",\"\",SUM(AQ4:AQ24)/AK32)","v":""},null,0,"Épaule",null,null,null,12]
[null,null,null,null,null,null,null,null,null,"J","Es-tu content de la qualité de ton",null,null,null,null,null,null,null,null,null,null,null,null,null,null,null,null,null,null,null,null,null,null,null,null,null,null,null,0,"Dos",null,null,null,13]
[null,null,null,null,null,null,null,null,null,null,"entrainement/compétition?",null,null,null,null,null,null,null,null,null,null,null,null,null,null,null,null,null,null,null,null,null,null,null,"Santé",null,null,null,0,"Genou",null,null,null,14]
[null,null,null,null,null,null,null,null,null,1,"… pas content",null,null,null,null,null,null,null,null,null,null,null,null,null,null,null,null,null,null,null,null,null,null,null,"Limitation pour cause de douleurs",null,{"$f":"AM36","v":0},null,0,"Cheville",null,null,null,15]
[null,null,null,null,null,null,null,null,null,2,"… plutôt pas content",null,null,null,null,null,null,null,null,null,null,null,null,null,null,null,null,null,null,null,null,null,null,null,"Absence pour cause de blessure",null,{"$f":"AM44","v":0},null,0,"Autre",null,null,null,16]
[null,null,null,null,null,null,null,null,null,3,"… moyen",null,null,null,null,null,null,null,null,null,null,null,null,null,null,null,null,null,null,null,null,null,null,null,"Absence pour cause de maladie",null,{"$f":"AM52","v":0}]
[null,null,null,null,null,null,null,null,null,4,"… content",null,null,null,null,null,null,null,null,null,null,null,null,null,null,null,null,null,null,null,null,null,null,null,null,null,null,null,{"$f":"SUM(AM53:AM59)","v":0},"Absence pour cause de maladie"]
[null,null,null,null,null,null,null,null,null,5,"… très content!",null,null,null,null,null,null,null,null,null,null,null,null,null,null,null,null,null,null,null,null,null,null,null,null,null,null,null,{"$f":"COUNTIF($H$4:$H$24,$AR53)","v":0},"Maladie",null,null,null,21]
[]
[]
[]
[]
[]
[]
[]
[]
[]
[]
[]
[]
[]
[]
[]
[]
[]
[]
[]
[]
[]
[]
[]
[]
[]
[]
[]
[]
[]
[]
[]
[]
[]
[]
[]
[]
[]
[]
[]
[]
[]
[]
[]
[]
[]
[]
[]
[]
[]
[]
[]
[]
[]
[]
[]
[]
[]
[]
[]
[]
[]
[]
[]
[]
[]
[]
[]
[]
[]
[]
[]
[]
[]
[]
[]
[]
[]
[]
[]
[]
[null,null,null,null,null,null,null,null,null,null,null,null,null,null,null,null,null,null,null,null,null,null,null,null,{"$f":"Z134-1","v":21},22,23,24,25,26,27,{"$f":"D1","v":28}]
[]
[]
[]
[]
[]
[]
[]
[]
[]
[]
[]
[]
[]
[]
[]
[]
[]
[]
[]
[]
[null,null,null,null,null,null,null,null,null,null,null,null,null,null,null,null,null,null,null,null,null,null,null,null,null,null,null,null,null,null,null,null,{"$f":"AF134+1","v":29}]

{"sheet":"29","index":57,"n_rows":155,"n_cols":45,"rows_kept":155,"cut":false,"hidden":false,"merged":[[9,4,11,4],[12,4,14,4],[3,7,5,7],[15,7,17,7],[27,3,27,6],[15,5,17,5],[18,5,20,5],[28,10,29,10],[15,9,15,10],[1,43,2,43],[30,34,30,36],[30,38,31,43],[0,5,0,6],[1,44,2,44],[29,3,29,6],[30,3,30,6],[35,3,35,6],[36,3,36,6],[18,36,20,36],[21,36,23,36],[1,40,2,40],[1,21,1,23],[1,41,2,41],[15,36,17,36],[1,38,2,38],[1,36,2,36],[1,34,2,34],[1,30,1,32],[1,27,1,29],[1,24,1,26],[9,36,11,36],[12,36,14,36],[1,39,2,39],[28,9,29,9],[28,3,28,6],[37,3,37,6],[38,3,38,6],[31,3,31,6],[32,3,32,6],[33,3,33,6],[34,3,34,6],[46,9,47,9],[3,1,5,1],[6,36,8,36],[3,3,5,3],[3,6,5,6],[3,9,3,10],[4,9,4,10],[5,9,5,10],[3,36,5,36],[6,1,8,1],[6,7,8,7],[6,3,8,3],[6,6,8,6],[6,9,6,10],[8,9,8,10],[9,1,11,1],[9,3,11,3],[9,6,11,6],[9,9,9,10],[1,12,1,14],[18,1,20,1],[18,3,20,3],[18,6,20,6],[1,18,1,20],[11,9,11,10],[7,9,7,10],[10,9,10,10],[9,7,11,7],[14,9,14,10],[12,7,14,7],[3,5,5,5],[6,5,8,5],[9,5,11,5],[12,5,14,5],[1,1,2,1],[1,15,1,17],[3,4,5,4],[6,4,8,4],[1,9,2,10],[12,1,14,1],[12,3,14,3],[12,6,14,6],[12,9,12,10],[13,9,13,10],[18,9,18,10],[19,9,19,10],[20,9,20,10],[18,7,20,7],[18,4,20,4],[15,1,17,1],[15,3,17,3],[15,6,17,6],[15,4,17,4],[16,9,16,10],[17,9,17,10],[38,34,38,36],[44,34,44,36],[47,34,47,36],[21,1,23,1],[21,3,23,3],[21,5,23,5],[21,6,23,6],[21,9,21,10],[23,9,23,10],[21,7,23,7],[21,4,23,4],[22,9,22,10],[29,21,29,26],[36,9,37,9]]}
[null,null,"Woche",{"$f":"INT(MOD(INT((F1-2)/7)+0.6,52+5/28))+1","v":29},{"$f":"D1+1000","v":1029},{"$f":"'28'!F1+7","v":"2019-07-15"},null,"-",null,{"$f":"F1+6","v":"2019-07-21"},null,null,null,null,null,null,null,null,null,null,null,null,null,null,null,null,null,null,null,null,null,null,{"$f":"'Aperçu de la charge'!D2","v":"Prénom Nom"},null,{"$f":"'Aperçu de la charge'!N2","v":"2018/2019"}]
[null,"Jour",null,"Poids","REG","qualité sommeil","durée sommeil","Santé",null,"Description de l'entrainement",null,null,"Club - VB",null,null,"TS/ Nati - VB",null,null,"Club - BVB",null,null,"TS/ Nati - BVB",null,null,"Force - fitness",null,null,"Compet. - VB",null,null,"Compet. - BVB",null,null,null,"Réflexion",null,"Charge/\njour",null,"matchs VB","Sets VB","Matchs BVB","Sets BVB","J","Autre\n (Rég, mentale)","Mental- oder Sonstiges Training"]
[null,null,null,"[kg]","[1 - 5]","[1-5]","[Std]","Nr.",null,null,null,null,"Durée","RPE","Charge","Durée","RPE","Charge","Durée","RPE","Charge","Durée","RPE","Charge","Durée","RPE","Charge","Durée","RPE","Charge","Durée","RPE","Charge",null,null,null,null,null,null,null,null,null,"[1-5]"]
[null,"Lu",null,0,0,0,0,0,null,null,null,null,null,null,{"$f":"M4*N4","v":0},null,null,{"$f":"P4*Q4","v":0},null,null,{"$f":"S4*T4","v":0},null,null,{"$f":"V4*W4","v":0},null,null,{"$f":"Y4*Z4","v":0},null,null,{"$f":"AB4*AC4","v":0},null,null,{"$f":"AE4*AF4","v":0},{"$f":"IF(SUM(M4:AG6)>0,1,0)","v":"00:00:00"},null,null,{"$f":"SUM(O4:O6,R4:R6,U4:U6,X4:X6,AA4:AA6,AD4:AD6,AG4:AG6)","v":0}]
[null,null,null,null,null,null,null,null,null,null,null,null,null,null,{"$f":"M5*N5","v":0},null,null,{"$f":"P5*Q5","v":0},null,null,{"$f":"S5*T5","v":0},null,null,{"$f":"V5*W5","v":0},null,null,{"$f":"Y5*Z5","v":0},null,null,{"$f":"AB5*AC5","v":0},null,null,{"$f":"AE5*AF5","v":0}]
[null,null,null,null,null,null,null,null,null,null,null,null,null,null,0,null,null,0,null,null,0,null,null,0,null,null,0,null,null,0,null,null,0]
[null,"Ma",null,0,0,0,0,0,null,null,null,null,null,null,0,null,null,{"$f":"P7*Q7","v":0},null,null,0,null,null,0,null,null,0,null,null,0,null,null,0,{"$f":"IF(SUM(M7:AG9)>0,1,0)","v":"00:00:00"},null,null,{"$f":"SUM(O7:O9,R7:R9,U7:U9,X7:X9,AA7:AA9,AD7:AD9,AG7:AG9)","v":0}]
[null,null,null,null,null,null,null,null,null,null,null,null,null,null,0,null,null,0,null,null,0,null,null,0,null,null,0,null,null,0,null,null,0]
[null,null,null,null,null,null,null,null,null,null,null,null,null,null,0,null,null,0,null,null,0,null,null,0,null,null,0,null,null,0,null,null,0]
[null,"Me",null,0,0,0,0,0,null,null,null,null,null,null,0,null,null,{"$f":"P10*Q10","v":0},null,null,0,null,null,0,null,null,0,null,null,0,null,null,0,{"$f":"IF(SUM(M10:AG12)>0,1,0)","v":"00:00:00"},null,null,{"$f":"SUM(O10:O12,R10:R12,U10:U12,X10:X12,AA10:AA12,AD10:AD12,AG10:AG12)","v":0}]
[null,null,null,null,null,null,null,null,null,null,null,null,null,null,0,null,null,0,null,null,0,null,null,0,null,null,0,null,null,0,null,null,0]
[null,null,null,null,null,null,null,null,null,null,null,null,null,null,0,null,null,0,null,null,0,null,null,0,null,null,0,null,null,0,null,null,0]
[null,"Je",null,0,0,0,0,0,null,null,null,null,null,null,0,null,null,{"$f":"P13*Q13","v":0},null,null,0,null,null,0,null,null,0,null,null,0,null,null,0,{"$f":"IF(SUM(M13:AG15)>0,1,0)","v":"00:00:00"},null,null,{"$f":"SUM(O13:O15,R13:R15,U13:U15,X13:X15,AA13:AA15,AD13:AD15,AG13:AG15)","v":0}]
[null,null,null,null,null,null,null,null,null,null,null,null,null,null,0,null,null,0,null,null,0,null,null,0,null,null,0,null,null,0,null,null,0]
[null,null,null,null,null,null,null,null,null,null,null,null,null,null,0,null,null,0,null,null,0,null,null,0,null,null,0,null,null,0,null,null,0]
[null,"Ve",null,0,0,0,0,0,null,null,null,null,null,null,0,null,null,{"$f":"P16*Q16","v":0},null,null,0,null,null,0,null,null,0,null,null,0,null,null,0,{"$f":"IF(SUM(M16:AG18)>0,1,0)","v":"00:00:00"},null,null,{"$f":"SUM(O16:O18,R16:R18,U16:U18,X16:X18,AA16:AA18,AD16:AD18,AG16:AG18)","v":0}]
[null,null,null,null,null,null,null,null,null,null,null,null,null,null,0,null,null,0,null,null,0,null,null,0,null,null,0,null,null,0,null,null,0]
[null,null,null,null,null,null,null,null,null,null,null,null,null,null,0,null,null,0,null,null,0,null,null,0,null,null,0,null,null,0,null,null,0]
[null,"Sa",null,0,0,0,0,0,null,null,null,null,null,null,{"$f":"M19*N19","v":0},null,null,{"$f":"P19*Q19","v":0},null,null,{"$f":"S19*T19","v":0},null,null,{"$f":"V19*W19","v":0},null,null,{"$f":"Y19*Z19","v":0},null,null,{"$f":"AB19*AC19","v":0},null,null,{"$f":"AE19*AF19","v":0},{"$f":"IF(SUM(M19:AG21)>0,1,0)","v":"00:00:00"},null,null,{"$f":"SUM(O19:O21,R19:R21,U19:U21,X19:X21,AA19:AA21,AD19:AD21,AG19:AG21)","v":0}]
[null,null,null,null,null,null,null,null,null,null,null,null,null,null,{"$f":"M20*N20","v":0},null,null,0,null,null,{"$f":"S20*T20","v":0},null,null,{"$f":"V20*W20","v":0},null,null,{"$f":"Y20*Z20","v":0},null,null,{"$f":"AB20*AC20","v":0},null,null,{"$f":"AE20*AF20","v":0}]
[null,null,null,null,null,null,null,null,null,null,null,null,null,null,0,null,null,0,null,null,0,null,null,0,null,null,0,null,null,0,null,null,0]
[null,"Di",null,0,0,0,0,0,null,null,null,null,null,null,0,null,null,{"$f":"P22*Q22","v":0},null,null,0,null,null,0,null,null,0,null,null,0,null,null,0,{"$f":"IF(SUM(M22:AG24)>0,1,0)","v":"00:00:00"},null,null,{"$f":"SUM(O22:O24,R22:R24,U22:U24,X22:X24,AA22:AA24,AD22:AD24,AG22:AG24)","v":0}]
[null,null,null,null,null,null,null,null,null,null,null,null,null,null,0,null,null,0,null,null,0,null,null,0,null,null,0,null,null,0,null,null,0]
[null,null,null,null,null,null,null,null,null,null,null,null,null,null,0,null,null,0,null,null,0,null,null,0,null,null,0,null,null,0,null,null,0]
[null,null,null,null,null,null,null,null,null,null,"Total",null,{"$f":"SUM(M4:M24)","v":0},null,{"$f":"SUM(O4:O24)","v":0},{"$f":"SUM(P4:P24)","v":0},null,{"$f":"SUM(R4:R24)","v":0},{"$f":"SUM(S4:S24)","v":0},null,{"$f":"SUM(U4:U24)","v":0},{"$f":"SUM(V4:V24)","v":0},null,{"$f":"SUM(X4:X24)","v":0},{"$f":"SUM(Y4:Y24)","v":0},null,{"$f":"SUM(AA4:AA24)","v":0},{"$f":"SUM(AB4:AB24)","v":0},null,{"$f":"SUM(AD4:AD24)","v":0},{"$f":"SUM(AE4:AE24)","v":0},null,{"$f":"SUM(AG4:AG24)","v":0},null,"Charge totale",null,{"$f":"SUM(AK4:AK24)","v":0}]
[null,"avg.",null,{"$f":"IF(COUNTA(D4:D24)=0,\"\",AVERAGE(D4:D24))","v":0},{"$f":"IF(COUNTA(E4:E24)=0,\"\",AVERAGE(E4:E24))","v":0},{"$f":"IF(COUNTA(F4:F24)=0,\"\",AVERAGE(F4:F24))","v":0},{"$f":"IF(COUNTA(G4:G24)=0,\"\",AVERAGE(G4:G24))","v":0},{"$f":"IF(COUNTA(H4:H24)=0,\"\",COUNTIF(H4:H24,\"x\"))","v":0},null,null,"Zone",null,1,2,3,1,2,3,1,2,3,1,2,3,1,2,3,1,2,3,1,2,3,null,"Moyenne",null,{"$f":"AVERAGE(AK4:AK24)","v":0}]
[null,null,null,null,null,{"$f":"IF(COUNTA(F4:F24)=0,\"\",VAR(F4:F24))","v":0},{"$f":"IF(COUNTA(G4:G24)=0,\"\",STDEV(G4:G24))","v":0},"Divergence - durée du sommeil",null,null,"Unité par zone (RPE) ",null,{"$f":"IF('Répartition des intensités'!$AR$25=\"x\",COUNTIF(N4:N24,\"<3,5\"),COUNTIF(N4:N24,\"<4,5\"))","v":0},{"$f":"COUNT(N4:N24)-(M27+O27)","v":0},{"$f":"IF('Répartition des intensités'!$AR$25=\"x\",COUNTIF(N4:N24,\">5,5\"),COUNTIF(N4:N24,\">6,5\"))","v":0},{"$f":"IF('Répartition des intensités'!$AR$25=\"x\",COUNTIF(Q4:Q24,\"<3,5\"),COUNTIF(Q4:Q24,\"<4,5\"))","v":0},{"$f":"COUNT(Q4:Q24)-(P27+R27)","v":0},{"$f":"IF('Répartition des intensités'!$AR$25=\"x\",COUNTIF(Q4:Q24,\">5,5\"),COUNTIF(Q4:Q24,\">6,5\"))","v":0},{"$f":"IF('Répartition des intensités'!$AR$25=\"x\",COUNTIF(T4:T24,\"<3,5\"),COUNTIF(T4:T24,\"<4,5\"))","v":0},{"$f":"COUNT(T4:T24)-(S27+U27)","v":0},{"$f":"IF('Répartition des intensités'!$AR$25=\"x\",COUNTIF(T4:T24,\">5,5\"),COUNTIF(T4:T24,\">6,5\"))","v":0},{"$f":"IF('Répartition des intensités'!$AR$25=\"x\",COUNTIF(W4:W24,\"<3,5\"),COUNTIF(W4:W24,\"<4,5\"))","v":0},{"$f":"COUNT(W4:W24)-(V27+X27)","v":0},{"$f":"IF('Répartition des intensités'!$AR$25=\"x\",COUNTIF(W4:W24,\">5,5\"),COUNTIF(W4:W24,\">6,5\"))","v":0},{"$f":"IF('Répartition des intensités'!$AR$25=\"x\",COUNTIF(Z4:Z24,\"<3,5\"),COUNTIF(Z4:Z24,\"<4,5\"))","v":0},{"$f":"COUNT(Z4:Z24)-(Y27+AA27)","v":0},{"$f":"IF('Répartition des intensités'!$AR$25=\"x\",COUNTIF(Z4:Z24,\">5,5\"),COUNTIF(Z4:Z24,\">6,5\"))","v":0},{"$f":"IF('Répartition des intensités'!$AR$25=\"x\",COUNTIF(AC4:AC24,\"<3,5\"),COUNTIF(AC4:AC24,\"<4,5\"))","v":0},{"$f":"COUNT(AC4:AC24)-(AB27+AD27)","v":0},{"$f":"IF('Répartition des intensités'!$AR$25=\"x\",COUNTIF(AC4:AC24,\">5,5\"),COUNTIF(AC4:AC24,\">6,5\"))","v":0},{"$f":"IF('Répartition des intensités'!$AR$25=\"x\",COUNTIF(AF4:AF24,\"<3,5\"),COUNTIF(AF4:AF24,\"<4,5\"))","v":0},{"$f":"COUNT(AF4:AF24)-(AE27+AG27)","v":0},{"$f":"IF('Répartition des intensités'!$AR$25=\"x\",COUNTIF(AF4:AF24,\">5,5\"),COUNTIF(AF4:AF24,\">6,5\"))","v":0},null,"Divergence",null,{"$f":"STDEVP(AK4:AK24)","v":0}]
[null,null,null,"échelle de Foster",null,null,null,"RPE",null,null,"Temps par zone (RPE)",null,{"$f":"IF('Répartition des intensités'!$AR$25=\"x\",SUMIF(N4:N24,\"<3,5\",M4:M24),SUMIF(N4:N24,\"<4,5\",M4:M24))","v":0},{"$f":"IF(N27=0,0,SUM((M25)-(M28+O28)))","v":0},{"$f":"IF('Répartition des intensités'!$AR$25=\"x\",SUMIF(N4:N24,\">5,5\",M4:M24),SUMIF(N4:N24,\">6,5\",M4:M24))","v":0},{"$f":"IF('Répartition des intensités'!$AR$25=\"x\",SUMIF(Q4:Q24,\"<3,5\",P4:P24),SUMIF(Q4:Q24,\"<4,5\",P4:P24))","v":0},{"$f":"IF(Q27=0,0,SUM((P25)-(P28+R28)))","v":0},{"$f":"IF('Répartition des intensités'!$AR$25=\"x\",SUMIF(Q4:Q24,\">5,5\",P4:P24),SUMIF(Q4:Q24,\">6,5\",P4:P24))","v":0},{"$f":"IF('Répartition des intensités'!$AR$25=\"x\",SUMIF(T4:T24,\"<3,5\",S4:S24),SUMIF(T4:T24,\"<4,5\",S4:S24))","v":0},{"$f":"IF(T27=0,0,SUM((S25)-(S28+U28)))","v":0},{"$f":"IF('Répartition des intensités'!$AR$25=\"x\",SUMIF(T4:T24,\">5,5\",S4:S24),SUMIF(T4:T24,\">6,5\",S4:S24))","v":0},{"$f":"IF('Répartition des intensités'!$AR$25=\"x\",SUMIF(W4:W24,\"<3,5\",V4:V24),SUMIF(W4:W24,\"<4,5\",V4:V24))","v":0},{"$f":"IF(W27=0,0,SUM((V25)-(V28+X28)))","v":0},{"$f":"IF('Répartition des intensités'!$AR$25=\"x\",SUMIF(W4:W24,\">5,5\",V4:V24),SUMIF(W4:W24,\">6,5\",V4:V24))","v":0},{"$f":"IF('Répartition des intensités'!$AR$25=\"x\",SUMIF(Z4:Z24,\"<3,5\",Y4:Y24),SUMIF(Z4:Z24,\"<4,5\",Y4:Y24))","v":0},{"$f":"IF(Z27=0,0,SUM((Y25)-(Y28+AA28)))","v":0},{"$f":"IF('Répartition des intensités'!$AR$25=\"x\",SUMIF(Z4:Z24,\">5,5\",Y4:Y24),SUMIF(Z4:Z24,\">6,5\",Y4:Y24))","v":0},{"$f":"IF('Répartition des intensités'!$AR$25=\"x\",SUMIF(AC4:AC24,\"<3,5\",AB4:AB24),SUMIF(AC4:AC24,\"<4,5\",AB4:AB24))","v":0},{"$f":"IF(AC27=0,0,SUM((AB25)-(AB28+AD28)))","v":0},{"$f":"IF('Répartition des intensités'!$AR$25=\"x\",SUMIF(AC4:AC24,\">5,5\",AB4:AB24),SUMIF(AC4:AC24,\">6,5\",AB4:AB24))","v":0},{"$f":"IF('Répartition des intensités'!$AR$25=\"x\",SUMIF(AF4:AF24,\"<3,5\",AE4:AE24),SUMIF(AF4:AF24,\"<4,5\",AE4:AE24))","v":0},{"$f":"IF(AF27=0,0,SUM((AE25)-(AE28+AG28)))","v":0},{"$f":"IF('Répartition des intensités'!$AR$25=\"x\",SUMIF(AF4:AF24,\">5,5\",AE4:AE24),SUMIF(AF4:AF24,\">6,5\",AE4:AE24))","v":0}]
[null,null,null,"Comme au repos",null,null,null,0,null,"REG","Est-ce que j'ai l'impression d'avoir récupéré en me levant?"]
[null,null,null,"très facile",null,null,null,1]
[null,null,null,"facile",null,null,null,2,null,1,"… pas du tout récupéré",null,null,null,null,null,null,null,null,null,null,null,null,null,null,null,null,null,null,null,null,null,null,null,"Entrainements",null,null,null,"Rapport de santé"]
[null,null,null,null,null,null,null,3,null,2,"… un peu récupéré",null,null,null,null,null,null,null,null,null,null,null,null,null,null,null,null,null,null,null,null,null,null,null,"Jours d'entrainement",null,{"$f":"IF(SUM(AH4:AH24)=0,\"\",SUM(AH4:AH24))","v":""}]
[null,null,null,"Assez dur",null,null,null,4,null,3,"… récupéré",null,null,null,null,null,null,null,null,null,null,{"$f":"B4","v":"Lu"},{"$f":"AK4","v":0},null,null,null,null,null,null,null,null,null,null,null,"Entrainements",null,{"$f":"IF(AK32=\"\",\"\",SUM(M27:AG27))","v":""}]
[null,null,null,"dur",null,null,null,5,null,4,"…  en forme",null,null,null,null,null,null,null,null,null,null,{"$f":"B7","v":"Ma"},{"$f":"AK7","v":0},null,null,null,null,null,null,null,null,null,null,null,"Heures d'entrainement",null,{"$f":"IF(AK32=\"\",\"\",SUM(M25,P25,S25,Y25,AB25,V25,AE25)/60)","v":""},null,{"$f":"IF($AK$32=\"\",\"\",AK32-AM36-AM44-AM52)","v":""},"Aucune limitation",null,null,null,0]
[null,null,null,null,null,null,null,6,null,5,"… très en forme",null,null,null,null,null,null,null,null,null,null,{"$f":"B10","v":"Me"},{"$f":"AK10","v":0},null,null,null,null,null,null,null,null,null,null,null,"Charge de l'entrainement",null,{"$f":"IF(AK32=\"\",\"\",SUM(AK25))","v":""}]
[null,null,null,"très dur",null,null,null,7,null,null,null,null,null,null,null,null,null,null,null,null,null,{"$f":"B13","v":"Je"},{"$f":"AK13","v":0},null,null,null,null,null,null,null,null,null,null,null,"Monotonie",null,{"$f":"IF(AK27=0,0,(AVERAGE(AK4:AK24))/AK27)","v":0},null,{"$f":"SUM(AM37:AM42)","v":0},"Limitation pour cause de douleurs"]
[null,null,null,null,null,null,null,8,null,"Nombre de matchs",null,null,null,null,null,null,null,null,null,null,null,{"$f":"B16","v":"Ve"},{"$f":"AK16","v":0},null,null,null,null,null,null,null,null,null,null,null,"Efforts à l'entrainement",null,{"$f":"IF(AK32=\"\",\"\",AK35*AK36)","v":""},null,{"$f":"COUNTIF($H$4:$H$24,$AR37)","v":0},"Doigt",null,null,null,1]
[null,null,null,"extrèmement dur",null,null,null,9,null,null,null,null,null,null,null,null,null,null,null,null,null,{"$f":"B19","v":"Sa"},{"$f":"AK19","v":0},null,null,null,null,null,null,null,null,null,null,null,null,null,null,null,0,"Épaule",null,null,null,2]
[null,null,null,"Comme mon entrainement le plus dur",null,null,null,10,null,1,"… 3 sets et plus",null,null,null,null,null,null,null,null,null,null,{"$f":"B22","v":"Di"},{"$f":"AK22","v":0},null,null,null,null,null,null,null,null,null,null,null,"Compétition",null,null,null,0,"Dos",null,null,null,3]
[null,null,null,null,null,null,null,null,null,0.5,"… moins de 3 sets",null,null,null,null,null,null,null,null,null,null,null,null,null,null,null,null,null,null,null,null,null,null,null,"Matchs de volleyball",null,{"$f":"IF(AK32=\"\",\"\",SUM(AM4:AM24))","v":""},null,0,"Genou",null,null,null,4]
[null,null,null,null,null,null,null,null,null,null,null,null,null,null,null,null,null,null,null,null,null,null,null,null,null,null,null,null,null,null,null,null,null,null,"Sets de volleyball",null,{"$f":"IF(AK32=\"\",\"\",SUM(AN4:AN24))","v":""},null,0,"Cheville",null,null,null,5]
[null,null,null,null,null,null,null,null,null,"Sets joués",null,null,null,null,null,null,null,null,null,null,null,null,null,null,null,null,null,null,null,null,null,null,null,null,"Matchs de beach volley",null,{"$f":"IF(AK35=\"\",\"\",SUM(AO4:AO24))","v":""},null,0,"Autre",null,null,null,6]
[null,null,null,null,null,null,null,null,null,1,"… depuis le début et durant tout le set",null,null,null,null,null,null,null,null,null,null,null,null,null,null,null,null,null,null,null,null,null,null,null,"Sets de beach volley",null,{"$f":"IF(AK35=\"\",\"\",SUM(AP4:AP24))","v":""}]
[null,null,null,null,null,null,null,null,null,0.5,"… entré/sorti en cours, beaucoup joué",null,null,null,null,null,null,null,null,null,null,null,null,null,null,null,null,null,null,null,null,null,null,null,null,null,null,null,{"$f":"SUM(AM45:AM50)","v":0},"Absence pour cause de blessure"]
[null,null,null,null,null,null,null,null,null,0.1,"… entré/sorti en cours, peu joué",null,null,null,null,null,null,null,null,null,null,null,null,null,null,null,null,null,null,null,null,null,null,null,"Satisfaction",null,null,null,{"$f":"COUNTIF($H$4:$H$24,$AR45)","v":0},"Doigt",null,null,null,11]
[null,null,null,null,null,null,null,null,null,null,null,null,null,null,null,null,null,null,null,null,null,null,null,null,null,null,null,null,null,null,null,null,null,null,"Satisfaction de l'entrainement/match J",null,{"$f":"IF(AK32=\"\",\"\",SUM(AQ4:AQ24)/AK32)","v":""},null,0,"Épaule",null,null,null,12]
[null,null,null,null,null,null,null,null,null,"J","Es-tu content de la qualité de ton",null,null,null,null,null,null,null,null,null,null,null,null,null,null,null,null,null,null,null,null,null,null,null,null,null,null,null,0,"Dos",null,null,null,13]
[null,null,null,null,null,null,null,null,null,null,"entrainement/compétition?",null,null,null,null,null,null,null,null,null,null,null,null,null,null,null,null,null,null,null,null,null,null,null,"Santé",null,null,null,0,"Genou",null,null,null,14]
[null,null,null,null,null,null,null,null,null,1,"… pas content",null,null,null,null,null,null,null,null,null,null,null,null,null,null,null,null,null,null,null,null,null,null,null,"Limitation pour cause de douleurs",null,{"$f":"AM36","v":0},null,0,"Cheville",null,null,null,15]
[null,null,null,null,null,null,null,null,null,2,"… plutôt pas content",null,null,null,null,null,null,null,null,null,null,null,null,null,null,null,null,null,null,null,null,null,null,null,"Absence pour cause de blessure",null,{"$f":"AM44","v":0},null,0,"Autre",null,null,null,16]
[null,null,null,null,null,null,null,null,null,3,"… moyen",null,null,null,null,null,null,null,null,null,null,null,null,null,null,null,null,null,null,null,null,null,null,null,"Absence pour cause de maladie",null,{"$f":"AM52","v":0}]
[null,null,null,null,null,null,null,null,null,4,"… content",null,null,null,null,null,null,null,null,null,null,null,null,null,null,null,null,null,null,null,null,null,null,null,null,null,null,null,{"$f":"SUM(AM53:AM59)","v":0},"Absence pour cause de maladie"]
[null,null,null,null,null,null,null,null,null,5,"… très content!",null,null,null,null,null,null,null,null,null,null,null,null,null,null,null,null,null,null,null,null,null,null,null,null,null,null,null,{"$f":"COUNTIF($H$4:$H$24,$AR53)","v":0},"Maladie",null,null,null,21]
[]
[]
[]
[]
[]
[]
[]
[]
[]
[]
[]
[]
[]
[]
[]
[]
[]
[]
[]
[]
[]
[]
[]
[]
[]
[]
[]
[]
[]
[]
[]
[]
[]
[]
[]
[]
[]
[]
[]
[]
[]
[]
[]
[]
[]
[]
[]
[]
[]
[]
[]
[]
[]
[]
[]
[]
[]
[]
[]
[]
[]
[]
[]
[]
[]
[]
[]
[]
[]
[]
[]
[]
[]
[]
[]
[]
[]
[]
[]
[]
[null,null,null,null,null,null,null,null,null,null,null,null,null,null,null,null,null,null,null,null,null,null,null,null,{"$f":"Z134-1","v":22},23,24,25,26,27,28,{"$f":"D1","v":29}]
[]
[]
[]
[]
[]
[]
[]
[]
[]
[]
[]
[]
[]
[]
[]
[]
[]
[]
[]
[]
[null,null,null,null,null,null,null,null,null,null,null,null,null,null,null,null,null,null,null,null,null,null,null,null,null,null,null,null,null,null,null,null,{"$f":"AF134+1","v":30}]

{"sheet":"30","index":58,"n_rows":155,"n_cols":45,"rows_kept":155,"cut":false,"hidden":false,"merged":[[1,43,2,43],[30,34,30,36],[30,38,31,43],[0,5,0,6],[1,44,2,44],[1,15,1,17],[28,10,29,10],[29,21,29,26],[36,9,37,9],[1,41,2,41],[21,6,23,6],[21,9,21,10],[23,9,23,10],[21,7,23,7],[1,12,1,14],[7,9,7,10],[1,38,2,38],[1,24,1,26],[1,18,1,20],[1,30,1,32],[1,27,1,29],[27,3,27,6],[28,3,28,6],[37,3,37,6],[30,3,30,6],[31,3,31,6],[32,3,32,6],[33,3,33,6],[34,3,34,6],[35,3,35,6],[36,3,36,6],[38,3,38,6],[46,9,47,9],[18,36,20,36],[1,40,2,40],[3,36,5,36],[1,36,2,36],[20,9,20,10],[5,9,5,10],[1,39,2,39],[21,36,23,36],[9,36,11,36],[12,36,14,36],[15,36,17,36],[28,9,29,9],[16,9,16,10],[15,9,15,10],[10,9,10,10],[29,3,29,6],[15,5,17,5],[12,4,14,4],[6,36,8,36],[3,3,5,3],[3,6,5,6],[3,9,3,10],[4,9,4,10],[17,9,17,10],[22,9,22,10],[18,9,18,10],[19,9,19,10],[9,6,11,6],[9,9,9,10],[6,4,8,4],[9,7,11,7],[9,4,11,4],[11,9,11,10],[3,4,5,4],[3,7,5,7],[12,7,14,7],[9,5,11,5],[12,5,14,5],[21,1,23,1],[15,7,17,7],[15,1,17,1],[15,3,17,3],[15,6,17,6],[15,4,17,4],[18,5,20,5],[18,1,20,1],[18,3,20,3],[21,5,23,5],[21,3,23,3],[21,4,23,4],[18,7,20,7],[18,4,20,4],[18,6,20,6],[1,1,2,1],[9,1,11,1],[9,3,11,3],[38,34,38,36],[44,34,44,36],[47,34,47,36],[12,1,14,1],[6,3,8,3],[6,6,8,6],[6,9,6,10],[8,9,8,10],[6,5,8,5],[6,1,8,1],[6,7,8,7],[1,34,2,34],[1,21,1,23],[1,9,2,10],[3,1,5,1],[3,5,5,5],[12,3,14,3],[12,6,14,6],[12,9,12,10],[13,9,13,10],[14,9,14,10]]}
[null,null,"Woche",{"$f":"INT(MOD(INT((F1-2)/7)+0.6,52+5/28))+1","v":30},{"$f":"D1+1000","v":1030},{"$f":"'29'!F1+7","v":"2019-07-22"},null,"-",null,{"$f":"F1+6","v":"2019-07-28"},null,null,null,null,null,null,null,null,null,null,null,null,null,null,null,null,null,null,null,null,null,null,{"$f":"'Aperçu de la charge'!D2","v":"Prénom Nom"},null,{"$f":"'Aperçu de la charge'!N2","v":"2018/2019"}]
[null,"Jour",null,"Poids","REG","qualité sommeil","durée sommeil","Santé",null,"Description de l'entrainement",null,null,"Club - VB",null,null,"TS/ Nati - VB",null,null,"Club - BVB",null,null,"TS/ Nati - BVB",null,null,"Force - fitness",null,null,"Compet. - VB",null,null,"Compet. - BVB",null,null,null,"Réflexion",null,"Charge/\njour",null,"matchs VB","Sets VB","Matchs BVB","Sets BVB","J","Autre\n (Rég, mentale)","Mental- oder Sonstiges Training"]
[null,null,null,"[kg]","[1 - 5]","[1-5]","[Std]","Nr.",null,null,null,null,"Durée","RPE","Charge","Durée","RPE","Charge","Durée","RPE","Charge","Durée","RPE","Charge","Durée","RPE","Charge","Durée","RPE","Charge","Durée","RPE","Charge",null,null,null,null,null,null,null,null,null,"[1-5]"]
[null,"Lu",null,0,0,0,0,0,null,null,null,null,null,null,{"$f":"M4*N4","v":0},null,null,{"$f":"P4*Q4","v":0},null,null,{"$f":"S4*T4","v":0},null,null,{"$f":"V4*W4","v":0},null,null,{"$f":"Y4*Z4","v":0},null,null,{"$f":"AB4*AC4","v":0},null,null,{"$f":"AE4*AF4","v":0},{"$f":"IF(SUM(M4:AG6)>0,1,0)","v":"00:00:00"},null,null,{"$f":"SUM(O4:O6,R4:R6,U4:U6,X4:X6,AA4:AA6,AD4:AD6,AG4:AG6)","v":0}]
[null,null,null,null,null,null,null,null,null,null,null,null,null,null,{"$f":"M5*N5","v":0},null,null,{"$f":"P5*Q5","v":0},null,null,{"$f":"S5*T5","v":0},null,null,{"$f":"V5*W5","v":0},null,null,{"$f":"Y5*Z5","v":0},null,null,{"$f":"AB5*AC5","v":0},null,null,{"$f":"AE5*AF5","v":0}]
[null,null,null,null,null,null,null,null,null,null,null,null,null,null,0,null,null,0,null,null,0,null,null,0,null,null,0,null,null,0,null,null,0]
[null,"Ma",null,0,0,0,0,0,null,null,null,null,null,null,0,null,null,{"$f":"P7*Q7","v":0},null,null,0,null,null,0,null,null,0,null,null,0,null,null,0,{"$f":"IF(SUM(M7:AG9)>0,1,0)","v":"00:00:00"},null,null,{"$f":"SUM(O7:O9,R7:R9,U7:U9,X7:X9,AA7:AA9,AD7:AD9,AG7:AG9)","v":0}]
[null,null,null,null,null,null,null,null,null,null,null,null,null,null,0,null,null,0,null,null,0,null,null,0,null,null,0,null,null,0,null,null,0]
[null,null,null,null,null,null,null,null,null,null,null,null,null,null,0,null,null,0,null,null,0,null,null,0,null,null,0,null,null,0,null,null,0]
[null,"Me",null,0,0,0,0,0,null,null,null,null,null,null,0,null,null,{"$f":"P10*Q10","v":0},null,null,0,null,null,0,null,null,0,null,null,0,null,null,0,{"$f":"IF(SUM(M10:AG12)>0,1,0)","v":"00:00:00"},null,null,{"$f":"SUM(O10:O12,R10:R12,U10:U12,X10:X12,AA10:AA12,AD10:AD12,AG10:AG12)","v":0}]
[null,null,null,null,null,null,null,null,null,null,null,null,null,null,0,null,null,0,null,null,0,null,null,0,null,null,0,null,null,0,null,null,0]
[null,null,null,null,null,null,null,null,null,null,null,null,null,null,0,null,null,0,null,null,0,null,null,0,null,null,0,null,null,0,null,null,0]
[null,"Je",null,0,0,0,0,0,null,null,null,null,null,null,0,null,null,{"$f":"P13*Q13","v":0},null,null,0,null,null,0,null,null,0,null,null,0,null,null,0,{"$f":"IF(SUM(M13:AG15)>0,1,0)","v":"00:00:00"},null,null,{"$f":"SUM(O13:O15,R13:R15,U13:U15,X13:X15,AA13:AA15,AD13:AD15,AG13:AG15)","v":0}]
[null,null,null,null,null,null,null,null,null,null,null,null,null,null,0,null,null,0,null,null,0,null,null,0,null,null,0,null,null,0,null,null,0]
[null,null,null,null,null,null,null,null,null,null,null,null,null,null,0,null,null,0,null,null,0,null,null,0,null,null,0,null,null,0,null,null,0]
[null,"Ve",null,0,0,0,0,0,null,null,null,null,null,null,0,null,null,{"$f":"P16*Q16","v":0},null,null,0,null,null,0,null,null,0,null,null,0,null,null,0,{"$f":"IF(SUM(M16:AG18)>0,1,0)","v":"00:00:00"},null,null,{"$f":"SUM(O16:O18,R16:R18,U16:U18,X16:X18,AA16:AA18,AD16:AD18,AG16:AG18)","v":0}]
[null,null,null,null,null,null,null,null,null,null,null,null,null,null,0,null,null,0,null,null,0,null,null,0,null,null,0,null,null,0,null,null,0]
[null,null,null,null,null,null,null,null,null,null,null,null,null,null,0,null,null,0,null,null,0,null,null,0,null,null,0,null,null,0,null,null,0]
[null,"Sa",null,0,0,0,0,0,null,null,null,null,null,null,{"$f":"M19*N19","v":0},null,null,{"$f":"P19*Q19","v":0},null,null,{"$f":"S19*T19","v":0},null,null,{"$f":"V19*W19","v":0},null,null,{"$f":"Y19*Z19","v":0},null,null,{"$f":"AB19*AC19","v":0},null,null,{"$f":"AE19*AF19","v":0},{"$f":"IF(SUM(M19:AG21)>0,1,0)","v":"00:00:00"},null,null,{"$f":"SUM(O19:O21,R19:R21,U19:U21,X19:X21,AA19:AA21,AD19:AD21,AG19:AG21)","v":0}]
[null,null,null,null,null,null,null,null,null,null,null,null,null,null,{"$f":"M20*N20","v":0},null,null,0,null,null,{"$f":"S20*T20","v":0},null,null,{"$f":"V20*W20","v":0},null,null,{"$f":"Y20*Z20","v":0},null,null,{"$f":"AB20*AC20","v":0},null,null,{"$f":"AE20*AF20","v":0}]
[null,null,null,null,null,null,null,null,null,null,null,null,null,null,0,null,null,0,null,null,0,null,null,0,null,null,0,null,null,0,null,null,0]
[null,"Di",null,0,0,0,0,0,null,null,null,null,null,null,0,null,null,{"$f":"P22*Q22","v":0},null,null,0,null,null,0,null,null,0,null,null,0,null,null,0,{"$f":"IF(SUM(M22:AG24)>0,1,0)","v":"00:00:00"},null,null,{"$f":"SUM(O22:O24,R22:R24,U22:U24,X22:X24,AA22:AA24,AD22:AD24,AG22:AG24)","v":0}]
[null,null,null,null,null,null,null,null,null,null,null,null,null,null,0,null,null,0,null,null,0,null,null,0,null,null,0,null,null,0,null,null,0]
[null,null,null,null,null,null,null,null,null,null,null,null,null,null,0,null,null,0,null,null,0,null,null,0,null,null,0,null,null,0,null,null,0]
[null,null,null,null,null,null,null,null,null,null,"Total",null,{"$f":"SUM(M4:M24)","v":0},null,{"$f":"SUM(O4:O24)","v":0},{"$f":"SUM(P4:P24)","v":0},null,{"$f":"SUM(R4:R24)","v":0},{"$f":"SUM(S4:S24)","v":0},null,{"$f":"SUM(U4:U24)","v":0},{"$f":"SUM(V4:V24)","v":0},null,{"$f":"SUM(X4:X24)","v":0},{"$f":"SUM(Y4:Y24)","v":0},null,{"$f":"SUM(AA4:AA24)","v":0},{"$f":"SUM(AB4:AB24)","v":0},null,{"$f":"SUM(AD4:AD24)","v":0},{"$f":"SUM(AE4:AE24)","v":0},null,{"$f":"SUM(AG4:AG24)","v":0},null,"Charge totale",null,{"$f":"SUM(AK4:AK24)","v":0}]
[null,"avg.",null,{"$f":"IF(COUNTA(D4:D24)=0,\"\",AVERAGE(D4:D24))","v":0},{"$f":"IF(COUNTA(E4:E24)=0,\"\",AVERAGE(E4:E24))","v":0},{"$f":"IF(COUNTA(F4:F24)=0,\"\",AVERAGE(F4:F24))","v":0},{"$f":"IF(COUNTA(G4:G24)=0,\"\",AVERAGE(G4:G24))","v":0},{"$f":"IF(COUNTA(H4:H24)=0,\"\",COUNTIF(H4:H24,\"x\"))","v":0},null,null,"Zone",null,1,2,3,1,2,3,1,2,3,1,2,3,1,2,3,1,2,3,1,2,3,null,"Moyenne",null,{"$f":"AVERAGE(AK4:AK24)","v":0}]
[null,null,null,null,null,{"$f":"IF(COUNTA(F4:F24)=0,\"\",VAR(F4:F24))","v":0},{"$f":"IF(COUNTA(G4:G24)=0,\"\",STDEV(G4:G24))","v":0},"Divergence - durée du sommeil",null,null,"Unité par zone (RPE) ",null,{"$f":"IF('Répartition des intensités'!$AR$25=\"x\",COUNTIF(N4:N24,\"<3,5\"),COUNTIF(N4:N24,\"<4,5\"))","v":0},{"$f":"COUNT(N4:N24)-(M27+O27)","v":0},{"$f":"IF('Répartition des intensités'!$AR$25=\"x\",COUNTIF(N4:N24,\">5,5\"),COUNTIF(N4:N24,\">6,5\"))","v":0},{"$f":"IF('Répartition des intensités'!$AR$25=\"x\",COUNTIF(Q4:Q24,\"<3,5\"),COUNTIF(Q4:Q24,\"<4,5\"))","v":0},{"$f":"COUNT(Q4:Q24)-(P27+R27)","v":0},{"$f":"IF('Répartition des intensités'!$AR$25=\"x\",COUNTIF(Q4:Q24,\">5,5\"),COUNTIF(Q4:Q24,\">6,5\"))","v":0},{"$f":"IF('Répartition des intensités'!$AR$25=\"x\",COUNTIF(T4:T24,\"<3,5\"),COUNTIF(T4:T24,\"<4,5\"))","v":0},{"$f":"COUNT(T4:T24)-(S27+U27)","v":0},{"$f":"IF('Répartition des intensités'!$AR$25=\"x\",COUNTIF(T4:T24,\">5,5\"),COUNTIF(T4:T24,\">6,5\"))","v":0},{"$f":"IF('Répartition des intensités'!$AR$25=\"x\",COUNTIF(W4:W24,\"<3,5\"),COUNTIF(W4:W24,\"<4,5\"))","v":0},{"$f":"COUNT(W4:W24)-(V27+X27)","v":0},{"$f":"IF('Répartition des intensités'!$AR$25=\"x\",COUNTIF(W4:W24,\">5,5\"),COUNTIF(W4:W24,\">6,5\"))","v":0},{"$f":"IF('Répartition des intensités'!$AR$25=\"x\",COUNTIF(Z4:Z24,\"<3,5\"),COUNTIF(Z4:Z24,\"<4,5\"))","v":0},{"$f":"COUNT(Z4:Z24)-(Y27+AA27)","v":0},{"$f":"IF('Répartition des intensités'!$AR$25=\"x\",COUNTIF(Z4:Z24,\">5,5\"),COUNTIF(Z4:Z24,\">6,5\"))","v":0},{"$f":"IF('Répartition des intensités'!$AR$25=\"x\",COUNTIF(AC4:AC24,\"<3,5\"),COUNTIF(AC4:AC24,\"<4,5\"))","v":0},{"$f":"COUNT(AC4:AC24)-(AB27+AD27)","v":0},{"$f":"IF('Répartition des intensités'!$AR$25=\"x\",COUNTIF(AC4:AC24,\">5,5\"),COUNTIF(AC4:AC24,\">6,5\"))","v":0},{"$f":"IF('Répartition des intensités'!$AR$25=\"x\",COUNTIF(AF4:AF24,\"<3,5\"),COUNTIF(AF4:AF24,\"<4,5\"))","v":0},{"$f":"COUNT(AF4:AF24)-(AE27+AG27)","v":0},{"$f":"IF('Répartition des intensités'!$AR$25=\"x\",COUNTIF(AF4:AF24,\">5,5\"),COUNTIF(AF4:AF24,\">6,5\"))","v":0},null,"Divergence",null,{"$f":"STDEVP(AK4:AK24)","v":0}]
[null,null,null,"échelle de Foster",null,null,null,"RPE",null,null,"Temps par zone (RPE)",null,{"$f":"IF('Répartition des intensités'!$AR$25=\"x\",SUMIF(N4:N24,\"<3,5\",M4:M24),SUMIF(N4:N24,\"<4,5\",M4:M24))","v":0},{"$f":"IF(N27=0,0,SUM((M25)-(M28+O28)))","v":0},{"$f":"IF('Répartition des intensités'!$AR$25=\"x\",SUMIF(N4:N24,\">5,5\",M4:M24),SUMIF(N4:N24,\">6,5\",M4:M24))","v":0},{"$f":"IF('Répartition des intensités'!$AR$25=\"x\",SUMIF(Q4:Q24,\"<3,5\",P4:P24),SUMIF(Q4:Q24,\"<4,5\",P4:P24))","v":0},{"$f":"IF(Q27=0,0,SUM((P25)-(P28+R28)))","v":0},{"$f":"IF('Répartition des intensités'!$AR$25=\"x\",SUMIF(Q4:Q24,\">5,5\",P4:P24),SUMIF(Q4:Q24,\">6,5\",P4:P24))","v":0},{"$f":"IF('Répartition des intensités'!$AR$25=\"x\",SUMIF(T4:T24,\"<3,5\",S4:S24),SUMIF(T4:T24,\"<4,5\",S4:S24))","v":0},{"$f":"IF(T27=0,0,SUM((S25)-(S28+U28)))","v":0},{"$f":"IF('Répartition des intensités'!$AR$25=\"x\",SUMIF(T4:T24,\">5,5\",S4:S24),SUMIF(T4:T24,\">6,5\",S4:S24))","v":0},{"$f":"IF('Répartition des intensités'!$AR$25=\"x\",SUMIF(W4:W24,\"<3,5\",V4:V24),SUMIF(W4:W24,\"<4,5\",V4:V24))","v":0},{"$f":"IF(W27=0,0,SUM((V25)-(V28+X28)))","v":0},{"$f":"IF('Répartition des intensités'!$AR$25=\"x\",SUMIF(W4:W24,\">5,5\",V4:V24),SUMIF(W4:W24,\">6,5\",V4:V24))","v":0},{"$f":"IF('Répartition des intensités'!$AR$25=\"x\",SUMIF(Z4:Z24,\"<3,5\",Y4:Y24),SUMIF(Z4:Z24,\"<4,5\",Y4:Y24))","v":0},{"$f":"IF(Z27=0,0,SUM((Y25)-(Y28+AA28)))","v":0},{"$f":"IF('Répartition des intensités'!$AR$25=\"x\",SUMIF(Z4:Z24,\">5,5\",Y4:Y24),SUMIF(Z4:Z24,\">6,5\",Y4:Y24))","v":0},{"$f":"IF('Répartition des intensités'!$AR$25=\"x\",SUMIF(AC4:AC24,\"<3,5\",AB4:AB24),SUMIF(AC4:AC24,\"<4,5\",AB4:AB24))","v":0},{"$f":"IF(AC27=0,0,SUM((AB25)-(AB28+AD28)))","v":0},{"$f":"IF('Répartition des intensités'!$AR$25=\"x\",SUMIF(AC4:AC24,\">5,5\",AB4:AB24),SUMIF(AC4:AC24,\">6,5\",AB4:AB24))","v":0},{"$f":"IF('Répartition des intensités'!$AR$25=\"x\",SUMIF(AF4:AF24,\"<3,5\",AE4:AE24),SUMIF(AF4:AF24,\"<4,5\",AE4:AE24))","v":0},{"$f":"IF(AF27=0,0,SUM((AE25)-(AE28+AG28)))","v":0},{"$f":"IF('Répartition des intensités'!$AR$25=\"x\",SUMIF(AF4:AF24,\">5,5\",AE4:AE24),SUMIF(AF4:AF24,\">6,5\",AE4:AE24))","v":0}]
[null,null,null,"Comme au repos",null,null,null,0,null,"REG","Est-ce que j'ai l'impression d'avoir récupéré en me levant?"]
[null,null,null,"très facile",null,null,null,1]
[null,null,null,"facile",null,null,null,2,null,1,"… pas du tout récupéré",null,null,null,null,null,null,null,null,null,null,null,null,null,null,null,null,null,null,null,null,null,null,null,"Entrainements",null,null,null,"Rapport de santé"]
[null,null,null,null,null,null,null,3,null,2,"… un peu récupéré",null,null,null,null,null,null,null,null,null,null,null,null,null,null,null,null,null,null,null,null,null,null,null,"Jours d'entrainement",null,{"$f":"IF(SUM(AH4:AH24)=0,\"\",SUM(AH4:AH24))","v":""}]
[null,null,null,"Assez dur",null,null,null,4,null,3,"… récupéré",null,null,null,null,null,null,null,null,null,null,{"$f":"B4","v":"Lu"},{"$f":"AK4","v":0},null,null,null,null,null,null,null,null,null,null,null,"Entrainements",null,{"$f":"IF(AK32=\"\",\"\",SUM(M27:AG27))","v":""}]
[null,null,null,"dur",null,null,null,5,null,4,"…  en forme",null,null,null,null,null,null,null,null,null,null,{"$f":"B7","v":"Ma"},{"$f":"AK7","v":0},null,null,null,null,null,null,null,null,null,null,null,"Heures d'entrainement",null,{"$f":"IF(AK32=\"\",\"\",SUM(M25,P25,S25,Y25,AB25,V25,AE25)/60)","v":""},null,{"$f":"IF($AK$32=\"\",\"\",AK32-AM36-AM44-AM52)","v":""},"Aucune limitation",null,null,null,0]
[null,null,null,null,null,null,null,6,null,5,"… très en forme",null,null,null,null,null,null,null,null,null,null,{"$f":"B10","v":"Me"},{"$f":"AK10","v":0},null,null,null,null,null,null,null,null,null,null,null,"Charge de l'entrainement",null,{"$f":"IF(AK32=\"\",\"\",SUM(AK25))","v":""}]
[null,null,null,"très dur",null,null,null,7,null,null,null,null,null,null,null,null,null,null,null,null,null,{"$f":"B13","v":"Je"},{"$f":"AK13","v":0},null,null,null,null,null,null,null,null,null,null,null,"Monotonie",null,{"$f":"IF(AK27=0,0,(AVERAGE(AK4:AK24))/AK27)","v":0},null,{"$f":"SUM(AM37:AM42)","v":0},"Limitation pour cause de douleurs"]
[null,null,null,null,null,null,null,8,null,"Nombre de matchs",null,null,null,null,null,null,null,null,null,null,null,{"$f":"B16","v":"Ve"},{"$f":"AK16","v":0},null,null,null,null,null,null,null,null,null,null,null,"Efforts à l'entrainement",null,{"$f":"IF(AK32=\"\",\"\",AK35*AK36)","v":""},null,{"$f":"COUNTIF($H$4:$H$24,$AR37)","v":0},"Doigt",null,null,null,1]
[null,null,null,"extrèmement dur",null,null,null,9,null,null,null,null,null,null,null,null,null,null,null,null,null,{"$f":"B19","v":"Sa"},{"$f":"AK19","v":0},null,null,null,null,null,null,null,null,null,null,null,null,null,null,null,0,"Épaule",null,null,null,2]
[null,null,null,"Comme mon entrainement le plus dur",null,null,null,10,null,1,"… 3 sets et plus",null,null,null,null,null,null,null,null,null,null,{"$f":"B22","v":"Di"},{"$f":"AK22","v":0},null,null,null,null,null,null,null,null,null,null,null,"Compétition",null,null,null,0,"Dos",null,null,null,3]
[null,null,null,null,null,null,null,null,null,0.5,"… moins de 3 sets",null,null,null,null,null,null,null,null,null,null,null,null,null,null,null,null,null,null,null,null,null,null,null,"Matchs de volleyball",null,{"$f":"IF(AK32=\"\",\"\",SUM(AM4:AM24))","v":""},null,0,"Genou",null,null,null,4]
[null,null,null,null,null,null,null,null,null,null,null,null,null,null,null,null,null,null,null,null,null,null,null,null,null,null,null,null,null,null,null,null,null,null,"Sets de volleyball",null,{"$f":"IF(AK32=\"\",\"\",SUM(AN4:AN24))","v":""},null,0,"Cheville",null,null,null,5]
[null,null,null,null,null,null,null,null,null,"Sets joués",null,null,null,null,null,null,null,null,null,null,null,null,null,null,null,null,null,null,null,null,null,null,null,null,"Matchs de beach volley",null,{"$f":"IF(AK35=\"\",\"\",SUM(AO4:AO24))","v":""},null,0,"Autre",null,null,null,6]
[null,null,null,null,null,null,null,null,null,1,"… depuis le début et durant tout le set",null,null,null,null,null,null,null,null,null,null,null,null,null,null,null,null,null,null,null,null,null,null,null,"Sets de beach volley",null,{"$f":"IF(AK35=\"\",\"\",SUM(AP4:AP24))","v":""}]
[null,null,null,null,null,null,null,null,null,0.5,"… entré/sorti en cours, beaucoup joué",null,null,null,null,null,null,null,null,null,null,null,null,null,null,null,null,null,null,null,null,null,null,null,null,null,null,null,{"$f":"SUM(AM45:AM50)","v":0},"Absence pour cause de blessure"]
[null,null,null,null,null,null,null,null,null,0.1,"… entré/sorti en cours, peu joué",null,null,null,null,null,null,null,null,null,null,null,null,null,null,null,null,null,null,null,null,null,null,null,"Satisfaction",null,null,null,{"$f":"COUNTIF($H$4:$H$24,$AR45)","v":0},"Doigt",null,null,null,11]
[null,null,null,null,null,null,null,null,null,null,null,null,null,null,null,null,null,null,null,null,null,null,null,null,null,null,null,null,null,null,null,null,null,null,"Satisfaction de l'entrainement/match J",null,{"$f":"IF(AK32=\"\",\"\",SUM(AQ4:AQ24)/AK32)","v":""},null,0,"Épaule",null,null,null,12]
[null,null,null,null,null,null,null,null,null,"J","Es-tu content de la qualité de ton",null,null,null,null,null,null,null,null,null,null,null,null,null,null,null,null,null,null,null,null,null,null,null,null,null,null,null,0,"Dos",null,null,null,13]
[null,null,null,null,null,null,null,null,null,null,"entrainement/compétition?",null,null,null,null,null,null,null,null,null,null,null,null,null,null,null,null,null,null,null,null,null,null,null,"Santé",null,null,null,0,"Genou",null,null,null,14]
[null,null,null,null,null,null,null,null,null,1,"… pas content",null,null,null,null,null,null,null,null,null,null,null,null,null,null,null,null,null,null,null,null,null,null,null,"Limitation pour cause de douleurs",null,{"$f":"AM36","v":0},null,0,"Cheville",null,null,null,15]
[null,null,null,null,null,null,null,null,null,2,"… plutôt pas content",null,null,null,null,null,null,null,null,null,null,null,null,null,null,null,null,null,null,null,null,null,null,null,"Absence pour cause de blessure",null,{"$f":"AM44","v":0},null,0,"Autre",null,null,null,16]
[null,null,null,null,null,null,null,null,null,3,"… moyen",null,null,null,null,null,null,null,null,null,null,null,null,null,null,null,null,null,null,null,null,null,null,null,"Absence pour cause de maladie",null,{"$f":"AM52","v":0}]
[null,null,null,null,null,null,null,null,null,4,"… content",null,null,null,null,null,null,null,null,null,null,null,null,null,null,null,null,null,null,null,null,null,null,null,null,null,null,null,{"$f":"SUM(AM53:AM59)","v":0},"Absence pour cause de maladie"]
[null,null,null,null,null,null,null,null,null,5,"… très content!",null,null,null,null,null,null,null,null,null,null,null,null,null,null,null,null,null,null,null,null,null,null,null,null,null,null,null,{"$f":"COUNTIF($H$4:$H$24,$AR53)","v":0},"Maladie",null,null,null,21]
[]
[]
[]
[]
[]
[]
[]
[]
[]
[]
[]
[]
[]
[]
[]
[]
[]
[]
[]
[]
[]
[]
[]
[]
[]
[]
[]
[]
[]
[]
[]
[]
[]
[]
[]
[]
[]
[]
[]
[]
[]
[]
[]
[]
[]
[]
[]
[]
[]
[]
[]
[]
[]
[]
[]
[]
[]
[]
[]
[]
[]
[]
[]
[]
[]
[]
[]
[]
[]
[]
[]
[]
[]
[]
[]
[]
[]
[]
[]
[]
[null,null,null,null,null,null,null,null,null,null,null,null,null,null,null,null,null,null,null,null,null,null,null,null,{"$f":"Z134-1","v":23},24,25,26,27,28,29,{"$f":"D1","v":30}]
[]
[]
[]
[]
[]
[]
[]
[]
[]
[]
[]
[]
[]
[]
[]
[]
[]
[]
[]
[]
[null,null,null,null,null,null,null,null,null,null,null,null,null,null,null,null,null,null,null,null,null,null,null,null,null,null,null,null,null,null,null,null,{"$f":"AF134+1","v":31}]